{"text_format":"1","workbook":"xlsx","n_sheets":6,"sheets":["Invulsheet","Beheer","Waardeberekening","dagrooster invoer","dagroosterberekening","dagroosteroverzicht"],"not_rendered":{"charts":0,"images":0,"macros":1,"external_links":0,"defined_names":24,"comments":0,"pivot_tables":0},"unopened":[],"bounds":{"document_bytes":16777216,"sheet_cells":100000,"rows_first":2000,"rows_last":500,"rows_between":2000,"halvings":0,"cell_chars":16384,"cell_head_chars":4096},"cells_cut":0,"cells_raw":0,"read":"whole","date_system":"1900"}

{"sheet":"Invulsheet","index":0,"n_rows":55,"n_cols":32,"rows_kept":55,"cut":false,"hidden":false,"merged":[[39,22,39,28],[25,22,25,28],[12,22,12,28],[23,10,24,17],[12,10,12,17],[13,10,13,16],[20,10,20,16],[15,10,15,16],[22,10,22,17],[1,1,2,17],[5,1,6,8],[4,1,4,8],[8,1,8,8],[9,1,9,7],[5,10,5,16],[6,10,6,16],[7,10,7,16],[8,10,8,16],[9,10,9,16],[4,20,4,21],[26,1,26,8],[10,1,10,7],[4,10,4,17],[11,1,11,8],[18,10,18,16],[12,1,12,8],[13,1,13,2],[13,3,13,4],[13,5,14,5],[13,6,14,6],[13,7,14,7],[13,8,14,8],[10,10,10,16],[14,10,14,16],[16,10,16,16]]}
[]
[null,"Ploegendiensttoeslag"]
[]
[]
[null,"Roosternaam:",null,null,null,null,null,null,null,null,"Informatie",null,null,null,null,null,null,null,null,null,"checklist"]
[null,null,null,null,null,null,null,null,null,null,"Gemiddeld aantal betaaluren per week:",null,null,null,null,null,null,{"$f":"I10*40","v":0},null,null,"1) Vul Roosternaam",{"$f":"IF(ISBLANK(B6),\"\",\"X\")","v":""}]
[null,null,null,null,null,null,null,null,null,null,"Aantal uren pauze:",null,null,null,null,null,null,{"$f":"SUM(AF15:AF24)*24","v":0},null,null,"2) Vul Contractpercentage",{"$f":"IF(AND(V6=\"X\",NOT(ISBLANK(I10))),\"X\",\"\")","v":""}]
[null,null,null,null,null,null,null,null,null,null,"Aantal gewerkte uren:",null,null,null,null,null,null,{"$f":"SUM(AE15:AE24)*24","v":0},null,null,"3) Vul Aantal weken",{"$f":"IF(AND(V7=\"X\",NOT(ISBLANK(I11))),\"X\",\"\")","v":""}]
[null,"Contract en Roosterinformatie",null,null,null,null,null,null,null,null,"Aantal aanwezige uren:",null,null,null,null,null,null,{"$f":"SUM(AD15:AD24)*24","v":0},null,null,"4) Vul de gebruikte dagroosters",{"$f":"IF(AND(V8=\"X\",NOT(ISBLANK(C16))),\"X\",\"\")","v":""}]
[null,"Contractpercentage:",null,null,null,null,null,null,null,null,"Gemiddeld aantal gewerkte uren per week:",null,null,null,null,null,null,{"$f":"R8/I11","v":{"$error":"#DIV/0!"}},null,null,"5) Klik op dagrooster toevoegen indien dat vermeld staat",{"$f":"IF(AND(V9=\"X\",B26=\"\"),\"X\",\"\")","v":""}]
[null,"Aantal weken:",null,null,null,null,null,null,null,null,"Uurwaarde:",null,null,null,null,null,null,{"$f":"SUM(W42:AC51)*24/R9","v":{"$error":"#DIV/0!"}},null,null,"6) Vul rooster in",{"$f":"IF(AND(V10=\"X\",B12=\"\"),\"X\",\"\")","v":""},"ja"]
[null,{"$f":"IF(ISBLANK(I11),\"\",IF(SUM(A29:A55,J29:J55)=I11,\"\",\"Aantal weken rooster matcht niet met ingevulde weken\"))","v":""},null,null,null,null,null,null,null,null,null,null,null,null,null,null,null,null,null,null,"7) Vul Vakantieinvoer in (indien daar om gevraagd wordt)",{"$f":"IF(AND(V11=\"X\",R14=0),\"X\",IF(ISBLANK(R16),\"\",\"X\"))","v":""},"nee"]
[null,"Gebruikte dagroosters",null,null,null,null,null,null,null,null,"Vakantieuren",null,null,null,null,null,null,null,null,null,null,null,"hoe vaak komt het dagrooster voor"]
[null,"werktijd",null,"pauze",null,"Dag-rooster","uren aanwezig","uren gewerkt","uren pauze",null,"aantal uren te kort per week",null,null,null,null,null,null,{"$f":"IF(V11=\"X\",R6-R10,0)","v":0},null,null,null,null,"mawaarde totaal","diwaarde totaal","wowaarde totaal","dowaarde totaal","vrwaarde totaal","zawaarde totaal","zowaarde totaal","totaal aanwezig","totaal gewerkt","totaal pauze"]
[null,"van","tot","van","tot",null,null,null,null,null,"uren te kort op jaarbasis",null,null,null,null,null,null,{"$f":"R14*365.25/7","v":0},null,null,null,null,{"$f":"COUNTIF(C$29:C$55,$F16)+COUNTIF(L$29:L$55,$F16)","v":0},{"$f":"COUNTIF(D$29:D$55,$F16)+COUNTIF(M$29:M$55,$F16)","v":0},0,0,0,0,0,{"$f":"IFERROR(SUM(W15:AC15)*G16,0)","v":0},{"$f":"IFERROR(SUM(W15:AC15)*H16,0)","v":0},{"$f":"IFERROR(SUM(W15:AC15)*I16,0)","v":0}]
[null,null,null,null,null,{"$f":"IFERROR(IF(ISBLANK(C16),\" \",VLOOKUP(B16&C16&D16&E16,dagroosteroverzicht!E:F,2,FALSE)),\"!\")","v":" "},{"$f":"IF(ISBLANK(C16),\"\",IF(B16<=C16,C16-B16,(1+C16)-B16))","v":""},{"$f":"IF(ISBLANK(C16),\"\",G16-I16)","v":""},{"$f":"IF(ISBLANK(C16),\"\",IF(IF(D16<=E16,E16-D16,(1+E16)-D16)=0,\"0\",IF(D16<=E16,E16-D16,(1+E16)-D16)))","v":""},null,"aantal in te leveren vakantieuren op jaarbasis",null,null,null,null,null,null,null,null,null,null,null,0,{"$f":"COUNTIF(D$29:D$55,$F17)+COUNTIF(M$29:M$55,$F17)","v":0},{"$f":"COUNTIF(E$29:E$55,$F17)+COUNTIF(N$29:N$55,$F17)","v":0},{"$f":"COUNTIF(F$29:F$55,$F17)+COUNTIF(O$29:O$55,$F17)","v":0},{"$f":"COUNTIF(G$29:G$55,$F17)+COUNTIF(P$29:P$55,$F17)","v":0},{"$f":"COUNTIF(H$29:H$55,$F17)+COUNTIF(Q$29:Q$55,$F17)","v":0},{"$f":"COUNTIF(I$29:I$55,$F17)+COUNTIF(R$29:R$55,$F17)","v":0},{"$f":"IFERROR(SUM(W16:AC16)*G17,0)","v":0},{"$f":"IFERROR(SUM(W16:AC16)*H17,0)","v":0},{"$f":"IFERROR(SUM(W16:AC16)*I17,0)","v":0}]
[null,null,null,null,null,{"$f":"IFERROR(IF(ISBLANK(C17),\" \",VLOOKUP(B17&C17&D17&E17,dagroosteroverzicht!E:F,2,FALSE)),\"!\")","v":" "},{"$f":"IF(ISBLANK(C17),\"\",IF(B17<=C17,C17-B17,(1+C17)-B17))","v":""},{"$f":"IF(ISBLANK(C17),\"\",G17-I17)","v":""},{"$f":"IF(ISBLANK(C17),\"\",IF(IF(D17<=E17,E17-D17,(1+E17)-D17)=0,\"0\",IF(D17<=E17,E17-D17,(1+E17)-D17)))","v":""},null,"Uurwaarde gecorrigeerd naar aantal gemaakte en ingeleverde uren per jaar",null,null,null,null,null,null,{"$f":"(R10+(R16/365.25*7))/R6*R11","v":{"$error":"#DIV/0!"}},null,null,null,null,0,0,0,0,0,0,0,0,0,0]
[null,null,null,null,null,{"$f":"IFERROR(IF(ISBLANK(C18),\" \",VLOOKUP(B18&C18&D18&E18,dagroosteroverzicht!E:F,2,FALSE)),\"!\")","v":" "},"","","",null,null,null,null,null,null,null,null,null,null,null,null,null,0,0,0,0,0,0,0,0,0,0]
[null,null,null,null,null,{"$f":"IFERROR(IF(ISBLANK(C19),\" \",VLOOKUP(B19&C19&D19&E19,dagroosteroverzicht!E:F,2,FALSE)),\"!\")","v":" "},"","","",null,null,null,null,null,null,null,null,null,null,null,null,null,0,0,0,0,0,0,0,0,0,0]
[null,null,null,null,null,{"$f":"IFERROR(IF(ISBLANK(C20),\" \",VLOOKUP(B20&C20&D20&E20,dagroosteroverzicht!E:F,2,FALSE)),\"!\")","v":" "},"","","",null,null,null,null,null,null,null,null,null,null,null,null,null,0,0,0,0,0,0,0,0,0,0]
[null,null,null,null,null,{"$f":"IFERROR(IF(ISBLANK(C21),\" \",VLOOKUP(B21&C21&D21&E21,dagroosteroverzicht!E:F,2,FALSE)),\"!\")","v":" "},"","","",null,"Gemiddeld aantal dagen per week tbv reiskosten:",null,null,null,null,null,null,{"$f":"SUM(W15:AC24)/I11","v":{"$error":"#DIV/0!"}},null,null,null,null,0,0,0,0,0,0,0,0,0,0]
[null,null,null,null,null,{"$f":"IFERROR(IF(ISBLANK(C22),\" \",VLOOKUP(B22&C22&D22&E22,dagroosteroverzicht!E:F,2,FALSE)),\"!\")","v":" "},"","","",null,null,null,null,null,null,null,null,null,null,null,null,null,0,0,0,0,0,0,0,0,0,0]
[null,null,null,null,null,{"$f":"IFERROR(IF(ISBLANK(C23),\" \",VLOOKUP(B23&C23&D23&E23,dagroosteroverzicht!E:F,2,FALSE)),\"!\")","v":" "},"","","",null,"Ploegendienstpercentage",null,null,null,null,null,null,null,null,null,null,null,0,0,0,0,0,0,0,0,0,0]
[null,null,null,null,null,{"$f":"IFERROR(IF(ISBLANK(C24),\" \",VLOOKUP(B24&C24&D24&E24,dagroosteroverzicht!E:F,2,FALSE)),\"!\")","v":" "},"","","",null,{"$f":"R17-1","v":{"$error":"#DIV/0!"}},null,null,null,null,null,null,null,null,null,null,null,0,0,0,0,0,0,0,0,0,0]
[null,null,null,null,null,{"$f":"IFERROR(IF(ISBLANK(C25),\" \",VLOOKUP(B25&C25&D25&E25,dagroosteroverzicht!E:F,2,FALSE)),\"!\")","v":" "},"","",""]
[null,{"$f":"IF(COUNTIF($F$16:$F$25,\"!\")=0,\"\",\"Klik op dagrooster toevoegen\")","v":""},null,null,null,null,null,null,null,null,null,null,null,null,null,null,null,null,null,null,null,null,"wat is de waarde van het dagrooster"]
[null,"Rooster"]
[null,"WEEK","MA","DI","WO","DO","VR","ZA","ZO",null,"WEEK","MA","DI","WO","DO","VR","ZA","ZO",null,null,null,null,"mawaarde totaal","diwaarde totaal","wowaarde totaal","dowaarde totaal","vrwaarde totaal","zawaarde totaal","zowaarde totaal"]
[{"$f":"IF(AND(ISBLANK(C29),ISBLANK(D29),ISBLANK(E29),ISBLANK(F29),ISBLANK(G29),ISBLANK(H29),ISBLANK(I29)),0,1)","v":0},1,null,null,null,null,null,null,null,{"$f":"IF(AND(ISBLANK(L29),ISBLANK(M29),ISBLANK(N29),ISBLANK(O29),ISBLANK(P29),ISBLANK(Q29),ISBLANK(R29)),0,1)","v":0},28,null,null,null,null,null,null,null,"","","","",{"$f":"IFERROR(VLOOKUP(F16,dagroosteroverzicht!F:O,4,FALSE),0)","v":0},{"$f":"IFERROR(VLOOKUP(F16,dagroosteroverzicht!F:O,5,FALSE),0)","v":0},{"$f":"IFERROR(VLOOKUP(F16,dagroosteroverzicht!F:O,6,FALSE),0)","v":0},{"$f":"IFERROR(VLOOKUP(F16,dagroosteroverzicht!F:O,7,FALSE),0)","v":0},{"$f":"IFERROR(VLOOKUP(F16,dagroosteroverzicht!F:O,8,FALSE),0)","v":0},{"$f":"IFERROR(VLOOKUP(F16,dagroosteroverzicht!F:O,9,FALSE),0)","v":0},{"$f":"IFERROR(VLOOKUP(F16,dagroosteroverzicht!F:O,10,FALSE),0)","v":0}]
[{"$f":"IF(AND(ISBLANK(C30),ISBLANK(D30),ISBLANK(E30),ISBLANK(F30),ISBLANK(G30),ISBLANK(H30),ISBLANK(I30)),0,1)","v":0},2,null,null,null,null,null,null,null,{"$f":"IF(AND(ISBLANK(L30),ISBLANK(M30),ISBLANK(N30),ISBLANK(O30),ISBLANK(P30),ISBLANK(Q30),ISBLANK(R30)),0,1)","v":0},29,null,null,null,null,null,null,null,"","","","",{"$f":"IFERROR(VLOOKUP(F17,dagroosteroverzicht!F:O,4,FALSE),0)","v":0},{"$f":"IFERROR(VLOOKUP(F17,dagroosteroverzicht!F:O,5,FALSE),0)","v":0},{"$f":"IFERROR(VLOOKUP(F17,dagroosteroverzicht!F:O,6,FALSE),0)","v":0},{"$f":"IFERROR(VLOOKUP(F17,dagroosteroverzicht!F:O,7,FALSE),0)","v":0},{"$f":"IFERROR(VLOOKUP(F17,dagroosteroverzicht!F:O,8,FALSE),0)","v":0},{"$f":"IFERROR(VLOOKUP(F17,dagroosteroverzicht!F:O,9,FALSE),0)","v":0},{"$f":"IFERROR(VLOOKUP(F17,dagroosteroverzicht!F:O,10,FALSE),0)","v":0}]
[0,3,null,null,null,null,null,null,null,0,30,null,null,null,null,null,null,null,"","","","",{"$f":"IFERROR(VLOOKUP(F18,dagroosteroverzicht!F:O,4,FALSE),0)","v":0},{"$f":"IFERROR(VLOOKUP(F18,dagroosteroverzicht!F:O,5,FALSE),0)","v":0},{"$f":"IFERROR(VLOOKUP(F18,dagroosteroverzicht!F:O,6,FALSE),0)","v":0},{"$f":"IFERROR(VLOOKUP(F18,dagroosteroverzicht!F:O,7,FALSE),0)","v":0},{"$f":"IFERROR(VLOOKUP(F18,dagroosteroverzicht!F:O,8,FALSE),0)","v":0},{"$f":"IFERROR(VLOOKUP(F18,dagroosteroverzicht!F:O,9,FALSE),0)","v":0},{"$f":"IFERROR(VLOOKUP(F18,dagroosteroverzicht!F:O,10,FALSE),0)","v":0}]
[0,4,null,null,null,null,null,null,null,0,31,null,null,null,null,null,null,null,"","","","",{"$f":"IFERROR(VLOOKUP(F19,dagroosteroverzicht!F:O,4,FALSE),0)","v":0},{"$f":"IFERROR(VLOOKUP(F19,dagroosteroverzicht!F:O,5,FALSE),0)","v":0},{"$f":"IFERROR(VLOOKUP(F19,dagroosteroverzicht!F:O,6,FALSE),0)","v":0},{"$f":"IFERROR(VLOOKUP(F19,dagroosteroverzicht!F:O,7,FALSE),0)","v":0},{"$f":"IFERROR(VLOOKUP(F19,dagroosteroverzicht!F:O,8,FALSE),0)","v":0},{"$f":"IFERROR(VLOOKUP(F19,dagroosteroverzicht!F:O,9,FALSE),0)","v":0},{"$f":"IFERROR(VLOOKUP(F19,dagroosteroverzicht!F:O,10,FALSE),0)","v":0}]
[0,5,null,null,null,null,null,null,null,0,32,null,null,null,null,null,null,null,"","","","",{"$f":"IFERROR(VLOOKUP(F20,dagroosteroverzicht!F:O,4,FALSE),0)","v":0},{"$f":"IFERROR(VLOOKUP(F20,dagroosteroverzicht!F:O,5,FALSE),0)","v":0},{"$f":"IFERROR(VLOOKUP(F20,dagroosteroverzicht!F:O,6,FALSE),0)","v":0},{"$f":"IFERROR(VLOOKUP(F20,dagroosteroverzicht!F:O,7,FALSE),0)","v":0},{"$f":"IFERROR(VLOOKUP(F20,dagroosteroverzicht!F:O,8,FALSE),0)","v":0},{"$f":"IFERROR(VLOOKUP(F20,dagroosteroverzicht!F:O,9,FALSE),0)","v":0},{"$f":"IFERROR(VLOOKUP(F20,dagroosteroverzicht!F:O,10,FALSE),0)","v":0}]
[0,6,null,null,null,null,null,null,null,0,33,null,null,null,null,null,null,null,"","","","",{"$f":"IFERROR(VLOOKUP(F21,dagroosteroverzicht!F:O,4,FALSE),0)","v":0},{"$f":"IFERROR(VLOOKUP(F21,dagroosteroverzicht!F:O,5,FALSE),0)","v":0},{"$f":"IFERROR(VLOOKUP(F21,dagroosteroverzicht!F:O,6,FALSE),0)","v":0},{"$f":"IFERROR(VLOOKUP(F21,dagroosteroverzicht!F:O,7,FALSE),0)","v":0},{"$f":"IFERROR(VLOOKUP(F21,dagroosteroverzicht!F:O,8,FALSE),0)","v":0},{"$f":"IFERROR(VLOOKUP(F21,dagroosteroverzicht!F:O,9,FALSE),0)","v":0},{"$f":"IFERROR(VLOOKUP(F21,dagroosteroverzicht!F:O,10,FALSE),0)","v":0}]
[0,7,null,null,null,null,null,null,null,0,34,null,null,null,null,null,null,null,"","","","",{"$f":"IFERROR(VLOOKUP(F22,dagroosteroverzicht!F:O,4,FALSE),0)","v":0},{"$f":"IFERROR(VLOOKUP(F22,dagroosteroverzicht!F:O,5,FALSE),0)","v":0},{"$f":"IFERROR(VLOOKUP(F22,dagroosteroverzicht!F:O,6,FALSE),0)","v":0},{"$f":"IFERROR(VLOOKUP(F22,dagroosteroverzicht!F:O,7,FALSE),0)","v":0},{"$f":"IFERROR(VLOOKUP(F22,dagroosteroverzicht!F:O,8,FALSE),0)","v":0},{"$f":"IFERROR(VLOOKUP(F22,dagroosteroverzicht!F:O,9,FALSE),0)","v":0},{"$f":"IFERROR(VLOOKUP(F22,dagroosteroverzicht!F:O,10,FALSE),0)","v":0}]
[0,8,null,null,null,null,null,null,null,0,35,null,null,null,null,null,null,null,"","","","",{"$f":"IFERROR(VLOOKUP(F23,dagroosteroverzicht!F:O,4,FALSE),0)","v":0},{"$f":"IFERROR(VLOOKUP(F23,dagroosteroverzicht!F:O,5,FALSE),0)","v":0},{"$f":"IFERROR(VLOOKUP(F23,dagroosteroverzicht!F:O,6,FALSE),0)","v":0},{"$f":"IFERROR(VLOOKUP(F23,dagroosteroverzicht!F:O,7,FALSE),0)","v":0},{"$f":"IFERROR(VLOOKUP(F23,dagroosteroverzicht!F:O,8,FALSE),0)","v":0},{"$f":"IFERROR(VLOOKUP(F23,dagroosteroverzicht!F:O,9,FALSE),0)","v":0},{"$f":"IFERROR(VLOOKUP(F23,dagroosteroverzicht!F:O,10,FALSE),0)","v":0}]
[0,9,null,null,null,null,null,null,null,0,36,null,null,null,null,null,null,null,null,null,null,null,{"$f":"IFERROR(VLOOKUP(F24,dagroosteroverzicht!F:O,4,FALSE),0)","v":0},{"$f":"IFERROR(VLOOKUP(F24,dagroosteroverzicht!F:O,5,FALSE),0)","v":0},{"$f":"IFERROR(VLOOKUP(F24,dagroosteroverzicht!F:O,6,FALSE),0)","v":0},{"$f":"IFERROR(VLOOKUP(F24,dagroosteroverzicht!F:O,7,FALSE),0)","v":0},{"$f":"IFERROR(VLOOKUP(F24,dagroosteroverzicht!F:O,8,FALSE),0)","v":0},{"$f":"IFERROR(VLOOKUP(F24,dagroosteroverzicht!F:O,9,FALSE),0)","v":0},{"$f":"IFERROR(VLOOKUP(F24,dagroosteroverzicht!F:O,10,FALSE),0)","v":0}]
[0,10,null,null,null,null,null,null,null,0,37,null,null,null,null,null,null,null,null,null,null,null,{"$f":"IFERROR(VLOOKUP(F25,dagroosteroverzicht!F:O,4,FALSE),0)","v":0},{"$f":"IFERROR(VLOOKUP(F25,dagroosteroverzicht!F:O,5,FALSE),0)","v":0},{"$f":"IFERROR(VLOOKUP(F25,dagroosteroverzicht!F:O,6,FALSE),0)","v":0},{"$f":"IFERROR(VLOOKUP(F25,dagroosteroverzicht!F:O,7,FALSE),0)","v":0},{"$f":"IFERROR(VLOOKUP(F25,dagroosteroverzicht!F:O,8,FALSE),0)","v":0},{"$f":"IFERROR(VLOOKUP(F25,dagroosteroverzicht!F:O,9,FALSE),0)","v":0},{"$f":"IFERROR(VLOOKUP(F25,dagroosteroverzicht!F:O,10,FALSE),0)","v":0}]
[0,11,null,null,null,null,null,null,null,0,38]
[0,12,null,null,null,null,null,null,null,0,39,null,null,null,null,null,null,null,null,null,null,null,"aantal x waarde"]
[0,13,null,null,null,null,null,null,null,0,40,null,null,null,null,null,null,null,null,null,null,null,"mawaarde totaal","diwaarde totaal","wowaarde totaal","dowaarde totaal","vrwaarde totaal","zawaarde totaal","zowaarde totaal"]
[0,14,null,null,null,null,null,null,null,0,41,null,null,null,null,null,null,null,null,null,null,null,{"$f":"W15*W29","v":0},{"$f":"X15*X29","v":0},0,0,0,0,0]
[0,15,null,null,null,null,null,null,null,0,42,null,null,null,null,null,null,null,null,null,null,null,0,{"$f":"X16*X30","v":0},0,0,0,0,0]
[0,16,null,null,null,null,null,null,null,0,43,null,null,null,null,null,null,null,null,null,null,null,0,0,0,0,0,0,0]
[0,17,null,null,null,null,null,null,null,0,44,null,null,null,null,null,null,null,null,null,null,null,0,0,0,0,0,0,0]
[0,18,null,null,null,null,null,null,null,0,45,null,null,null,null,null,null,null,"","","","",0,0,0,0,0,0,0]
[0,19,null,null,null,null,null,null,null,0,46,null,null,null,null,null,null,null,"","","","",0,0,0,0,0,0,0]
[0,20,null,null,null,null,null,null,null,0,47,null,null,null,null,null,null,null,"","","","",0,0,0,0,0,0,0]
[0,21,null,null,null,null,null,null,null,0,48,null,null,null,null,null,null,null,"","","","",0,0,0,0,0,0,0]
[0,22,null,null,null,null,null,null,null,0,49,null,null,null,null,null,null,null,null,null,null,null,0,0,0,0,0,0,0]
[0,23,null,null,null,null,null,null,null,0,50,null,null,null,null,null,null,null,null,null,null,null,0,0,0,0,0,0,0]
[0,24,null,null,null,null,null,null,null,0,51]
[0,25,null,null,null,null,null,null,null,0,52]
[0,26,null,null,null,null,null,null,null,{"$f":"IF(AND(ISBLANK(L54),ISBLANK(M54),ISBLANK(N54),ISBLANK(O54),ISBLANK(P54),ISBLANK(Q54),ISBLANK(R54)),0,1)","v":0},53]
[0,27,null,null,null,null,null,null,null,{"$f":"IF(AND(ISBLANK(L55),ISBLANK(M55),ISBLANK(N55),ISBLANK(O55),ISBLANK(P55),ISBLANK(Q55),ISBLANK(R55)),0,1)","v":0},54]

{"sheet":"Beheer","index":1,"n_rows":97,"n_cols":9,"rows_kept":97,"cut":false,"hidden":false,"merged":[]}
["van","tot","maandag","dinsdag","woensdag","donderdag","vrijdag","zaterdag","zondag"]
["00:00:00","00:15:00",0.4,0.4,0.4,0.4,0.4,0.4,1.2]
[{"$f":"B2","v":"00:15:00"},"00:30:00",0.4,0.4,0.4,0.4,0.4,0.4,1.2]
["00:30:00","00:45:00",0.4,0.4,0.4,0.4,0.4,0.4,1.2]
["00:45:00","01:00:00",0.4,0.4,0.4,0.4,0.4,0.4,1.2]
["01:00:00","01:15:00",0.4,0.4,0.4,0.4,0.4,0.4,1.2]
["01:15:00","01:30:00",0.4,0.4,0.4,0.4,0.4,0.4,1.2]
["01:30:00","01:45:00",0.4,0.4,0.4,0.4,0.4,0.4,1.2]
["01:45:00","02:00:00",0.4,0.4,0.4,0.4,0.4,0.4,1.2]
["02:00:00","02:15:00",0.4,0.4,0.4,0.4,0.4,0.4,1.2]
["02:15:00","02:30:00",0.4,0.4,0.4,0.4,0.4,0.4,1.2]
["02:30:00","02:45:00",0.4,0.4,0.4,0.4,0.4,0.4,1.2]
["02:45:00","03:00:00",0.4,0.4,0.4,0.4,0.4,0.4,1.2]
["03:00:00","03:15:00",0.4,0.4,0.4,0.4,0.4,0.4,1.2]
["03:15:00","03:30:00",0.4,0.4,0.4,0.4,0.4,0.4,1.2]
["03:30:00","03:45:00",0.4,0.4,0.4,0.4,0.4,0.4,1.2]
["03:45:00","04:00:00",0.4,0.4,0.4,0.4,0.4,0.4,1.2]
["04:00:00","04:15:00",0.4,0.4,0.4,0.4,0.4,0.4,1.2]
["04:15:00","04:30:00",0.4,0.4,0.4,0.4,0.4,0.4,1.2]
["04:30:00","04:45:00",0.4,0.4,0.4,0.4,0.4,0.4,1.2]
["04:45:00","05:00:00",0.4,0.4,0.4,0.4,0.4,0.4,1.2]
["05:00:00","05:15:00",0.4,0.4,0.4,0.4,0.4,0.4,1.2]
["05:15:00","05:30:00",0.4,0.4,0.4,0.4,0.4,0.4,1.2]
["05:30:00","05:45:00",0.4,0.4,0.4,0.4,0.4,0.4,1.2]
["05:45:00","06:00:00",0.4,0.4,0.4,0.4,0.4,0.4,1.2]
["06:00:00","06:15:00",0.4,0.4,0.4,0.4,0.4,0.4,1.2]
["06:15:00","06:30:00",0.4,0.4,0.4,0.4,0.4,0.4,1.2]
["06:30:00","06:45:00",0.4,0.4,0.4,0.4,0.4,0.4,1.2]
["06:45:00","07:00:00",0.4,0.4,0.4,0.4,0.4,0.4,1.2]
["07:00:00","07:15:00",0,0,0,0,0,0.4,1.2]
["07:15:00","07:30:00",0,0,0,0,0,0.4,1.2]
["07:30:00","07:45:00",0,0,0,0,0,0.4,1.2]
["07:45:00","08:00:00",0,0,0,0,0,0.4,1.2]
["08:00:00","08:15:00",0,0,0,0,0,0.4,1.2]
["08:15:00","08:30:00",0,0,0,0,0,0.4,1.2]
["08:30:00","08:45:00",0,0,0,0,0,0.4,1.2]
["08:45:00","09:00:00",0,0,0,0,0,0.4,1.2]
["09:00:00","09:15:00",0,0,0,0,0,0.4,1.2]
["09:15:00","09:30:00",0,0,0,0,0,0.4,1.2]
["09:30:00","09:45:00",0,0,0,0,0,0.4,1.2]
["09:45:00","10:00:00",0,0,0,0,0,0.4,1.2]
["10:00:00","10:15:00",0,0,0,0,0,0.4,1.2]
["10:15:00","10:30:00",0,0,0,0,0,0.4,1.2]
["10:30:00","10:45:00",0,0,0,0,0,0.4,1.2]
["10:45:00","11:00:00",0,0,0,0,0,0.4,1.2]
["11:00:00","11:15:00",0,0,0,0,0,0.4,1.2]
["11:15:00","11:30:00",0,0,0,0,0,0.4,1.2]
["11:30:00","11:45:00",0,0,0,0,0,0.4,1.2]
["11:45:00","12:00:00",0,0,0,0,0,0.4,1.2]
["12:00:00","12:15:00",0,0,0,0,0,1.2,1.2]
["12:15:00","12:30:00",0,0,0,0,0,1.2,1.2]
["12:30:00","12:45:00",0,0,0,0,0,1.2,1.2]
["12:45:00","13:00:00",0,0,0,0,0,1.2,1.2]
["13:00:00","13:15:00",0,0,0,0,0,1.2,1.2]
["13:15:00","13:30:00",0,0,0,0,0,1.2,1.2]
["13:30:00","13:45:00",0,0,0,0,0,1.2,1.2]
["13:45:00","14:00:00",0,0,0,0,0,1.2,1.2]
["14:00:00","14:15:00",0,0,0,0,0,1.2,1.2]
["14:15:00","14:30:00",0,0,0,0,0,1.2,1.2]
["14:30:00","14:45:00",0,0,0,0,0,1.2,1.2]
["14:45:00","15:00:00",0,0,0,0,0,1.2,1.2]
["15:00:00","15:15:00",0,0,0,0,0,1.2,1.2]
["15:15:00","15:30:00",0,0,0,0,0,1.2,1.2]
["15:30:00","15:45:00",0,0,0,0,0,1.2,1.2]
["15:45:00","16:00:00",0,0,0,0,0,1.2,1.2]
["16:00:00","16:15:00",0,0,0,0,0,1.2,1.2]
[{"$f":"B66","v":"16:15:00"},"16:30:00",0,0,0,0,0,1.2,1.2]
["16:30:00","16:45:00",0,0,0,0,0,1.2,1.2]
["16:45:00","17:00:00",0,0,0,0,0,1.2,1.2]
["17:00:00","17:15:00",0,0,0,0,0,1.2,1.2]
["17:15:00","17:30:00",0,0,0,0,0,1.2,1.2]
["17:30:00","17:45:00",0,0,0,0,0,1.2,1.2]
["17:45:00","18:00:00",0,0,0,0,0,1.2,1.2]
["18:00:00","18:15:00",0.4,0.4,0.4,0.4,0.4,1.2,1.2]
["18:15:00","18:30:00",0.4,0.4,0.4,0.4,0.4,1.2,1.2]
["18:30:00","18:45:00",0.4,0.4,0.4,0.4,0.4,1.2,1.2]
["18:45:00","19:00:00",0.4,0.4,0.4,0.4,0.4,1.2,1.2]
["19:00:00","19:15:00",0.4,0.4,0.4,0.4,0.4,1.2,1.2]
["19:15:00","19:30:00",0.4,0.4,0.4,0.4,0.4,1.2,1.2]
["19:30:00","19:45:00",0.4,0.4,0.4,0.4,0.4,1.2,1.2]
["19:45:00","20:00:00",0.4,0.4,0.4,0.4,0.4,1.2,1.2]
["20:00:00","20:15:00",0.4,0.4,0.4,0.4,0.4,1.2,1.2]
["20:15:00","20:30:00",0.4,0.4,0.4,0.4,0.4,1.2,1.2]
["20:30:00","20:45:00",0.4,0.4,0.4,0.4,0.4,1.2,1.2]
["20:45:00","21:00:00",0.4,0.4,0.4,0.4,0.4,1.2,1.2]
["21:00:00","21:15:00",0.4,0.4,0.4,0.4,0.4,1.2,1.2]
["21:15:00","21:30:00",0.4,0.4,0.4,0.4,0.4,1.2,1.2]
["21:30:00","21:45:00",0.4,0.4,0.4,0.4,0.4,1.2,1.2]
["21:45:00","22:00:00",0.4,0.4,0.4,0.4,0.4,1.2,1.2]
["22:00:00","22:15:00",0.4,0.4,0.4,0.4,0.4,1.2,1.2]
["22:15:00","22:30:00",0.4,0.4,0.4,0.4,0.4,1.2,1.2]
["22:30:00","22:45:00",0.4,0.4,0.4,0.4,0.4,1.2,1.2]
["22:45:00","23:00:00",0.4,0.4,0.4,0.4,0.4,1.2,1.2]
["23:00:00","23:15:00",0.4,0.4,0.4,0.4,0.4,1.2,1.2]
["23:15:00","23:30:00",0.4,0.4,0.4,0.4,0.4,1.2,1.2]
["23:30:00","23:45:00",0.4,0.4,0.4,0.4,0.4,1.2,1.2]
["23:45:00",1,0.4,0.4,0.4,0.4,0.4,1.2,1.2]

{"sheet":"Waardeberekening","index":2,"n_rows":673,"n_cols":8,"rows_kept":673,"cut":false,"hidden":true,"merged":[]}
["dag","van","tot","percentage","overlap","overlap opvolgende dag","waarde huidige dag","waarde volgende dag"]
["maandag","00:00:00","00:15:00",{"$f":"Beheer!C2","v":0.4},{"$f":"MAX(0,MIN(dagroosterberekening!$H$3,C2)-MAX(dagroosterberekening!$G$3,B2))","v":"00:00:00"},{"$f":"MAX(0,MIN(dagroosterberekening!$J$3,C2)-MAX(dagroosterberekening!$I$3,B2))","v":"00:00:00"},{"$f":"ROUND((E2*1)+(E2*D2),10)","v":0},{"$f":"ROUND((F2*1)+(F2*D2),10)","v":0}]
["maandag",{"$f":"C2","v":"00:15:00"},"00:30:00",{"$f":"Beheer!C3","v":0.4},{"$f":"MAX(0,MIN(dagroosterberekening!$H$3,C3)-MAX(dagroosterberekening!$G$3,B3))","v":"00:00:00"},{"$f":"MAX(0,MIN(dagroosterberekening!$J$3,C3)-MAX(dagroosterberekening!$I$3,B3))","v":"00:00:00"},{"$f":"ROUND((E3*1)+(E3*D3),10)","v":0},{"$f":"ROUND((F3*1)+(F3*D3),10)","v":0}]
["maandag","00:30:00","00:45:00",{"$f":"Beheer!C4","v":0.4},{"$f":"MAX(0,MIN(dagroosterberekening!$H$3,C4)-MAX(dagroosterberekening!$G$3,B4))","v":"00:00:00"},{"$f":"MAX(0,MIN(dagroosterberekening!$J$3,C4)-MAX(dagroosterberekening!$I$3,B4))","v":"00:00:00"},0,0]
["maandag","00:45:00","01:00:00",{"$f":"Beheer!C5","v":0.4},{"$f":"MAX(0,MIN(dagroosterberekening!$H$3,C5)-MAX(dagroosterberekening!$G$3,B5))","v":"00:00:00"},{"$f":"MAX(0,MIN(dagroosterberekening!$J$3,C5)-MAX(dagroosterberekening!$I$3,B5))","v":"00:00:00"},0,0]
["maandag","01:00:00","01:15:00",{"$f":"Beheer!C6","v":0.4},{"$f":"MAX(0,MIN(dagroosterberekening!$H$3,C6)-MAX(dagroosterberekening!$G$3,B6))","v":"00:00:00"},{"$f":"MAX(0,MIN(dagroosterberekening!$J$3,C6)-MAX(dagroosterberekening!$I$3,B6))","v":"00:00:00"},0,0]
["maandag","01:15:00","01:30:00",{"$f":"Beheer!C7","v":0.4},{"$f":"MAX(0,MIN(dagroosterberekening!$H$3,C7)-MAX(dagroosterberekening!$G$3,B7))","v":"00:00:00"},{"$f":"MAX(0,MIN(dagroosterberekening!$J$3,C7)-MAX(dagroosterberekening!$I$3,B7))","v":"00:00:00"},0,0]
["maandag","01:30:00","01:45:00",{"$f":"Beheer!C8","v":0.4},{"$f":"MAX(0,MIN(dagroosterberekening!$H$3,C8)-MAX(dagroosterberekening!$G$3,B8))","v":"00:00:00"},{"$f":"MAX(0,MIN(dagroosterberekening!$J$3,C8)-MAX(dagroosterberekening!$I$3,B8))","v":"00:00:00"},0,0]
["maandag","01:45:00","02:00:00",{"$f":"Beheer!C9","v":0.4},{"$f":"MAX(0,MIN(dagroosterberekening!$H$3,C9)-MAX(dagroosterberekening!$G$3,B9))","v":"00:00:00"},{"$f":"MAX(0,MIN(dagroosterberekening!$J$3,C9)-MAX(dagroosterberekening!$I$3,B9))","v":"00:00:00"},0,0]
["maandag","02:00:00","02:15:00",{"$f":"Beheer!C10","v":0.4},{"$f":"MAX(0,MIN(dagroosterberekening!$H$3,C10)-MAX(dagroosterberekening!$G$3,B10))","v":"00:00:00"},{"$f":"MAX(0,MIN(dagroosterberekening!$J$3,C10)-MAX(dagroosterberekening!$I$3,B10))","v":"00:00:00"},0,0]
["maandag","02:15:00","02:30:00",{"$f":"Beheer!C11","v":0.4},{"$f":"MAX(0,MIN(dagroosterberekening!$H$3,C11)-MAX(dagroosterberekening!$G$3,B11))","v":"00:00:00"},{"$f":"MAX(0,MIN(dagroosterberekening!$J$3,C11)-MAX(dagroosterberekening!$I$3,B11))","v":"00:00:00"},0,0]
["maandag","02:30:00","02:45:00",{"$f":"Beheer!C12","v":0.4},{"$f":"MAX(0,MIN(dagroosterberekening!$H$3,C12)-MAX(dagroosterberekening!$G$3,B12))","v":"00:00:00"},{"$f":"MAX(0,MIN(dagroosterberekening!$J$3,C12)-MAX(dagroosterberekening!$I$3,B12))","v":"00:00:00"},0,0]
["maandag","02:45:00","03:00:00",{"$f":"Beheer!C13","v":0.4},{"$f":"MAX(0,MIN(dagroosterberekening!$H$3,C13)-MAX(dagroosterberekening!$G$3,B13))","v":"00:00:00"},{"$f":"MAX(0,MIN(dagroosterberekening!$J$3,C13)-MAX(dagroosterberekening!$I$3,B13))","v":"00:00:00"},0,0]
["maandag","03:00:00","03:15:00",{"$f":"Beheer!C14","v":0.4},{"$f":"MAX(0,MIN(dagroosterberekening!$H$3,C14)-MAX(dagroosterberekening!$G$3,B14))","v":"00:00:00"},{"$f":"MAX(0,MIN(dagroosterberekening!$J$3,C14)-MAX(dagroosterberekening!$I$3,B14))","v":"00:00:00"},0,0]
["maandag","03:15:00","03:30:00",{"$f":"Beheer!C15","v":0.4},{"$f":"MAX(0,MIN(dagroosterberekening!$H$3,C15)-MAX(dagroosterberekening!$G$3,B15))","v":"00:00:00"},{"$f":"MAX(0,MIN(dagroosterberekening!$J$3,C15)-MAX(dagroosterberekening!$I$3,B15))","v":"00:00:00"},0,0]
["maandag","03:30:00","03:45:00",{"$f":"Beheer!C16","v":0.4},{"$f":"MAX(0,MIN(dagroosterberekening!$H$3,C16)-MAX(dagroosterberekening!$G$3,B16))","v":"00:00:00"},{"$f":"MAX(0,MIN(dagroosterberekening!$J$3,C16)-MAX(dagroosterberekening!$I$3,B16))","v":"00:00:00"},0,0]
["maandag","03:45:00","04:00:00",{"$f":"Beheer!C17","v":0.4},{"$f":"MAX(0,MIN(dagroosterberekening!$H$3,C17)-MAX(dagroosterberekening!$G$3,B17))","v":"00:00:00"},{"$f":"MAX(0,MIN(dagroosterberekening!$J$3,C17)-MAX(dagroosterberekening!$I$3,B17))","v":"00:00:00"},0,0]
["maandag","04:00:00","04:15:00",{"$f":"Beheer!C18","v":0.4},{"$f":"MAX(0,MIN(dagroosterberekening!$H$3,C18)-MAX(dagroosterberekening!$G$3,B18))","v":"00:00:00"},{"$f":"MAX(0,MIN(dagroosterberekening!$J$3,C18)-MAX(dagroosterberekening!$I$3,B18))","v":"00:00:00"},0,0]
["maandag","04:15:00","04:30:00",{"$f":"Beheer!C19","v":0.4},{"$f":"MAX(0,MIN(dagroosterberekening!$H$3,C19)-MAX(dagroosterberekening!$G$3,B19))","v":"00:00:00"},{"$f":"MAX(0,MIN(dagroosterberekening!$J$3,C19)-MAX(dagroosterberekening!$I$3,B19))","v":"00:00:00"},0,0]
["maandag","04:30:00","04:45:00",{"$f":"Beheer!C20","v":0.4},{"$f":"MAX(0,MIN(dagroosterberekening!$H$3,C20)-MAX(dagroosterberekening!$G$3,B20))","v":"00:00:00"},{"$f":"MAX(0,MIN(dagroosterberekening!$J$3,C20)-MAX(dagroosterberekening!$I$3,B20))","v":"00:00:00"},0,0]
["maandag","04:45:00","05:00:00",{"$f":"Beheer!C21","v":0.4},{"$f":"MAX(0,MIN(dagroosterberekening!$H$3,C21)-MAX(dagroosterberekening!$G$3,B21))","v":"00:00:00"},{"$f":"MAX(0,MIN(dagroosterberekening!$J$3,C21)-MAX(dagroosterberekening!$I$3,B21))","v":"00:00:00"},0,0]
["maandag","05:00:00","05:15:00",{"$f":"Beheer!C22","v":0.4},{"$f":"MAX(0,MIN(dagroosterberekening!$H$3,C22)-MAX(dagroosterberekening!$G$3,B22))","v":"00:00:00"},{"$f":"MAX(0,MIN(dagroosterberekening!$J$3,C22)-MAX(dagroosterberekening!$I$3,B22))","v":"00:00:00"},0,0]
["maandag","05:15:00","05:30:00",{"$f":"Beheer!C23","v":0.4},{"$f":"MAX(0,MIN(dagroosterberekening!$H$3,C23)-MAX(dagroosterberekening!$G$3,B23))","v":"00:00:00"},{"$f":"MAX(0,MIN(dagroosterberekening!$J$3,C23)-MAX(dagroosterberekening!$I$3,B23))","v":"00:00:00"},0,0]
["maandag","05:30:00","05:45:00",{"$f":"Beheer!C24","v":0.4},{"$f":"MAX(0,MIN(dagroosterberekening!$H$3,C24)-MAX(dagroosterberekening!$G$3,B24))","v":"00:00:00"},{"$f":"MAX(0,MIN(dagroosterberekening!$J$3,C24)-MAX(dagroosterberekening!$I$3,B24))","v":"00:00:00"},0,0]
["maandag","05:45:00","06:00:00",{"$f":"Beheer!C25","v":0.4},{"$f":"MAX(0,MIN(dagroosterberekening!$H$3,C25)-MAX(dagroosterberekening!$G$3,B25))","v":"00:00:00"},{"$f":"MAX(0,MIN(dagroosterberekening!$J$3,C25)-MAX(dagroosterberekening!$I$3,B25))","v":"00:00:00"},0,0]
["maandag","06:00:00","06:15:00",{"$f":"Beheer!C26","v":0.4},{"$f":"MAX(0,MIN(dagroosterberekening!$H$3,C26)-MAX(dagroosterberekening!$G$3,B26))","v":"00:00:00"},{"$f":"MAX(0,MIN(dagroosterberekening!$J$3,C26)-MAX(dagroosterberekening!$I$3,B26))","v":"00:00:00"},0,0]
["maandag","06:15:00","06:30:00",{"$f":"Beheer!C27","v":0.4},{"$f":"MAX(0,MIN(dagroosterberekening!$H$3,C27)-MAX(dagroosterberekening!$G$3,B27))","v":"00:00:00"},{"$f":"MAX(0,MIN(dagroosterberekening!$J$3,C27)-MAX(dagroosterberekening!$I$3,B27))","v":"00:00:00"},0,0]
["maandag","06:30:00","06:45:00",{"$f":"Beheer!C28","v":0.4},{"$f":"MAX(0,MIN(dagroosterberekening!$H$3,C28)-MAX(dagroosterberekening!$G$3,B28))","v":"00:00:00"},{"$f":"MAX(0,MIN(dagroosterberekening!$J$3,C28)-MAX(dagroosterberekening!$I$3,B28))","v":"00:00:00"},0,0]
["maandag","06:45:00","07:00:00",{"$f":"Beheer!C29","v":0.4},{"$f":"MAX(0,MIN(dagroosterberekening!$H$3,C29)-MAX(dagroosterberekening!$G$3,B29))","v":"00:00:00"},{"$f":"MAX(0,MIN(dagroosterberekening!$J$3,C29)-MAX(dagroosterberekening!$I$3,B29))","v":"00:00:00"},0,0]
["maandag","07:00:00","07:15:00",{"$f":"Beheer!C30","v":0},{"$f":"MAX(0,MIN(dagroosterberekening!$H$3,C30)-MAX(dagroosterberekening!$G$3,B30))","v":"00:00:00"},{"$f":"MAX(0,MIN(dagroosterberekening!$J$3,C30)-MAX(dagroosterberekening!$I$3,B30))","v":"00:00:00"},0,0]
["maandag","07:15:00","07:30:00",{"$f":"Beheer!C31","v":0},{"$f":"MAX(0,MIN(dagroosterberekening!$H$3,C31)-MAX(dagroosterberekening!$G$3,B31))","v":"00:00:00"},{"$f":"MAX(0,MIN(dagroosterberekening!$J$3,C31)-MAX(dagroosterberekening!$I$3,B31))","v":"00:00:00"},0,0]
["maandag","07:30:00","07:45:00",{"$f":"Beheer!C32","v":0},{"$f":"MAX(0,MIN(dagroosterberekening!$H$3,C32)-MAX(dagroosterberekening!$G$3,B32))","v":"00:00:00"},{"$f":"MAX(0,MIN(dagroosterberekening!$J$3,C32)-MAX(dagroosterberekening!$I$3,B32))","v":"00:00:00"},0,0]
["maandag","07:45:00","08:00:00",{"$f":"Beheer!C33","v":0},{"$f":"MAX(0,MIN(dagroosterberekening!$H$3,C33)-MAX(dagroosterberekening!$G$3,B33))","v":"00:00:00"},{"$f":"MAX(0,MIN(dagroosterberekening!$J$3,C33)-MAX(dagroosterberekening!$I$3,B33))","v":"00:00:00"},0,0]
["maandag","08:00:00","08:15:00",{"$f":"Beheer!C34","v":0},{"$f":"MAX(0,MIN(dagroosterberekening!$H$3,C34)-MAX(dagroosterberekening!$G$3,B34))","v":"00:08:00"},{"$f":"MAX(0,MIN(dagroosterberekening!$J$3,C34)-MAX(dagroosterberekening!$I$3,B34))","v":"00:00:00"},5.5555556000000004E-3,0]
["maandag","08:15:00","08:30:00",{"$f":"Beheer!C35","v":0},{"$f":"MAX(0,MIN(dagroosterberekening!$H$3,C35)-MAX(dagroosterberekening!$G$3,B35))","v":"00:00:00"},{"$f":"MAX(0,MIN(dagroosterberekening!$J$3,C35)-MAX(dagroosterberekening!$I$3,B35))","v":"00:00:00"},0,0]
["maandag","08:30:00","08:45:00",{"$f":"Beheer!C36","v":0},{"$f":"MAX(0,MIN(dagroosterberekening!$H$3,C36)-MAX(dagroosterberekening!$G$3,B36))","v":"00:00:00"},{"$f":"MAX(0,MIN(dagroosterberekening!$J$3,C36)-MAX(dagroosterberekening!$I$3,B36))","v":"00:00:00"},0,0]
["maandag","08:45:00","09:00:00",{"$f":"Beheer!C37","v":0},{"$f":"MAX(0,MIN(dagroosterberekening!$H$3,C37)-MAX(dagroosterberekening!$G$3,B37))","v":"00:00:00"},{"$f":"MAX(0,MIN(dagroosterberekening!$J$3,C37)-MAX(dagroosterberekening!$I$3,B37))","v":"00:00:00"},0,0]
["maandag","09:00:00","09:15:00",{"$f":"Beheer!C38","v":0},{"$f":"MAX(0,MIN(dagroosterberekening!$H$3,C38)-MAX(dagroosterberekening!$G$3,B38))","v":"00:00:00"},{"$f":"MAX(0,MIN(dagroosterberekening!$J$3,C38)-MAX(dagroosterberekening!$I$3,B38))","v":"00:00:00"},0,0]
["maandag","09:15:00","09:30:00",{"$f":"Beheer!C39","v":0},{"$f":"MAX(0,MIN(dagroosterberekening!$H$3,C39)-MAX(dagroosterberekening!$G$3,B39))","v":"00:00:00"},{"$f":"MAX(0,MIN(dagroosterberekening!$J$3,C39)-MAX(dagroosterberekening!$I$3,B39))","v":"00:00:00"},0,0]
["maandag","09:30:00","09:45:00",{"$f":"Beheer!C40","v":0},{"$f":"MAX(0,MIN(dagroosterberekening!$H$3,C40)-MAX(dagroosterberekening!$G$3,B40))","v":"00:00:00"},{"$f":"MAX(0,MIN(dagroosterberekening!$J$3,C40)-MAX(dagroosterberekening!$I$3,B40))","v":"00:00:00"},0,0]
["maandag","09:45:00","10:00:00",{"$f":"Beheer!C41","v":0},{"$f":"MAX(0,MIN(dagroosterberekening!$H$3,C41)-MAX(dagroosterberekening!$G$3,B41))","v":"00:00:00"},{"$f":"MAX(0,MIN(dagroosterberekening!$J$3,C41)-MAX(dagroosterberekening!$I$3,B41))","v":"00:00:00"},0,0]
["maandag","10:00:00","10:15:00",{"$f":"Beheer!C42","v":0},{"$f":"MAX(0,MIN(dagroosterberekening!$H$3,C42)-MAX(dagroosterberekening!$G$3,B42))","v":"00:00:00"},{"$f":"MAX(0,MIN(dagroosterberekening!$J$3,C42)-MAX(dagroosterberekening!$I$3,B42))","v":"00:00:00"},0,0]
["maandag","10:15:00","10:30:00",{"$f":"Beheer!C43","v":0},{"$f":"MAX(0,MIN(dagroosterberekening!$H$3,C43)-MAX(dagroosterberekening!$G$3,B43))","v":"00:00:00"},{"$f":"MAX(0,MIN(dagroosterberekening!$J$3,C43)-MAX(dagroosterberekening!$I$3,B43))","v":"00:00:00"},0,0]
["maandag","10:30:00","10:45:00",{"$f":"Beheer!C44","v":0},{"$f":"MAX(0,MIN(dagroosterberekening!$H$3,C44)-MAX(dagroosterberekening!$G$3,B44))","v":"00:00:00"},{"$f":"MAX(0,MIN(dagroosterberekening!$J$3,C44)-MAX(dagroosterberekening!$I$3,B44))","v":"00:00:00"},0,0]
["maandag","10:45:00","11:00:00",{"$f":"Beheer!C45","v":0},{"$f":"MAX(0,MIN(dagroosterberekening!$H$3,C45)-MAX(dagroosterberekening!$G$3,B45))","v":"00:00:00"},{"$f":"MAX(0,MIN(dagroosterberekening!$J$3,C45)-MAX(dagroosterberekening!$I$3,B45))","v":"00:00:00"},0,0]
["maandag","11:00:00","11:15:00",{"$f":"Beheer!C46","v":0},{"$f":"MAX(0,MIN(dagroosterberekening!$H$3,C46)-MAX(dagroosterberekening!$G$3,B46))","v":"00:00:00"},{"$f":"MAX(0,MIN(dagroosterberekening!$J$3,C46)-MAX(dagroosterberekening!$I$3,B46))","v":"00:00:00"},0,0]
["maandag","11:15:00","11:30:00",{"$f":"Beheer!C47","v":0},{"$f":"MAX(0,MIN(dagroosterberekening!$H$3,C47)-MAX(dagroosterberekening!$G$3,B47))","v":"00:00:00"},{"$f":"MAX(0,MIN(dagroosterberekening!$J$3,C47)-MAX(dagroosterberekening!$I$3,B47))","v":"00:00:00"},0,0]
["maandag","11:30:00","11:45:00",{"$f":"Beheer!C48","v":0},{"$f":"MAX(0,MIN(dagroosterberekening!$H$3,C48)-MAX(dagroosterberekening!$G$3,B48))","v":"00:00:00"},{"$f":"MAX(0,MIN(dagroosterberekening!$J$3,C48)-MAX(dagroosterberekening!$I$3,B48))","v":"00:00:00"},0,0]
["maandag","11:45:00","12:00:00",{"$f":"Beheer!C49","v":0},{"$f":"MAX(0,MIN(dagroosterberekening!$H$3,C49)-MAX(dagroosterberekening!$G$3,B49))","v":"00:00:00"},{"$f":"MAX(0,MIN(dagroosterberekening!$J$3,C49)-MAX(dagroosterberekening!$I$3,B49))","v":"00:00:00"},0,0]
["maandag","12:00:00","12:15:00",{"$f":"Beheer!C50","v":0},{"$f":"MAX(0,MIN(dagroosterberekening!$H$3,C50)-MAX(dagroosterberekening!$G$3,B50))","v":"00:00:00"},{"$f":"MAX(0,MIN(dagroosterberekening!$J$3,C50)-MAX(dagroosterberekening!$I$3,B50))","v":"00:00:00"},0,0]
["maandag","12:15:00","12:30:00",{"$f":"Beheer!C51","v":0},{"$f":"MAX(0,MIN(dagroosterberekening!$H$3,C51)-MAX(dagroosterberekening!$G$3,B51))","v":"00:00:00"},{"$f":"MAX(0,MIN(dagroosterberekening!$J$3,C51)-MAX(dagroosterberekening!$I$3,B51))","v":"00:00:00"},0,0]
["maandag","12:30:00","12:45:00",{"$f":"Beheer!C52","v":0},{"$f":"MAX(0,MIN(dagroosterberekening!$H$3,C52)-MAX(dagroosterberekening!$G$3,B52))","v":"00:00:00"},{"$f":"MAX(0,MIN(dagroosterberekening!$J$3,C52)-MAX(dagroosterberekening!$I$3,B52))","v":"00:00:00"},0,0]
["maandag","12:45:00","13:00:00",{"$f":"Beheer!C53","v":0},{"$f":"MAX(0,MIN(dagroosterberekening!$H$3,C53)-MAX(dagroosterberekening!$G$3,B53))","v":"00:00:00"},{"$f":"MAX(0,MIN(dagroosterberekening!$J$3,C53)-MAX(dagroosterberekening!$I$3,B53))","v":"00:00:00"},0,0]
["maandag","13:00:00","13:15:00",{"$f":"Beheer!C54","v":0},{"$f":"MAX(0,MIN(dagroosterberekening!$H$3,C54)-MAX(dagroosterberekening!$G$3,B54))","v":"00:00:00"},{"$f":"MAX(0,MIN(dagroosterberekening!$J$3,C54)-MAX(dagroosterberekening!$I$3,B54))","v":"00:00:00"},0,0]
["maandag","13:15:00","13:30:00",{"$f":"Beheer!C55","v":0},{"$f":"MAX(0,MIN(dagroosterberekening!$H$3,C55)-MAX(dagroosterberekening!$G$3,B55))","v":"00:00:00"},{"$f":"MAX(0,MIN(dagroosterberekening!$J$3,C55)-MAX(dagroosterberekening!$I$3,B55))","v":"00:00:00"},0,0]
["maandag","13:30:00","13:45:00",{"$f":"Beheer!C56","v":0},{"$f":"MAX(0,MIN(dagroosterberekening!$H$3,C56)-MAX(dagroosterberekening!$G$3,B56))","v":"00:00:00"},{"$f":"MAX(0,MIN(dagroosterberekening!$J$3,C56)-MAX(dagroosterberekening!$I$3,B56))","v":"00:00:00"},0,0]
["maandag","13:45:00","14:00:00",{"$f":"Beheer!C57","v":0},{"$f":"MAX(0,MIN(dagroosterberekening!$H$3,C57)-MAX(dagroosterberekening!$G$3,B57))","v":"00:00:00"},{"$f":"MAX(0,MIN(dagroosterberekening!$J$3,C57)-MAX(dagroosterberekening!$I$3,B57))","v":"00:00:00"},0,0]
["maandag","14:00:00","14:15:00",{"$f":"Beheer!C58","v":0},{"$f":"MAX(0,MIN(dagroosterberekening!$H$3,C58)-MAX(dagroosterberekening!$G$3,B58))","v":"00:00:00"},{"$f":"MAX(0,MIN(dagroosterberekening!$J$3,C58)-MAX(dagroosterberekening!$I$3,B58))","v":"00:00:00"},0,0]
["maandag","14:15:00","14:30:00",{"$f":"Beheer!C59","v":0},{"$f":"MAX(0,MIN(dagroosterberekening!$H$3,C59)-MAX(dagroosterberekening!$G$3,B59))","v":"00:00:00"},{"$f":"MAX(0,MIN(dagroosterberekening!$J$3,C59)-MAX(dagroosterberekening!$I$3,B59))","v":"00:00:00"},0,0]
["maandag","14:30:00","14:45:00",{"$f":"Beheer!C60","v":0},{"$f":"MAX(0,MIN(dagroosterberekening!$H$3,C60)-MAX(dagroosterberekening!$G$3,B60))","v":"00:00:00"},{"$f":"MAX(0,MIN(dagroosterberekening!$J$3,C60)-MAX(dagroosterberekening!$I$3,B60))","v":"00:00:00"},0,0]
["maandag","14:45:00","15:00:00",{"$f":"Beheer!C61","v":0},{"$f":"MAX(0,MIN(dagroosterberekening!$H$3,C61)-MAX(dagroosterberekening!$G$3,B61))","v":"00:00:00"},{"$f":"MAX(0,MIN(dagroosterberekening!$J$3,C61)-MAX(dagroosterberekening!$I$3,B61))","v":"00:00:00"},0,0]
["maandag","15:00:00","15:15:00",{"$f":"Beheer!C62","v":0},{"$f":"MAX(0,MIN(dagroosterberekening!$H$3,C62)-MAX(dagroosterberekening!$G$3,B62))","v":"00:00:00"},{"$f":"MAX(0,MIN(dagroosterberekening!$J$3,C62)-MAX(dagroosterberekening!$I$3,B62))","v":"00:00:00"},0,0]
["maandag","15:15:00","15:30:00",{"$f":"Beheer!C63","v":0},{"$f":"MAX(0,MIN(dagroosterberekening!$H$3,C63)-MAX(dagroosterberekening!$G$3,B63))","v":"00:00:00"},{"$f":"MAX(0,MIN(dagroosterberekening!$J$3,C63)-MAX(dagroosterberekening!$I$3,B63))","v":"00:00:00"},0,0]
["maandag","15:30:00","15:45:00",{"$f":"Beheer!C64","v":0},{"$f":"MAX(0,MIN(dagroosterberekening!$H$3,C64)-MAX(dagroosterberekening!$G$3,B64))","v":"00:00:00"},{"$f":"MAX(0,MIN(dagroosterberekening!$J$3,C64)-MAX(dagroosterberekening!$I$3,B64))","v":"00:00:00"},0,0]
["maandag","15:45:00","16:00:00",{"$f":"Beheer!C65","v":0},{"$f":"MAX(0,MIN(dagroosterberekening!$H$3,C65)-MAX(dagroosterberekening!$G$3,B65))","v":"00:00:00"},{"$f":"MAX(0,MIN(dagroosterberekening!$J$3,C65)-MAX(dagroosterberekening!$I$3,B65))","v":"00:00:00"},0,0]
["maandag","16:00:00","16:15:00",{"$f":"Beheer!C66","v":0},{"$f":"MAX(0,MIN(dagroosterberekening!$H$3,C66)-MAX(dagroosterberekening!$G$3,B66))","v":"00:00:00"},{"$f":"MAX(0,MIN(dagroosterberekening!$J$3,C66)-MAX(dagroosterberekening!$I$3,B66))","v":"00:00:00"},0,0]
["maandag",{"$f":"C66","v":"16:15:00"},"16:30:00",{"$f":"Beheer!C67","v":0},{"$f":"MAX(0,MIN(dagroosterberekening!$H$3,C67)-MAX(dagroosterberekening!$G$3,B67))","v":"00:00:00"},{"$f":"MAX(0,MIN(dagroosterberekening!$J$3,C67)-MAX(dagroosterberekening!$I$3,B67))","v":"00:00:00"},{"$f":"ROUND((E67*1)+(E67*D67),10)","v":0},{"$f":"ROUND((F67*1)+(F67*D67),10)","v":0}]
["maandag","16:30:00","16:45:00",{"$f":"Beheer!C68","v":0},{"$f":"MAX(0,MIN(dagroosterberekening!$H$3,C68)-MAX(dagroosterberekening!$G$3,B68))","v":"00:00:00"},{"$f":"MAX(0,MIN(dagroosterberekening!$J$3,C68)-MAX(dagroosterberekening!$I$3,B68))","v":"00:00:00"},0,0]
["maandag","16:45:00","17:00:00",{"$f":"Beheer!C69","v":0},{"$f":"MAX(0,MIN(dagroosterberekening!$H$3,C69)-MAX(dagroosterberekening!$G$3,B69))","v":"00:00:00"},{"$f":"MAX(0,MIN(dagroosterberekening!$J$3,C69)-MAX(dagroosterberekening!$I$3,B69))","v":"00:00:00"},0,0]
["maandag","17:00:00","17:15:00",{"$f":"Beheer!C70","v":0},{"$f":"MAX(0,MIN(dagroosterberekening!$H$3,C70)-MAX(dagroosterberekening!$G$3,B70))","v":"00:00:00"},{"$f":"MAX(0,MIN(dagroosterberekening!$J$3,C70)-MAX(dagroosterberekening!$I$3,B70))","v":"00:00:00"},0,0]
["maandag","17:15:00","17:30:00",{"$f":"Beheer!C71","v":0},{"$f":"MAX(0,MIN(dagroosterberekening!$H$3,C71)-MAX(dagroosterberekening!$G$3,B71))","v":"00:00:00"},{"$f":"MAX(0,MIN(dagroosterberekening!$J$3,C71)-MAX(dagroosterberekening!$I$3,B71))","v":"00:00:00"},0,0]
["maandag","17:30:00","17:45:00",{"$f":"Beheer!C72","v":0},{"$f":"MAX(0,MIN(dagroosterberekening!$H$3,C72)-MAX(dagroosterberekening!$G$3,B72))","v":"00:00:00"},{"$f":"MAX(0,MIN(dagroosterberekening!$J$3,C72)-MAX(dagroosterberekening!$I$3,B72))","v":"00:00:00"},0,0]
["maandag","17:45:00","18:00:00",{"$f":"Beheer!C73","v":0},{"$f":"MAX(0,MIN(dagroosterberekening!$H$3,C73)-MAX(dagroosterberekening!$G$3,B73))","v":"00:00:00"},{"$f":"MAX(0,MIN(dagroosterberekening!$J$3,C73)-MAX(dagroosterberekening!$I$3,B73))","v":"00:00:00"},0,0]
["maandag","18:00:00","18:15:00",{"$f":"Beheer!C74","v":0.4},{"$f":"MAX(0,MIN(dagroosterberekening!$H$3,C74)-MAX(dagroosterberekening!$G$3,B74))","v":"00:00:00"},{"$f":"MAX(0,MIN(dagroosterberekening!$J$3,C74)-MAX(dagroosterberekening!$I$3,B74))","v":"00:00:00"},0,0]
["maandag","18:15:00","18:30:00",{"$f":"Beheer!C75","v":0.4},{"$f":"MAX(0,MIN(dagroosterberekening!$H$3,C75)-MAX(dagroosterberekening!$G$3,B75))","v":"00:00:00"},{"$f":"MAX(0,MIN(dagroosterberekening!$J$3,C75)-MAX(dagroosterberekening!$I$3,B75))","v":"00:00:00"},0,0]
["maandag","18:30:00","18:45:00",{"$f":"Beheer!C76","v":0.4},{"$f":"MAX(0,MIN(dagroosterberekening!$H$3,C76)-MAX(dagroosterberekening!$G$3,B76))","v":"00:00:00"},{"$f":"MAX(0,MIN(dagroosterberekening!$J$3,C76)-MAX(dagroosterberekening!$I$3,B76))","v":"00:00:00"},0,0]
["maandag","18:45:00","19:00:00",{"$f":"Beheer!C77","v":0.4},{"$f":"MAX(0,MIN(dagroosterberekening!$H$3,C77)-MAX(dagroosterberekening!$G$3,B77))","v":"00:00:00"},{"$f":"MAX(0,MIN(dagroosterberekening!$J$3,C77)-MAX(dagroosterberekening!$I$3,B77))","v":"00:00:00"},0,0]
["maandag","19:00:00","19:15:00",{"$f":"Beheer!C78","v":0.4},{"$f":"MAX(0,MIN(dagroosterberekening!$H$3,C78)-MAX(dagroosterberekening!$G$3,B78))","v":"00:00:00"},{"$f":"MAX(0,MIN(dagroosterberekening!$J$3,C78)-MAX(dagroosterberekening!$I$3,B78))","v":"00:00:00"},0,0]
["maandag","19:15:00","19:30:00",{"$f":"Beheer!C79","v":0.4},{"$f":"MAX(0,MIN(dagroosterberekening!$H$3,C79)-MAX(dagroosterberekening!$G$3,B79))","v":"00:00:00"},{"$f":"MAX(0,MIN(dagroosterberekening!$J$3,C79)-MAX(dagroosterberekening!$I$3,B79))","v":"00:00:00"},0,0]
["maandag","19:30:00","19:45:00",{"$f":"Beheer!C80","v":0.4},{"$f":"MAX(0,MIN(dagroosterberekening!$H$3,C80)-MAX(dagroosterberekening!$G$3,B80))","v":"00:00:00"},{"$f":"MAX(0,MIN(dagroosterberekening!$J$3,C80)-MAX(dagroosterberekening!$I$3,B80))","v":"00:00:00"},0,0]
["maandag","19:45:00","20:00:00",{"$f":"Beheer!C81","v":0.4},{"$f":"MAX(0,MIN(dagroosterberekening!$H$3,C81)-MAX(dagroosterberekening!$G$3,B81))","v":"00:00:00"},{"$f":"MAX(0,MIN(dagroosterberekening!$J$3,C81)-MAX(dagroosterberekening!$I$3,B81))","v":"00:00:00"},0,0]
["maandag","20:00:00","20:15:00",{"$f":"Beheer!C82","v":0.4},{"$f":"MAX(0,MIN(dagroosterberekening!$H$3,C82)-MAX(dagroosterberekening!$G$3,B82))","v":"00:00:00"},{"$f":"MAX(0,MIN(dagroosterberekening!$J$3,C82)-MAX(dagroosterberekening!$I$3,B82))","v":"00:00:00"},0,0]
["maandag","20:15:00","20:30:00",{"$f":"Beheer!C83","v":0.4},{"$f":"MAX(0,MIN(dagroosterberekening!$H$3,C83)-MAX(dagroosterberekening!$G$3,B83))","v":"00:00:00"},{"$f":"MAX(0,MIN(dagroosterberekening!$J$3,C83)-MAX(dagroosterberekening!$I$3,B83))","v":"00:00:00"},0,0]
["maandag","20:30:00","20:45:00",{"$f":"Beheer!C84","v":0.4},{"$f":"MAX(0,MIN(dagroosterberekening!$H$3,C84)-MAX(dagroosterberekening!$G$3,B84))","v":"00:00:00"},{"$f":"MAX(0,MIN(dagroosterberekening!$J$3,C84)-MAX(dagroosterberekening!$I$3,B84))","v":"00:00:00"},0,0]
["maandag","20:45:00","21:00:00",{"$f":"Beheer!C85","v":0.4},{"$f":"MAX(0,MIN(dagroosterberekening!$H$3,C85)-MAX(dagroosterberekening!$G$3,B85))","v":"00:00:00"},{"$f":"MAX(0,MIN(dagroosterberekening!$J$3,C85)-MAX(dagroosterberekening!$I$3,B85))","v":"00:00:00"},0,0]
["maandag","21:00:00","21:15:00",{"$f":"Beheer!C86","v":0.4},{"$f":"MAX(0,MIN(dagroosterberekening!$H$3,C86)-MAX(dagroosterberekening!$G$3,B86))","v":"00:00:00"},{"$f":"MAX(0,MIN(dagroosterberekening!$J$3,C86)-MAX(dagroosterberekening!$I$3,B86))","v":"00:00:00"},0,0]
["maandag","21:15:00","21:30:00",{"$f":"Beheer!C87","v":0.4},{"$f":"MAX(0,MIN(dagroosterberekening!$H$3,C87)-MAX(dagroosterberekening!$G$3,B87))","v":"00:00:00"},{"$f":"MAX(0,MIN(dagroosterberekening!$J$3,C87)-MAX(dagroosterberekening!$I$3,B87))","v":"00:00:00"},0,0]
["maandag","21:30:00","21:45:00",{"$f":"Beheer!C88","v":0.4},{"$f":"MAX(0,MIN(dagroosterberekening!$H$3,C88)-MAX(dagroosterberekening!$G$3,B88))","v":"00:00:00"},{"$f":"MAX(0,MIN(dagroosterberekening!$J$3,C88)-MAX(dagroosterberekening!$I$3,B88))","v":"00:00:00"},0,0]
["maandag","21:45:00","22:00:00",{"$f":"Beheer!C89","v":0.4},{"$f":"MAX(0,MIN(dagroosterberekening!$H$3,C89)-MAX(dagroosterberekening!$G$3,B89))","v":"00:00:00"},{"$f":"MAX(0,MIN(dagroosterberekening!$J$3,C89)-MAX(dagroosterberekening!$I$3,B89))","v":"00:00:00"},0,0]
["maandag","22:00:00","22:15:00",{"$f":"Beheer!C90","v":0.4},{"$f":"MAX(0,MIN(dagroosterberekening!$H$3,C90)-MAX(dagroosterberekening!$G$3,B90))","v":"00:00:00"},{"$f":"MAX(0,MIN(dagroosterberekening!$J$3,C90)-MAX(dagroosterberekening!$I$3,B90))","v":"00:00:00"},0,0]
["maandag","22:15:00","22:30:00",{"$f":"Beheer!C91","v":0.4},{"$f":"MAX(0,MIN(dagroosterberekening!$H$3,C91)-MAX(dagroosterberekening!$G$3,B91))","v":"00:00:00"},{"$f":"MAX(0,MIN(dagroosterberekening!$J$3,C91)-MAX(dagroosterberekening!$I$3,B91))","v":"00:00:00"},0,0]
["maandag","22:30:00","22:45:00",{"$f":"Beheer!C92","v":0.4},{"$f":"MAX(0,MIN(dagroosterberekening!$H$3,C92)-MAX(dagroosterberekening!$G$3,B92))","v":"00:00:00"},{"$f":"MAX(0,MIN(dagroosterberekening!$J$3,C92)-MAX(dagroosterberekening!$I$3,B92))","v":"00:00:00"},0,0]
["maandag","22:45:00","23:00:00",{"$f":"Beheer!C93","v":0.4},{"$f":"MAX(0,MIN(dagroosterberekening!$H$3,C93)-MAX(dagroosterberekening!$G$3,B93))","v":"00:00:00"},{"$f":"MAX(0,MIN(dagroosterberekening!$J$3,C93)-MAX(dagroosterberekening!$I$3,B93))","v":"00:00:00"},0,0]
["maandag","23:00:00","23:15:00",{"$f":"Beheer!C94","v":0.4},{"$f":"MAX(0,MIN(dagroosterberekening!$H$3,C94)-MAX(dagroosterberekening!$G$3,B94))","v":"00:00:00"},{"$f":"MAX(0,MIN(dagroosterberekening!$J$3,C94)-MAX(dagroosterberekening!$I$3,B94))","v":"00:00:00"},0,0]
["maandag","23:15:00","23:30:00",{"$f":"Beheer!C95","v":0.4},{"$f":"MAX(0,MIN(dagroosterberekening!$H$3,C95)-MAX(dagroosterberekening!$G$3,B95))","v":"00:00:00"},{"$f":"MAX(0,MIN(dagroosterberekening!$J$3,C95)-MAX(dagroosterberekening!$I$3,B95))","v":"00:00:00"},0,0]
["maandag","23:30:00","23:45:00",{"$f":"Beheer!C96","v":0.4},{"$f":"MAX(0,MIN(dagroosterberekening!$H$3,C96)-MAX(dagroosterberekening!$G$3,B96))","v":"00:00:00"},{"$f":"MAX(0,MIN(dagroosterberekening!$J$3,C96)-MAX(dagroosterberekening!$I$3,B96))","v":"00:00:00"},0,0]
["maandag","23:45:00",1,{"$f":"Beheer!C97","v":0.4},{"$f":"MAX(0,MIN(dagroosterberekening!$H$3,C97)-MAX(dagroosterberekening!$G$3,B97))","v":"00:00:00"},{"$f":"MAX(0,MIN(dagroosterberekening!$J$3,C97)-MAX(dagroosterberekening!$I$3,B97))","v":"00:00:00"},0,0]
["dinsdag","00:00:00","00:15:00",{"$f":"Beheer!D2","v":0.4},{"$f":"MAX(0,MIN(dagroosterberekening!$H$3,C98)-MAX(dagroosterberekening!$G$3,B98))","v":"00:00:00"},{"$f":"MAX(0,MIN(dagroosterberekening!$J$3,C98)-MAX(dagroosterberekening!$I$3,B98))","v":"00:00:00"},0,0]
["dinsdag",{"$f":"C98","v":"00:15:00"},"00:30:00",{"$f":"Beheer!D3","v":0.4},{"$f":"MAX(0,MIN(dagroosterberekening!$H$3,C99)-MAX(dagroosterberekening!$G$3,B99))","v":"00:00:00"},{"$f":"MAX(0,MIN(dagroosterberekening!$J$3,C99)-MAX(dagroosterberekening!$I$3,B99))","v":"00:00:00"},0,0]
["dinsdag","00:30:00","00:45:00",{"$f":"Beheer!D4","v":0.4},{"$f":"MAX(0,MIN(dagroosterberekening!$H$3,C100)-MAX(dagroosterberekening!$G$3,B100))","v":"00:00:00"},{"$f":"MAX(0,MIN(dagroosterberekening!$J$3,C100)-MAX(dagroosterberekening!$I$3,B100))","v":"00:00:00"},0,0]
["dinsdag","00:45:00","01:00:00",{"$f":"Beheer!D5","v":0.4},{"$f":"MAX(0,MIN(dagroosterberekening!$H$3,C101)-MAX(dagroosterberekening!$G$3,B101))","v":"00:00:00"},{"$f":"MAX(0,MIN(dagroosterberekening!$J$3,C101)-MAX(dagroosterberekening!$I$3,B101))","v":"00:00:00"},0,0]
["dinsdag","01:00:00","01:15:00",{"$f":"Beheer!D6","v":0.4},{"$f":"MAX(0,MIN(dagroosterberekening!$H$3,C102)-MAX(dagroosterberekening!$G$3,B102))","v":"00:00:00"},{"$f":"MAX(0,MIN(dagroosterberekening!$J$3,C102)-MAX(dagroosterberekening!$I$3,B102))","v":"00:00:00"},0,0]
["dinsdag","01:15:00","01:30:00",{"$f":"Beheer!D7","v":0.4},{"$f":"MAX(0,MIN(dagroosterberekening!$H$3,C103)-MAX(dagroosterberekening!$G$3,B103))","v":"00:00:00"},{"$f":"MAX(0,MIN(dagroosterberekening!$J$3,C103)-MAX(dagroosterberekening!$I$3,B103))","v":"00:00:00"},0,0]
["dinsdag","01:30:00","01:45:00",{"$f":"Beheer!D8","v":0.4},{"$f":"MAX(0,MIN(dagroosterberekening!$H$3,C104)-MAX(dagroosterberekening!$G$3,B104))","v":"00:00:00"},{"$f":"MAX(0,MIN(dagroosterberekening!$J$3,C104)-MAX(dagroosterberekening!$I$3,B104))","v":"00:00:00"},0,0]
["dinsdag","01:45:00","02:00:00",{"$f":"Beheer!D9","v":0.4},{"$f":"MAX(0,MIN(dagroosterberekening!$H$3,C105)-MAX(dagroosterberekening!$G$3,B105))","v":"00:00:00"},{"$f":"MAX(0,MIN(dagroosterberekening!$J$3,C105)-MAX(dagroosterberekening!$I$3,B105))","v":"00:00:00"},0,0]
["dinsdag","02:00:00","02:15:00",{"$f":"Beheer!D10","v":0.4},{"$f":"MAX(0,MIN(dagroosterberekening!$H$3,C106)-MAX(dagroosterberekening!$G$3,B106))","v":"00:00:00"},{"$f":"MAX(0,MIN(dagroosterberekening!$J$3,C106)-MAX(dagroosterberekening!$I$3,B106))","v":"00:00:00"},0,0]
["dinsdag","02:15:00","02:30:00",{"$f":"Beheer!D11","v":0.4},{"$f":"MAX(0,MIN(dagroosterberekening!$H$3,C107)-MAX(dagroosterberekening!$G$3,B107))","v":"00:00:00"},{"$f":"MAX(0,MIN(dagroosterberekening!$J$3,C107)-MAX(dagroosterberekening!$I$3,B107))","v":"00:00:00"},0,0]
["dinsdag","02:30:00","02:45:00",{"$f":"Beheer!D12","v":0.4},{"$f":"MAX(0,MIN(dagroosterberekening!$H$3,C108)-MAX(dagroosterberekening!$G$3,B108))","v":"00:00:00"},{"$f":"MAX(0,MIN(dagroosterberekening!$J$3,C108)-MAX(dagroosterberekening!$I$3,B108))","v":"00:00:00"},0,0]
["dinsdag","02:45:00","03:00:00",{"$f":"Beheer!D13","v":0.4},{"$f":"MAX(0,MIN(dagroosterberekening!$H$3,C109)-MAX(dagroosterberekening!$G$3,B109))","v":"00:00:00"},{"$f":"MAX(0,MIN(dagroosterberekening!$J$3,C109)-MAX(dagroosterberekening!$I$3,B109))","v":"00:00:00"},0,0]
["dinsdag","03:00:00","03:15:00",{"$f":"Beheer!D14","v":0.4},{"$f":"MAX(0,MIN(dagroosterberekening!$H$3,C110)-MAX(dagroosterberekening!$G$3,B110))","v":"00:00:00"},{"$f":"MAX(0,MIN(dagroosterberekening!$J$3,C110)-MAX(dagroosterberekening!$I$3,B110))","v":"00:00:00"},0,0]
["dinsdag","03:15:00","03:30:00",{"$f":"Beheer!D15","v":0.4},{"$f":"MAX(0,MIN(dagroosterberekening!$H$3,C111)-MAX(dagroosterberekening!$G$3,B111))","v":"00:00:00"},{"$f":"MAX(0,MIN(dagroosterberekening!$J$3,C111)-MAX(dagroosterberekening!$I$3,B111))","v":"00:00:00"},0,0]
["dinsdag","03:30:00","03:45:00",{"$f":"Beheer!D16","v":0.4},{"$f":"MAX(0,MIN(dagroosterberekening!$H$3,C112)-MAX(dagroosterberekening!$G$3,B112))","v":"00:00:00"},{"$f":"MAX(0,MIN(dagroosterberekening!$J$3,C112)-MAX(dagroosterberekening!$I$3,B112))","v":"00:00:00"},0,0]
["dinsdag","03:45:00","04:00:00",{"$f":"Beheer!D17","v":0.4},{"$f":"MAX(0,MIN(dagroosterberekening!$H$3,C113)-MAX(dagroosterberekening!$G$3,B113))","v":"00:00:00"},{"$f":"MAX(0,MIN(dagroosterberekening!$J$3,C113)-MAX(dagroosterberekening!$I$3,B113))","v":"00:00:00"},0,0]
["dinsdag","04:00:00","04:15:00",{"$f":"Beheer!D18","v":0.4},{"$f":"MAX(0,MIN(dagroosterberekening!$H$3,C114)-MAX(dagroosterberekening!$G$3,B114))","v":"00:00:00"},{"$f":"MAX(0,MIN(dagroosterberekening!$J$3,C114)-MAX(dagroosterberekening!$I$3,B114))","v":"00:00:00"},0,0]
["dinsdag","04:15:00","04:30:00",{"$f":"Beheer!D19","v":0.4},{"$f":"MAX(0,MIN(dagroosterberekening!$H$3,C115)-MAX(dagroosterberekening!$G$3,B115))","v":"00:00:00"},{"$f":"MAX(0,MIN(dagroosterberekening!$J$3,C115)-MAX(dagroosterberekening!$I$3,B115))","v":"00:00:00"},0,0]
["dinsdag","04:30:00","04:45:00",{"$f":"Beheer!D20","v":0.4},{"$f":"MAX(0,MIN(dagroosterberekening!$H$3,C116)-MAX(dagroosterberekening!$G$3,B116))","v":"00:00:00"},{"$f":"MAX(0,MIN(dagroosterberekening!$J$3,C116)-MAX(dagroosterberekening!$I$3,B116))","v":"00:00:00"},0,0]
["dinsdag","04:45:00","05:00:00",{"$f":"Beheer!D21","v":0.4},{"$f":"MAX(0,MIN(dagroosterberekening!$H$3,C117)-MAX(dagroosterberekening!$G$3,B117))","v":"00:00:00"},{"$f":"MAX(0,MIN(dagroosterberekening!$J$3,C117)-MAX(dagroosterberekening!$I$3,B117))","v":"00:00:00"},0,0]
["dinsdag","05:00:00","05:15:00",{"$f":"Beheer!D22","v":0.4},{"$f":"MAX(0,MIN(dagroosterberekening!$H$3,C118)-MAX(dagroosterberekening!$G$3,B118))","v":"00:00:00"},{"$f":"MAX(0,MIN(dagroosterberekening!$J$3,C118)-MAX(dagroosterberekening!$I$3,B118))","v":"00:00:00"},0,0]
["dinsdag","05:15:00","05:30:00",{"$f":"Beheer!D23","v":0.4},{"$f":"MAX(0,MIN(dagroosterberekening!$H$3,C119)-MAX(dagroosterberekening!$G$3,B119))","v":"00:00:00"},{"$f":"MAX(0,MIN(dagroosterberekening!$J$3,C119)-MAX(dagroosterberekening!$I$3,B119))","v":"00:00:00"},0,0]
["dinsdag","05:30:00","05:45:00",{"$f":"Beheer!D24","v":0.4},{"$f":"MAX(0,MIN(dagroosterberekening!$H$3,C120)-MAX(dagroosterberekening!$G$3,B120))","v":"00:00:00"},{"$f":"MAX(0,MIN(dagroosterberekening!$J$3,C120)-MAX(dagroosterberekening!$I$3,B120))","v":"00:00:00"},0,0]
["dinsdag","05:45:00","06:00:00",{"$f":"Beheer!D25","v":0.4},{"$f":"MAX(0,MIN(dagroosterberekening!$H$3,C121)-MAX(dagroosterberekening!$G$3,B121))","v":"00:00:00"},{"$f":"MAX(0,MIN(dagroosterberekening!$J$3,C121)-MAX(dagroosterberekening!$I$3,B121))","v":"00:00:00"},0,0]
["dinsdag","06:00:00","06:15:00",{"$f":"Beheer!D26","v":0.4},{"$f":"MAX(0,MIN(dagroosterberekening!$H$3,C122)-MAX(dagroosterberekening!$G$3,B122))","v":"00:00:00"},{"$f":"MAX(0,MIN(dagroosterberekening!$J$3,C122)-MAX(dagroosterberekening!$I$3,B122))","v":"00:00:00"},0,0]
["dinsdag","06:15:00","06:30:00",{"$f":"Beheer!D27","v":0.4},{"$f":"MAX(0,MIN(dagroosterberekening!$H$3,C123)-MAX(dagroosterberekening!$G$3,B123))","v":"00:00:00"},{"$f":"MAX(0,MIN(dagroosterberekening!$J$3,C123)-MAX(dagroosterberekening!$I$3,B123))","v":"00:00:00"},0,0]
["dinsdag","06:30:00","06:45:00",{"$f":"Beheer!D28","v":0.4},{"$f":"MAX(0,MIN(dagroosterberekening!$H$3,C124)-MAX(dagroosterberekening!$G$3,B124))","v":"00:00:00"},{"$f":"MAX(0,MIN(dagroosterberekening!$J$3,C124)-MAX(dagroosterberekening!$I$3,B124))","v":"00:00:00"},0,0]
["dinsdag","06:45:00","07:00:00",{"$f":"Beheer!D29","v":0.4},{"$f":"MAX(0,MIN(dagroosterberekening!$H$3,C125)-MAX(dagroosterberekening!$G$3,B125))","v":"00:00:00"},{"$f":"MAX(0,MIN(dagroosterberekening!$J$3,C125)-MAX(dagroosterberekening!$I$3,B125))","v":"00:00:00"},0,0]
["dinsdag","07:00:00","07:15:00",{"$f":"Beheer!D30","v":0},{"$f":"MAX(0,MIN(dagroosterberekening!$H$3,C126)-MAX(dagroosterberekening!$G$3,B126))","v":"00:00:00"},{"$f":"MAX(0,MIN(dagroosterberekening!$J$3,C126)-MAX(dagroosterberekening!$I$3,B126))","v":"00:00:00"},0,0]
["dinsdag","07:15:00","07:30:00",{"$f":"Beheer!D31","v":0},{"$f":"MAX(0,MIN(dagroosterberekening!$H$3,C127)-MAX(dagroosterberekening!$G$3,B127))","v":"00:00:00"},{"$f":"MAX(0,MIN(dagroosterberekening!$J$3,C127)-MAX(dagroosterberekening!$I$3,B127))","v":"00:00:00"},0,0]
["dinsdag","07:30:00","07:45:00",{"$f":"Beheer!D32","v":0},{"$f":"MAX(0,MIN(dagroosterberekening!$H$3,C128)-MAX(dagroosterberekening!$G$3,B128))","v":"00:00:00"},{"$f":"MAX(0,MIN(dagroosterberekening!$J$3,C128)-MAX(dagroosterberekening!$I$3,B128))","v":"00:00:00"},0,0]
["dinsdag","07:45:00","08:00:00",{"$f":"Beheer!D33","v":0},{"$f":"MAX(0,MIN(dagroosterberekening!$H$3,C129)-MAX(dagroosterberekening!$G$3,B129))","v":"00:00:00"},{"$f":"MAX(0,MIN(dagroosterberekening!$J$3,C129)-MAX(dagroosterberekening!$I$3,B129))","v":"00:00:00"},0,0]
["dinsdag","08:00:00","08:15:00",{"$f":"Beheer!D34","v":0},{"$f":"MAX(0,MIN(dagroosterberekening!$H$3,C130)-MAX(dagroosterberekening!$G$3,B130))","v":"00:08:00"},{"$f":"MAX(0,MIN(dagroosterberekening!$J$3,C130)-MAX(dagroosterberekening!$I$3,B130))","v":"00:00:00"},5.5555556000000004E-3,0]
["dinsdag","08:15:00","08:30:00",{"$f":"Beheer!D35","v":0},{"$f":"MAX(0,MIN(dagroosterberekening!$H$3,C131)-MAX(dagroosterberekening!$G$3,B131))","v":"00:00:00"},{"$f":"MAX(0,MIN(dagroosterberekening!$J$3,C131)-MAX(dagroosterberekening!$I$3,B131))","v":"00:00:00"},{"$f":"ROUND((E131*1)+(E131*D131),10)","v":0},{"$f":"ROUND((F131*1)+(F131*D131),10)","v":0}]
["dinsdag","08:30:00","08:45:00",{"$f":"Beheer!D36","v":0},{"$f":"MAX(0,MIN(dagroosterberekening!$H$3,C132)-MAX(dagroosterberekening!$G$3,B132))","v":"00:00:00"},{"$f":"MAX(0,MIN(dagroosterberekening!$J$3,C132)-MAX(dagroosterberekening!$I$3,B132))","v":"00:00:00"},0,0]
["dinsdag","08:45:00","09:00:00",{"$f":"Beheer!D37","v":0},{"$f":"MAX(0,MIN(dagroosterberekening!$H$3,C133)-MAX(dagroosterberekening!$G$3,B133))","v":"00:00:00"},{"$f":"MAX(0,MIN(dagroosterberekening!$J$3,C133)-MAX(dagroosterberekening!$I$3,B133))","v":"00:00:00"},0,0]
["dinsdag","09:00:00","09:15:00",{"$f":"Beheer!D38","v":0},{"$f":"MAX(0,MIN(dagroosterberekening!$H$3,C134)-MAX(dagroosterberekening!$G$3,B134))","v":"00:00:00"},{"$f":"MAX(0,MIN(dagroosterberekening!$J$3,C134)-MAX(dagroosterberekening!$I$3,B134))","v":"00:00:00"},0,0]
["dinsdag","09:15:00","09:30:00",{"$f":"Beheer!D39","v":0},{"$f":"MAX(0,MIN(dagroosterberekening!$H$3,C135)-MAX(dagroosterberekening!$G$3,B135))","v":"00:00:00"},{"$f":"MAX(0,MIN(dagroosterberekening!$J$3,C135)-MAX(dagroosterberekening!$I$3,B135))","v":"00:00:00"},0,0]
["dinsdag","09:30:00","09:45:00",{"$f":"Beheer!D40","v":0},{"$f":"MAX(0,MIN(dagroosterberekening!$H$3,C136)-MAX(dagroosterberekening!$G$3,B136))","v":"00:00:00"},{"$f":"MAX(0,MIN(dagroosterberekening!$J$3,C136)-MAX(dagroosterberekening!$I$3,B136))","v":"00:00:00"},0,0]
["dinsdag","09:45:00","10:00:00",{"$f":"Beheer!D41","v":0},{"$f":"MAX(0,MIN(dagroosterberekening!$H$3,C137)-MAX(dagroosterberekening!$G$3,B137))","v":"00:00:00"},{"$f":"MAX(0,MIN(dagroosterberekening!$J$3,C137)-MAX(dagroosterberekening!$I$3,B137))","v":"00:00:00"},0,0]
["dinsdag","10:00:00","10:15:00",{"$f":"Beheer!D42","v":0},{"$f":"MAX(0,MIN(dagroosterberekening!$H$3,C138)-MAX(dagroosterberekening!$G$3,B138))","v":"00:00:00"},{"$f":"MAX(0,MIN(dagroosterberekening!$J$3,C138)-MAX(dagroosterberekening!$I$3,B138))","v":"00:00:00"},0,0]
["dinsdag","10:15:00","10:30:00",{"$f":"Beheer!D43","v":0},{"$f":"MAX(0,MIN(dagroosterberekening!$H$3,C139)-MAX(dagroosterberekening!$G$3,B139))","v":"00:00:00"},{"$f":"MAX(0,MIN(dagroosterberekening!$J$3,C139)-MAX(dagroosterberekening!$I$3,B139))","v":"00:00:00"},0,0]
["dinsdag","10:30:00","10:45:00",{"$f":"Beheer!D44","v":0},{"$f":"MAX(0,MIN(dagroosterberekening!$H$3,C140)-MAX(dagroosterberekening!$G$3,B140))","v":"00:00:00"},{"$f":"MAX(0,MIN(dagroosterberekening!$J$3,C140)-MAX(dagroosterberekening!$I$3,B140))","v":"00:00:00"},0,0]
["dinsdag","10:45:00","11:00:00",{"$f":"Beheer!D45","v":0},{"$f":"MAX(0,MIN(dagroosterberekening!$H$3,C141)-MAX(dagroosterberekening!$G$3,B141))","v":"00:00:00"},{"$f":"MAX(0,MIN(dagroosterberekening!$J$3,C141)-MAX(dagroosterberekening!$I$3,B141))","v":"00:00:00"},0,0]
["dinsdag","11:00:00","11:15:00",{"$f":"Beheer!D46","v":0},{"$f":"MAX(0,MIN(dagroosterberekening!$H$3,C142)-MAX(dagroosterberekening!$G$3,B142))","v":"00:00:00"},{"$f":"MAX(0,MIN(dagroosterberekening!$J$3,C142)-MAX(dagroosterberekening!$I$3,B142))","v":"00:00:00"},0,0]
["dinsdag","11:15:00","11:30:00",{"$f":"Beheer!D47","v":0},{"$f":"MAX(0,MIN(dagroosterberekening!$H$3,C143)-MAX(dagroosterberekening!$G$3,B143))","v":"00:00:00"},{"$f":"MAX(0,MIN(dagroosterberekening!$J$3,C143)-MAX(dagroosterberekening!$I$3,B143))","v":"00:00:00"},0,0]
["dinsdag","11:30:00","11:45:00",{"$f":"Beheer!D48","v":0},{"$f":"MAX(0,MIN(dagroosterberekening!$H$3,C144)-MAX(dagroosterberekening!$G$3,B144))","v":"00:00:00"},{"$f":"MAX(0,MIN(dagroosterberekening!$J$3,C144)-MAX(dagroosterberekening!$I$3,B144))","v":"00:00:00"},0,0]
["dinsdag","11:45:00","12:00:00",{"$f":"Beheer!D49","v":0},{"$f":"MAX(0,MIN(dagroosterberekening!$H$3,C145)-MAX(dagroosterberekening!$G$3,B145))","v":"00:00:00"},{"$f":"MAX(0,MIN(dagroosterberekening!$J$3,C145)-MAX(dagroosterberekening!$I$3,B145))","v":"00:00:00"},0,0]
["dinsdag","12:00:00","12:15:00",{"$f":"Beheer!D50","v":0},{"$f":"MAX(0,MIN(dagroosterberekening!$H$3,C146)-MAX(dagroosterberekening!$G$3,B146))","v":"00:00:00"},{"$f":"MAX(0,MIN(dagroosterberekening!$J$3,C146)-MAX(dagroosterberekening!$I$3,B146))","v":"00:00:00"},0,0]
["dinsdag","12:15:00","12:30:00",{"$f":"Beheer!D51","v":0},{"$f":"MAX(0,MIN(dagroosterberekening!$H$3,C147)-MAX(dagroosterberekening!$G$3,B147))","v":"00:00:00"},{"$f":"MAX(0,MIN(dagroosterberekening!$J$3,C147)-MAX(dagroosterberekening!$I$3,B147))","v":"00:00:00"},0,0]
["dinsdag","12:30:00","12:45:00",{"$f":"Beheer!D52","v":0},{"$f":"MAX(0,MIN(dagroosterberekening!$H$3,C148)-MAX(dagroosterberekening!$G$3,B148))","v":"00:00:00"},{"$f":"MAX(0,MIN(dagroosterberekening!$J$3,C148)-MAX(dagroosterberekening!$I$3,B148))","v":"00:00:00"},0,0]
["dinsdag","12:45:00","13:00:00",{"$f":"Beheer!D53","v":0},{"$f":"MAX(0,MIN(dagroosterberekening!$H$3,C149)-MAX(dagroosterberekening!$G$3,B149))","v":"00:00:00"},{"$f":"MAX(0,MIN(dagroosterberekening!$J$3,C149)-MAX(dagroosterberekening!$I$3,B149))","v":"00:00:00"},0,0]
["dinsdag","13:00:00","13:15:00",{"$f":"Beheer!D54","v":0},{"$f":"MAX(0,MIN(dagroosterberekening!$H$3,C150)-MAX(dagroosterberekening!$G$3,B150))","v":"00:00:00"},{"$f":"MAX(0,MIN(dagroosterberekening!$J$3,C150)-MAX(dagroosterberekening!$I$3,B150))","v":"00:00:00"},0,0]
["dinsdag","13:15:00","13:30:00",{"$f":"Beheer!D55","v":0},{"$f":"MAX(0,MIN(dagroosterberekening!$H$3,C151)-MAX(dagroosterberekening!$G$3,B151))","v":"00:00:00"},{"$f":"MAX(0,MIN(dagroosterberekening!$J$3,C151)-MAX(dagroosterberekening!$I$3,B151))","v":"00:00:00"},0,0]
["dinsdag","13:30:00","13:45:00",{"$f":"Beheer!D56","v":0},{"$f":"MAX(0,MIN(dagroosterberekening!$H$3,C152)-MAX(dagroosterberekening!$G$3,B152))","v":"00:00:00"},{"$f":"MAX(0,MIN(dagroosterberekening!$J$3,C152)-MAX(dagroosterberekening!$I$3,B152))","v":"00:00:00"},0,0]
["dinsdag","13:45:00","14:00:00",{"$f":"Beheer!D57","v":0},{"$f":"MAX(0,MIN(dagroosterberekening!$H$3,C153)-MAX(dagroosterberekening!$G$3,B153))","v":"00:00:00"},{"$f":"MAX(0,MIN(dagroosterberekening!$J$3,C153)-MAX(dagroosterberekening!$I$3,B153))","v":"00:00:00"},0,0]
["dinsdag","14:00:00","14:15:00",{"$f":"Beheer!D58","v":0},{"$f":"MAX(0,MIN(dagroosterberekening!$H$3,C154)-MAX(dagroosterberekening!$G$3,B154))","v":"00:00:00"},{"$f":"MAX(0,MIN(dagroosterberekening!$J$3,C154)-MAX(dagroosterberekening!$I$3,B154))","v":"00:00:00"},0,0]
["dinsdag","14:15:00","14:30:00",{"$f":"Beheer!D59","v":0},{"$f":"MAX(0,MIN(dagroosterberekening!$H$3,C155)-MAX(dagroosterberekening!$G$3,B155))","v":"00:00:00"},{"$f":"MAX(0,MIN(dagroosterberekening!$J$3,C155)-MAX(dagroosterberekening!$I$3,B155))","v":"00:00:00"},0,0]
["dinsdag","14:30:00","14:45:00",{"$f":"Beheer!D60","v":0},{"$f":"MAX(0,MIN(dagroosterberekening!$H$3,C156)-MAX(dagroosterberekening!$G$3,B156))","v":"00:00:00"},{"$f":"MAX(0,MIN(dagroosterberekening!$J$3,C156)-MAX(dagroosterberekening!$I$3,B156))","v":"00:00:00"},0,0]
["dinsdag","14:45:00","15:00:00",{"$f":"Beheer!D61","v":0},{"$f":"MAX(0,MIN(dagroosterberekening!$H$3,C157)-MAX(dagroosterberekening!$G$3,B157))","v":"00:00:00"},{"$f":"MAX(0,MIN(dagroosterberekening!$J$3,C157)-MAX(dagroosterberekening!$I$3,B157))","v":"00:00:00"},0,0]
["dinsdag","15:00:00","15:15:00",{"$f":"Beheer!D62","v":0},{"$f":"MAX(0,MIN(dagroosterberekening!$H$3,C158)-MAX(dagroosterberekening!$G$3,B158))","v":"00:00:00"},{"$f":"MAX(0,MIN(dagroosterberekening!$J$3,C158)-MAX(dagroosterberekening!$I$3,B158))","v":"00:00:00"},0,0]
["dinsdag","15:15:00","15:30:00",{"$f":"Beheer!D63","v":0},{"$f":"MAX(0,MIN(dagroosterberekening!$H$3,C159)-MAX(dagroosterberekening!$G$3,B159))","v":"00:00:00"},{"$f":"MAX(0,MIN(dagroosterberekening!$J$3,C159)-MAX(dagroosterberekening!$I$3,B159))","v":"00:00:00"},0,0]
["dinsdag","15:30:00","15:45:00",{"$f":"Beheer!D64","v":0},{"$f":"MAX(0,MIN(dagroosterberekening!$H$3,C160)-MAX(dagroosterberekening!$G$3,B160))","v":"00:00:00"},{"$f":"MAX(0,MIN(dagroosterberekening!$J$3,C160)-MAX(dagroosterberekening!$I$3,B160))","v":"00:00:00"},0,0]
["dinsdag","15:45:00","16:00:00",{"$f":"Beheer!D65","v":0},{"$f":"MAX(0,MIN(dagroosterberekening!$H$3,C161)-MAX(dagroosterberekening!$G$3,B161))","v":"00:00:00"},{"$f":"MAX(0,MIN(dagroosterberekening!$J$3,C161)-MAX(dagroosterberekening!$I$3,B161))","v":"00:00:00"},0,0]
["dinsdag","16:00:00","16:15:00",{"$f":"Beheer!D66","v":0},{"$f":"MAX(0,MIN(dagroosterberekening!$H$3,C162)-MAX(dagroosterberekening!$G$3,B162))","v":"00:00:00"},{"$f":"MAX(0,MIN(dagroosterberekening!$J$3,C162)-MAX(dagroosterberekening!$I$3,B162))","v":"00:00:00"},0,0]
["dinsdag",{"$f":"C162","v":"16:15:00"},"16:30:00",{"$f":"Beheer!D67","v":0},{"$f":"MAX(0,MIN(dagroosterberekening!$H$3,C163)-MAX(dagroosterberekening!$G$3,B163))","v":"00:00:00"},{"$f":"MAX(0,MIN(dagroosterberekening!$J$3,C163)-MAX(dagroosterberekening!$I$3,B163))","v":"00:00:00"},0,0]
["dinsdag","16:30:00","16:45:00",{"$f":"Beheer!D68","v":0},{"$f":"MAX(0,MIN(dagroosterberekening!$H$3,C164)-MAX(dagroosterberekening!$G$3,B164))","v":"00:00:00"},{"$f":"MAX(0,MIN(dagroosterberekening!$J$3,C164)-MAX(dagroosterberekening!$I$3,B164))","v":"00:00:00"},0,0]
["dinsdag","16:45:00","17:00:00",{"$f":"Beheer!D69","v":0},{"$f":"MAX(0,MIN(dagroosterberekening!$H$3,C165)-MAX(dagroosterberekening!$G$3,B165))","v":"00:00:00"},{"$f":"MAX(0,MIN(dagroosterberekening!$J$3,C165)-MAX(dagroosterberekening!$I$3,B165))","v":"00:00:00"},0,0]
["dinsdag","17:00:00","17:15:00",{"$f":"Beheer!D70","v":0},{"$f":"MAX(0,MIN(dagroosterberekening!$H$3,C166)-MAX(dagroosterberekening!$G$3,B166))","v":"00:00:00"},{"$f":"MAX(0,MIN(dagroosterberekening!$J$3,C166)-MAX(dagroosterberekening!$I$3,B166))","v":"00:00:00"},0,0]
["dinsdag","17:15:00","17:30:00",{"$f":"Beheer!D71","v":0},{"$f":"MAX(0,MIN(dagroosterberekening!$H$3,C167)-MAX(dagroosterberekening!$G$3,B167))","v":"00:00:00"},{"$f":"MAX(0,MIN(dagroosterberekening!$J$3,C167)-MAX(dagroosterberekening!$I$3,B167))","v":"00:00:00"},0,0]
["dinsdag","17:30:00","17:45:00",{"$f":"Beheer!D72","v":0},{"$f":"MAX(0,MIN(dagroosterberekening!$H$3,C168)-MAX(dagroosterberekening!$G$3,B168))","v":"00:00:00"},{"$f":"MAX(0,MIN(dagroosterberekening!$J$3,C168)-MAX(dagroosterberekening!$I$3,B168))","v":"00:00:00"},0,0]
["dinsdag","17:45:00","18:00:00",{"$f":"Beheer!D73","v":0},{"$f":"MAX(0,MIN(dagroosterberekening!$H$3,C169)-MAX(dagroosterberekening!$G$3,B169))","v":"00:00:00"},{"$f":"MAX(0,MIN(dagroosterberekening!$J$3,C169)-MAX(dagroosterberekening!$I$3,B169))","v":"00:00:00"},0,0]
["dinsdag","18:00:00","18:15:00",{"$f":"Beheer!D74","v":0.4},{"$f":"MAX(0,MIN(dagroosterberekening!$H$3,C170)-MAX(dagroosterberekening!$G$3,B170))","v":"00:00:00"},{"$f":"MAX(0,MIN(dagroosterberekening!$J$3,C170)-MAX(dagroosterberekening!$I$3,B170))","v":"00:00:00"},0,0]
["dinsdag","18:15:00","18:30:00",{"$f":"Beheer!D75","v":0.4},{"$f":"MAX(0,MIN(dagroosterberekening!$H$3,C171)-MAX(dagroosterberekening!$G$3,B171))","v":"00:00:00"},{"$f":"MAX(0,MIN(dagroosterberekening!$J$3,C171)-MAX(dagroosterberekening!$I$3,B171))","v":"00:00:00"},0,0]
["dinsdag","18:30:00","18:45:00",{"$f":"Beheer!D76","v":0.4},{"$f":"MAX(0,MIN(dagroosterberekening!$H$3,C172)-MAX(dagroosterberekening!$G$3,B172))","v":"00:00:00"},{"$f":"MAX(0,MIN(dagroosterberekening!$J$3,C172)-MAX(dagroosterberekening!$I$3,B172))","v":"00:00:00"},0,0]
["dinsdag","18:45:00","19:00:00",{"$f":"Beheer!D77","v":0.4},{"$f":"MAX(0,MIN(dagroosterberekening!$H$3,C173)-MAX(dagroosterberekening!$G$3,B173))","v":"00:00:00"},{"$f":"MAX(0,MIN(dagroosterberekening!$J$3,C173)-MAX(dagroosterberekening!$I$3,B173))","v":"00:00:00"},0,0]
["dinsdag","19:00:00","19:15:00",{"$f":"Beheer!D78","v":0.4},{"$f":"MAX(0,MIN(dagroosterberekening!$H$3,C174)-MAX(dagroosterberekening!$G$3,B174))","v":"00:00:00"},{"$f":"MAX(0,MIN(dagroosterberekening!$J$3,C174)-MAX(dagroosterberekening!$I$3,B174))","v":"00:00:00"},0,0]
["dinsdag","19:15:00","19:30:00",{"$f":"Beheer!D79","v":0.4},{"$f":"MAX(0,MIN(dagroosterberekening!$H$3,C175)-MAX(dagroosterberekening!$G$3,B175))","v":"00:00:00"},{"$f":"MAX(0,MIN(dagroosterberekening!$J$3,C175)-MAX(dagroosterberekening!$I$3,B175))","v":"00:00:00"},0,0]
["dinsdag","19:30:00","19:45:00",{"$f":"Beheer!D80","v":0.4},{"$f":"MAX(0,MIN(dagroosterberekening!$H$3,C176)-MAX(dagroosterberekening!$G$3,B176))","v":"00:00:00"},{"$f":"MAX(0,MIN(dagroosterberekening!$J$3,C176)-MAX(dagroosterberekening!$I$3,B176))","v":"00:00:00"},0,0]
["dinsdag","19:45:00","20:00:00",{"$f":"Beheer!D81","v":0.4},{"$f":"MAX(0,MIN(dagroosterberekening!$H$3,C177)-MAX(dagroosterberekening!$G$3,B177))","v":"00:00:00"},{"$f":"MAX(0,MIN(dagroosterberekening!$J$3,C177)-MAX(dagroosterberekening!$I$3,B177))","v":"00:00:00"},0,0]
["dinsdag","20:00:00","20:15:00",{"$f":"Beheer!D82","v":0.4},{"$f":"MAX(0,MIN(dagroosterberekening!$H$3,C178)-MAX(dagroosterberekening!$G$3,B178))","v":"00:00:00"},{"$f":"MAX(0,MIN(dagroosterberekening!$J$3,C178)-MAX(dagroosterberekening!$I$3,B178))","v":"00:00:00"},0,0]
["dinsdag","20:15:00","20:30:00",{"$f":"Beheer!D83","v":0.4},{"$f":"MAX(0,MIN(dagroosterberekening!$H$3,C179)-MAX(dagroosterberekening!$G$3,B179))","v":"00:00:00"},{"$f":"MAX(0,MIN(dagroosterberekening!$J$3,C179)-MAX(dagroosterberekening!$I$3,B179))","v":"00:00:00"},0,0]
["dinsdag","20:30:00","20:45:00",{"$f":"Beheer!D84","v":0.4},{"$f":"MAX(0,MIN(dagroosterberekening!$H$3,C180)-MAX(dagroosterberekening!$G$3,B180))","v":"00:00:00"},{"$f":"MAX(0,MIN(dagroosterberekening!$J$3,C180)-MAX(dagroosterberekening!$I$3,B180))","v":"00:00:00"},0,0]
["dinsdag","20:45:00","21:00:00",{"$f":"Beheer!D85","v":0.4},{"$f":"MAX(0,MIN(dagroosterberekening!$H$3,C181)-MAX(dagroosterberekening!$G$3,B181))","v":"00:00:00"},{"$f":"MAX(0,MIN(dagroosterberekening!$J$3,C181)-MAX(dagroosterberekening!$I$3,B181))","v":"00:00:00"},0,0]
["dinsdag","21:00:00","21:15:00",{"$f":"Beheer!D86","v":0.4},{"$f":"MAX(0,MIN(dagroosterberekening!$H$3,C182)-MAX(dagroosterberekening!$G$3,B182))","v":"00:00:00"},{"$f":"MAX(0,MIN(dagroosterberekening!$J$3,C182)-MAX(dagroosterberekening!$I$3,B182))","v":"00:00:00"},0,0]
["dinsdag","21:15:00","21:30:00",{"$f":"Beheer!D87","v":0.4},{"$f":"MAX(0,MIN(dagroosterberekening!$H$3,C183)-MAX(dagroosterberekening!$G$3,B183))","v":"00:00:00"},{"$f":"MAX(0,MIN(dagroosterberekening!$J$3,C183)-MAX(dagroosterberekening!$I$3,B183))","v":"00:00:00"},0,0]
["dinsdag","21:30:00","21:45:00",{"$f":"Beheer!D88","v":0.4},{"$f":"MAX(0,MIN(dagroosterberekening!$H$3,C184)-MAX(dagroosterberekening!$G$3,B184))","v":"00:00:00"},{"$f":"MAX(0,MIN(dagroosterberekening!$J$3,C184)-MAX(dagroosterberekening!$I$3,B184))","v":"00:00:00"},0,0]
["dinsdag","21:45:00","22:00:00",{"$f":"Beheer!D89","v":0.4},{"$f":"MAX(0,MIN(dagroosterberekening!$H$3,C185)-MAX(dagroosterberekening!$G$3,B185))","v":"00:00:00"},{"$f":"MAX(0,MIN(dagroosterberekening!$J$3,C185)-MAX(dagroosterberekening!$I$3,B185))","v":"00:00:00"},0,0]
["dinsdag","22:00:00","22:15:00",{"$f":"Beheer!D90","v":0.4},{"$f":"MAX(0,MIN(dagroosterberekening!$H$3,C186)-MAX(dagroosterberekening!$G$3,B186))","v":"00:00:00"},{"$f":"MAX(0,MIN(dagroosterberekening!$J$3,C186)-MAX(dagroosterberekening!$I$3,B186))","v":"00:00:00"},0,0]
["dinsdag","22:15:00","22:30:00",{"$f":"Beheer!D91","v":0.4},{"$f":"MAX(0,MIN(dagroosterberekening!$H$3,C187)-MAX(dagroosterberekening!$G$3,B187))","v":"00:00:00"},{"$f":"MAX(0,MIN(dagroosterberekening!$J$3,C187)-MAX(dagroosterberekening!$I$3,B187))","v":"00:00:00"},0,0]
["dinsdag","22:30:00","22:45:00",{"$f":"Beheer!D92","v":0.4},{"$f":"MAX(0,MIN(dagroosterberekening!$H$3,C188)-MAX(dagroosterberekening!$G$3,B188))","v":"00:00:00"},{"$f":"MAX(0,MIN(dagroosterberekening!$J$3,C188)-MAX(dagroosterberekening!$I$3,B188))","v":"00:00:00"},0,0]
["dinsdag","22:45:00","23:00:00",{"$f":"Beheer!D93","v":0.4},{"$f":"MAX(0,MIN(dagroosterberekening!$H$3,C189)-MAX(dagroosterberekening!$G$3,B189))","v":"00:00:00"},{"$f":"MAX(0,MIN(dagroosterberekening!$J$3,C189)-MAX(dagroosterberekening!$I$3,B189))","v":"00:00:00"},0,0]
["dinsdag","23:00:00","23:15:00",{"$f":"Beheer!D94","v":0.4},{"$f":"MAX(0,MIN(dagroosterberekening!$H$3,C190)-MAX(dagroosterberekening!$G$3,B190))","v":"00:00:00"},{"$f":"MAX(0,MIN(dagroosterberekening!$J$3,C190)-MAX(dagroosterberekening!$I$3,B190))","v":"00:00:00"},0,0]
["dinsdag","23:15:00","23:30:00",{"$f":"Beheer!D95","v":0.4},{"$f":"MAX(0,MIN(dagroosterberekening!$H$3,C191)-MAX(dagroosterberekening!$G$3,B191))","v":"00:00:00"},{"$f":"MAX(0,MIN(dagroosterberekening!$J$3,C191)-MAX(dagroosterberekening!$I$3,B191))","v":"00:00:00"},0,0]
["dinsdag","23:30:00","23:45:00",{"$f":"Beheer!D96","v":0.4},{"$f":"MAX(0,MIN(dagroosterberekening!$H$3,C192)-MAX(dagroosterberekening!$G$3,B192))","v":"00:00:00"},{"$f":"MAX(0,MIN(dagroosterberekening!$J$3,C192)-MAX(dagroosterberekening!$I$3,B192))","v":"00:00:00"},0,0]
["dinsdag","23:45:00",1,{"$f":"Beheer!D97","v":0.4},{"$f":"MAX(0,MIN(dagroosterberekening!$H$3,C193)-MAX(dagroosterberekening!$G$3,B193))","v":"00:00:00"},{"$f":"MAX(0,MIN(dagroosterberekening!$J$3,C193)-MAX(dagroosterberekening!$I$3,B193))","v":"00:00:00"},0,0]
["woensdag","00:00:00","00:15:00",{"$f":"Beheer!E2","v":0.4},{"$f":"MAX(0,MIN(dagroosterberekening!$H$3,C194)-MAX(dagroosterberekening!$G$3,B194))","v":"00:00:00"},{"$f":"MAX(0,MIN(dagroosterberekening!$J$3,C194)-MAX(dagroosterberekening!$I$3,B194))","v":"00:00:00"},0,0]
["woensdag",{"$f":"C194","v":"00:15:00"},"00:30:00",{"$f":"Beheer!E3","v":0.4},{"$f":"MAX(0,MIN(dagroosterberekening!$H$3,C195)-MAX(dagroosterberekening!$G$3,B195))","v":"00:00:00"},{"$f":"MAX(0,MIN(dagroosterberekening!$J$3,C195)-MAX(dagroosterberekening!$I$3,B195))","v":"00:00:00"},{"$f":"ROUND((E195*1)+(E195*D195),10)","v":0},{"$f":"ROUND((F195*1)+(F195*D195),10)","v":0}]
["woensdag","00:30:00","00:45:00",{"$f":"Beheer!E4","v":0.4},{"$f":"MAX(0,MIN(dagroosterberekening!$H$3,C196)-MAX(dagroosterberekening!$G$3,B196))","v":"00:00:00"},{"$f":"MAX(0,MIN(dagroosterberekening!$J$3,C196)-MAX(dagroosterberekening!$I$3,B196))","v":"00:00:00"},0,0]
["woensdag","00:45:00","01:00:00",{"$f":"Beheer!E5","v":0.4},{"$f":"MAX(0,MIN(dagroosterberekening!$H$3,C197)-MAX(dagroosterberekening!$G$3,B197))","v":"00:00:00"},{"$f":"MAX(0,MIN(dagroosterberekening!$J$3,C197)-MAX(dagroosterberekening!$I$3,B197))","v":"00:00:00"},0,0]
["woensdag","01:00:00","01:15:00",{"$f":"Beheer!E6","v":0.4},{"$f":"MAX(0,MIN(dagroosterberekening!$H$3,C198)-MAX(dagroosterberekening!$G$3,B198))","v":"00:00:00"},{"$f":"MAX(0,MIN(dagroosterberekening!$J$3,C198)-MAX(dagroosterberekening!$I$3,B198))","v":"00:00:00"},0,0]
["woensdag","01:15:00","01:30:00",{"$f":"Beheer!E7","v":0.4},{"$f":"MAX(0,MIN(dagroosterberekening!$H$3,C199)-MAX(dagroosterberekening!$G$3,B199))","v":"00:00:00"},{"$f":"MAX(0,MIN(dagroosterberekening!$J$3,C199)-MAX(dagroosterberekening!$I$3,B199))","v":"00:00:00"},0,0]
["woensdag","01:30:00","01:45:00",{"$f":"Beheer!E8","v":0.4},{"$f":"MAX(0,MIN(dagroosterberekening!$H$3,C200)-MAX(dagroosterberekening!$G$3,B200))","v":"00:00:00"},{"$f":"MAX(0,MIN(dagroosterberekening!$J$3,C200)-MAX(dagroosterberekening!$I$3,B200))","v":"00:00:00"},0,0]
["woensdag","01:45:00","02:00:00",{"$f":"Beheer!E9","v":0.4},{"$f":"MAX(0,MIN(dagroosterberekening!$H$3,C201)-MAX(dagroosterberekening!$G$3,B201))","v":"00:00:00"},{"$f":"MAX(0,MIN(dagroosterberekening!$J$3,C201)-MAX(dagroosterberekening!$I$3,B201))","v":"00:00:00"},0,0]
["woensdag","02:00:00","02:15:00",{"$f":"Beheer!E10","v":0.4},{"$f":"MAX(0,MIN(dagroosterberekening!$H$3,C202)-MAX(dagroosterberekening!$G$3,B202))","v":"00:00:00"},{"$f":"MAX(0,MIN(dagroosterberekening!$J$3,C202)-MAX(dagroosterberekening!$I$3,B202))","v":"00:00:00"},0,0]
["woensdag","02:15:00","02:30:00",{"$f":"Beheer!E11","v":0.4},{"$f":"MAX(0,MIN(dagroosterberekening!$H$3,C203)-MAX(dagroosterberekening!$G$3,B203))","v":"00:00:00"},{"$f":"MAX(0,MIN(dagroosterberekening!$J$3,C203)-MAX(dagroosterberekening!$I$3,B203))","v":"00:00:00"},0,0]
["woensdag","02:30:00","02:45:00",{"$f":"Beheer!E12","v":0.4},{"$f":"MAX(0,MIN(dagroosterberekening!$H$3,C204)-MAX(dagroosterberekening!$G$3,B204))","v":"00:00:00"},{"$f":"MAX(0,MIN(dagroosterberekening!$J$3,C204)-MAX(dagroosterberekening!$I$3,B204))","v":"00:00:00"},0,0]
["woensdag","02:45:00","03:00:00",{"$f":"Beheer!E13","v":0.4},{"$f":"MAX(0,MIN(dagroosterberekening!$H$3,C205)-MAX(dagroosterberekening!$G$3,B205))","v":"00:00:00"},{"$f":"MAX(0,MIN(dagroosterberekening!$J$3,C205)-MAX(dagroosterberekening!$I$3,B205))","v":"00:00:00"},0,0]
["woensdag","03:00:00","03:15:00",{"$f":"Beheer!E14","v":0.4},{"$f":"MAX(0,MIN(dagroosterberekening!$H$3,C206)-MAX(dagroosterberekening!$G$3,B206))","v":"00:00:00"},{"$f":"MAX(0,MIN(dagroosterberekening!$J$3,C206)-MAX(dagroosterberekening!$I$3,B206))","v":"00:00:00"},0,0]
["woensdag","03:15:00","03:30:00",{"$f":"Beheer!E15","v":0.4},{"$f":"MAX(0,MIN(dagroosterberekening!$H$3,C207)-MAX(dagroosterberekening!$G$3,B207))","v":"00:00:00"},{"$f":"MAX(0,MIN(dagroosterberekening!$J$3,C207)-MAX(dagroosterberekening!$I$3,B207))","v":"00:00:00"},0,0]
["woensdag","03:30:00","03:45:00",{"$f":"Beheer!E16","v":0.4},{"$f":"MAX(0,MIN(dagroosterberekening!$H$3,C208)-MAX(dagroosterberekening!$G$3,B208))","v":"00:00:00"},{"$f":"MAX(0,MIN(dagroosterberekening!$J$3,C208)-MAX(dagroosterberekening!$I$3,B208))","v":"00:00:00"},0,0]
["woensdag","03:45:00","04:00:00",{"$f":"Beheer!E17","v":0.4},{"$f":"MAX(0,MIN(dagroosterberekening!$H$3,C209)-MAX(dagroosterberekening!$G$3,B209))","v":"00:00:00"},{"$f":"MAX(0,MIN(dagroosterberekening!$J$3,C209)-MAX(dagroosterberekening!$I$3,B209))","v":"00:00:00"},0,0]
["woensdag","04:00:00","04:15:00",{"$f":"Beheer!E18","v":0.4},{"$f":"MAX(0,MIN(dagroosterberekening!$H$3,C210)-MAX(dagroosterberekening!$G$3,B210))","v":"00:00:00"},{"$f":"MAX(0,MIN(dagroosterberekening!$J$3,C210)-MAX(dagroosterberekening!$I$3,B210))","v":"00:00:00"},0,0]
["woensdag","04:15:00","04:30:00",{"$f":"Beheer!E19","v":0.4},{"$f":"MAX(0,MIN(dagroosterberekening!$H$3,C211)-MAX(dagroosterberekening!$G$3,B211))","v":"00:00:00"},{"$f":"MAX(0,MIN(dagroosterberekening!$J$3,C211)-MAX(dagroosterberekening!$I$3,B211))","v":"00:00:00"},0,0]
["woensdag","04:30:00","04:45:00",{"$f":"Beheer!E20","v":0.4},{"$f":"MAX(0,MIN(dagroosterberekening!$H$3,C212)-MAX(dagroosterberekening!$G$3,B212))","v":"00:00:00"},{"$f":"MAX(0,MIN(dagroosterberekening!$J$3,C212)-MAX(dagroosterberekening!$I$3,B212))","v":"00:00:00"},0,0]
["woensdag","04:45:00","05:00:00",{"$f":"Beheer!E21","v":0.4},{"$f":"MAX(0,MIN(dagroosterberekening!$H$3,C213)-MAX(dagroosterberekening!$G$3,B213))","v":"00:00:00"},{"$f":"MAX(0,MIN(dagroosterberekening!$J$3,C213)-MAX(dagroosterberekening!$I$3,B213))","v":"00:00:00"},0,0]
["woensdag","05:00:00","05:15:00",{"$f":"Beheer!E22","v":0.4},{"$f":"MAX(0,MIN(dagroosterberekening!$H$3,C214)-MAX(dagroosterberekening!$G$3,B214))","v":"00:00:00"},{"$f":"MAX(0,MIN(dagroosterberekening!$J$3,C214)-MAX(dagroosterberekening!$I$3,B214))","v":"00:00:00"},0,0]
["woensdag","05:15:00","05:30:00",{"$f":"Beheer!E23","v":0.4},{"$f":"MAX(0,MIN(dagroosterberekening!$H$3,C215)-MAX(dagroosterberekening!$G$3,B215))","v":"00:00:00"},{"$f":"MAX(0,MIN(dagroosterberekening!$J$3,C215)-MAX(dagroosterberekening!$I$3,B215))","v":"00:00:00"},0,0]
["woensdag","05:30:00","05:45:00",{"$f":"Beheer!E24","v":0.4},{"$f":"MAX(0,MIN(dagroosterberekening!$H$3,C216)-MAX(dagroosterberekening!$G$3,B216))","v":"00:00:00"},{"$f":"MAX(0,MIN(dagroosterberekening!$J$3,C216)-MAX(dagroosterberekening!$I$3,B216))","v":"00:00:00"},0,0]
["woensdag","05:45:00","06:00:00",{"$f":"Beheer!E25","v":0.4},{"$f":"MAX(0,MIN(dagroosterberekening!$H$3,C217)-MAX(dagroosterberekening!$G$3,B217))","v":"00:00:00"},{"$f":"MAX(0,MIN(dagroosterberekening!$J$3,C217)-MAX(dagroosterberekening!$I$3,B217))","v":"00:00:00"},0,0]
["woensdag","06:00:00","06:15:00",{"$f":"Beheer!E26","v":0.4},{"$f":"MAX(0,MIN(dagroosterberekening!$H$3,C218)-MAX(dagroosterberekening!$G$3,B218))","v":"00:00:00"},{"$f":"MAX(0,MIN(dagroosterberekening!$J$3,C218)-MAX(dagroosterberekening!$I$3,B218))","v":"00:00:00"},0,0]
["woensdag","06:15:00","06:30:00",{"$f":"Beheer!E27","v":0.4},{"$f":"MAX(0,MIN(dagroosterberekening!$H$3,C219)-MAX(dagroosterberekening!$G$3,B219))","v":"00:00:00"},{"$f":"MAX(0,MIN(dagroosterberekening!$J$3,C219)-MAX(dagroosterberekening!$I$3,B219))","v":"00:00:00"},0,0]
["woensdag","06:30:00","06:45:00",{"$f":"Beheer!E28","v":0.4},{"$f":"MAX(0,MIN(dagroosterberekening!$H$3,C220)-MAX(dagroosterberekening!$G$3,B220))","v":"00:00:00"},{"$f":"MAX(0,MIN(dagroosterberekening!$J$3,C220)-MAX(dagroosterberekening!$I$3,B220))","v":"00:00:00"},0,0]
["woensdag","06:45:00","07:00:00",{"$f":"Beheer!E29","v":0.4},{"$f":"MAX(0,MIN(dagroosterberekening!$H$3,C221)-MAX(dagroosterberekening!$G$3,B221))","v":"00:00:00"},{"$f":"MAX(0,MIN(dagroosterberekening!$J$3,C221)-MAX(dagroosterberekening!$I$3,B221))","v":"00:00:00"},0,0]
["woensdag","07:00:00","07:15:00",{"$f":"Beheer!E30","v":0},{"$f":"MAX(0,MIN(dagroosterberekening!$H$3,C222)-MAX(dagroosterberekening!$G$3,B222))","v":"00:00:00"},{"$f":"MAX(0,MIN(dagroosterberekening!$J$3,C222)-MAX(dagroosterberekening!$I$3,B222))","v":"00:00:00"},0,0]
["woensdag","07:15:00","07:30:00",{"$f":"Beheer!E31","v":0},{"$f":"MAX(0,MIN(dagroosterberekening!$H$3,C223)-MAX(dagroosterberekening!$G$3,B223))","v":"00:00:00"},{"$f":"MAX(0,MIN(dagroosterberekening!$J$3,C223)-MAX(dagroosterberekening!$I$3,B223))","v":"00:00:00"},0,0]
["woensdag","07:30:00","07:45:00",{"$f":"Beheer!E32","v":0},{"$f":"MAX(0,MIN(dagroosterberekening!$H$3,C224)-MAX(dagroosterberekening!$G$3,B224))","v":"00:00:00"},{"$f":"MAX(0,MIN(dagroosterberekening!$J$3,C224)-MAX(dagroosterberekening!$I$3,B224))","v":"00:00:00"},0,0]
["woensdag","07:45:00","08:00:00",{"$f":"Beheer!E33","v":0},{"$f":"MAX(0,MIN(dagroosterberekening!$H$3,C225)-MAX(dagroosterberekening!$G$3,B225))","v":"00:00:00"},{"$f":"MAX(0,MIN(dagroosterberekening!$J$3,C225)-MAX(dagroosterberekening!$I$3,B225))","v":"00:00:00"},0,0]
["woensdag","08:00:00","08:15:00",{"$f":"Beheer!E34","v":0},{"$f":"MAX(0,MIN(dagroosterberekening!$H$3,C226)-MAX(dagroosterberekening!$G$3,B226))","v":"00:08:00"},{"$f":"MAX(0,MIN(dagroosterberekening!$J$3,C226)-MAX(dagroosterberekening!$I$3,B226))","v":"00:00:00"},5.5555556000000004E-3,0]
["woensdag","08:15:00","08:30:00",{"$f":"Beheer!E35","v":0},{"$f":"MAX(0,MIN(dagroosterberekening!$H$3,C227)-MAX(dagroosterberekening!$G$3,B227))","v":"00:00:00"},{"$f":"MAX(0,MIN(dagroosterberekening!$J$3,C227)-MAX(dagroosterberekening!$I$3,B227))","v":"00:00:00"},0,0]
["woensdag","08:30:00","08:45:00",{"$f":"Beheer!E36","v":0},{"$f":"MAX(0,MIN(dagroosterberekening!$H$3,C228)-MAX(dagroosterberekening!$G$3,B228))","v":"00:00:00"},{"$f":"MAX(0,MIN(dagroosterberekening!$J$3,C228)-MAX(dagroosterberekening!$I$3,B228))","v":"00:00:00"},0,0]
["woensdag","08:45:00","09:00:00",{"$f":"Beheer!E37","v":0},{"$f":"MAX(0,MIN(dagroosterberekening!$H$3,C229)-MAX(dagroosterberekening!$G$3,B229))","v":"00:00:00"},{"$f":"MAX(0,MIN(dagroosterberekening!$J$3,C229)-MAX(dagroosterberekening!$I$3,B229))","v":"00:00:00"},0,0]
["woensdag","09:00:00","09:15:00",{"$f":"Beheer!E38","v":0},{"$f":"MAX(0,MIN(dagroosterberekening!$H$3,C230)-MAX(dagroosterberekening!$G$3,B230))","v":"00:00:00"},{"$f":"MAX(0,MIN(dagroosterberekening!$J$3,C230)-MAX(dagroosterberekening!$I$3,B230))","v":"00:00:00"},0,0]
["woensdag","09:15:00","09:30:00",{"$f":"Beheer!E39","v":0},{"$f":"MAX(0,MIN(dagroosterberekening!$H$3,C231)-MAX(dagroosterberekening!$G$3,B231))","v":"00:00:00"},{"$f":"MAX(0,MIN(dagroosterberekening!$J$3,C231)-MAX(dagroosterberekening!$I$3,B231))","v":"00:00:00"},0,0]
["woensdag","09:30:00","09:45:00",{"$f":"Beheer!E40","v":0},{"$f":"MAX(0,MIN(dagroosterberekening!$H$3,C232)-MAX(dagroosterberekening!$G$3,B232))","v":"00:00:00"},{"$f":"MAX(0,MIN(dagroosterberekening!$J$3,C232)-MAX(dagroosterberekening!$I$3,B232))","v":"00:00:00"},0,0]
["woensdag","09:45:00","10:00:00",{"$f":"Beheer!E41","v":0},{"$f":"MAX(0,MIN(dagroosterberekening!$H$3,C233)-MAX(dagroosterberekening!$G$3,B233))","v":"00:00:00"},{"$f":"MAX(0,MIN(dagroosterberekening!$J$3,C233)-MAX(dagroosterberekening!$I$3,B233))","v":"00:00:00"},0,0]
["woensdag","10:00:00","10:15:00",{"$f":"Beheer!E42","v":0},{"$f":"MAX(0,MIN(dagroosterberekening!$H$3,C234)-MAX(dagroosterberekening!$G$3,B234))","v":"00:00:00"},{"$f":"MAX(0,MIN(dagroosterberekening!$J$3,C234)-MAX(dagroosterberekening!$I$3,B234))","v":"00:00:00"},0,0]
["woensdag","10:15:00","10:30:00",{"$f":"Beheer!E43","v":0},{"$f":"MAX(0,MIN(dagroosterberekening!$H$3,C235)-MAX(dagroosterberekening!$G$3,B235))","v":"00:00:00"},{"$f":"MAX(0,MIN(dagroosterberekening!$J$3,C235)-MAX(dagroosterberekening!$I$3,B235))","v":"00:00:00"},0,0]
["woensdag","10:30:00","10:45:00",{"$f":"Beheer!E44","v":0},{"$f":"MAX(0,MIN(dagroosterberekening!$H$3,C236)-MAX(dagroosterberekening!$G$3,B236))","v":"00:00:00"},{"$f":"MAX(0,MIN(dagroosterberekening!$J$3,C236)-MAX(dagroosterberekening!$I$3,B236))","v":"00:00:00"},0,0]
["woensdag","10:45:00","11:00:00",{"$f":"Beheer!E45","v":0},{"$f":"MAX(0,MIN(dagroosterberekening!$H$3,C237)-MAX(dagroosterberekening!$G$3,B237))","v":"00:00:00"},{"$f":"MAX(0,MIN(dagroosterberekening!$J$3,C237)-MAX(dagroosterberekening!$I$3,B237))","v":"00:00:00"},0,0]
["woensdag","11:00:00","11:15:00",{"$f":"Beheer!E46","v":0},{"$f":"MAX(0,MIN(dagroosterberekening!$H$3,C238)-MAX(dagroosterberekening!$G$3,B238))","v":"00:00:00"},{"$f":"MAX(0,MIN(dagroosterberekening!$J$3,C238)-MAX(dagroosterberekening!$I$3,B238))","v":"00:00:00"},0,0]
["woensdag","11:15:00","11:30:00",{"$f":"Beheer!E47","v":0},{"$f":"MAX(0,MIN(dagroosterberekening!$H$3,C239)-MAX(dagroosterberekening!$G$3,B239))","v":"00:00:00"},{"$f":"MAX(0,MIN(dagroosterberekening!$J$3,C239)-MAX(dagroosterberekening!$I$3,B239))","v":"00:00:00"},0,0]
["woensdag","11:30:00","11:45:00",{"$f":"Beheer!E48","v":0},{"$f":"MAX(0,MIN(dagroosterberekening!$H$3,C240)-MAX(dagroosterberekening!$G$3,B240))","v":"00:00:00"},{"$f":"MAX(0,MIN(dagroosterberekening!$J$3,C240)-MAX(dagroosterberekening!$I$3,B240))","v":"00:00:00"},0,0]
["woensdag","11:45:00","12:00:00",{"$f":"Beheer!E49","v":0},{"$f":"MAX(0,MIN(dagroosterberekening!$H$3,C241)-MAX(dagroosterberekening!$G$3,B241))","v":"00:00:00"},{"$f":"MAX(0,MIN(dagroosterberekening!$J$3,C241)-MAX(dagroosterberekening!$I$3,B241))","v":"00:00:00"},0,0]
["woensdag","12:00:00","12:15:00",{"$f":"Beheer!E50","v":0},{"$f":"MAX(0,MIN(dagroosterberekening!$H$3,C242)-MAX(dagroosterberekening!$G$3,B242))","v":"00:00:00"},{"$f":"MAX(0,MIN(dagroosterberekening!$J$3,C242)-MAX(dagroosterberekening!$I$3,B242))","v":"00:00:00"},0,0]
["woensdag","12:15:00","12:30:00",{"$f":"Beheer!E51","v":0},{"$f":"MAX(0,MIN(dagroosterberekening!$H$3,C243)-MAX(dagroosterberekening!$G$3,B243))","v":"00:00:00"},{"$f":"MAX(0,MIN(dagroosterberekening!$J$3,C243)-MAX(dagroosterberekening!$I$3,B243))","v":"00:00:00"},0,0]
["woensdag","12:30:00","12:45:00",{"$f":"Beheer!E52","v":0},{"$f":"MAX(0,MIN(dagroosterberekening!$H$3,C244)-MAX(dagroosterberekening!$G$3,B244))","v":"00:00:00"},{"$f":"MAX(0,MIN(dagroosterberekening!$J$3,C244)-MAX(dagroosterberekening!$I$3,B244))","v":"00:00:00"},0,0]
["woensdag","12:45:00","13:00:00",{"$f":"Beheer!E53","v":0},{"$f":"MAX(0,MIN(dagroosterberekening!$H$3,C245)-MAX(dagroosterberekening!$G$3,B245))","v":"00:00:00"},{"$f":"MAX(0,MIN(dagroosterberekening!$J$3,C245)-MAX(dagroosterberekening!$I$3,B245))","v":"00:00:00"},0,0]
["woensdag","13:00:00","13:15:00",{"$f":"Beheer!E54","v":0},{"$f":"MAX(0,MIN(dagroosterberekening!$H$3,C246)-MAX(dagroosterberekening!$G$3,B246))","v":"00:00:00"},{"$f":"MAX(0,MIN(dagroosterberekening!$J$3,C246)-MAX(dagroosterberekening!$I$3,B246))","v":"00:00:00"},0,0]
["woensdag","13:15:00","13:30:00",{"$f":"Beheer!E55","v":0},{"$f":"MAX(0,MIN(dagroosterberekening!$H$3,C247)-MAX(dagroosterberekening!$G$3,B247))","v":"00:00:00"},{"$f":"MAX(0,MIN(dagroosterberekening!$J$3,C247)-MAX(dagroosterberekening!$I$3,B247))","v":"00:00:00"},0,0]
["woensdag","13:30:00","13:45:00",{"$f":"Beheer!E56","v":0},{"$f":"MAX(0,MIN(dagroosterberekening!$H$3,C248)-MAX(dagroosterberekening!$G$3,B248))","v":"00:00:00"},{"$f":"MAX(0,MIN(dagroosterberekening!$J$3,C248)-MAX(dagroosterberekening!$I$3,B248))","v":"00:00:00"},0,0]
["woensdag","13:45:00","14:00:00",{"$f":"Beheer!E57","v":0},{"$f":"MAX(0,MIN(dagroosterberekening!$H$3,C249)-MAX(dagroosterberekening!$G$3,B249))","v":"00:00:00"},{"$f":"MAX(0,MIN(dagroosterberekening!$J$3,C249)-MAX(dagroosterberekening!$I$3,B249))","v":"00:00:00"},0,0]
["woensdag","14:00:00","14:15:00",{"$f":"Beheer!E58","v":0},{"$f":"MAX(0,MIN(dagroosterberekening!$H$3,C250)-MAX(dagroosterberekening!$G$3,B250))","v":"00:00:00"},{"$f":"MAX(0,MIN(dagroosterberekening!$J$3,C250)-MAX(dagroosterberekening!$I$3,B250))","v":"00:00:00"},0,0]
["woensdag","14:15:00","14:30:00",{"$f":"Beheer!E59","v":0},{"$f":"MAX(0,MIN(dagroosterberekening!$H$3,C251)-MAX(dagroosterberekening!$G$3,B251))","v":"00:00:00"},{"$f":"MAX(0,MIN(dagroosterberekening!$J$3,C251)-MAX(dagroosterberekening!$I$3,B251))","v":"00:00:00"},0,0]
["woensdag","14:30:00","14:45:00",{"$f":"Beheer!E60","v":0},{"$f":"MAX(0,MIN(dagroosterberekening!$H$3,C252)-MAX(dagroosterberekening!$G$3,B252))","v":"00:00:00"},{"$f":"MAX(0,MIN(dagroosterberekening!$J$3,C252)-MAX(dagroosterberekening!$I$3,B252))","v":"00:00:00"},0,0]
["woensdag","14:45:00","15:00:00",{"$f":"Beheer!E61","v":0},{"$f":"MAX(0,MIN(dagroosterberekening!$H$3,C253)-MAX(dagroosterberekening!$G$3,B253))","v":"00:00:00"},{"$f":"MAX(0,MIN(dagroosterberekening!$J$3,C253)-MAX(dagroosterberekening!$I$3,B253))","v":"00:00:00"},0,0]
["woensdag","15:00:00","15:15:00",{"$f":"Beheer!E62","v":0},{"$f":"MAX(0,MIN(dagroosterberekening!$H$3,C254)-MAX(dagroosterberekening!$G$3,B254))","v":"00:00:00"},{"$f":"MAX(0,MIN(dagroosterberekening!$J$3,C254)-MAX(dagroosterberekening!$I$3,B254))","v":"00:00:00"},0,0]
["woensdag","15:15:00","15:30:00",{"$f":"Beheer!E63","v":0},{"$f":"MAX(0,MIN(dagroosterberekening!$H$3,C255)-MAX(dagroosterberekening!$G$3,B255))","v":"00:00:00"},{"$f":"MAX(0,MIN(dagroosterberekening!$J$3,C255)-MAX(dagroosterberekening!$I$3,B255))","v":"00:00:00"},0,0]
["woensdag","15:30:00","15:45:00",{"$f":"Beheer!E64","v":0},{"$f":"MAX(0,MIN(dagroosterberekening!$H$3,C256)-MAX(dagroosterberekening!$G$3,B256))","v":"00:00:00"},{"$f":"MAX(0,MIN(dagroosterberekening!$J$3,C256)-MAX(dagroosterberekening!$I$3,B256))","v":"00:00:00"},0,0]
["woensdag","15:45:00","16:00:00",{"$f":"Beheer!E65","v":0},{"$f":"MAX(0,MIN(dagroosterberekening!$H$3,C257)-MAX(dagroosterberekening!$G$3,B257))","v":"00:00:00"},{"$f":"MAX(0,MIN(dagroosterberekening!$J$3,C257)-MAX(dagroosterberekening!$I$3,B257))","v":"00:00:00"},0,0]
["woensdag","16:00:00","16:15:00",{"$f":"Beheer!E66","v":0},{"$f":"MAX(0,MIN(dagroosterberekening!$H$3,C258)-MAX(dagroosterberekening!$G$3,B258))","v":"00:00:00"},{"$f":"MAX(0,MIN(dagroosterberekening!$J$3,C258)-MAX(dagroosterberekening!$I$3,B258))","v":"00:00:00"},0,0]
["woensdag",{"$f":"C258","v":"16:15:00"},"16:30:00",{"$f":"Beheer!E67","v":0},{"$f":"MAX(0,MIN(dagroosterberekening!$H$3,C259)-MAX(dagroosterberekening!$G$3,B259))","v":"00:00:00"},{"$f":"MAX(0,MIN(dagroosterberekening!$J$3,C259)-MAX(dagroosterberekening!$I$3,B259))","v":"00:00:00"},{"$f":"ROUND((E259*1)+(E259*D259),10)","v":0},{"$f":"ROUND((F259*1)+(F259*D259),10)","v":0}]
["woensdag","16:30:00","16:45:00",{"$f":"Beheer!E68","v":0},{"$f":"MAX(0,MIN(dagroosterberekening!$H$3,C260)-MAX(dagroosterberekening!$G$3,B260))","v":"00:00:00"},{"$f":"MAX(0,MIN(dagroosterberekening!$J$3,C260)-MAX(dagroosterberekening!$I$3,B260))","v":"00:00:00"},0,0]
["woensdag","16:45:00","17:00:00",{"$f":"Beheer!E69","v":0},{"$f":"MAX(0,MIN(dagroosterberekening!$H$3,C261)-MAX(dagroosterberekening!$G$3,B261))","v":"00:00:00"},{"$f":"MAX(0,MIN(dagroosterberekening!$J$3,C261)-MAX(dagroosterberekening!$I$3,B261))","v":"00:00:00"},0,0]
["woensdag","17:00:00","17:15:00",{"$f":"Beheer!E70","v":0},{"$f":"MAX(0,MIN(dagroosterberekening!$H$3,C262)-MAX(dagroosterberekening!$G$3,B262))","v":"00:00:00"},{"$f":"MAX(0,MIN(dagroosterberekening!$J$3,C262)-MAX(dagroosterberekening!$I$3,B262))","v":"00:00:00"},0,0]
["woensdag","17:15:00","17:30:00",{"$f":"Beheer!E71","v":0},{"$f":"MAX(0,MIN(dagroosterberekening!$H$3,C263)-MAX(dagroosterberekening!$G$3,B263))","v":"00:00:00"},{"$f":"MAX(0,MIN(dagroosterberekening!$J$3,C263)-MAX(dagroosterberekening!$I$3,B263))","v":"00:00:00"},0,0]
["woensdag","17:30:00","17:45:00",{"$f":"Beheer!E72","v":0},{"$f":"MAX(0,MIN(dagroosterberekening!$H$3,C264)-MAX(dagroosterberekening!$G$3,B264))","v":"00:00:00"},{"$f":"MAX(0,MIN(dagroosterberekening!$J$3,C264)-MAX(dagroosterberekening!$I$3,B264))","v":"00:00:00"},0,0]
["woensdag","17:45:00","18:00:00",{"$f":"Beheer!E73","v":0},{"$f":"MAX(0,MIN(dagroosterberekening!$H$3,C265)-MAX(dagroosterberekening!$G$3,B265))","v":"00:00:00"},{"$f":"MAX(0,MIN(dagroosterberekening!$J$3,C265)-MAX(dagroosterberekening!$I$3,B265))","v":"00:00:00"},0,0]
["woensdag","18:00:00","18:15:00",{"$f":"Beheer!E74","v":0.4},{"$f":"MAX(0,MIN(dagroosterberekening!$H$3,C266)-MAX(dagroosterberekening!$G$3,B266))","v":"00:00:00"},{"$f":"MAX(0,MIN(dagroosterberekening!$J$3,C266)-MAX(dagroosterberekening!$I$3,B266))","v":"00:00:00"},0,0]
["woensdag","18:15:00","18:30:00",{"$f":"Beheer!E75","v":0.4},{"$f":"MAX(0,MIN(dagroosterberekening!$H$3,C267)-MAX(dagroosterberekening!$G$3,B267))","v":"00:00:00"},{"$f":"MAX(0,MIN(dagroosterberekening!$J$3,C267)-MAX(dagroosterberekening!$I$3,B267))","v":"00:00:00"},0,0]
["woensdag","18:30:00","18:45:00",{"$f":"Beheer!E76","v":0.4},{"$f":"MAX(0,MIN(dagroosterberekening!$H$3,C268)-MAX(dagroosterberekening!$G$3,B268))","v":"00:00:00"},{"$f":"MAX(0,MIN(dagroosterberekening!$J$3,C268)-MAX(dagroosterberekening!$I$3,B268))","v":"00:00:00"},0,0]
["woensdag","18:45:00","19:00:00",{"$f":"Beheer!E77","v":0.4},{"$f":"MAX(0,MIN(dagroosterberekening!$H$3,C269)-MAX(dagroosterberekening!$G$3,B269))","v":"00:00:00"},{"$f":"MAX(0,MIN(dagroosterberekening!$J$3,C269)-MAX(dagroosterberekening!$I$3,B269))","v":"00:00:00"},0,0]
["woensdag","19:00:00","19:15:00",{"$f":"Beheer!E78","v":0.4},{"$f":"MAX(0,MIN(dagroosterberekening!$H$3,C270)-MAX(dagroosterberekening!$G$3,B270))","v":"00:00:00"},{"$f":"MAX(0,MIN(dagroosterberekening!$J$3,C270)-MAX(dagroosterberekening!$I$3,B270))","v":"00:00:00"},0,0]
["woensdag","19:15:00","19:30:00",{"$f":"Beheer!E79","v":0.4},{"$f":"MAX(0,MIN(dagroosterberekening!$H$3,C271)-MAX(dagroosterberekening!$G$3,B271))","v":"00:00:00"},{"$f":"MAX(0,MIN(dagroosterberekening!$J$3,C271)-MAX(dagroosterberekening!$I$3,B271))","v":"00:00:00"},0,0]
["woensdag","19:30:00","19:45:00",{"$f":"Beheer!E80","v":0.4},{"$f":"MAX(0,MIN(dagroosterberekening!$H$3,C272)-MAX(dagroosterberekening!$G$3,B272))","v":"00:00:00"},{"$f":"MAX(0,MIN(dagroosterberekening!$J$3,C272)-MAX(dagroosterberekening!$I$3,B272))","v":"00:00:00"},0,0]
["woensdag","19:45:00","20:00:00",{"$f":"Beheer!E81","v":0.4},{"$f":"MAX(0,MIN(dagroosterberekening!$H$3,C273)-MAX(dagroosterberekening!$G$3,B273))","v":"00:00:00"},{"$f":"MAX(0,MIN(dagroosterberekening!$J$3,C273)-MAX(dagroosterberekening!$I$3,B273))","v":"00:00:00"},0,0]
["woensdag","20:00:00","20:15:00",{"$f":"Beheer!E82","v":0.4},{"$f":"MAX(0,MIN(dagroosterberekening!$H$3,C274)-MAX(dagroosterberekening!$G$3,B274))","v":"00:00:00"},{"$f":"MAX(0,MIN(dagroosterberekening!$J$3,C274)-MAX(dagroosterberekening!$I$3,B274))","v":"00:00:00"},0,0]
["woensdag","20:15:00","20:30:00",{"$f":"Beheer!E83","v":0.4},{"$f":"MAX(0,MIN(dagroosterberekening!$H$3,C275)-MAX(dagroosterberekening!$G$3,B275))","v":"00:00:00"},{"$f":"MAX(0,MIN(dagroosterberekening!$J$3,C275)-MAX(dagroosterberekening!$I$3,B275))","v":"00:00:00"},0,0]
["woensdag","20:30:00","20:45:00",{"$f":"Beheer!E84","v":0.4},{"$f":"MAX(0,MIN(dagroosterberekening!$H$3,C276)-MAX(dagroosterberekening!$G$3,B276))","v":"00:00:00"},{"$f":"MAX(0,MIN(dagroosterberekening!$J$3,C276)-MAX(dagroosterberekening!$I$3,B276))","v":"00:00:00"},0,0]
["woensdag","20:45:00","21:00:00",{"$f":"Beheer!E85","v":0.4},{"$f":"MAX(0,MIN(dagroosterberekening!$H$3,C277)-MAX(dagroosterberekening!$G$3,B277))","v":"00:00:00"},{"$f":"MAX(0,MIN(dagroosterberekening!$J$3,C277)-MAX(dagroosterberekening!$I$3,B277))","v":"00:00:00"},0,0]
["woensdag","21:00:00","21:15:00",{"$f":"Beheer!E86","v":0.4},{"$f":"MAX(0,MIN(dagroosterberekening!$H$3,C278)-MAX(dagroosterberekening!$G$3,B278))","v":"00:00:00"},{"$f":"MAX(0,MIN(dagroosterberekening!$J$3,C278)-MAX(dagroosterberekening!$I$3,B278))","v":"00:00:00"},0,0]
["woensdag","21:15:00","21:30:00",{"$f":"Beheer!E87","v":0.4},{"$f":"MAX(0,MIN(dagroosterberekening!$H$3,C279)-MAX(dagroosterberekening!$G$3,B279))","v":"00:00:00"},{"$f":"MAX(0,MIN(dagroosterberekening!$J$3,C279)-MAX(dagroosterberekening!$I$3,B279))","v":"00:00:00"},0,0]
["woensdag","21:30:00","21:45:00",{"$f":"Beheer!E88","v":0.4},{"$f":"MAX(0,MIN(dagroosterberekening!$H$3,C280)-MAX(dagroosterberekening!$G$3,B280))","v":"00:00:00"},{"$f":"MAX(0,MIN(dagroosterberekening!$J$3,C280)-MAX(dagroosterberekening!$I$3,B280))","v":"00:00:00"},0,0]
["woensdag","21:45:00","22:00:00",{"$f":"Beheer!E89","v":0.4},{"$f":"MAX(0,MIN(dagroosterberekening!$H$3,C281)-MAX(dagroosterberekening!$G$3,B281))","v":"00:00:00"},{"$f":"MAX(0,MIN(dagroosterberekening!$J$3,C281)-MAX(dagroosterberekening!$I$3,B281))","v":"00:00:00"},0,0]
["woensdag","22:00:00","22:15:00",{"$f":"Beheer!E90","v":0.4},{"$f":"MAX(0,MIN(dagroosterberekening!$H$3,C282)-MAX(dagroosterberekening!$G$3,B282))","v":"00:00:00"},{"$f":"MAX(0,MIN(dagroosterberekening!$J$3,C282)-MAX(dagroosterberekening!$I$3,B282))","v":"00:00:00"},0,0]
["woensdag","22:15:00","22:30:00",{"$f":"Beheer!E91","v":0.4},{"$f":"MAX(0,MIN(dagroosterberekening!$H$3,C283)-MAX(dagroosterberekening!$G$3,B283))","v":"00:00:00"},{"$f":"MAX(0,MIN(dagroosterberekening!$J$3,C283)-MAX(dagroosterberekening!$I$3,B283))","v":"00:00:00"},0,0]
["woensdag","22:30:00","22:45:00",{"$f":"Beheer!E92","v":0.4},{"$f":"MAX(0,MIN(dagroosterberekening!$H$3,C284)-MAX(dagroosterberekening!$G$3,B284))","v":"00:00:00"},{"$f":"MAX(0,MIN(dagroosterberekening!$J$3,C284)-MAX(dagroosterberekening!$I$3,B284))","v":"00:00:00"},0,0]
["woensdag","22:45:00","23:00:00",{"$f":"Beheer!E93","v":0.4},{"$f":"MAX(0,MIN(dagroosterberekening!$H$3,C285)-MAX(dagroosterberekening!$G$3,B285))","v":"00:00:00"},{"$f":"MAX(0,MIN(dagroosterberekening!$J$3,C285)-MAX(dagroosterberekening!$I$3,B285))","v":"00:00:00"},0,0]
["woensdag","23:00:00","23:15:00",{"$f":"Beheer!E94","v":0.4},{"$f":"MAX(0,MIN(dagroosterberekening!$H$3,C286)-MAX(dagroosterberekening!$G$3,B286))","v":"00:00:00"},{"$f":"MAX(0,MIN(dagroosterberekening!$J$3,C286)-MAX(dagroosterberekening!$I$3,B286))","v":"00:00:00"},0,0]
["woensdag","23:15:00","23:30:00",{"$f":"Beheer!E95","v":0.4},{"$f":"MAX(0,MIN(dagroosterberekening!$H$3,C287)-MAX(dagroosterberekening!$G$3,B287))","v":"00:00:00"},{"$f":"MAX(0,MIN(dagroosterberekening!$J$3,C287)-MAX(dagroosterberekening!$I$3,B287))","v":"00:00:00"},0,0]
["woensdag","23:30:00","23:45:00",{"$f":"Beheer!E96","v":0.4},{"$f":"MAX(0,MIN(dagroosterberekening!$H$3,C288)-MAX(dagroosterberekening!$G$3,B288))","v":"00:00:00"},{"$f":"MAX(0,MIN(dagroosterberekening!$J$3,C288)-MAX(dagroosterberekening!$I$3,B288))","v":"00:00:00"},0,0]
["woensdag","23:45:00",1,{"$f":"Beheer!E97","v":0.4},{"$f":"MAX(0,MIN(dagroosterberekening!$H$3,C289)-MAX(dagroosterberekening!$G$3,B289))","v":"00:00:00"},{"$f":"MAX(0,MIN(dagroosterberekening!$J$3,C289)-MAX(dagroosterberekening!$I$3,B289))","v":"00:00:00"},0,0]
["donderdag","00:00:00","00:15:00",{"$f":"Beheer!F2","v":0.4},{"$f":"MAX(0,MIN(dagroosterberekening!$H$3,C290)-MAX(dagroosterberekening!$G$3,B290))","v":"00:00:00"},{"$f":"MAX(0,MIN(dagroosterberekening!$J$3,C290)-MAX(dagroosterberekening!$I$3,B290))","v":"00:00:00"},0,0]
["donderdag",{"$f":"C290","v":"00:15:00"},"00:30:00",{"$f":"Beheer!F3","v":0.4},{"$f":"MAX(0,MIN(dagroosterberekening!$H$3,C291)-MAX(dagroosterberekening!$G$3,B291))","v":"00:00:00"},{"$f":"MAX(0,MIN(dagroosterberekening!$J$3,C291)-MAX(dagroosterberekening!$I$3,B291))","v":"00:00:00"},0,0]
["donderdag","00:30:00","00:45:00",{"$f":"Beheer!F4","v":0.4},{"$f":"MAX(0,MIN(dagroosterberekening!$H$3,C292)-MAX(dagroosterberekening!$G$3,B292))","v":"00:00:00"},{"$f":"MAX(0,MIN(dagroosterberekening!$J$3,C292)-MAX(dagroosterberekening!$I$3,B292))","v":"00:00:00"},0,0]
["donderdag","00:45:00","01:00:00",{"$f":"Beheer!F5","v":0.4},{"$f":"MAX(0,MIN(dagroosterberekening!$H$3,C293)-MAX(dagroosterberekening!$G$3,B293))","v":"00:00:00"},{"$f":"MAX(0,MIN(dagroosterberekening!$J$3,C293)-MAX(dagroosterberekening!$I$3,B293))","v":"00:00:00"},0,0]
["donderdag","01:00:00","01:15:00",{"$f":"Beheer!F6","v":0.4},{"$f":"MAX(0,MIN(dagroosterberekening!$H$3,C294)-MAX(dagroosterberekening!$G$3,B294))","v":"00:00:00"},{"$f":"MAX(0,MIN(dagroosterberekening!$J$3,C294)-MAX(dagroosterberekening!$I$3,B294))","v":"00:00:00"},0,0]
["donderdag","01:15:00","01:30:00",{"$f":"Beheer!F7","v":0.4},{"$f":"MAX(0,MIN(dagroosterberekening!$H$3,C295)-MAX(dagroosterberekening!$G$3,B295))","v":"00:00:00"},{"$f":"MAX(0,MIN(dagroosterberekening!$J$3,C295)-MAX(dagroosterberekening!$I$3,B295))","v":"00:00:00"},0,0]
["donderdag","01:30:00","01:45:00",{"$f":"Beheer!F8","v":0.4},{"$f":"MAX(0,MIN(dagroosterberekening!$H$3,C296)-MAX(dagroosterberekening!$G$3,B296))","v":"00:00:00"},{"$f":"MAX(0,MIN(dagroosterberekening!$J$3,C296)-MAX(dagroosterberekening!$I$3,B296))","v":"00:00:00"},0,0]
["donderdag","01:45:00","02:00:00",{"$f":"Beheer!F9","v":0.4},{"$f":"MAX(0,MIN(dagroosterberekening!$H$3,C297)-MAX(dagroosterberekening!$G$3,B297))","v":"00:00:00"},{"$f":"MAX(0,MIN(dagroosterberekening!$J$3,C297)-MAX(dagroosterberekening!$I$3,B297))","v":"00:00:00"},0,0]
["donderdag","02:00:00","02:15:00",{"$f":"Beheer!F10","v":0.4},{"$f":"MAX(0,MIN(dagroosterberekening!$H$3,C298)-MAX(dagroosterberekening!$G$3,B298))","v":"00:00:00"},{"$f":"MAX(0,MIN(dagroosterberekening!$J$3,C298)-MAX(dagroosterberekening!$I$3,B298))","v":"00:00:00"},0,0]
["donderdag","02:15:00","02:30:00",{"$f":"Beheer!F11","v":0.4},{"$f":"MAX(0,MIN(dagroosterberekening!$H$3,C299)-MAX(dagroosterberekening!$G$3,B299))","v":"00:00:00"},{"$f":"MAX(0,MIN(dagroosterberekening!$J$3,C299)-MAX(dagroosterberekening!$I$3,B299))","v":"00:00:00"},0,0]
["donderdag","02:30:00","02:45:00",{"$f":"Beheer!F12","v":0.4},{"$f":"MAX(0,MIN(dagroosterberekening!$H$3,C300)-MAX(dagroosterberekening!$G$3,B300))","v":"00:00:00"},{"$f":"MAX(0,MIN(dagroosterberekening!$J$3,C300)-MAX(dagroosterberekening!$I$3,B300))","v":"00:00:00"},0,0]
["donderdag","02:45:00","03:00:00",{"$f":"Beheer!F13","v":0.4},{"$f":"MAX(0,MIN(dagroosterberekening!$H$3,C301)-MAX(dagroosterberekening!$G$3,B301))","v":"00:00:00"},{"$f":"MAX(0,MIN(dagroosterberekening!$J$3,C301)-MAX(dagroosterberekening!$I$3,B301))","v":"00:00:00"},0,0]
["donderdag","03:00:00","03:15:00",{"$f":"Beheer!F14","v":0.4},{"$f":"MAX(0,MIN(dagroosterberekening!$H$3,C302)-MAX(dagroosterberekening!$G$3,B302))","v":"00:00:00"},{"$f":"MAX(0,MIN(dagroosterberekening!$J$3,C302)-MAX(dagroosterberekening!$I$3,B302))","v":"00:00:00"},0,0]
["donderdag","03:15:00","03:30:00",{"$f":"Beheer!F15","v":0.4},{"$f":"MAX(0,MIN(dagroosterberekening!$H$3,C303)-MAX(dagroosterberekening!$G$3,B303))","v":"00:00:00"},{"$f":"MAX(0,MIN(dagroosterberekening!$J$3,C303)-MAX(dagroosterberekening!$I$3,B303))","v":"00:00:00"},0,0]
["donderdag","03:30:00","03:45:00",{"$f":"Beheer!F16","v":0.4},{"$f":"MAX(0,MIN(dagroosterberekening!$H$3,C304)-MAX(dagroosterberekening!$G$3,B304))","v":"00:00:00"},{"$f":"MAX(0,MIN(dagroosterberekening!$J$3,C304)-MAX(dagroosterberekening!$I$3,B304))","v":"00:00:00"},0,0]
["donderdag","03:45:00","04:00:00",{"$f":"Beheer!F17","v":0.4},{"$f":"MAX(0,MIN(dagroosterberekening!$H$3,C305)-MAX(dagroosterberekening!$G$3,B305))","v":"00:00:00"},{"$f":"MAX(0,MIN(dagroosterberekening!$J$3,C305)-MAX(dagroosterberekening!$I$3,B305))","v":"00:00:00"},0,0]
["donderdag","04:00:00","04:15:00",{"$f":"Beheer!F18","v":0.4},{"$f":"MAX(0,MIN(dagroosterberekening!$H$3,C306)-MAX(dagroosterberekening!$G$3,B306))","v":"00:00:00"},{"$f":"MAX(0,MIN(dagroosterberekening!$J$3,C306)-MAX(dagroosterberekening!$I$3,B306))","v":"00:00:00"},0,0]
["donderdag","04:15:00","04:30:00",{"$f":"Beheer!F19","v":0.4},{"$f":"MAX(0,MIN(dagroosterberekening!$H$3,C307)-MAX(dagroosterberekening!$G$3,B307))","v":"00:00:00"},{"$f":"MAX(0,MIN(dagroosterberekening!$J$3,C307)-MAX(dagroosterberekening!$I$3,B307))","v":"00:00:00"},0,0]
["donderdag","04:30:00","04:45:00",{"$f":"Beheer!F20","v":0.4},{"$f":"MAX(0,MIN(dagroosterberekening!$H$3,C308)-MAX(dagroosterberekening!$G$3,B308))","v":"00:00:00"},{"$f":"MAX(0,MIN(dagroosterberekening!$J$3,C308)-MAX(dagroosterberekening!$I$3,B308))","v":"00:00:00"},0,0]
["donderdag","04:45:00","05:00:00",{"$f":"Beheer!F21","v":0.4},{"$f":"MAX(0,MIN(dagroosterberekening!$H$3,C309)-MAX(dagroosterberekening!$G$3,B309))","v":"00:00:00"},{"$f":"MAX(0,MIN(dagroosterberekening!$J$3,C309)-MAX(dagroosterberekening!$I$3,B309))","v":"00:00:00"},0,0]
["donderdag","05:00:00","05:15:00",{"$f":"Beheer!F22","v":0.4},{"$f":"MAX(0,MIN(dagroosterberekening!$H$3,C310)-MAX(dagroosterberekening!$G$3,B310))","v":"00:00:00"},{"$f":"MAX(0,MIN(dagroosterberekening!$J$3,C310)-MAX(dagroosterberekening!$I$3,B310))","v":"00:00:00"},0,0]
["donderdag","05:15:00","05:30:00",{"$f":"Beheer!F23","v":0.4},{"$f":"MAX(0,MIN(dagroosterberekening!$H$3,C311)-MAX(dagroosterberekening!$G$3,B311))","v":"00:00:00"},{"$f":"MAX(0,MIN(dagroosterberekening!$J$3,C311)-MAX(dagroosterberekening!$I$3,B311))","v":"00:00:00"},0,0]
["donderdag","05:30:00","05:45:00",{"$f":"Beheer!F24","v":0.4},{"$f":"MAX(0,MIN(dagroosterberekening!$H$3,C312)-MAX(dagroosterberekening!$G$3,B312))","v":"00:00:00"},{"$f":"MAX(0,MIN(dagroosterberekening!$J$3,C312)-MAX(dagroosterberekening!$I$3,B312))","v":"00:00:00"},0,0]
["donderdag","05:45:00","06:00:00",{"$f":"Beheer!F25","v":0.4},{"$f":"MAX(0,MIN(dagroosterberekening!$H$3,C313)-MAX(dagroosterberekening!$G$3,B313))","v":"00:00:00"},{"$f":"MAX(0,MIN(dagroosterberekening!$J$3,C313)-MAX(dagroosterberekening!$I$3,B313))","v":"00:00:00"},0,0]
["donderdag","06:00:00","06:15:00",{"$f":"Beheer!F26","v":0.4},{"$f":"MAX(0,MIN(dagroosterberekening!$H$3,C314)-MAX(dagroosterberekening!$G$3,B314))","v":"00:00:00"},{"$f":"MAX(0,MIN(dagroosterberekening!$J$3,C314)-MAX(dagroosterberekening!$I$3,B314))","v":"00:00:00"},0,0]
["donderdag","06:15:00","06:30:00",{"$f":"Beheer!F27","v":0.4},{"$f":"MAX(0,MIN(dagroosterberekening!$H$3,C315)-MAX(dagroosterberekening!$G$3,B315))","v":"00:00:00"},{"$f":"MAX(0,MIN(dagroosterberekening!$J$3,C315)-MAX(dagroosterberekening!$I$3,B315))","v":"00:00:00"},0,0]
["donderdag","06:30:00","06:45:00",{"$f":"Beheer!F28","v":0.4},{"$f":"MAX(0,MIN(dagroosterberekening!$H$3,C316)-MAX(dagroosterberekening!$G$3,B316))","v":"00:00:00"},{"$f":"MAX(0,MIN(dagroosterberekening!$J$3,C316)-MAX(dagroosterberekening!$I$3,B316))","v":"00:00:00"},0,0]
["donderdag","06:45:00","07:00:00",{"$f":"Beheer!F29","v":0.4},{"$f":"MAX(0,MIN(dagroosterberekening!$H$3,C317)-MAX(dagroosterberekening!$G$3,B317))","v":"00:00:00"},{"$f":"MAX(0,MIN(dagroosterberekening!$J$3,C317)-MAX(dagroosterberekening!$I$3,B317))","v":"00:00:00"},0,0]
["donderdag","07:00:00","07:15:00",{"$f":"Beheer!F30","v":0},{"$f":"MAX(0,MIN(dagroosterberekening!$H$3,C318)-MAX(dagroosterberekening!$G$3,B318))","v":"00:00:00"},{"$f":"MAX(0,MIN(dagroosterberekening!$J$3,C318)-MAX(dagroosterberekening!$I$3,B318))","v":"00:00:00"},0,0]
["donderdag","07:15:00","07:30:00",{"$f":"Beheer!F31","v":0},{"$f":"MAX(0,MIN(dagroosterberekening!$H$3,C319)-MAX(dagroosterberekening!$G$3,B319))","v":"00:00:00"},{"$f":"MAX(0,MIN(dagroosterberekening!$J$3,C319)-MAX(dagroosterberekening!$I$3,B319))","v":"00:00:00"},0,0]
["donderdag","07:30:00","07:45:00",{"$f":"Beheer!F32","v":0},{"$f":"MAX(0,MIN(dagroosterberekening!$H$3,C320)-MAX(dagroosterberekening!$G$3,B320))","v":"00:00:00"},{"$f":"MAX(0,MIN(dagroosterberekening!$J$3,C320)-MAX(dagroosterberekening!$I$3,B320))","v":"00:00:00"},0,0]
["donderdag","07:45:00","08:00:00",{"$f":"Beheer!F33","v":0},{"$f":"MAX(0,MIN(dagroosterberekening!$H$3,C321)-MAX(dagroosterberekening!$G$3,B321))","v":"00:00:00"},{"$f":"MAX(0,MIN(dagroosterberekening!$J$3,C321)-MAX(dagroosterberekening!$I$3,B321))","v":"00:00:00"},0,0]
["donderdag","08:00:00","08:15:00",{"$f":"Beheer!F34","v":0},{"$f":"MAX(0,MIN(dagroosterberekening!$H$3,C322)-MAX(dagroosterberekening!$G$3,B322))","v":"00:08:00"},{"$f":"MAX(0,MIN(dagroosterberekening!$J$3,C322)-MAX(dagroosterberekening!$I$3,B322))","v":"00:00:00"},5.5555556000000004E-3,0]
["donderdag","08:15:00","08:30:00",{"$f":"Beheer!F35","v":0},{"$f":"MAX(0,MIN(dagroosterberekening!$H$3,C323)-MAX(dagroosterberekening!$G$3,B323))","v":"00:00:00"},{"$f":"MAX(0,MIN(dagroosterberekening!$J$3,C323)-MAX(dagroosterberekening!$I$3,B323))","v":"00:00:00"},{"$f":"ROUND((E323*1)+(E323*D323),10)","v":0},{"$f":"ROUND((F323*1)+(F323*D323),10)","v":0}]
["donderdag","08:30:00","08:45:00",{"$f":"Beheer!F36","v":0},{"$f":"MAX(0,MIN(dagroosterberekening!$H$3,C324)-MAX(dagroosterberekening!$G$3,B324))","v":"00:00:00"},{"$f":"MAX(0,MIN(dagroosterberekening!$J$3,C324)-MAX(dagroosterberekening!$I$3,B324))","v":"00:00:00"},0,0]
["donderdag","08:45:00","09:00:00",{"$f":"Beheer!F37","v":0},{"$f":"MAX(0,MIN(dagroosterberekening!$H$3,C325)-MAX(dagroosterberekening!$G$3,B325))","v":"00:00:00"},{"$f":"MAX(0,MIN(dagroosterberekening!$J$3,C325)-MAX(dagroosterberekening!$I$3,B325))","v":"00:00:00"},0,0]
["donderdag","09:00:00","09:15:00",{"$f":"Beheer!F38","v":0},{"$f":"MAX(0,MIN(dagroosterberekening!$H$3,C326)-MAX(dagroosterberekening!$G$3,B326))","v":"00:00:00"},{"$f":"MAX(0,MIN(dagroosterberekening!$J$3,C326)-MAX(dagroosterberekening!$I$3,B326))","v":"00:00:00"},0,0]
["donderdag","09:15:00","09:30:00",{"$f":"Beheer!F39","v":0},{"$f":"MAX(0,MIN(dagroosterberekening!$H$3,C327)-MAX(dagroosterberekening!$G$3,B327))","v":"00:00:00"},{"$f":"MAX(0,MIN(dagroosterberekening!$J$3,C327)-MAX(dagroosterberekening!$I$3,B327))","v":"00:00:00"},0,0]
["donderdag","09:30:00","09:45:00",{"$f":"Beheer!F40","v":0},{"$f":"MAX(0,MIN(dagroosterberekening!$H$3,C328)-MAX(dagroosterberekening!$G$3,B328))","v":"00:00:00"},{"$f":"MAX(0,MIN(dagroosterberekening!$J$3,C328)-MAX(dagroosterberekening!$I$3,B328))","v":"00:00:00"},0,0]
["donderdag","09:45:00","10:00:00",{"$f":"Beheer!F41","v":0},{"$f":"MAX(0,MIN(dagroosterberekening!$H$3,C329)-MAX(dagroosterberekening!$G$3,B329))","v":"00:00:00"},{"$f":"MAX(0,MIN(dagroosterberekening!$J$3,C329)-MAX(dagroosterberekening!$I$3,B329))","v":"00:00:00"},0,0]
["donderdag","10:00:00","10:15:00",{"$f":"Beheer!F42","v":0},{"$f":"MAX(0,MIN(dagroosterberekening!$H$3,C330)-MAX(dagroosterberekening!$G$3,B330))","v":"00:00:00"},{"$f":"MAX(0,MIN(dagroosterberekening!$J$3,C330)-MAX(dagroosterberekening!$I$3,B330))","v":"00:00:00"},0,0]
["donderdag","10:15:00","10:30:00",{"$f":"Beheer!F43","v":0},{"$f":"MAX(0,MIN(dagroosterberekening!$H$3,C331)-MAX(dagroosterberekening!$G$3,B331))","v":"00:00:00"},{"$f":"MAX(0,MIN(dagroosterberekening!$J$3,C331)-MAX(dagroosterberekening!$I$3,B331))","v":"00:00:00"},0,0]
["donderdag","10:30:00","10:45:00",{"$f":"Beheer!F44","v":0},{"$f":"MAX(0,MIN(dagroosterberekening!$H$3,C332)-MAX(dagroosterberekening!$G$3,B332))","v":"00:00:00"},{"$f":"MAX(0,MIN(dagroosterberekening!$J$3,C332)-MAX(dagroosterberekening!$I$3,B332))","v":"00:00:00"},0,0]
["donderdag","10:45:00","11:00:00",{"$f":"Beheer!F45","v":0},{"$f":"MAX(0,MIN(dagroosterberekening!$H$3,C333)-MAX(dagroosterberekening!$G$3,B333))","v":"00:00:00"},{"$f":"MAX(0,MIN(dagroosterberekening!$J$3,C333)-MAX(dagroosterberekening!$I$3,B333))","v":"00:00:00"},0,0]
["donderdag","11:00:00","11:15:00",{"$f":"Beheer!F46","v":0},{"$f":"MAX(0,MIN(dagroosterberekening!$H$3,C334)-MAX(dagroosterberekening!$G$3,B334))","v":"00:00:00"},{"$f":"MAX(0,MIN(dagroosterberekening!$J$3,C334)-MAX(dagroosterberekening!$I$3,B334))","v":"00:00:00"},0,0]
["donderdag","11:15:00","11:30:00",{"$f":"Beheer!F47","v":0},{"$f":"MAX(0,MIN(dagroosterberekening!$H$3,C335)-MAX(dagroosterberekening!$G$3,B335))","v":"00:00:00"},{"$f":"MAX(0,MIN(dagroosterberekening!$J$3,C335)-MAX(dagroosterberekening!$I$3,B335))","v":"00:00:00"},0,0]
["donderdag","11:30:00","11:45:00",{"$f":"Beheer!F48","v":0},{"$f":"MAX(0,MIN(dagroosterberekening!$H$3,C336)-MAX(dagroosterberekening!$G$3,B336))","v":"00:00:00"},{"$f":"MAX(0,MIN(dagroosterberekening!$J$3,C336)-MAX(dagroosterberekening!$I$3,B336))","v":"00:00:00"},0,0]
["donderdag","11:45:00","12:00:00",{"$f":"Beheer!F49","v":0},{"$f":"MAX(0,MIN(dagroosterberekening!$H$3,C337)-MAX(dagroosterberekening!$G$3,B337))","v":"00:00:00"},{"$f":"MAX(0,MIN(dagroosterberekening!$J$3,C337)-MAX(dagroosterberekening!$I$3,B337))","v":"00:00:00"},0,0]
["donderdag","12:00:00","12:15:00",{"$f":"Beheer!F50","v":0},{"$f":"MAX(0,MIN(dagroosterberekening!$H$3,C338)-MAX(dagroosterberekening!$G$3,B338))","v":"00:00:00"},{"$f":"MAX(0,MIN(dagroosterberekening!$J$3,C338)-MAX(dagroosterberekening!$I$3,B338))","v":"00:00:00"},0,0]
["donderdag","12:15:00","12:30:00",{"$f":"Beheer!F51","v":0},{"$f":"MAX(0,MIN(dagroosterberekening!$H$3,C339)-MAX(dagroosterberekening!$G$3,B339))","v":"00:00:00"},{"$f":"MAX(0,MIN(dagroosterberekening!$J$3,C339)-MAX(dagroosterberekening!$I$3,B339))","v":"00:00:00"},0,0]
["donderdag","12:30:00","12:45:00",{"$f":"Beheer!F52","v":0},{"$f":"MAX(0,MIN(dagroosterberekening!$H$3,C340)-MAX(dagroosterberekening!$G$3,B340))","v":"00:00:00"},{"$f":"MAX(0,MIN(dagroosterberekening!$J$3,C340)-MAX(dagroosterberekening!$I$3,B340))","v":"00:00:00"},0,0]
["donderdag","12:45:00","13:00:00",{"$f":"Beheer!F53","v":0},{"$f":"MAX(0,MIN(dagroosterberekening!$H$3,C341)-MAX(dagroosterberekening!$G$3,B341))","v":"00:00:00"},{"$f":"MAX(0,MIN(dagroosterberekening!$J$3,C341)-MAX(dagroosterberekening!$I$3,B341))","v":"00:00:00"},0,0]
["donderdag","13:00:00","13:15:00",{"$f":"Beheer!F54","v":0},{"$f":"MAX(0,MIN(dagroosterberekening!$H$3,C342)-MAX(dagroosterberekening!$G$3,B342))","v":"00:00:00"},{"$f":"MAX(0,MIN(dagroosterberekening!$J$3,C342)-MAX(dagroosterberekening!$I$3,B342))","v":"00:00:00"},0,0]
["donderdag","13:15:00","13:30:00",{"$f":"Beheer!F55","v":0},{"$f":"MAX(0,MIN(dagroosterberekening!$H$3,C343)-MAX(dagroosterberekening!$G$3,B343))","v":"00:00:00"},{"$f":"MAX(0,MIN(dagroosterberekening!$J$3,C343)-MAX(dagroosterberekening!$I$3,B343))","v":"00:00:00"},0,0]
["donderdag","13:30:00","13:45:00",{"$f":"Beheer!F56","v":0},{"$f":"MAX(0,MIN(dagroosterberekening!$H$3,C344)-MAX(dagroosterberekening!$G$3,B344))","v":"00:00:00"},{"$f":"MAX(0,MIN(dagroosterberekening!$J$3,C344)-MAX(dagroosterberekening!$I$3,B344))","v":"00:00:00"},0,0]
["donderdag","13:45:00","14:00:00",{"$f":"Beheer!F57","v":0},{"$f":"MAX(0,MIN(dagroosterberekening!$H$3,C345)-MAX(dagroosterberekening!$G$3,B345))","v":"00:00:00"},{"$f":"MAX(0,MIN(dagroosterberekening!$J$3,C345)-MAX(dagroosterberekening!$I$3,B345))","v":"00:00:00"},0,0]
["donderdag","14:00:00","14:15:00",{"$f":"Beheer!F58","v":0},{"$f":"MAX(0,MIN(dagroosterberekening!$H$3,C346)-MAX(dagroosterberekening!$G$3,B346))","v":"00:00:00"},{"$f":"MAX(0,MIN(dagroosterberekening!$J$3,C346)-MAX(dagroosterberekening!$I$3,B346))","v":"00:00:00"},0,0]
["donderdag","14:15:00","14:30:00",{"$f":"Beheer!F59","v":0},{"$f":"MAX(0,MIN(dagroosterberekening!$H$3,C347)-MAX(dagroosterberekening!$G$3,B347))","v":"00:00:00"},{"$f":"MAX(0,MIN(dagroosterberekening!$J$3,C347)-MAX(dagroosterberekening!$I$3,B347))","v":"00:00:00"},0,0]
["donderdag","14:30:00","14:45:00",{"$f":"Beheer!F60","v":0},{"$f":"MAX(0,MIN(dagroosterberekening!$H$3,C348)-MAX(dagroosterberekening!$G$3,B348))","v":"00:00:00"},{"$f":"MAX(0,MIN(dagroosterberekening!$J$3,C348)-MAX(dagroosterberekening!$I$3,B348))","v":"00:00:00"},0,0]
["donderdag","14:45:00","15:00:00",{"$f":"Beheer!F61","v":0},{"$f":"MAX(0,MIN(dagroosterberekening!$H$3,C349)-MAX(dagroosterberekening!$G$3,B349))","v":"00:00:00"},{"$f":"MAX(0,MIN(dagroosterberekening!$J$3,C349)-MAX(dagroosterberekening!$I$3,B349))","v":"00:00:00"},0,0]
["donderdag","15:00:00","15:15:00",{"$f":"Beheer!F62","v":0},{"$f":"MAX(0,MIN(dagroosterberekening!$H$3,C350)-MAX(dagroosterberekening!$G$3,B350))","v":"00:00:00"},{"$f":"MAX(0,MIN(dagroosterberekening!$J$3,C350)-MAX(dagroosterberekening!$I$3,B350))","v":"00:00:00"},0,0]
["donderdag","15:15:00","15:30:00",{"$f":"Beheer!F63","v":0},{"$f":"MAX(0,MIN(dagroosterberekening!$H$3,C351)-MAX(dagroosterberekening!$G$3,B351))","v":"00:00:00"},{"$f":"MAX(0,MIN(dagroosterberekening!$J$3,C351)-MAX(dagroosterberekening!$I$3,B351))","v":"00:00:00"},0,0]
["donderdag","15:30:00","15:45:00",{"$f":"Beheer!F64","v":0},{"$f":"MAX(0,MIN(dagroosterberekening!$H$3,C352)-MAX(dagroosterberekening!$G$3,B352))","v":"00:00:00"},{"$f":"MAX(0,MIN(dagroosterberekening!$J$3,C352)-MAX(dagroosterberekening!$I$3,B352))","v":"00:00:00"},0,0]
["donderdag","15:45:00","16:00:00",{"$f":"Beheer!F65","v":0},{"$f":"MAX(0,MIN(dagroosterberekening!$H$3,C353)-MAX(dagroosterberekening!$G$3,B353))","v":"00:00:00"},{"$f":"MAX(0,MIN(dagroosterberekening!$J$3,C353)-MAX(dagroosterberekening!$I$3,B353))","v":"00:00:00"},0,0]
["donderdag","16:00:00","16:15:00",{"$f":"Beheer!F66","v":0},{"$f":"MAX(0,MIN(dagroosterberekening!$H$3,C354)-MAX(dagroosterberekening!$G$3,B354))","v":"00:00:00"},{"$f":"MAX(0,MIN(dagroosterberekening!$J$3,C354)-MAX(dagroosterberekening!$I$3,B354))","v":"00:00:00"},0,0]
["donderdag",{"$f":"C354","v":"16:15:00"},"16:30:00",{"$f":"Beheer!F67","v":0},{"$f":"MAX(0,MIN(dagroosterberekening!$H$3,C355)-MAX(dagroosterberekening!$G$3,B355))","v":"00:00:00"},{"$f":"MAX(0,MIN(dagroosterberekening!$J$3,C355)-MAX(dagroosterberekening!$I$3,B355))","v":"00:00:00"},0,0]
["donderdag","16:30:00","16:45:00",{"$f":"Beheer!F68","v":0},{"$f":"MAX(0,MIN(dagroosterberekening!$H$3,C356)-MAX(dagroosterberekening!$G$3,B356))","v":"00:00:00"},{"$f":"MAX(0,MIN(dagroosterberekening!$J$3,C356)-MAX(dagroosterberekening!$I$3,B356))","v":"00:00:00"},0,0]
["donderdag","16:45:00","17:00:00",{"$f":"Beheer!F69","v":0},{"$f":"MAX(0,MIN(dagroosterberekening!$H$3,C357)-MAX(dagroosterberekening!$G$3,B357))","v":"00:00:00"},{"$f":"MAX(0,MIN(dagroosterberekening!$J$3,C357)-MAX(dagroosterberekening!$I$3,B357))","v":"00:00:00"},0,0]
["donderdag","17:00:00","17:15:00",{"$f":"Beheer!F70","v":0},{"$f":"MAX(0,MIN(dagroosterberekening!$H$3,C358)-MAX(dagroosterberekening!$G$3,B358))","v":"00:00:00"},{"$f":"MAX(0,MIN(dagroosterberekening!$J$3,C358)-MAX(dagroosterberekening!$I$3,B358))","v":"00:00:00"},0,0]
["donderdag","17:15:00","17:30:00",{"$f":"Beheer!F71","v":0},{"$f":"MAX(0,MIN(dagroosterberekening!$H$3,C359)-MAX(dagroosterberekening!$G$3,B359))","v":"00:00:00"},{"$f":"MAX(0,MIN(dagroosterberekening!$J$3,C359)-MAX(dagroosterberekening!$I$3,B359))","v":"00:00:00"},0,0]
["donderdag","17:30:00","17:45:00",{"$f":"Beheer!F72","v":0},{"$f":"MAX(0,MIN(dagroosterberekening!$H$3,C360)-MAX(dagroosterberekening!$G$3,B360))","v":"00:00:00"},{"$f":"MAX(0,MIN(dagroosterberekening!$J$3,C360)-MAX(dagroosterberekening!$I$3,B360))","v":"00:00:00"},0,0]
["donderdag","17:45:00","18:00:00",{"$f":"Beheer!F73","v":0},{"$f":"MAX(0,MIN(dagroosterberekening!$H$3,C361)-MAX(dagroosterberekening!$G$3,B361))","v":"00:00:00"},{"$f":"MAX(0,MIN(dagroosterberekening!$J$3,C361)-MAX(dagroosterberekening!$I$3,B361))","v":"00:00:00"},0,0]
["donderdag","18:00:00","18:15:00",{"$f":"Beheer!F74","v":0.4},{"$f":"MAX(0,MIN(dagroosterberekening!$H$3,C362)-MAX(dagroosterberekening!$G$3,B362))","v":"00:00:00"},{"$f":"MAX(0,MIN(dagroosterberekening!$J$3,C362)-MAX(dagroosterberekening!$I$3,B362))","v":"00:00:00"},0,0]
["donderdag","18:15:00","18:30:00",{"$f":"Beheer!F75","v":0.4},{"$f":"MAX(0,MIN(dagroosterberekening!$H$3,C363)-MAX(dagroosterberekening!$G$3,B363))","v":"00:00:00"},{"$f":"MAX(0,MIN(dagroosterberekening!$J$3,C363)-MAX(dagroosterberekening!$I$3,B363))","v":"00:00:00"},0,0]
["donderdag","18:30:00","18:45:00",{"$f":"Beheer!F76","v":0.4},{"$f":"MAX(0,MIN(dagroosterberekening!$H$3,C364)-MAX(dagroosterberekening!$G$3,B364))","v":"00:00:00"},{"$f":"MAX(0,MIN(dagroosterberekening!$J$3,C364)-MAX(dagroosterberekening!$I$3,B364))","v":"00:00:00"},0,0]
["donderdag","18:45:00","19:00:00",{"$f":"Beheer!F77","v":0.4},{"$f":"MAX(0,MIN(dagroosterberekening!$H$3,C365)-MAX(dagroosterberekening!$G$3,B365))","v":"00:00:00"},{"$f":"MAX(0,MIN(dagroosterberekening!$J$3,C365)-MAX(dagroosterberekening!$I$3,B365))","v":"00:00:00"},0,0]
["donderdag","19:00:00","19:15:00",{"$f":"Beheer!F78","v":0.4},{"$f":"MAX(0,MIN(dagroosterberekening!$H$3,C366)-MAX(dagroosterberekening!$G$3,B366))","v":"00:00:00"},{"$f":"MAX(0,MIN(dagroosterberekening!$J$3,C366)-MAX(dagroosterberekening!$I$3,B366))","v":"00:00:00"},0,0]
["donderdag","19:15:00","19:30:00",{"$f":"Beheer!F79","v":0.4},{"$f":"MAX(0,MIN(dagroosterberekening!$H$3,C367)-MAX(dagroosterberekening!$G$3,B367))","v":"00:00:00"},{"$f":"MAX(0,MIN(dagroosterberekening!$J$3,C367)-MAX(dagroosterberekening!$I$3,B367))","v":"00:00:00"},0,0]
["donderdag","19:30:00","19:45:00",{"$f":"Beheer!F80","v":0.4},{"$f":"MAX(0,MIN(dagroosterberekening!$H$3,C368)-MAX(dagroosterberekening!$G$3,B368))","v":"00:00:00"},{"$f":"MAX(0,MIN(dagroosterberekening!$J$3,C368)-MAX(dagroosterberekening!$I$3,B368))","v":"00:00:00"},0,0]
["donderdag","19:45:00","20:00:00",{"$f":"Beheer!F81","v":0.4},{"$f":"MAX(0,MIN(dagroosterberekening!$H$3,C369)-MAX(dagroosterberekening!$G$3,B369))","v":"00:00:00"},{"$f":"MAX(0,MIN(dagroosterberekening!$J$3,C369)-MAX(dagroosterberekening!$I$3,B369))","v":"00:00:00"},0,0]
["donderdag","20:00:00","20:15:00",{"$f":"Beheer!F82","v":0.4},{"$f":"MAX(0,MIN(dagroosterberekening!$H$3,C370)-MAX(dagroosterberekening!$G$3,B370))","v":"00:00:00"},{"$f":"MAX(0,MIN(dagroosterberekening!$J$3,C370)-MAX(dagroosterberekening!$I$3,B370))","v":"00:00:00"},0,0]
["donderdag","20:15:00","20:30:00",{"$f":"Beheer!F83","v":0.4},{"$f":"MAX(0,MIN(dagroosterberekening!$H$3,C371)-MAX(dagroosterberekening!$G$3,B371))","v":"00:00:00"},{"$f":"MAX(0,MIN(dagroosterberekening!$J$3,C371)-MAX(dagroosterberekening!$I$3,B371))","v":"00:00:00"},0,0]
["donderdag","20:30:00","20:45:00",{"$f":"Beheer!F84","v":0.4},{"$f":"MAX(0,MIN(dagroosterberekening!$H$3,C372)-MAX(dagroosterberekening!$G$3,B372))","v":"00:00:00"},{"$f":"MAX(0,MIN(dagroosterberekening!$J$3,C372)-MAX(dagroosterberekening!$I$3,B372))","v":"00:00:00"},0,0]
["donderdag","20:45:00","21:00:00",{"$f":"Beheer!F85","v":0.4},{"$f":"MAX(0,MIN(dagroosterberekening!$H$3,C373)-MAX(dagroosterberekening!$G$3,B373))","v":"00:00:00"},{"$f":"MAX(0,MIN(dagroosterberekening!$J$3,C373)-MAX(dagroosterberekening!$I$3,B373))","v":"00:00:00"},0,0]
["donderdag","21:00:00","21:15:00",{"$f":"Beheer!F86","v":0.4},{"$f":"MAX(0,MIN(dagroosterberekening!$H$3,C374)-MAX(dagroosterberekening!$G$3,B374))","v":"00:00:00"},{"$f":"MAX(0,MIN(dagroosterberekening!$J$3,C374)-MAX(dagroosterberekening!$I$3,B374))","v":"00:00:00"},0,0]
["donderdag","21:15:00","21:30:00",{"$f":"Beheer!F87","v":0.4},{"$f":"MAX(0,MIN(dagroosterberekening!$H$3,C375)-MAX(dagroosterberekening!$G$3,B375))","v":"00:00:00"},{"$f":"MAX(0,MIN(dagroosterberekening!$J$3,C375)-MAX(dagroosterberekening!$I$3,B375))","v":"00:00:00"},0,0]
["donderdag","21:30:00","21:45:00",{"$f":"Beheer!F88","v":0.4},{"$f":"MAX(0,MIN(dagroosterberekening!$H$3,C376)-MAX(dagroosterberekening!$G$3,B376))","v":"00:00:00"},{"$f":"MAX(0,MIN(dagroosterberekening!$J$3,C376)-MAX(dagroosterberekening!$I$3,B376))","v":"00:00:00"},0,0]
["donderdag","21:45:00","22:00:00",{"$f":"Beheer!F89","v":0.4},{"$f":"MAX(0,MIN(dagroosterberekening!$H$3,C377)-MAX(dagroosterberekening!$G$3,B377))","v":"00:00:00"},{"$f":"MAX(0,MIN(dagroosterberekening!$J$3,C377)-MAX(dagroosterberekening!$I$3,B377))","v":"00:00:00"},0,0]
["donderdag","22:00:00","22:15:00",{"$f":"Beheer!F90","v":0.4},{"$f":"MAX(0,MIN(dagroosterberekening!$H$3,C378)-MAX(dagroosterberekening!$G$3,B378))","v":"00:00:00"},{"$f":"MAX(0,MIN(dagroosterberekening!$J$3,C378)-MAX(dagroosterberekening!$I$3,B378))","v":"00:00:00"},0,0]
["donderdag","22:15:00","22:30:00",{"$f":"Beheer!F91","v":0.4},{"$f":"MAX(0,MIN(dagroosterberekening!$H$3,C379)-MAX(dagroosterberekening!$G$3,B379))","v":"00:00:00"},{"$f":"MAX(0,MIN(dagroosterberekening!$J$3,C379)-MAX(dagroosterberekening!$I$3,B379))","v":"00:00:00"},0,0]
["donderdag","22:30:00","22:45:00",{"$f":"Beheer!F92","v":0.4},{"$f":"MAX(0,MIN(dagroosterberekening!$H$3,C380)-MAX(dagroosterberekening!$G$3,B380))","v":"00:00:00"},{"$f":"MAX(0,MIN(dagroosterberekening!$J$3,C380)-MAX(dagroosterberekening!$I$3,B380))","v":"00:00:00"},0,0]
["donderdag","22:45:00","23:00:00",{"$f":"Beheer!F93","v":0.4},{"$f":"MAX(0,MIN(dagroosterberekening!$H$3,C381)-MAX(dagroosterberekening!$G$3,B381))","v":"00:00:00"},{"$f":"MAX(0,MIN(dagroosterberekening!$J$3,C381)-MAX(dagroosterberekening!$I$3,B381))","v":"00:00:00"},0,0]
["donderdag","23:00:00","23:15:00",{"$f":"Beheer!F94","v":0.4},{"$f":"MAX(0,MIN(dagroosterberekening!$H$3,C382)-MAX(dagroosterberekening!$G$3,B382))","v":"00:00:00"},{"$f":"MAX(0,MIN(dagroosterberekening!$J$3,C382)-MAX(dagroosterberekening!$I$3,B382))","v":"00:00:00"},0,0]
["donderdag","23:15:00","23:30:00",{"$f":"Beheer!F95","v":0.4},{"$f":"MAX(0,MIN(dagroosterberekening!$H$3,C383)-MAX(dagroosterberekening!$G$3,B383))","v":"00:00:00"},{"$f":"MAX(0,MIN(dagroosterberekening!$J$3,C383)-MAX(dagroosterberekening!$I$3,B383))","v":"00:00:00"},0,0]
["donderdag","23:30:00","23:45:00",{"$f":"Beheer!F96","v":0.4},{"$f":"MAX(0,MIN(dagroosterberekening!$H$3,C384)-MAX(dagroosterberekening!$G$3,B384))","v":"00:00:00"},{"$f":"MAX(0,MIN(dagroosterberekening!$J$3,C384)-MAX(dagroosterberekening!$I$3,B384))","v":"00:00:00"},0,0]
["donderdag","23:45:00",1,{"$f":"Beheer!F97","v":0.4},{"$f":"MAX(0,MIN(dagroosterberekening!$H$3,C385)-MAX(dagroosterberekening!$G$3,B385))","v":"00:00:00"},{"$f":"MAX(0,MIN(dagroosterberekening!$J$3,C385)-MAX(dagroosterberekening!$I$3,B385))","v":"00:00:00"},0,0]
["vrijdag","00:00:00","00:15:00",{"$f":"Beheer!G2","v":0.4},{"$f":"MAX(0,MIN(dagroosterberekening!$H$3,C386)-MAX(dagroosterberekening!$G$3,B386))","v":"00:00:00"},{"$f":"MAX(0,MIN(dagroosterberekening!$J$3,C386)-MAX(dagroosterberekening!$I$3,B386))","v":"00:00:00"},0,0]
["vrijdag",{"$f":"C386","v":"00:15:00"},"00:30:00",{"$f":"Beheer!G3","v":0.4},{"$f":"MAX(0,MIN(dagroosterberekening!$H$3,C387)-MAX(dagroosterberekening!$G$3,B387))","v":"00:00:00"},{"$f":"MAX(0,MIN(dagroosterberekening!$J$3,C387)-MAX(dagroosterberekening!$I$3,B387))","v":"00:00:00"},{"$f":"ROUND((E387*1)+(E387*D387),10)","v":0},{"$f":"ROUND((F387*1)+(F387*D387),10)","v":0}]
["vrijdag","00:30:00","00:45:00",{"$f":"Beheer!G4","v":0.4},{"$f":"MAX(0,MIN(dagroosterberekening!$H$3,C388)-MAX(dagroosterberekening!$G$3,B388))","v":"00:00:00"},{"$f":"MAX(0,MIN(dagroosterberekening!$J$3,C388)-MAX(dagroosterberekening!$I$3,B388))","v":"00:00:00"},0,0]
["vrijdag","00:45:00","01:00:00",{"$f":"Beheer!G5","v":0.4},{"$f":"MAX(0,MIN(dagroosterberekening!$H$3,C389)-MAX(dagroosterberekening!$G$3,B389))","v":"00:00:00"},{"$f":"MAX(0,MIN(dagroosterberekening!$J$3,C389)-MAX(dagroosterberekening!$I$3,B389))","v":"00:00:00"},0,0]
["vrijdag","01:00:00","01:15:00",{"$f":"Beheer!G6","v":0.4},{"$f":"MAX(0,MIN(dagroosterberekening!$H$3,C390)-MAX(dagroosterberekening!$G$3,B390))","v":"00:00:00"},{"$f":"MAX(0,MIN(dagroosterberekening!$J$3,C390)-MAX(dagroosterberekening!$I$3,B390))","v":"00:00:00"},0,0]
["vrijdag","01:15:00","01:30:00",{"$f":"Beheer!G7","v":0.4},{"$f":"MAX(0,MIN(dagroosterberekening!$H$3,C391)-MAX(dagroosterberekening!$G$3,B391))","v":"00:00:00"},{"$f":"MAX(0,MIN(dagroosterberekening!$J$3,C391)-MAX(dagroosterberekening!$I$3,B391))","v":"00:00:00"},0,0]
["vrijdag","01:30:00","01:45:00",{"$f":"Beheer!G8","v":0.4},{"$f":"MAX(0,MIN(dagroosterberekening!$H$3,C392)-MAX(dagroosterberekening!$G$3,B392))","v":"00:00:00"},{"$f":"MAX(0,MIN(dagroosterberekening!$J$3,C392)-MAX(dagroosterberekening!$I$3,B392))","v":"00:00:00"},0,0]
["vrijdag","01:45:00","02:00:00",{"$f":"Beheer!G9","v":0.4},{"$f":"MAX(0,MIN(dagroosterberekening!$H$3,C393)-MAX(dagroosterberekening!$G$3,B393))","v":"00:00:00"},{"$f":"MAX(0,MIN(dagroosterberekening!$J$3,C393)-MAX(dagroosterberekening!$I$3,B393))","v":"00:00:00"},0,0]
["vrijdag","02:00:00","02:15:00",{"$f":"Beheer!G10","v":0.4},{"$f":"MAX(0,MIN(dagroosterberekening!$H$3,C394)-MAX(dagroosterberekening!$G$3,B394))","v":"00:00:00"},{"$f":"MAX(0,MIN(dagroosterberekening!$J$3,C394)-MAX(dagroosterberekening!$I$3,B394))","v":"00:00:00"},0,0]
["vrijdag","02:15:00","02:30:00",{"$f":"Beheer!G11","v":0.4},{"$f":"MAX(0,MIN(dagroosterberekening!$H$3,C395)-MAX(dagroosterberekening!$G$3,B395))","v":"00:00:00"},{"$f":"MAX(0,MIN(dagroosterberekening!$J$3,C395)-MAX(dagroosterberekening!$I$3,B395))","v":"00:00:00"},0,0]
["vrijdag","02:30:00","02:45:00",{"$f":"Beheer!G12","v":0.4},{"$f":"MAX(0,MIN(dagroosterberekening!$H$3,C396)-MAX(dagroosterberekening!$G$3,B396))","v":"00:00:00"},{"$f":"MAX(0,MIN(dagroosterberekening!$J$3,C396)-MAX(dagroosterberekening!$I$3,B396))","v":"00:00:00"},0,0]
["vrijdag","02:45:00","03:00:00",{"$f":"Beheer!G13","v":0.4},{"$f":"MAX(0,MIN(dagroosterberekening!$H$3,C397)-MAX(dagroosterberekening!$G$3,B397))","v":"00:00:00"},{"$f":"MAX(0,MIN(dagroosterberekening!$J$3,C397)-MAX(dagroosterberekening!$I$3,B397))","v":"00:00:00"},0,0]
["vrijdag","03:00:00","03:15:00",{"$f":"Beheer!G14","v":0.4},{"$f":"MAX(0,MIN(dagroosterberekening!$H$3,C398)-MAX(dagroosterberekening!$G$3,B398))","v":"00:00:00"},{"$f":"MAX(0,MIN(dagroosterberekening!$J$3,C398)-MAX(dagroosterberekening!$I$3,B398))","v":"00:00:00"},0,0]
["vrijdag","03:15:00","03:30:00",{"$f":"Beheer!G15","v":0.4},{"$f":"MAX(0,MIN(dagroosterberekening!$H$3,C399)-MAX(dagroosterberekening!$G$3,B399))","v":"00:00:00"},{"$f":"MAX(0,MIN(dagroosterberekening!$J$3,C399)-MAX(dagroosterberekening!$I$3,B399))","v":"00:00:00"},0,0]
["vrijdag","03:30:00","03:45:00",{"$f":"Beheer!G16","v":0.4},{"$f":"MAX(0,MIN(dagroosterberekening!$H$3,C400)-MAX(dagroosterberekening!$G$3,B400))","v":"00:00:00"},{"$f":"MAX(0,MIN(dagroosterberekening!$J$3,C400)-MAX(dagroosterberekening!$I$3,B400))","v":"00:00:00"},0,0]
["vrijdag","03:45:00","04:00:00",{"$f":"Beheer!G17","v":0.4},{"$f":"MAX(0,MIN(dagroosterberekening!$H$3,C401)-MAX(dagroosterberekening!$G$3,B401))","v":"00:00:00"},{"$f":"MAX(0,MIN(dagroosterberekening!$J$3,C401)-MAX(dagroosterberekening!$I$3,B401))","v":"00:00:00"},0,0]
["vrijdag","04:00:00","04:15:00",{"$f":"Beheer!G18","v":0.4},{"$f":"MAX(0,MIN(dagroosterberekening!$H$3,C402)-MAX(dagroosterberekening!$G$3,B402))","v":"00:00:00"},{"$f":"MAX(0,MIN(dagroosterberekening!$J$3,C402)-MAX(dagroosterberekening!$I$3,B402))","v":"00:00:00"},0,0]
["vrijdag","04:15:00","04:30:00",{"$f":"Beheer!G19","v":0.4},{"$f":"MAX(0,MIN(dagroosterberekening!$H$3,C403)-MAX(dagroosterberekening!$G$3,B403))","v":"00:00:00"},{"$f":"MAX(0,MIN(dagroosterberekening!$J$3,C403)-MAX(dagroosterberekening!$I$3,B403))","v":"00:00:00"},0,0]
["vrijdag","04:30:00","04:45:00",{"$f":"Beheer!G20","v":0.4},{"$f":"MAX(0,MIN(dagroosterberekening!$H$3,C404)-MAX(dagroosterberekening!$G$3,B404))","v":"00:00:00"},{"$f":"MAX(0,MIN(dagroosterberekening!$J$3,C404)-MAX(dagroosterberekening!$I$3,B404))","v":"00:00:00"},0,0]
["vrijdag","04:45:00","05:00:00",{"$f":"Beheer!G21","v":0.4},{"$f":"MAX(0,MIN(dagroosterberekening!$H$3,C405)-MAX(dagroosterberekening!$G$3,B405))","v":"00:00:00"},{"$f":"MAX(0,MIN(dagroosterberekening!$J$3,C405)-MAX(dagroosterberekening!$I$3,B405))","v":"00:00:00"},0,0]
["vrijdag","05:00:00","05:15:00",{"$f":"Beheer!G22","v":0.4},{"$f":"MAX(0,MIN(dagroosterberekening!$H$3,C406)-MAX(dagroosterberekening!$G$3,B406))","v":"00:00:00"},{"$f":"MAX(0,MIN(dagroosterberekening!$J$3,C406)-MAX(dagroosterberekening!$I$3,B406))","v":"00:00:00"},0,0]
["vrijdag","05:15:00","05:30:00",{"$f":"Beheer!G23","v":0.4},{"$f":"MAX(0,MIN(dagroosterberekening!$H$3,C407)-MAX(dagroosterberekening!$G$3,B407))","v":"00:00:00"},{"$f":"MAX(0,MIN(dagroosterberekening!$J$3,C407)-MAX(dagroosterberekening!$I$3,B407))","v":"00:00:00"},0,0]
["vrijdag","05:30:00","05:45:00",{"$f":"Beheer!G24","v":0.4},{"$f":"MAX(0,MIN(dagroosterberekening!$H$3,C408)-MAX(dagroosterberekening!$G$3,B408))","v":"00:00:00"},{"$f":"MAX(0,MIN(dagroosterberekening!$J$3,C408)-MAX(dagroosterberekening!$I$3,B408))","v":"00:00:00"},0,0]
["vrijdag","05:45:00","06:00:00",{"$f":"Beheer!G25","v":0.4},{"$f":"MAX(0,MIN(dagroosterberekening!$H$3,C409)-MAX(dagroosterberekening!$G$3,B409))","v":"00:00:00"},{"$f":"MAX(0,MIN(dagroosterberekening!$J$3,C409)-MAX(dagroosterberekening!$I$3,B409))","v":"00:00:00"},0,0]
["vrijdag","06:00:00","06:15:00",{"$f":"Beheer!G26","v":0.4},{"$f":"MAX(0,MIN(dagroosterberekening!$H$3,C410)-MAX(dagroosterberekening!$G$3,B410))","v":"00:00:00"},{"$f":"MAX(0,MIN(dagroosterberekening!$J$3,C410)-MAX(dagroosterberekening!$I$3,B410))","v":"00:00:00"},0,0]
["vrijdag","06:15:00","06:30:00",{"$f":"Beheer!G27","v":0.4},{"$f":"MAX(0,MIN(dagroosterberekening!$H$3,C411)-MAX(dagroosterberekening!$G$3,B411))","v":"00:00:00"},{"$f":"MAX(0,MIN(dagroosterberekening!$J$3,C411)-MAX(dagroosterberekening!$I$3,B411))","v":"00:00:00"},0,0]
["vrijdag","06:30:00","06:45:00",{"$f":"Beheer!G28","v":0.4},{"$f":"MAX(0,MIN(dagroosterberekening!$H$3,C412)-MAX(dagroosterberekening!$G$3,B412))","v":"00:00:00"},{"$f":"MAX(0,MIN(dagroosterberekening!$J$3,C412)-MAX(dagroosterberekening!$I$3,B412))","v":"00:00:00"},0,0]
["vrijdag","06:45:00","07:00:00",{"$f":"Beheer!G29","v":0.4},{"$f":"MAX(0,MIN(dagroosterberekening!$H$3,C413)-MAX(dagroosterberekening!$G$3,B413))","v":"00:00:00"},{"$f":"MAX(0,MIN(dagroosterberekening!$J$3,C413)-MAX(dagroosterberekening!$I$3,B413))","v":"00:00:00"},0,0]
["vrijdag","07:00:00","07:15:00",{"$f":"Beheer!G30","v":0},{"$f":"MAX(0,MIN(dagroosterberekening!$H$3,C414)-MAX(dagroosterberekening!$G$3,B414))","v":"00:00:00"},{"$f":"MAX(0,MIN(dagroosterberekening!$J$3,C414)-MAX(dagroosterberekening!$I$3,B414))","v":"00:00:00"},0,0]
["vrijdag","07:15:00","07:30:00",{"$f":"Beheer!G31","v":0},{"$f":"MAX(0,MIN(dagroosterberekening!$H$3,C415)-MAX(dagroosterberekening!$G$3,B415))","v":"00:00:00"},{"$f":"MAX(0,MIN(dagroosterberekening!$J$3,C415)-MAX(dagroosterberekening!$I$3,B415))","v":"00:00:00"},0,0]
["vrijdag","07:30:00","07:45:00",{"$f":"Beheer!G32","v":0},{"$f":"MAX(0,MIN(dagroosterberekening!$H$3,C416)-MAX(dagroosterberekening!$G$3,B416))","v":"00:00:00"},{"$f":"MAX(0,MIN(dagroosterberekening!$J$3,C416)-MAX(dagroosterberekening!$I$3,B416))","v":"00:00:00"},0,0]
["vrijdag","07:45:00","08:00:00",{"$f":"Beheer!G33","v":0},{"$f":"MAX(0,MIN(dagroosterberekening!$H$3,C417)-MAX(dagroosterberekening!$G$3,B417))","v":"00:00:00"},{"$f":"MAX(0,MIN(dagroosterberekening!$J$3,C417)-MAX(dagroosterberekening!$I$3,B417))","v":"00:00:00"},0,0]
["vrijdag","08:00:00","08:15:00",{"$f":"Beheer!G34","v":0},{"$f":"MAX(0,MIN(dagroosterberekening!$H$3,C418)-MAX(dagroosterberekening!$G$3,B418))","v":"00:08:00"},{"$f":"MAX(0,MIN(dagroosterberekening!$J$3,C418)-MAX(dagroosterberekening!$I$3,B418))","v":"00:00:00"},5.5555556000000004E-3,0]
["vrijdag","08:15:00","08:30:00",{"$f":"Beheer!G35","v":0},{"$f":"MAX(0,MIN(dagroosterberekening!$H$3,C419)-MAX(dagroosterberekening!$G$3,B419))","v":"00:00:00"},{"$f":"MAX(0,MIN(dagroosterberekening!$J$3,C419)-MAX(dagroosterberekening!$I$3,B419))","v":"00:00:00"},0,0]
["vrijdag","08:30:00","08:45:00",{"$f":"Beheer!G36","v":0},{"$f":"MAX(0,MIN(dagroosterberekening!$H$3,C420)-MAX(dagroosterberekening!$G$3,B420))","v":"00:00:00"},{"$f":"MAX(0,MIN(dagroosterberekening!$J$3,C420)-MAX(dagroosterberekening!$I$3,B420))","v":"00:00:00"},0,0]
["vrijdag","08:45:00","09:00:00",{"$f":"Beheer!G37","v":0},{"$f":"MAX(0,MIN(dagroosterberekening!$H$3,C421)-MAX(dagroosterberekening!$G$3,B421))","v":"00:00:00"},{"$f":"MAX(0,MIN(dagroosterberekening!$J$3,C421)-MAX(dagroosterberekening!$I$3,B421))","v":"00:00:00"},0,0]
["vrijdag","09:00:00","09:15:00",{"$f":"Beheer!G38","v":0},{"$f":"MAX(0,MIN(dagroosterberekening!$H$3,C422)-MAX(dagroosterberekening!$G$3,B422))","v":"00:00:00"},{"$f":"MAX(0,MIN(dagroosterberekening!$J$3,C422)-MAX(dagroosterberekening!$I$3,B422))","v":"00:00:00"},0,0]
["vrijdag","09:15:00","09:30:00",{"$f":"Beheer!G39","v":0},{"$f":"MAX(0,MIN(dagroosterberekening!$H$3,C423)-MAX(dagroosterberekening!$G$3,B423))","v":"00:00:00"},{"$f":"MAX(0,MIN(dagroosterberekening!$J$3,C423)-MAX(dagroosterberekening!$I$3,B423))","v":"00:00:00"},0,0]
["vrijdag","09:30:00","09:45:00",{"$f":"Beheer!G40","v":0},{"$f":"MAX(0,MIN(dagroosterberekening!$H$3,C424)-MAX(dagroosterberekening!$G$3,B424))","v":"00:00:00"},{"$f":"MAX(0,MIN(dagroosterberekening!$J$3,C424)-MAX(dagroosterberekening!$I$3,B424))","v":"00:00:00"},0,0]
["vrijdag","09:45:00","10:00:00",{"$f":"Beheer!G41","v":0},{"$f":"MAX(0,MIN(dagroosterberekening!$H$3,C425)-MAX(dagroosterberekening!$G$3,B425))","v":"00:00:00"},{"$f":"MAX(0,MIN(dagroosterberekening!$J$3,C425)-MAX(dagroosterberekening!$I$3,B425))","v":"00:00:00"},0,0]
["vrijdag","10:00:00","10:15:00",{"$f":"Beheer!G42","v":0},{"$f":"MAX(0,MIN(dagroosterberekening!$H$3,C426)-MAX(dagroosterberekening!$G$3,B426))","v":"00:00:00"},{"$f":"MAX(0,MIN(dagroosterberekening!$J$3,C426)-MAX(dagroosterberekening!$I$3,B426))","v":"00:00:00"},0,0]
["vrijdag","10:15:00","10:30:00",{"$f":"Beheer!G43","v":0},{"$f":"MAX(0,MIN(dagroosterberekening!$H$3,C427)-MAX(dagroosterberekening!$G$3,B427))","v":"00:00:00"},{"$f":"MAX(0,MIN(dagroosterberekening!$J$3,C427)-MAX(dagroosterberekening!$I$3,B427))","v":"00:00:00"},0,0]
["vrijdag","10:30:00","10:45:00",{"$f":"Beheer!G44","v":0},{"$f":"MAX(0,MIN(dagroosterberekening!$H$3,C428)-MAX(dagroosterberekening!$G$3,B428))","v":"00:00:00"},{"$f":"MAX(0,MIN(dagroosterberekening!$J$3,C428)-MAX(dagroosterberekening!$I$3,B428))","v":"00:00:00"},0,0]
["vrijdag","10:45:00","11:00:00",{"$f":"Beheer!G45","v":0},{"$f":"MAX(0,MIN(dagroosterberekening!$H$3,C429)-MAX(dagroosterberekening!$G$3,B429))","v":"00:00:00"},{"$f":"MAX(0,MIN(dagroosterberekening!$J$3,C429)-MAX(dagroosterberekening!$I$3,B429))","v":"00:00:00"},0,0]
["vrijdag","11:00:00","11:15:00",{"$f":"Beheer!G46","v":0},{"$f":"MAX(0,MIN(dagroosterberekening!$H$3,C430)-MAX(dagroosterberekening!$G$3,B430))","v":"00:00:00"},{"$f":"MAX(0,MIN(dagroosterberekening!$J$3,C430)-MAX(dagroosterberekening!$I$3,B430))","v":"00:00:00"},0,0]
["vrijdag","11:15:00","11:30:00",{"$f":"Beheer!G47","v":0},{"$f":"MAX(0,MIN(dagroosterberekening!$H$3,C431)-MAX(dagroosterberekening!$G$3,B431))","v":"00:00:00"},{"$f":"MAX(0,MIN(dagroosterberekening!$J$3,C431)-MAX(dagroosterberekening!$I$3,B431))","v":"00:00:00"},0,0]
["vrijdag","11:30:00","11:45:00",{"$f":"Beheer!G48","v":0},{"$f":"MAX(0,MIN(dagroosterberekening!$H$3,C432)-MAX(dagroosterberekening!$G$3,B432))","v":"00:00:00"},{"$f":"MAX(0,MIN(dagroosterberekening!$J$3,C432)-MAX(dagroosterberekening!$I$3,B432))","v":"00:00:00"},0,0]
["vrijdag","11:45:00","12:00:00",{"$f":"Beheer!G49","v":0},{"$f":"MAX(0,MIN(dagroosterberekening!$H$3,C433)-MAX(dagroosterberekening!$G$3,B433))","v":"00:00:00"},{"$f":"MAX(0,MIN(dagroosterberekening!$J$3,C433)-MAX(dagroosterberekening!$I$3,B433))","v":"00:00:00"},0,0]
["vrijdag","12:00:00","12:15:00",{"$f":"Beheer!G50","v":0},{"$f":"MAX(0,MIN(dagroosterberekening!$H$3,C434)-MAX(dagroosterberekening!$G$3,B434))","v":"00:00:00"},{"$f":"MAX(0,MIN(dagroosterberekening!$J$3,C434)-MAX(dagroosterberekening!$I$3,B434))","v":"00:00:00"},0,0]
["vrijdag","12:15:00","12:30:00",{"$f":"Beheer!G51","v":0},{"$f":"MAX(0,MIN(dagroosterberekening!$H$3,C435)-MAX(dagroosterberekening!$G$3,B435))","v":"00:00:00"},{"$f":"MAX(0,MIN(dagroosterberekening!$J$3,C435)-MAX(dagroosterberekening!$I$3,B435))","v":"00:00:00"},0,0]
["vrijdag","12:30:00","12:45:00",{"$f":"Beheer!G52","v":0},{"$f":"MAX(0,MIN(dagroosterberekening!$H$3,C436)-MAX(dagroosterberekening!$G$3,B436))","v":"00:00:00"},{"$f":"MAX(0,MIN(dagroosterberekening!$J$3,C436)-MAX(dagroosterberekening!$I$3,B436))","v":"00:00:00"},0,0]
["vrijdag","12:45:00","13:00:00",{"$f":"Beheer!G53","v":0},{"$f":"MAX(0,MIN(dagroosterberekening!$H$3,C437)-MAX(dagroosterberekening!$G$3,B437))","v":"00:00:00"},{"$f":"MAX(0,MIN(dagroosterberekening!$J$3,C437)-MAX(dagroosterberekening!$I$3,B437))","v":"00:00:00"},0,0]
["vrijdag","13:00:00","13:15:00",{"$f":"Beheer!G54","v":0},{"$f":"MAX(0,MIN(dagroosterberekening!$H$3,C438)-MAX(dagroosterberekening!$G$3,B438))","v":"00:00:00"},{"$f":"MAX(0,MIN(dagroosterberekening!$J$3,C438)-MAX(dagroosterberekening!$I$3,B438))","v":"00:00:00"},0,0]
["vrijdag","13:15:00","13:30:00",{"$f":"Beheer!G55","v":0},{"$f":"MAX(0,MIN(dagroosterberekening!$H$3,C439)-MAX(dagroosterberekening!$G$3,B439))","v":"00:00:00"},{"$f":"MAX(0,MIN(dagroosterberekening!$J$3,C439)-MAX(dagroosterberekening!$I$3,B439))","v":"00:00:00"},0,0]
["vrijdag","13:30:00","13:45:00",{"$f":"Beheer!G56","v":0},{"$f":"MAX(0,MIN(dagroosterberekening!$H$3,C440)-MAX(dagroosterberekening!$G$3,B440))","v":"00:00:00"},{"$f":"MAX(0,MIN(dagroosterberekening!$J$3,C440)-MAX(dagroosterberekening!$I$3,B440))","v":"00:00:00"},0,0]
["vrijdag","13:45:00","14:00:00",{"$f":"Beheer!G57","v":0},{"$f":"MAX(0,MIN(dagroosterberekening!$H$3,C441)-MAX(dagroosterberekening!$G$3,B441))","v":"00:00:00"},{"$f":"MAX(0,MIN(dagroosterberekening!$J$3,C441)-MAX(dagroosterberekening!$I$3,B441))","v":"00:00:00"},0,0]
["vrijdag","14:00:00","14:15:00",{"$f":"Beheer!G58","v":0},{"$f":"MAX(0,MIN(dagroosterberekening!$H$3,C442)-MAX(dagroosterberekening!$G$3,B442))","v":"00:00:00"},{"$f":"MAX(0,MIN(dagroosterberekening!$J$3,C442)-MAX(dagroosterberekening!$I$3,B442))","v":"00:00:00"},0,0]
["vrijdag","14:15:00","14:30:00",{"$f":"Beheer!G59","v":0},{"$f":"MAX(0,MIN(dagroosterberekening!$H$3,C443)-MAX(dagroosterberekening!$G$3,B443))","v":"00:00:00"},{"$f":"MAX(0,MIN(dagroosterberekening!$J$3,C443)-MAX(dagroosterberekening!$I$3,B443))","v":"00:00:00"},0,0]
["vrijdag","14:30:00","14:45:00",{"$f":"Beheer!G60","v":0},{"$f":"MAX(0,MIN(dagroosterberekening!$H$3,C444)-MAX(dagroosterberekening!$G$3,B444))","v":"00:00:00"},{"$f":"MAX(0,MIN(dagroosterberekening!$J$3,C444)-MAX(dagroosterberekening!$I$3,B444))","v":"00:00:00"},0,0]
["vrijdag","14:45:00","15:00:00",{"$f":"Beheer!G61","v":0},{"$f":"MAX(0,MIN(dagroosterberekening!$H$3,C445)-MAX(dagroosterberekening!$G$3,B445))","v":"00:00:00"},{"$f":"MAX(0,MIN(dagroosterberekening!$J$3,C445)-MAX(dagroosterberekening!$I$3,B445))","v":"00:00:00"},0,0]
["vrijdag","15:00:00","15:15:00",{"$f":"Beheer!G62","v":0},{"$f":"MAX(0,MIN(dagroosterberekening!$H$3,C446)-MAX(dagroosterberekening!$G$3,B446))","v":"00:00:00"},{"$f":"MAX(0,MIN(dagroosterberekening!$J$3,C446)-MAX(dagroosterberekening!$I$3,B446))","v":"00:00:00"},0,0]
["vrijdag","15:15:00","15:30:00",{"$f":"Beheer!G63","v":0},{"$f":"MAX(0,MIN(dagroosterberekening!$H$3,C447)-MAX(dagroosterberekening!$G$3,B447))","v":"00:00:00"},{"$f":"MAX(0,MIN(dagroosterberekening!$J$3,C447)-MAX(dagroosterberekening!$I$3,B447))","v":"00:00:00"},0,0]
["vrijdag","15:30:00","15:45:00",{"$f":"Beheer!G64","v":0},{"$f":"MAX(0,MIN(dagroosterberekening!$H$3,C448)-MAX(dagroosterberekening!$G$3,B448))","v":"00:00:00"},{"$f":"MAX(0,MIN(dagroosterberekening!$J$3,C448)-MAX(dagroosterberekening!$I$3,B448))","v":"00:00:00"},0,0]
["vrijdag","15:45:00","16:00:00",{"$f":"Beheer!G65","v":0},{"$f":"MAX(0,MIN(dagroosterberekening!$H$3,C449)-MAX(dagroosterberekening!$G$3,B449))","v":"00:00:00"},{"$f":"MAX(0,MIN(dagroosterberekening!$J$3,C449)-MAX(dagroosterberekening!$I$3,B449))","v":"00:00:00"},0,0]
["vrijdag","16:00:00","16:15:00",{"$f":"Beheer!G66","v":0},{"$f":"MAX(0,MIN(dagroosterberekening!$H$3,C450)-MAX(dagroosterberekening!$G$3,B450))","v":"00:00:00"},{"$f":"MAX(0,MIN(dagroosterberekening!$J$3,C450)-MAX(dagroosterberekening!$I$3,B450))","v":"00:00:00"},0,0]
["vrijdag",{"$f":"C450","v":"16:15:00"},"16:30:00",{"$f":"Beheer!G67","v":0},{"$f":"MAX(0,MIN(dagroosterberekening!$H$3,C451)-MAX(dagroosterberekening!$G$3,B451))","v":"00:00:00"},{"$f":"MAX(0,MIN(dagroosterberekening!$J$3,C451)-MAX(dagroosterberekening!$I$3,B451))","v":"00:00:00"},{"$f":"ROUND((E451*1)+(E451*D451),10)","v":0},{"$f":"ROUND((F451*1)+(F451*D451),10)","v":0}]
["vrijdag","16:30:00","16:45:00",{"$f":"Beheer!G68","v":0},{"$f":"MAX(0,MIN(dagroosterberekening!$H$3,C452)-MAX(dagroosterberekening!$G$3,B452))","v":"00:00:00"},{"$f":"MAX(0,MIN(dagroosterberekening!$J$3,C452)-MAX(dagroosterberekening!$I$3,B452))","v":"00:00:00"},0,0]
["vrijdag","16:45:00","17:00:00",{"$f":"Beheer!G69","v":0},{"$f":"MAX(0,MIN(dagroosterberekening!$H$3,C453)-MAX(dagroosterberekening!$G$3,B453))","v":"00:00:00"},{"$f":"MAX(0,MIN(dagroosterberekening!$J$3,C453)-MAX(dagroosterberekening!$I$3,B453))","v":"00:00:00"},0,0]
["vrijdag","17:00:00","17:15:00",{"$f":"Beheer!G70","v":0},{"$f":"MAX(0,MIN(dagroosterberekening!$H$3,C454)-MAX(dagroosterberekening!$G$3,B454))","v":"00:00:00"},{"$f":"MAX(0,MIN(dagroosterberekening!$J$3,C454)-MAX(dagroosterberekening!$I$3,B454))","v":"00:00:00"},0,0]
["vrijdag","17:15:00","17:30:00",{"$f":"Beheer!G71","v":0},{"$f":"MAX(0,MIN(dagroosterberekening!$H$3,C455)-MAX(dagroosterberekening!$G$3,B455))","v":"00:00:00"},{"$f":"MAX(0,MIN(dagroosterberekening!$J$3,C455)-MAX(dagroosterberekening!$I$3,B455))","v":"00:00:00"},0,0]
["vrijdag","17:30:00","17:45:00",{"$f":"Beheer!G72","v":0},{"$f":"MAX(0,MIN(dagroosterberekening!$H$3,C456)-MAX(dagroosterberekening!$G$3,B456))","v":"00:00:00"},{"$f":"MAX(0,MIN(dagroosterberekening!$J$3,C456)-MAX(dagroosterberekening!$I$3,B456))","v":"00:00:00"},0,0]
["vrijdag","17:45:00","18:00:00",{"$f":"Beheer!G73","v":0},{"$f":"MAX(0,MIN(dagroosterberekening!$H$3,C457)-MAX(dagroosterberekening!$G$3,B457))","v":"00:00:00"},{"$f":"MAX(0,MIN(dagroosterberekening!$J$3,C457)-MAX(dagroosterberekening!$I$3,B457))","v":"00:00:00"},0,0]
["vrijdag","18:00:00","18:15:00",{"$f":"Beheer!G74","v":0.4},{"$f":"MAX(0,MIN(dagroosterberekening!$H$3,C458)-MAX(dagroosterberekening!$G$3,B458))","v":"00:00:00"},{"$f":"MAX(0,MIN(dagroosterberekening!$J$3,C458)-MAX(dagroosterberekening!$I$3,B458))","v":"00:00:00"},0,0]
["vrijdag","18:15:00","18:30:00",{"$f":"Beheer!G75","v":0.4},{"$f":"MAX(0,MIN(dagroosterberekening!$H$3,C459)-MAX(dagroosterberekening!$G$3,B459))","v":"00:00:00"},{"$f":"MAX(0,MIN(dagroosterberekening!$J$3,C459)-MAX(dagroosterberekening!$I$3,B459))","v":"00:00:00"},0,0]
["vrijdag","18:30:00","18:45:00",{"$f":"Beheer!G76","v":0.4},{"$f":"MAX(0,MIN(dagroosterberekening!$H$3,C460)-MAX(dagroosterberekening!$G$3,B460))","v":"00:00:00"},{"$f":"MAX(0,MIN(dagroosterberekening!$J$3,C460)-MAX(dagroosterberekening!$I$3,B460))","v":"00:00:00"},0,0]
["vrijdag","18:45:00","19:00:00",{"$f":"Beheer!G77","v":0.4},{"$f":"MAX(0,MIN(dagroosterberekening!$H$3,C461)-MAX(dagroosterberekening!$G$3,B461))","v":"00:00:00"},{"$f":"MAX(0,MIN(dagroosterberekening!$J$3,C461)-MAX(dagroosterberekening!$I$3,B461))","v":"00:00:00"},0,0]
["vrijdag","19:00:00","19:15:00",{"$f":"Beheer!G78","v":0.4},{"$f":"MAX(0,MIN(dagroosterberekening!$H$3,C462)-MAX(dagroosterberekening!$G$3,B462))","v":"00:00:00"},{"$f":"MAX(0,MIN(dagroosterberekening!$J$3,C462)-MAX(dagroosterberekening!$I$3,B462))","v":"00:00:00"},0,0]
["vrijdag","19:15:00","19:30:00",{"$f":"Beheer!G79","v":0.4},{"$f":"MAX(0,MIN(dagroosterberekening!$H$3,C463)-MAX(dagroosterberekening!$G$3,B463))","v":"00:00:00"},{"$f":"MAX(0,MIN(dagroosterberekening!$J$3,C463)-MAX(dagroosterberekening!$I$3,B463))","v":"00:00:00"},0,0]
["vrijdag","19:30:00","19:45:00",{"$f":"Beheer!G80","v":0.4},{"$f":"MAX(0,MIN(dagroosterberekening!$H$3,C464)-MAX(dagroosterberekening!$G$3,B464))","v":"00:00:00"},{"$f":"MAX(0,MIN(dagroosterberekening!$J$3,C464)-MAX(dagroosterberekening!$I$3,B464))","v":"00:00:00"},0,0]
["vrijdag","19:45:00","20:00:00",{"$f":"Beheer!G81","v":0.4},{"$f":"MAX(0,MIN(dagroosterberekening!$H$3,C465)-MAX(dagroosterberekening!$G$3,B465))","v":"00:00:00"},{"$f":"MAX(0,MIN(dagroosterberekening!$J$3,C465)-MAX(dagroosterberekening!$I$3,B465))","v":"00:00:00"},0,0]
["vrijdag","20:00:00","20:15:00",{"$f":"Beheer!G82","v":0.4},{"$f":"MAX(0,MIN(dagroosterberekening!$H$3,C466)-MAX(dagroosterberekening!$G$3,B466))","v":"00:00:00"},{"$f":"MAX(0,MIN(dagroosterberekening!$J$3,C466)-MAX(dagroosterberekening!$I$3,B466))","v":"00:00:00"},0,0]
["vrijdag","20:15:00","20:30:00",{"$f":"Beheer!G83","v":0.4},{"$f":"MAX(0,MIN(dagroosterberekening!$H$3,C467)-MAX(dagroosterberekening!$G$3,B467))","v":"00:00:00"},{"$f":"MAX(0,MIN(dagroosterberekening!$J$3,C467)-MAX(dagroosterberekening!$I$3,B467))","v":"00:00:00"},0,0]
["vrijdag","20:30:00","20:45:00",{"$f":"Beheer!G84","v":0.4},{"$f":"MAX(0,MIN(dagroosterberekening!$H$3,C468)-MAX(dagroosterberekening!$G$3,B468))","v":"00:00:00"},{"$f":"MAX(0,MIN(dagroosterberekening!$J$3,C468)-MAX(dagroosterberekening!$I$3,B468))","v":"00:00:00"},0,0]
["vrijdag","20:45:00","21:00:00",{"$f":"Beheer!G85","v":0.4},{"$f":"MAX(0,MIN(dagroosterberekening!$H$3,C469)-MAX(dagroosterberekening!$G$3,B469))","v":"00:00:00"},{"$f":"MAX(0,MIN(dagroosterberekening!$J$3,C469)-MAX(dagroosterberekening!$I$3,B469))","v":"00:00:00"},0,0]
["vrijdag","21:00:00","21:15:00",{"$f":"Beheer!G86","v":0.4},{"$f":"MAX(0,MIN(dagroosterberekening!$H$3,C470)-MAX(dagroosterberekening!$G$3,B470))","v":"00:00:00"},{"$f":"MAX(0,MIN(dagroosterberekening!$J$3,C470)-MAX(dagroosterberekening!$I$3,B470))","v":"00:00:00"},0,0]
["vrijdag","21:15:00","21:30:00",{"$f":"Beheer!G87","v":0.4},{"$f":"MAX(0,MIN(dagroosterberekening!$H$3,C471)-MAX(dagroosterberekening!$G$3,B471))","v":"00:00:00"},{"$f":"MAX(0,MIN(dagroosterberekening!$J$3,C471)-MAX(dagroosterberekening!$I$3,B471))","v":"00:00:00"},0,0]
["vrijdag","21:30:00","21:45:00",{"$f":"Beheer!G88","v":0.4},{"$f":"MAX(0,MIN(dagroosterberekening!$H$3,C472)-MAX(dagroosterberekening!$G$3,B472))","v":"00:00:00"},{"$f":"MAX(0,MIN(dagroosterberekening!$J$3,C472)-MAX(dagroosterberekening!$I$3,B472))","v":"00:00:00"},0,0]
["vrijdag","21:45:00","22:00:00",{"$f":"Beheer!G89","v":0.4},{"$f":"MAX(0,MIN(dagroosterberekening!$H$3,C473)-MAX(dagroosterberekening!$G$3,B473))","v":"00:00:00"},{"$f":"MAX(0,MIN(dagroosterberekening!$J$3,C473)-MAX(dagroosterberekening!$I$3,B473))","v":"00:00:00"},0,0]
["vrijdag","22:00:00","22:15:00",{"$f":"Beheer!G90","v":0.4},{"$f":"MAX(0,MIN(dagroosterberekening!$H$3,C474)-MAX(dagroosterberekening!$G$3,B474))","v":"00:00:00"},{"$f":"MAX(0,MIN(dagroosterberekening!$J$3,C474)-MAX(dagroosterberekening!$I$3,B474))","v":"00:00:00"},0,0]
["vrijdag","22:15:00","22:30:00",{"$f":"Beheer!G91","v":0.4},{"$f":"MAX(0,MIN(dagroosterberekening!$H$3,C475)-MAX(dagroosterberekening!$G$3,B475))","v":"00:00:00"},{"$f":"MAX(0,MIN(dagroosterberekening!$J$3,C475)-MAX(dagroosterberekening!$I$3,B475))","v":"00:00:00"},0,0]
["vrijdag","22:30:00","22:45:00",{"$f":"Beheer!G92","v":0.4},{"$f":"MAX(0,MIN(dagroosterberekening!$H$3,C476)-MAX(dagroosterberekening!$G$3,B476))","v":"00:00:00"},{"$f":"MAX(0,MIN(dagroosterberekening!$J$3,C476)-MAX(dagroosterberekening!$I$3,B476))","v":"00:00:00"},0,0]
["vrijdag","22:45:00","23:00:00",{"$f":"Beheer!G93","v":0.4},{"$f":"MAX(0,MIN(dagroosterberekening!$H$3,C477)-MAX(dagroosterberekening!$G$3,B477))","v":"00:00:00"},{"$f":"MAX(0,MIN(dagroosterberekening!$J$3,C477)-MAX(dagroosterberekening!$I$3,B477))","v":"00:00:00"},0,0]
["vrijdag","23:00:00","23:15:00",{"$f":"Beheer!G94","v":0.4},{"$f":"MAX(0,MIN(dagroosterberekening!$H$3,C478)-MAX(dagroosterberekening!$G$3,B478))","v":"00:00:00"},{"$f":"MAX(0,MIN(dagroosterberekening!$J$3,C478)-MAX(dagroosterberekening!$I$3,B478))","v":"00:00:00"},0,0]
["vrijdag","23:15:00","23:30:00",{"$f":"Beheer!G95","v":0.4},{"$f":"MAX(0,MIN(dagroosterberekening!$H$3,C479)-MAX(dagroosterberekening!$G$3,B479))","v":"00:00:00"},{"$f":"MAX(0,MIN(dagroosterberekening!$J$3,C479)-MAX(dagroosterberekening!$I$3,B479))","v":"00:00:00"},0,0]
["vrijdag","23:30:00","23:45:00",{"$f":"Beheer!G96","v":0.4},{"$f":"MAX(0,MIN(dagroosterberekening!$H$3,C480)-MAX(dagroosterberekening!$G$3,B480))","v":"00:00:00"},{"$f":"MAX(0,MIN(dagroosterberekening!$J$3,C480)-MAX(dagroosterberekening!$I$3,B480))","v":"00:00:00"},0,0]
["vrijdag","23:45:00",1,{"$f":"Beheer!G97","v":0.4},{"$f":"MAX(0,MIN(dagroosterberekening!$H$3,C481)-MAX(dagroosterberekening!$G$3,B481))","v":"00:00:00"},{"$f":"MAX(0,MIN(dagroosterberekening!$J$3,C481)-MAX(dagroosterberekening!$I$3,B481))","v":"00:00:00"},0,0]
["zaterdag","00:00:00","00:15:00",{"$f":"Beheer!H2","v":0.4},{"$f":"MAX(0,MIN(dagroosterberekening!$H$3,C482)-MAX(dagroosterberekening!$G$3,B482))","v":"00:00:00"},{"$f":"MAX(0,MIN(dagroosterberekening!$J$3,C482)-MAX(dagroosterberekening!$I$3,B482))","v":"00:00:00"},0,0]
["zaterdag",{"$f":"C482","v":"00:15:00"},"00:30:00",{"$f":"Beheer!H3","v":0.4},{"$f":"MAX(0,MIN(dagroosterberekening!$H$3,C483)-MAX(dagroosterberekening!$G$3,B483))","v":"00:00:00"},{"$f":"MAX(0,MIN(dagroosterberekening!$J$3,C483)-MAX(dagroosterberekening!$I$3,B483))","v":"00:00:00"},0,0]
["zaterdag","00:30:00","00:45:00",{"$f":"Beheer!H4","v":0.4},{"$f":"MAX(0,MIN(dagroosterberekening!$H$3,C484)-MAX(dagroosterberekening!$G$3,B484))","v":"00:00:00"},{"$f":"MAX(0,MIN(dagroosterberekening!$J$3,C484)-MAX(dagroosterberekening!$I$3,B484))","v":"00:00:00"},0,0]
["zaterdag","00:45:00","01:00:00",{"$f":"Beheer!H5","v":0.4},{"$f":"MAX(0,MIN(dagroosterberekening!$H$3,C485)-MAX(dagroosterberekening!$G$3,B485))","v":"00:00:00"},{"$f":"MAX(0,MIN(dagroosterberekening!$J$3,C485)-MAX(dagroosterberekening!$I$3,B485))","v":"00:00:00"},0,0]
["zaterdag","01:00:00","01:15:00",{"$f":"Beheer!H6","v":0.4},{"$f":"MAX(0,MIN(dagroosterberekening!$H$3,C486)-MAX(dagroosterberekening!$G$3,B486))","v":"00:00:00"},{"$f":"MAX(0,MIN(dagroosterberekening!$J$3,C486)-MAX(dagroosterberekening!$I$3,B486))","v":"00:00:00"},0,0]
["zaterdag","01:15:00","01:30:00",{"$f":"Beheer!H7","v":0.4},{"$f":"MAX(0,MIN(dagroosterberekening!$H$3,C487)-MAX(dagroosterberekening!$G$3,B487))","v":"00:00:00"},{"$f":"MAX(0,MIN(dagroosterberekening!$J$3,C487)-MAX(dagroosterberekening!$I$3,B487))","v":"00:00:00"},0,0]
["zaterdag","01:30:00","01:45:00",{"$f":"Beheer!H8","v":0.4},{"$f":"MAX(0,MIN(dagroosterberekening!$H$3,C488)-MAX(dagroosterberekening!$G$3,B488))","v":"00:00:00"},{"$f":"MAX(0,MIN(dagroosterberekening!$J$3,C488)-MAX(dagroosterberekening!$I$3,B488))","v":"00:00:00"},0,0]
["zaterdag","01:45:00","02:00:00",{"$f":"Beheer!H9","v":0.4},{"$f":"MAX(0,MIN(dagroosterberekening!$H$3,C489)-MAX(dagroosterberekening!$G$3,B489))","v":"00:00:00"},{"$f":"MAX(0,MIN(dagroosterberekening!$J$3,C489)-MAX(dagroosterberekening!$I$3,B489))","v":"00:00:00"},0,0]
["zaterdag","02:00:00","02:15:00",{"$f":"Beheer!H10","v":0.4},{"$f":"MAX(0,MIN(dagroosterberekening!$H$3,C490)-MAX(dagroosterberekening!$G$3,B490))","v":"00:00:00"},{"$f":"MAX(0,MIN(dagroosterberekening!$J$3,C490)-MAX(dagroosterberekening!$I$3,B490))","v":"00:00:00"},0,0]
["zaterdag","02:15:00","02:30:00",{"$f":"Beheer!H11","v":0.4},{"$f":"MAX(0,MIN(dagroosterberekening!$H$3,C491)-MAX(dagroosterberekening!$G$3,B491))","v":"00:00:00"},{"$f":"MAX(0,MIN(dagroosterberekening!$J$3,C491)-MAX(dagroosterberekening!$I$3,B491))","v":"00:00:00"},0,0]
["zaterdag","02:30:00","02:45:00",{"$f":"Beheer!H12","v":0.4},{"$f":"MAX(0,MIN(dagroosterberekening!$H$3,C492)-MAX(dagroosterberekening!$G$3,B492))","v":"00:00:00"},{"$f":"MAX(0,MIN(dagroosterberekening!$J$3,C492)-MAX(dagroosterberekening!$I$3,B492))","v":"00:00:00"},0,0]
["zaterdag","02:45:00","03:00:00",{"$f":"Beheer!H13","v":0.4},{"$f":"MAX(0,MIN(dagroosterberekening!$H$3,C493)-MAX(dagroosterberekening!$G$3,B493))","v":"00:00:00"},{"$f":"MAX(0,MIN(dagroosterberekening!$J$3,C493)-MAX(dagroosterberekening!$I$3,B493))","v":"00:00:00"},0,0]
["zaterdag","03:00:00","03:15:00",{"$f":"Beheer!H14","v":0.4},{"$f":"MAX(0,MIN(dagroosterberekening!$H$3,C494)-MAX(dagroosterberekening!$G$3,B494))","v":"00:00:00"},{"$f":"MAX(0,MIN(dagroosterberekening!$J$3,C494)-MAX(dagroosterberekening!$I$3,B494))","v":"00:00:00"},0,0]
["zaterdag","03:15:00","03:30:00",{"$f":"Beheer!H15","v":0.4},{"$f":"MAX(0,MIN(dagroosterberekening!$H$3,C495)-MAX(dagroosterberekening!$G$3,B495))","v":"00:00:00"},{"$f":"MAX(0,MIN(dagroosterberekening!$J$3,C495)-MAX(dagroosterberekening!$I$3,B495))","v":"00:00:00"},0,0]
["zaterdag","03:30:00","03:45:00",{"$f":"Beheer!H16","v":0.4},{"$f":"MAX(0,MIN(dagroosterberekening!$H$3,C496)-MAX(dagroosterberekening!$G$3,B496))","v":"00:00:00"},{"$f":"MAX(0,MIN(dagroosterberekening!$J$3,C496)-MAX(dagroosterberekening!$I$3,B496))","v":"00:00:00"},0,0]
["zaterdag","03:45:00","04:00:00",{"$f":"Beheer!H17","v":0.4},{"$f":"MAX(0,MIN(dagroosterberekening!$H$3,C497)-MAX(dagroosterberekening!$G$3,B497))","v":"00:00:00"},{"$f":"MAX(0,MIN(dagroosterberekening!$J$3,C497)-MAX(dagroosterberekening!$I$3,B497))","v":"00:00:00"},0,0]
["zaterdag","04:00:00","04:15:00",{"$f":"Beheer!H18","v":0.4},{"$f":"MAX(0,MIN(dagroosterberekening!$H$3,C498)-MAX(dagroosterberekening!$G$3,B498))","v":"00:00:00"},{"$f":"MAX(0,MIN(dagroosterberekening!$J$3,C498)-MAX(dagroosterberekening!$I$3,B498))","v":"00:00:00"},0,0]
["zaterdag","04:15:00","04:30:00",{"$f":"Beheer!H19","v":0.4},{"$f":"MAX(0,MIN(dagroosterberekening!$H$3,C499)-MAX(dagroosterberekening!$G$3,B499))","v":"00:00:00"},{"$f":"MAX(0,MIN(dagroosterberekening!$J$3,C499)-MAX(dagroosterberekening!$I$3,B499))","v":"00:00:00"},0,0]
["zaterdag","04:30:00","04:45:00",{"$f":"Beheer!H20","v":0.4},{"$f":"MAX(0,MIN(dagroosterberekening!$H$3,C500)-MAX(dagroosterberekening!$G$3,B500))","v":"00:00:00"},{"$f":"MAX(0,MIN(dagroosterberekening!$J$3,C500)-MAX(dagroosterberekening!$I$3,B500))","v":"00:00:00"},0,0]
["zaterdag","04:45:00","05:00:00",{"$f":"Beheer!H21","v":0.4},{"$f":"MAX(0,MIN(dagroosterberekening!$H$3,C501)-MAX(dagroosterberekening!$G$3,B501))","v":"00:00:00"},{"$f":"MAX(0,MIN(dagroosterberekening!$J$3,C501)-MAX(dagroosterberekening!$I$3,B501))","v":"00:00:00"},0,0]
["zaterdag","05:00:00","05:15:00",{"$f":"Beheer!H22","v":0.4},{"$f":"MAX(0,MIN(dagroosterberekening!$H$3,C502)-MAX(dagroosterberekening!$G$3,B502))","v":"00:00:00"},{"$f":"MAX(0,MIN(dagroosterberekening!$J$3,C502)-MAX(dagroosterberekening!$I$3,B502))","v":"00:00:00"},0,0]
["zaterdag","05:15:00","05:30:00",{"$f":"Beheer!H23","v":0.4},{"$f":"MAX(0,MIN(dagroosterberekening!$H$3,C503)-MAX(dagroosterberekening!$G$3,B503))","v":"00:00:00"},{"$f":"MAX(0,MIN(dagroosterberekening!$J$3,C503)-MAX(dagroosterberekening!$I$3,B503))","v":"00:00:00"},0,0]
["zaterdag","05:30:00","05:45:00",{"$f":"Beheer!H24","v":0.4},{"$f":"MAX(0,MIN(dagroosterberekening!$H$3,C504)-MAX(dagroosterberekening!$G$3,B504))","v":"00:00:00"},{"$f":"MAX(0,MIN(dagroosterberekening!$J$3,C504)-MAX(dagroosterberekening!$I$3,B504))","v":"00:00:00"},0,0]
["zaterdag","05:45:00","06:00:00",{"$f":"Beheer!H25","v":0.4},{"$f":"MAX(0,MIN(dagroosterberekening!$H$3,C505)-MAX(dagroosterberekening!$G$3,B505))","v":"00:00:00"},{"$f":"MAX(0,MIN(dagroosterberekening!$J$3,C505)-MAX(dagroosterberekening!$I$3,B505))","v":"00:00:00"},0,0]
["zaterdag","06:00:00","06:15:00",{"$f":"Beheer!H26","v":0.4},{"$f":"MAX(0,MIN(dagroosterberekening!$H$3,C506)-MAX(dagroosterberekening!$G$3,B506))","v":"00:00:00"},{"$f":"MAX(0,MIN(dagroosterberekening!$J$3,C506)-MAX(dagroosterberekening!$I$3,B506))","v":"00:00:00"},0,0]
["zaterdag","06:15:00","06:30:00",{"$f":"Beheer!H27","v":0.4},{"$f":"MAX(0,MIN(dagroosterberekening!$H$3,C507)-MAX(dagroosterberekening!$G$3,B507))","v":"00:00:00"},{"$f":"MAX(0,MIN(dagroosterberekening!$J$3,C507)-MAX(dagroosterberekening!$I$3,B507))","v":"00:00:00"},0,0]
["zaterdag","06:30:00","06:45:00",{"$f":"Beheer!H28","v":0.4},{"$f":"MAX(0,MIN(dagroosterberekening!$H$3,C508)-MAX(dagroosterberekening!$G$3,B508))","v":"00:00:00"},{"$f":"MAX(0,MIN(dagroosterberekening!$J$3,C508)-MAX(dagroosterberekening!$I$3,B508))","v":"00:00:00"},0,0]
["zaterdag","06:45:00","07:00:00",{"$f":"Beheer!H29","v":0.4},{"$f":"MAX(0,MIN(dagroosterberekening!$H$3,C509)-MAX(dagroosterberekening!$G$3,B509))","v":"00:00:00"},{"$f":"MAX(0,MIN(dagroosterberekening!$J$3,C509)-MAX(dagroosterberekening!$I$3,B509))","v":"00:00:00"},0,0]
["zaterdag","07:00:00","07:15:00",{"$f":"Beheer!H30","v":0.4},{"$f":"MAX(0,MIN(dagroosterberekening!$H$3,C510)-MAX(dagroosterberekening!$G$3,B510))","v":"00:00:00"},{"$f":"MAX(0,MIN(dagroosterberekening!$J$3,C510)-MAX(dagroosterberekening!$I$3,B510))","v":"00:00:00"},0,0]
["zaterdag","07:15:00","07:30:00",{"$f":"Beheer!H31","v":0.4},{"$f":"MAX(0,MIN(dagroosterberekening!$H$3,C511)-MAX(dagroosterberekening!$G$3,B511))","v":"00:00:00"},{"$f":"MAX(0,MIN(dagroosterberekening!$J$3,C511)-MAX(dagroosterberekening!$I$3,B511))","v":"00:00:00"},0,0]
["zaterdag","07:30:00","07:45:00",{"$f":"Beheer!H32","v":0.4},{"$f":"MAX(0,MIN(dagroosterberekening!$H$3,C512)-MAX(dagroosterberekening!$G$3,B512))","v":"00:00:00"},{"$f":"MAX(0,MIN(dagroosterberekening!$J$3,C512)-MAX(dagroosterberekening!$I$3,B512))","v":"00:00:00"},0,0]
["zaterdag","07:45:00","08:00:00",{"$f":"Beheer!H33","v":0.4},{"$f":"MAX(0,MIN(dagroosterberekening!$H$3,C513)-MAX(dagroosterberekening!$G$3,B513))","v":"00:00:00"},{"$f":"MAX(0,MIN(dagroosterberekening!$J$3,C513)-MAX(dagroosterberekening!$I$3,B513))","v":"00:00:00"},0,0]
["zaterdag","08:00:00","08:15:00",{"$f":"Beheer!H34","v":0.4},{"$f":"MAX(0,MIN(dagroosterberekening!$H$3,C514)-MAX(dagroosterberekening!$G$3,B514))","v":"00:08:00"},{"$f":"MAX(0,MIN(dagroosterberekening!$J$3,C514)-MAX(dagroosterberekening!$I$3,B514))","v":"00:00:00"},7.7777777999999999E-3,0]
["zaterdag","08:15:00","08:30:00",{"$f":"Beheer!H35","v":0.4},{"$f":"MAX(0,MIN(dagroosterberekening!$H$3,C515)-MAX(dagroosterberekening!$G$3,B515))","v":"00:00:00"},{"$f":"MAX(0,MIN(dagroosterberekening!$J$3,C515)-MAX(dagroosterberekening!$I$3,B515))","v":"00:00:00"},{"$f":"ROUND((E515*1)+(E515*D515),10)","v":0},{"$f":"ROUND((F515*1)+(F515*D515),10)","v":0}]
["zaterdag","08:30:00","08:45:00",{"$f":"Beheer!H36","v":0.4},{"$f":"MAX(0,MIN(dagroosterberekening!$H$3,C516)-MAX(dagroosterberekening!$G$3,B516))","v":"00:00:00"},{"$f":"MAX(0,MIN(dagroosterberekening!$J$3,C516)-MAX(dagroosterberekening!$I$3,B516))","v":"00:00:00"},0,0]
["zaterdag","08:45:00","09:00:00",{"$f":"Beheer!H37","v":0.4},{"$f":"MAX(0,MIN(dagroosterberekening!$H$3,C517)-MAX(dagroosterberekening!$G$3,B517))","v":"00:00:00"},{"$f":"MAX(0,MIN(dagroosterberekening!$J$3,C517)-MAX(dagroosterberekening!$I$3,B517))","v":"00:00:00"},0,0]
["zaterdag","09:00:00","09:15:00",{"$f":"Beheer!H38","v":0.4},{"$f":"MAX(0,MIN(dagroosterberekening!$H$3,C518)-MAX(dagroosterberekening!$G$3,B518))","v":"00:00:00"},{"$f":"MAX(0,MIN(dagroosterberekening!$J$3,C518)-MAX(dagroosterberekening!$I$3,B518))","v":"00:00:00"},0,0]
["zaterdag","09:15:00","09:30:00",{"$f":"Beheer!H39","v":0.4},{"$f":"MAX(0,MIN(dagroosterberekening!$H$3,C519)-MAX(dagroosterberekening!$G$3,B519))","v":"00:00:00"},{"$f":"MAX(0,MIN(dagroosterberekening!$J$3,C519)-MAX(dagroosterberekening!$I$3,B519))","v":"00:00:00"},0,0]
["zaterdag","09:30:00","09:45:00",{"$f":"Beheer!H40","v":0.4},{"$f":"MAX(0,MIN(dagroosterberekening!$H$3,C520)-MAX(dagroosterberekening!$G$3,B520))","v":"00:00:00"},{"$f":"MAX(0,MIN(dagroosterberekening!$J$3,C520)-MAX(dagroosterberekening!$I$3,B520))","v":"00:00:00"},0,0]
["zaterdag","09:45:00","10:00:00",{"$f":"Beheer!H41","v":0.4},{"$f":"MAX(0,MIN(dagroosterberekening!$H$3,C521)-MAX(dagroosterberekening!$G$3,B521))","v":"00:00:00"},{"$f":"MAX(0,MIN(dagroosterberekening!$J$3,C521)-MAX(dagroosterberekening!$I$3,B521))","v":"00:00:00"},0,0]
["zaterdag","10:00:00","10:15:00",{"$f":"Beheer!H42","v":0.4},{"$f":"MAX(0,MIN(dagroosterberekening!$H$3,C522)-MAX(dagroosterberekening!$G$3,B522))","v":"00:00:00"},{"$f":"MAX(0,MIN(dagroosterberekening!$J$3,C522)-MAX(dagroosterberekening!$I$3,B522))","v":"00:00:00"},0,0]
["zaterdag","10:15:00","10:30:00",{"$f":"Beheer!H43","v":0.4},{"$f":"MAX(0,MIN(dagroosterberekening!$H$3,C523)-MAX(dagroosterberekening!$G$3,B523))","v":"00:00:00"},{"$f":"MAX(0,MIN(dagroosterberekening!$J$3,C523)-MAX(dagroosterberekening!$I$3,B523))","v":"00:00:00"},0,0]
["zaterdag","10:30:00","10:45:00",{"$f":"Beheer!H44","v":0.4},{"$f":"MAX(0,MIN(dagroosterberekening!$H$3,C524)-MAX(dagroosterberekening!$G$3,B524))","v":"00:00:00"},{"$f":"MAX(0,MIN(dagroosterberekening!$J$3,C524)-MAX(dagroosterberekening!$I$3,B524))","v":"00:00:00"},0,0]
["zaterdag","10:45:00","11:00:00",{"$f":"Beheer!H45","v":0.4},{"$f":"MAX(0,MIN(dagroosterberekening!$H$3,C525)-MAX(dagroosterberekening!$G$3,B525))","v":"00:00:00"},{"$f":"MAX(0,MIN(dagroosterberekening!$J$3,C525)-MAX(dagroosterberekening!$I$3,B525))","v":"00:00:00"},0,0]
["zaterdag","11:00:00","11:15:00",{"$f":"Beheer!H46","v":0.4},{"$f":"MAX(0,MIN(dagroosterberekening!$H$3,C526)-MAX(dagroosterberekening!$G$3,B526))","v":"00:00:00"},{"$f":"MAX(0,MIN(dagroosterberekening!$J$3,C526)-MAX(dagroosterberekening!$I$3,B526))","v":"00:00:00"},0,0]
["zaterdag","11:15:00","11:30:00",{"$f":"Beheer!H47","v":0.4},{"$f":"MAX(0,MIN(dagroosterberekening!$H$3,C527)-MAX(dagroosterberekening!$G$3,B527))","v":"00:00:00"},{"$f":"MAX(0,MIN(dagroosterberekening!$J$3,C527)-MAX(dagroosterberekening!$I$3,B527))","v":"00:00:00"},0,0]
["zaterdag","11:30:00","11:45:00",{"$f":"Beheer!H48","v":0.4},{"$f":"MAX(0,MIN(dagroosterberekening!$H$3,C528)-MAX(dagroosterberekening!$G$3,B528))","v":"00:00:00"},{"$f":"MAX(0,MIN(dagroosterberekening!$J$3,C528)-MAX(dagroosterberekening!$I$3,B528))","v":"00:00:00"},0,0]
["zaterdag","11:45:00","12:00:00",{"$f":"Beheer!H49","v":0.4},{"$f":"MAX(0,MIN(dagroosterberekening!$H$3,C529)-MAX(dagroosterberekening!$G$3,B529))","v":"00:00:00"},{"$f":"MAX(0,MIN(dagroosterberekening!$J$3,C529)-MAX(dagroosterberekening!$I$3,B529))","v":"00:00:00"},0,0]
["zaterdag","12:00:00","12:15:00",{"$f":"Beheer!H50","v":1.2},{"$f":"MAX(0,MIN(dagroosterberekening!$H$3,C530)-MAX(dagroosterberekening!$G$3,B530))","v":"00:00:00"},{"$f":"MAX(0,MIN(dagroosterberekening!$J$3,C530)-MAX(dagroosterberekening!$I$3,B530))","v":"00:00:00"},0,0]
["zaterdag","12:15:00","12:30:00",{"$f":"Beheer!H51","v":1.2},{"$f":"MAX(0,MIN(dagroosterberekening!$H$3,C531)-MAX(dagroosterberekening!$G$3,B531))","v":"00:00:00"},{"$f":"MAX(0,MIN(dagroosterberekening!$J$3,C531)-MAX(dagroosterberekening!$I$3,B531))","v":"00:00:00"},0,0]
["zaterdag","12:30:00","12:45:00",{"$f":"Beheer!H52","v":1.2},{"$f":"MAX(0,MIN(dagroosterberekening!$H$3,C532)-MAX(dagroosterberekening!$G$3,B532))","v":"00:00:00"},{"$f":"MAX(0,MIN(dagroosterberekening!$J$3,C532)-MAX(dagroosterberekening!$I$3,B532))","v":"00:00:00"},0,0]
["zaterdag","12:45:00","13:00:00",{"$f":"Beheer!H53","v":1.2},{"$f":"MAX(0,MIN(dagroosterberekening!$H$3,C533)-MAX(dagroosterberekening!$G$3,B533))","v":"00:00:00"},{"$f":"MAX(0,MIN(dagroosterberekening!$J$3,C533)-MAX(dagroosterberekening!$I$3,B533))","v":"00:00:00"},0,0]
["zaterdag","13:00:00","13:15:00",{"$f":"Beheer!H54","v":1.2},{"$f":"MAX(0,MIN(dagroosterberekening!$H$3,C534)-MAX(dagroosterberekening!$G$3,B534))","v":"00:00:00"},{"$f":"MAX(0,MIN(dagroosterberekening!$J$3,C534)-MAX(dagroosterberekening!$I$3,B534))","v":"00:00:00"},0,0]
["zaterdag","13:15:00","13:30:00",{"$f":"Beheer!H55","v":1.2},{"$f":"MAX(0,MIN(dagroosterberekening!$H$3,C535)-MAX(dagroosterberekening!$G$3,B535))","v":"00:00:00"},{"$f":"MAX(0,MIN(dagroosterberekening!$J$3,C535)-MAX(dagroosterberekening!$I$3,B535))","v":"00:00:00"},0,0]
["zaterdag","13:30:00","13:45:00",{"$f":"Beheer!H56","v":1.2},{"$f":"MAX(0,MIN(dagroosterberekening!$H$3,C536)-MAX(dagroosterberekening!$G$3,B536))","v":"00:00:00"},{"$f":"MAX(0,MIN(dagroosterberekening!$J$3,C536)-MAX(dagroosterberekening!$I$3,B536))","v":"00:00:00"},0,0]
["zaterdag","13:45:00","14:00:00",{"$f":"Beheer!H57","v":1.2},{"$f":"MAX(0,MIN(dagroosterberekening!$H$3,C537)-MAX(dagroosterberekening!$G$3,B537))","v":"00:00:00"},{"$f":"MAX(0,MIN(dagroosterberekening!$J$3,C537)-MAX(dagroosterberekening!$I$3,B537))","v":"00:00:00"},0,0]
["zaterdag","14:00:00","14:15:00",{"$f":"Beheer!H58","v":1.2},{"$f":"MAX(0,MIN(dagroosterberekening!$H$3,C538)-MAX(dagroosterberekening!$G$3,B538))","v":"00:00:00"},{"$f":"MAX(0,MIN(dagroosterberekening!$J$3,C538)-MAX(dagroosterberekening!$I$3,B538))","v":"00:00:00"},0,0]
["zaterdag","14:15:00","14:30:00",{"$f":"Beheer!H59","v":1.2},{"$f":"MAX(0,MIN(dagroosterberekening!$H$3,C539)-MAX(dagroosterberekening!$G$3,B539))","v":"00:00:00"},{"$f":"MAX(0,MIN(dagroosterberekening!$J$3,C539)-MAX(dagroosterberekening!$I$3,B539))","v":"00:00:00"},0,0]
["zaterdag","14:30:00","14:45:00",{"$f":"Beheer!H60","v":1.2},{"$f":"MAX(0,MIN(dagroosterberekening!$H$3,C540)-MAX(dagroosterberekening!$G$3,B540))","v":"00:00:00"},{"$f":"MAX(0,MIN(dagroosterberekening!$J$3,C540)-MAX(dagroosterberekening!$I$3,B540))","v":"00:00:00"},0,0]
["zaterdag","14:45:00","15:00:00",{"$f":"Beheer!H61","v":1.2},{"$f":"MAX(0,MIN(dagroosterberekening!$H$3,C541)-MAX(dagroosterberekening!$G$3,B541))","v":"00:00:00"},{"$f":"MAX(0,MIN(dagroosterberekening!$J$3,C541)-MAX(dagroosterberekening!$I$3,B541))","v":"00:00:00"},0,0]
["zaterdag","15:00:00","15:15:00",{"$f":"Beheer!H62","v":1.2},{"$f":"MAX(0,MIN(dagroosterberekening!$H$3,C542)-MAX(dagroosterberekening!$G$3,B542))","v":"00:00:00"},{"$f":"MAX(0,MIN(dagroosterberekening!$J$3,C542)-MAX(dagroosterberekening!$I$3,B542))","v":"00:00:00"},0,0]
["zaterdag","15:15:00","15:30:00",{"$f":"Beheer!H63","v":1.2},{"$f":"MAX(0,MIN(dagroosterberekening!$H$3,C543)-MAX(dagroosterberekening!$G$3,B543))","v":"00:00:00"},{"$f":"MAX(0,MIN(dagroosterberekening!$J$3,C543)-MAX(dagroosterberekening!$I$3,B543))","v":"00:00:00"},0,0]
["zaterdag","15:30:00","15:45:00",{"$f":"Beheer!H64","v":1.2},{"$f":"MAX(0,MIN(dagroosterberekening!$H$3,C544)-MAX(dagroosterberekening!$G$3,B544))","v":"00:00:00"},{"$f":"MAX(0,MIN(dagroosterberekening!$J$3,C544)-MAX(dagroosterberekening!$I$3,B544))","v":"00:00:00"},0,0]
["zaterdag","15:45:00","16:00:00",{"$f":"Beheer!H65","v":1.2},{"$f":"MAX(0,MIN(dagroosterberekening!$H$3,C545)-MAX(dagroosterberekening!$G$3,B545))","v":"00:00:00"},{"$f":"MAX(0,MIN(dagroosterberekening!$J$3,C545)-MAX(dagroosterberekening!$I$3,B545))","v":"00:00:00"},0,0]
["zaterdag","16:00:00","16:15:00",{"$f":"Beheer!H66","v":1.2},{"$f":"MAX(0,MIN(dagroosterberekening!$H$3,C546)-MAX(dagroosterberekening!$G$3,B546))","v":"00:00:00"},{"$f":"MAX(0,MIN(dagroosterberekening!$J$3,C546)-MAX(dagroosterberekening!$I$3,B546))","v":"00:00:00"},0,0]
["zaterdag",{"$f":"C546","v":"16:15:00"},"16:30:00",{"$f":"Beheer!H67","v":1.2},{"$f":"MAX(0,MIN(dagroosterberekening!$H$3,C547)-MAX(dagroosterberekening!$G$3,B547))","v":"00:00:00"},{"$f":"MAX(0,MIN(dagroosterberekening!$J$3,C547)-MAX(dagroosterberekening!$I$3,B547))","v":"00:00:00"},0,0]
["zaterdag","16:30:00","16:45:00",{"$f":"Beheer!H68","v":1.2},{"$f":"MAX(0,MIN(dagroosterberekening!$H$3,C548)-MAX(dagroosterberekening!$G$3,B548))","v":"00:00:00"},{"$f":"MAX(0,MIN(dagroosterberekening!$J$3,C548)-MAX(dagroosterberekening!$I$3,B548))","v":"00:00:00"},0,0]
["zaterdag","16:45:00","17:00:00",{"$f":"Beheer!H69","v":1.2},{"$f":"MAX(0,MIN(dagroosterberekening!$H$3,C549)-MAX(dagroosterberekening!$G$3,B549))","v":"00:00:00"},{"$f":"MAX(0,MIN(dagroosterberekening!$J$3,C549)-MAX(dagroosterberekening!$I$3,B549))","v":"00:00:00"},0,0]
["zaterdag","17:00:00","17:15:00",{"$f":"Beheer!H70","v":1.2},{"$f":"MAX(0,MIN(dagroosterberekening!$H$3,C550)-MAX(dagroosterberekening!$G$3,B550))","v":"00:00:00"},{"$f":"MAX(0,MIN(dagroosterberekening!$J$3,C550)-MAX(dagroosterberekening!$I$3,B550))","v":"00:00:00"},0,0]
["zaterdag","17:15:00","17:30:00",{"$f":"Beheer!H71","v":1.2},{"$f":"MAX(0,MIN(dagroosterberekening!$H$3,C551)-MAX(dagroosterberekening!$G$3,B551))","v":"00:00:00"},{"$f":"MAX(0,MIN(dagroosterberekening!$J$3,C551)-MAX(dagroosterberekening!$I$3,B551))","v":"00:00:00"},0,0]
["zaterdag","17:30:00","17:45:00",{"$f":"Beheer!H72","v":1.2},{"$f":"MAX(0,MIN(dagroosterberekening!$H$3,C552)-MAX(dagroosterberekening!$G$3,B552))","v":"00:00:00"},{"$f":"MAX(0,MIN(dagroosterberekening!$J$3,C552)-MAX(dagroosterberekening!$I$3,B552))","v":"00:00:00"},0,0]
["zaterdag","17:45:00","18:00:00",{"$f":"Beheer!H73","v":1.2},{"$f":"MAX(0,MIN(dagroosterberekening!$H$3,C553)-MAX(dagroosterberekening!$G$3,B553))","v":"00:00:00"},{"$f":"MAX(0,MIN(dagroosterberekening!$J$3,C553)-MAX(dagroosterberekening!$I$3,B553))","v":"00:00:00"},0,0]
["zaterdag","18:00:00","18:15:00",{"$f":"Beheer!H74","v":1.2},{"$f":"MAX(0,MIN(dagroosterberekening!$H$3,C554)-MAX(dagroosterberekening!$G$3,B554))","v":"00:00:00"},{"$f":"MAX(0,MIN(dagroosterberekening!$J$3,C554)-MAX(dagroosterberekening!$I$3,B554))","v":"00:00:00"},0,0]
["zaterdag","18:15:00","18:30:00",{"$f":"Beheer!H75","v":1.2},{"$f":"MAX(0,MIN(dagroosterberekening!$H$3,C555)-MAX(dagroosterberekening!$G$3,B555))","v":"00:00:00"},{"$f":"MAX(0,MIN(dagroosterberekening!$J$3,C555)-MAX(dagroosterberekening!$I$3,B555))","v":"00:00:00"},0,0]
["zaterdag","18:30:00","18:45:00",{"$f":"Beheer!H76","v":1.2},{"$f":"MAX(0,MIN(dagroosterberekening!$H$3,C556)-MAX(dagroosterberekening!$G$3,B556))","v":"00:00:00"},{"$f":"MAX(0,MIN(dagroosterberekening!$J$3,C556)-MAX(dagroosterberekening!$I$3,B556))","v":"00:00:00"},0,0]
["zaterdag","18:45:00","19:00:00",{"$f":"Beheer!H77","v":1.2},{"$f":"MAX(0,MIN(dagroosterberekening!$H$3,C557)-MAX(dagroosterberekening!$G$3,B557))","v":"00:00:00"},{"$f":"MAX(0,MIN(dagroosterberekening!$J$3,C557)-MAX(dagroosterberekening!$I$3,B557))","v":"00:00:00"},0,0]
["zaterdag","19:00:00","19:15:00",{"$f":"Beheer!H78","v":1.2},{"$f":"MAX(0,MIN(dagroosterberekening!$H$3,C558)-MAX(dagroosterberekening!$G$3,B558))","v":"00:00:00"},{"$f":"MAX(0,MIN(dagroosterberekening!$J$3,C558)-MAX(dagroosterberekening!$I$3,B558))","v":"00:00:00"},0,0]
["zaterdag","19:15:00","19:30:00",{"$f":"Beheer!H79","v":1.2},{"$f":"MAX(0,MIN(dagroosterberekening!$H$3,C559)-MAX(dagroosterberekening!$G$3,B559))","v":"00:00:00"},{"$f":"MAX(0,MIN(dagroosterberekening!$J$3,C559)-MAX(dagroosterberekening!$I$3,B559))","v":"00:00:00"},0,0]
["zaterdag","19:30:00","19:45:00",{"$f":"Beheer!H80","v":1.2},{"$f":"MAX(0,MIN(dagroosterberekening!$H$3,C560)-MAX(dagroosterberekening!$G$3,B560))","v":"00:00:00"},{"$f":"MAX(0,MIN(dagroosterberekening!$J$3,C560)-MAX(dagroosterberekening!$I$3,B560))","v":"00:00:00"},0,0]
["zaterdag","19:45:00","20:00:00",{"$f":"Beheer!H81","v":1.2},{"$f":"MAX(0,MIN(dagroosterberekening!$H$3,C561)-MAX(dagroosterberekening!$G$3,B561))","v":"00:00:00"},{"$f":"MAX(0,MIN(dagroosterberekening!$J$3,C561)-MAX(dagroosterberekening!$I$3,B561))","v":"00:00:00"},0,0]
["zaterdag","20:00:00","20:15:00",{"$f":"Beheer!H82","v":1.2},{"$f":"MAX(0,MIN(dagroosterberekening!$H$3,C562)-MAX(dagroosterberekening!$G$3,B562))","v":"00:00:00"},{"$f":"MAX(0,MIN(dagroosterberekening!$J$3,C562)-MAX(dagroosterberekening!$I$3,B562))","v":"00:00:00"},0,0]
["zaterdag","20:15:00","20:30:00",{"$f":"Beheer!H83","v":1.2},{"$f":"MAX(0,MIN(dagroosterberekening!$H$3,C563)-MAX(dagroosterberekening!$G$3,B563))","v":"00:00:00"},{"$f":"MAX(0,MIN(dagroosterberekening!$J$3,C563)-MAX(dagroosterberekening!$I$3,B563))","v":"00:00:00"},0,0]
["zaterdag","20:30:00","20:45:00",{"$f":"Beheer!H84","v":1.2},{"$f":"MAX(0,MIN(dagroosterberekening!$H$3,C564)-MAX(dagroosterberekening!$G$3,B564))","v":"00:00:00"},{"$f":"MAX(0,MIN(dagroosterberekening!$J$3,C564)-MAX(dagroosterberekening!$I$3,B564))","v":"00:00:00"},0,0]
["zaterdag","20:45:00","21:00:00",{"$f":"Beheer!H85","v":1.2},{"$f":"MAX(0,MIN(dagroosterberekening!$H$3,C565)-MAX(dagroosterberekening!$G$3,B565))","v":"00:00:00"},{"$f":"MAX(0,MIN(dagroosterberekening!$J$3,C565)-MAX(dagroosterberekening!$I$3,B565))","v":"00:00:00"},0,0]
["zaterdag","21:00:00","21:15:00",{"$f":"Beheer!H86","v":1.2},{"$f":"MAX(0,MIN(dagroosterberekening!$H$3,C566)-MAX(dagroosterberekening!$G$3,B566))","v":"00:00:00"},{"$f":"MAX(0,MIN(dagroosterberekening!$J$3,C566)-MAX(dagroosterberekening!$I$3,B566))","v":"00:00:00"},0,0]
["zaterdag","21:15:00","21:30:00",{"$f":"Beheer!H87","v":1.2},{"$f":"MAX(0,MIN(dagroosterberekening!$H$3,C567)-MAX(dagroosterberekening!$G$3,B567))","v":"00:00:00"},{"$f":"MAX(0,MIN(dagroosterberekening!$J$3,C567)-MAX(dagroosterberekening!$I$3,B567))","v":"00:00:00"},0,0]
["zaterdag","21:30:00","21:45:00",{"$f":"Beheer!H88","v":1.2},{"$f":"MAX(0,MIN(dagroosterberekening!$H$3,C568)-MAX(dagroosterberekening!$G$3,B568))","v":"00:00:00"},{"$f":"MAX(0,MIN(dagroosterberekening!$J$3,C568)-MAX(dagroosterberekening!$I$3,B568))","v":"00:00:00"},0,0]
["zaterdag","21:45:00","22:00:00",{"$f":"Beheer!H89","v":1.2},{"$f":"MAX(0,MIN(dagroosterberekening!$H$3,C569)-MAX(dagroosterberekening!$G$3,B569))","v":"00:00:00"},{"$f":"MAX(0,MIN(dagroosterberekening!$J$3,C569)-MAX(dagroosterberekening!$I$3,B569))","v":"00:00:00"},0,0]
["zaterdag","22:00:00","22:15:00",{"$f":"Beheer!H90","v":1.2},{"$f":"MAX(0,MIN(dagroosterberekening!$H$3,C570)-MAX(dagroosterberekening!$G$3,B570))","v":"00:00:00"},{"$f":"MAX(0,MIN(dagroosterberekening!$J$3,C570)-MAX(dagroosterberekening!$I$3,B570))","v":"00:00:00"},0,0]
["zaterdag","22:15:00","22:30:00",{"$f":"Beheer!H91","v":1.2},{"$f":"MAX(0,MIN(dagroosterberekening!$H$3,C571)-MAX(dagroosterberekening!$G$3,B571))","v":"00:00:00"},{"$f":"MAX(0,MIN(dagroosterberekening!$J$3,C571)-MAX(dagroosterberekening!$I$3,B571))","v":"00:00:00"},0,0]
["zaterdag","22:30:00","22:45:00",{"$f":"Beheer!H92","v":1.2},{"$f":"MAX(0,MIN(dagroosterberekening!$H$3,C572)-MAX(dagroosterberekening!$G$3,B572))","v":"00:00:00"},{"$f":"MAX(0,MIN(dagroosterberekening!$J$3,C572)-MAX(dagroosterberekening!$I$3,B572))","v":"00:00:00"},0,0]
["zaterdag","22:45:00","23:00:00",{"$f":"Beheer!H93","v":1.2},{"$f":"MAX(0,MIN(dagroosterberekening!$H$3,C573)-MAX(dagroosterberekening!$G$3,B573))","v":"00:00:00"},{"$f":"MAX(0,MIN(dagroosterberekening!$J$3,C573)-MAX(dagroosterberekening!$I$3,B573))","v":"00:00:00"},0,0]
["zaterdag","23:00:00","23:15:00",{"$f":"Beheer!H94","v":1.2},{"$f":"MAX(0,MIN(dagroosterberekening!$H$3,C574)-MAX(dagroosterberekening!$G$3,B574))","v":"00:00:00"},{"$f":"MAX(0,MIN(dagroosterberekening!$J$3,C574)-MAX(dagroosterberekening!$I$3,B574))","v":"00:00:00"},0,0]
["zaterdag","23:15:00","23:30:00",{"$f":"Beheer!H95","v":1.2},{"$f":"MAX(0,MIN(dagroosterberekening!$H$3,C575)-MAX(dagroosterberekening!$G$3,B575))","v":"00:00:00"},{"$f":"MAX(0,MIN(dagroosterberekening!$J$3,C575)-MAX(dagroosterberekening!$I$3,B575))","v":"00:00:00"},0,0]
["zaterdag","23:30:00","23:45:00",{"$f":"Beheer!H96","v":1.2},{"$f":"MAX(0,MIN(dagroosterberekening!$H$3,C576)-MAX(dagroosterberekening!$G$3,B576))","v":"00:00:00"},{"$f":"MAX(0,MIN(dagroosterberekening!$J$3,C576)-MAX(dagroosterberekening!$I$3,B576))","v":"00:00:00"},0,0]
["zaterdag","23:45:00",1,{"$f":"Beheer!H97","v":1.2},{"$f":"MAX(0,MIN(dagroosterberekening!$H$3,C577)-MAX(dagroosterberekening!$G$3,B577))","v":"00:00:00"},{"$f":"MAX(0,MIN(dagroosterberekening!$J$3,C577)-MAX(dagroosterberekening!$I$3,B577))","v":"00:00:00"},0,0]
["zondag","00:00:00","00:15:00",{"$f":"Beheer!I2","v":1.2},{"$f":"MAX(0,MIN(dagroosterberekening!$H$3,C578)-MAX(dagroosterberekening!$G$3,B578))","v":"00:00:00"},{"$f":"MAX(0,MIN(dagroosterberekening!$J$3,C578)-MAX(dagroosterberekening!$I$3,B578))","v":"00:00:00"},0,0]
["zondag",{"$f":"C578","v":"00:15:00"},"00:30:00",{"$f":"Beheer!I3","v":1.2},{"$f":"MAX(0,MIN(dagroosterberekening!$H$3,C579)-MAX(dagroosterberekening!$G$3,B579))","v":"00:00:00"},{"$f":"MAX(0,MIN(dagroosterberekening!$J$3,C579)-MAX(dagroosterberekening!$I$3,B579))","v":"00:00:00"},{"$f":"ROUND((E579*1)+(E579*D579),10)","v":0},{"$f":"ROUND((F579*1)+(F579*D579),10)","v":0}]
["zondag","00:30:00","00:45:00",{"$f":"Beheer!I4","v":1.2},{"$f":"MAX(0,MIN(dagroosterberekening!$H$3,C580)-MAX(dagroosterberekening!$G$3,B580))","v":"00:00:00"},{"$f":"MAX(0,MIN(dagroosterberekening!$J$3,C580)-MAX(dagroosterberekening!$I$3,B580))","v":"00:00:00"},0,0]
["zondag","00:45:00","01:00:00",{"$f":"Beheer!I5","v":1.2},{"$f":"MAX(0,MIN(dagroosterberekening!$H$3,C581)-MAX(dagroosterberekening!$G$3,B581))","v":"00:00:00"},{"$f":"MAX(0,MIN(dagroosterberekening!$J$3,C581)-MAX(dagroosterberekening!$I$3,B581))","v":"00:00:00"},0,0]
["zondag","01:00:00","01:15:00",{"$f":"Beheer!I6","v":1.2},{"$f":"MAX(0,MIN(dagroosterberekening!$H$3,C582)-MAX(dagroosterberekening!$G$3,B582))","v":"00:00:00"},{"$f":"MAX(0,MIN(dagroosterberekening!$J$3,C582)-MAX(dagroosterberekening!$I$3,B582))","v":"00:00:00"},0,0]
["zondag","01:15:00","01:30:00",{"$f":"Beheer!I7","v":1.2},{"$f":"MAX(0,MIN(dagroosterberekening!$H$3,C583)-MAX(dagroosterberekening!$G$3,B583))","v":"00:00:00"},{"$f":"MAX(0,MIN(dagroosterberekening!$J$3,C583)-MAX(dagroosterberekening!$I$3,B583))","v":"00:00:00"},0,0]
["zondag","01:30:00","01:45:00",{"$f":"Beheer!I8","v":1.2},{"$f":"MAX(0,MIN(dagroosterberekening!$H$3,C584)-MAX(dagroosterberekening!$G$3,B584))","v":"00:00:00"},{"$f":"MAX(0,MIN(dagroosterberekening!$J$3,C584)-MAX(dagroosterberekening!$I$3,B584))","v":"00:00:00"},0,0]
["zondag","01:45:00","02:00:00",{"$f":"Beheer!I9","v":1.2},{"$f":"MAX(0,MIN(dagroosterberekening!$H$3,C585)-MAX(dagroosterberekening!$G$3,B585))","v":"00:00:00"},{"$f":"MAX(0,MIN(dagroosterberekening!$J$3,C585)-MAX(dagroosterberekening!$I$3,B585))","v":"00:00:00"},0,0]
["zondag","02:00:00","02:15:00",{"$f":"Beheer!I10","v":1.2},{"$f":"MAX(0,MIN(dagroosterberekening!$H$3,C586)-MAX(dagroosterberekening!$G$3,B586))","v":"00:00:00"},{"$f":"MAX(0,MIN(dagroosterberekening!$J$3,C586)-MAX(dagroosterberekening!$I$3,B586))","v":"00:00:00"},0,0]
["zondag","02:15:00","02:30:00",{"$f":"Beheer!I11","v":1.2},{"$f":"MAX(0,MIN(dagroosterberekening!$H$3,C587)-MAX(dagroosterberekening!$G$3,B587))","v":"00:00:00"},{"$f":"MAX(0,MIN(dagroosterberekening!$J$3,C587)-MAX(dagroosterberekening!$I$3,B587))","v":"00:00:00"},0,0]
["zondag","02:30:00","02:45:00",{"$f":"Beheer!I12","v":1.2},{"$f":"MAX(0,MIN(dagroosterberekening!$H$3,C588)-MAX(dagroosterberekening!$G$3,B588))","v":"00:00:00"},{"$f":"MAX(0,MIN(dagroosterberekening!$J$3,C588)-MAX(dagroosterberekening!$I$3,B588))","v":"00:00:00"},0,0]
["zondag","02:45:00","03:00:00",{"$f":"Beheer!I13","v":1.2},{"$f":"MAX(0,MIN(dagroosterberekening!$H$3,C589)-MAX(dagroosterberekening!$G$3,B589))","v":"00:00:00"},{"$f":"MAX(0,MIN(dagroosterberekening!$J$3,C589)-MAX(dagroosterberekening!$I$3,B589))","v":"00:00:00"},0,0]
["zondag","03:00:00","03:15:00",{"$f":"Beheer!I14","v":1.2},{"$f":"MAX(0,MIN(dagroosterberekening!$H$3,C590)-MAX(dagroosterberekening!$G$3,B590))","v":"00:00:00"},{"$f":"MAX(0,MIN(dagroosterberekening!$J$3,C590)-MAX(dagroosterberekening!$I$3,B590))","v":"00:00:00"},0,0]
["zondag","03:15:00","03:30:00",{"$f":"Beheer!I15","v":1.2},{"$f":"MAX(0,MIN(dagroosterberekening!$H$3,C591)-MAX(dagroosterberekening!$G$3,B591))","v":"00:00:00"},{"$f":"MAX(0,MIN(dagroosterberekening!$J$3,C591)-MAX(dagroosterberekening!$I$3,B591))","v":"00:00:00"},0,0]
["zondag","03:30:00","03:45:00",{"$f":"Beheer!I16","v":1.2},{"$f":"MAX(0,MIN(dagroosterberekening!$H$3,C592)-MAX(dagroosterberekening!$G$3,B592))","v":"00:00:00"},{"$f":"MAX(0,MIN(dagroosterberekening!$J$3,C592)-MAX(dagroosterberekening!$I$3,B592))","v":"00:00:00"},0,0]
["zondag","03:45:00","04:00:00",{"$f":"Beheer!I17","v":1.2},{"$f":"MAX(0,MIN(dagroosterberekening!$H$3,C593)-MAX(dagroosterberekening!$G$3,B593))","v":"00:00:00"},{"$f":"MAX(0,MIN(dagroosterberekening!$J$3,C593)-MAX(dagroosterberekening!$I$3,B593))","v":"00:00:00"},0,0]
["zondag","04:00:00","04:15:00",{"$f":"Beheer!I18","v":1.2},{"$f":"MAX(0,MIN(dagroosterberekening!$H$3,C594)-MAX(dagroosterberekening!$G$3,B594))","v":"00:00:00"},{"$f":"MAX(0,MIN(dagroosterberekening!$J$3,C594)-MAX(dagroosterberekening!$I$3,B594))","v":"00:00:00"},0,0]
["zondag","04:15:00","04:30:00",{"$f":"Beheer!I19","v":1.2},{"$f":"MAX(0,MIN(dagroosterberekening!$H$3,C595)-MAX(dagroosterberekening!$G$3,B595))","v":"00:00:00"},{"$f":"MAX(0,MIN(dagroosterberekening!$J$3,C595)-MAX(dagroosterberekening!$I$3,B595))","v":"00:00:00"},0,0]
["zondag","04:30:00","04:45:00",{"$f":"Beheer!I20","v":1.2},{"$f":"MAX(0,MIN(dagroosterberekening!$H$3,C596)-MAX(dagroosterberekening!$G$3,B596))","v":"00:00:00"},{"$f":"MAX(0,MIN(dagroosterberekening!$J$3,C596)-MAX(dagroosterberekening!$I$3,B596))","v":"00:00:00"},0,0]
["zondag","04:45:00","05:00:00",{"$f":"Beheer!I21","v":1.2},{"$f":"MAX(0,MIN(dagroosterberekening!$H$3,C597)-MAX(dagroosterberekening!$G$3,B597))","v":"00:00:00"},{"$f":"MAX(0,MIN(dagroosterberekening!$J$3,C597)-MAX(dagroosterberekening!$I$3,B597))","v":"00:00:00"},0,0]
["zondag","05:00:00","05:15:00",{"$f":"Beheer!I22","v":1.2},{"$f":"MAX(0,MIN(dagroosterberekening!$H$3,C598)-MAX(dagroosterberekening!$G$3,B598))","v":"00:00:00"},{"$f":"MAX(0,MIN(dagroosterberekening!$J$3,C598)-MAX(dagroosterberekening!$I$3,B598))","v":"00:00:00"},0,0]
["zondag","05:15:00","05:30:00",{"$f":"Beheer!I23","v":1.2},{"$f":"MAX(0,MIN(dagroosterberekening!$H$3,C599)-MAX(dagroosterberekening!$G$3,B599))","v":"00:00:00"},{"$f":"MAX(0,MIN(dagroosterberekening!$J$3,C599)-MAX(dagroosterberekening!$I$3,B599))","v":"00:00:00"},0,0]
["zondag","05:30:00","05:45:00",{"$f":"Beheer!I24","v":1.2},{"$f":"MAX(0,MIN(dagroosterberekening!$H$3,C600)-MAX(dagroosterberekening!$G$3,B600))","v":"00:00:00"},{"$f":"MAX(0,MIN(dagroosterberekening!$J$3,C600)-MAX(dagroosterberekening!$I$3,B600))","v":"00:00:00"},0,0]
["zondag","05:45:00","06:00:00",{"$f":"Beheer!I25","v":1.2},{"$f":"MAX(0,MIN(dagroosterberekening!$H$3,C601)-MAX(dagroosterberekening!$G$3,B601))","v":"00:00:00"},{"$f":"MAX(0,MIN(dagroosterberekening!$J$3,C601)-MAX(dagroosterberekening!$I$3,B601))","v":"00:00:00"},0,0]
["zondag","06:00:00","06:15:00",{"$f":"Beheer!I26","v":1.2},{"$f":"MAX(0,MIN(dagroosterberekening!$H$3,C602)-MAX(dagroosterberekening!$G$3,B602))","v":"00:00:00"},{"$f":"MAX(0,MIN(dagroosterberekening!$J$3,C602)-MAX(dagroosterberekening!$I$3,B602))","v":"00:00:00"},0,0]
["zondag","06:15:00","06:30:00",{"$f":"Beheer!I27","v":1.2},{"$f":"MAX(0,MIN(dagroosterberekening!$H$3,C603)-MAX(dagroosterberekening!$G$3,B603))","v":"00:00:00"},{"$f":"MAX(0,MIN(dagroosterberekening!$J$3,C603)-MAX(dagroosterberekening!$I$3,B603))","v":"00:00:00"},0,0]
["zondag","06:30:00","06:45:00",{"$f":"Beheer!I28","v":1.2},{"$f":"MAX(0,MIN(dagroosterberekening!$H$3,C604)-MAX(dagroosterberekening!$G$3,B604))","v":"00:00:00"},{"$f":"MAX(0,MIN(dagroosterberekening!$J$3,C604)-MAX(dagroosterberekening!$I$3,B604))","v":"00:00:00"},0,0]
["zondag","06:45:00","07:00:00",{"$f":"Beheer!I29","v":1.2},{"$f":"MAX(0,MIN(dagroosterberekening!$H$3,C605)-MAX(dagroosterberekening!$G$3,B605))","v":"00:00:00"},{"$f":"MAX(0,MIN(dagroosterberekening!$J$3,C605)-MAX(dagroosterberekening!$I$3,B605))","v":"00:00:00"},0,0]
["zondag","07:00:00","07:15:00",{"$f":"Beheer!I30","v":1.2},{"$f":"MAX(0,MIN(dagroosterberekening!$H$3,C606)-MAX(dagroosterberekening!$G$3,B606))","v":"00:00:00"},{"$f":"MAX(0,MIN(dagroosterberekening!$J$3,C606)-MAX(dagroosterberekening!$I$3,B606))","v":"00:00:00"},0,0]
["zondag","07:15:00","07:30:00",{"$f":"Beheer!I31","v":1.2},{"$f":"MAX(0,MIN(dagroosterberekening!$H$3,C607)-MAX(dagroosterberekening!$G$3,B607))","v":"00:00:00"},{"$f":"MAX(0,MIN(dagroosterberekening!$J$3,C607)-MAX(dagroosterberekening!$I$3,B607))","v":"00:00:00"},0,0]
["zondag","07:30:00","07:45:00",{"$f":"Beheer!I32","v":1.2},{"$f":"MAX(0,MIN(dagroosterberekening!$H$3,C608)-MAX(dagroosterberekening!$G$3,B608))","v":"00:00:00"},{"$f":"MAX(0,MIN(dagroosterberekening!$J$3,C608)-MAX(dagroosterberekening!$I$3,B608))","v":"00:00:00"},0,0]
["zondag","07:45:00","08:00:00",{"$f":"Beheer!I33","v":1.2},{"$f":"MAX(0,MIN(dagroosterberekening!$H$3,C609)-MAX(dagroosterberekening!$G$3,B609))","v":"00:00:00"},{"$f":"MAX(0,MIN(dagroosterberekening!$J$3,C609)-MAX(dagroosterberekening!$I$3,B609))","v":"00:00:00"},0,0]
["zondag","08:00:00","08:15:00",{"$f":"Beheer!I34","v":1.2},{"$f":"MAX(0,MIN(dagroosterberekening!$H$3,C610)-MAX(dagroosterberekening!$G$3,B610))","v":"00:08:00"},{"$f":"MAX(0,MIN(dagroosterberekening!$J$3,C610)-MAX(dagroosterberekening!$I$3,B610))","v":"00:00:00"},1.2222222200000001E-2,0]
["zondag","08:15:00","08:30:00",{"$f":"Beheer!I35","v":1.2},{"$f":"MAX(0,MIN(dagroosterberekening!$H$3,C611)-MAX(dagroosterberekening!$G$3,B611))","v":"00:00:00"},{"$f":"MAX(0,MIN(dagroosterberekening!$J$3,C611)-MAX(dagroosterberekening!$I$3,B611))","v":"00:00:00"},0,0]
["zondag","08:30:00","08:45:00",{"$f":"Beheer!I36","v":1.2},{"$f":"MAX(0,MIN(dagroosterberekening!$H$3,C612)-MAX(dagroosterberekening!$G$3,B612))","v":"00:00:00"},{"$f":"MAX(0,MIN(dagroosterberekening!$J$3,C612)-MAX(dagroosterberekening!$I$3,B612))","v":"00:00:00"},0,0]
["zondag","08:45:00","09:00:00",{"$f":"Beheer!I37","v":1.2},{"$f":"MAX(0,MIN(dagroosterberekening!$H$3,C613)-MAX(dagroosterberekening!$G$3,B613))","v":"00:00:00"},{"$f":"MAX(0,MIN(dagroosterberekening!$J$3,C613)-MAX(dagroosterberekening!$I$3,B613))","v":"00:00:00"},0,0]
["zondag","09:00:00","09:15:00",{"$f":"Beheer!I38","v":1.2},{"$f":"MAX(0,MIN(dagroosterberekening!$H$3,C614)-MAX(dagroosterberekening!$G$3,B614))","v":"00:00:00"},{"$f":"MAX(0,MIN(dagroosterberekening!$J$3,C614)-MAX(dagroosterberekening!$I$3,B614))","v":"00:00:00"},0,0]
["zondag","09:15:00","09:30:00",{"$f":"Beheer!I39","v":1.2},{"$f":"MAX(0,MIN(dagroosterberekening!$H$3,C615)-MAX(dagroosterberekening!$G$3,B615))","v":"00:00:00"},{"$f":"MAX(0,MIN(dagroosterberekening!$J$3,C615)-MAX(dagroosterberekening!$I$3,B615))","v":"00:00:00"},0,0]
["zondag","09:30:00","09:45:00",{"$f":"Beheer!I40","v":1.2},{"$f":"MAX(0,MIN(dagroosterberekening!$H$3,C616)-MAX(dagroosterberekening!$G$3,B616))","v":"00:00:00"},{"$f":"MAX(0,MIN(dagroosterberekening!$J$3,C616)-MAX(dagroosterberekening!$I$3,B616))","v":"00:00:00"},0,0]
["zondag","09:45:00","10:00:00",{"$f":"Beheer!I41","v":1.2},{"$f":"MAX(0,MIN(dagroosterberekening!$H$3,C617)-MAX(dagroosterberekening!$G$3,B617))","v":"00:00:00"},{"$f":"MAX(0,MIN(dagroosterberekening!$J$3,C617)-MAX(dagroosterberekening!$I$3,B617))","v":"00:00:00"},0,0]
["zondag","10:00:00","10:15:00",{"$f":"Beheer!I42","v":1.2},{"$f":"MAX(0,MIN(dagroosterberekening!$H$3,C618)-MAX(dagroosterberekening!$G$3,B618))","v":"00:00:00"},{"$f":"MAX(0,MIN(dagroosterberekening!$J$3,C618)-MAX(dagroosterberekening!$I$3,B618))","v":"00:00:00"},0,0]
["zondag","10:15:00","10:30:00",{"$f":"Beheer!I43","v":1.2},{"$f":"MAX(0,MIN(dagroosterberekening!$H$3,C619)-MAX(dagroosterberekening!$G$3,B619))","v":"00:00:00"},{"$f":"MAX(0,MIN(dagroosterberekening!$J$3,C619)-MAX(dagroosterberekening!$I$3,B619))","v":"00:00:00"},0,0]
["zondag","10:30:00","10:45:00",{"$f":"Beheer!I44","v":1.2},{"$f":"MAX(0,MIN(dagroosterberekening!$H$3,C620)-MAX(dagroosterberekening!$G$3,B620))","v":"00:00:00"},{"$f":"MAX(0,MIN(dagroosterberekening!$J$3,C620)-MAX(dagroosterberekening!$I$3,B620))","v":"00:00:00"},0,0]
["zondag","10:45:00","11:00:00",{"$f":"Beheer!I45","v":1.2},{"$f":"MAX(0,MIN(dagroosterberekening!$H$3,C621)-MAX(dagroosterberekening!$G$3,B621))","v":"00:00:00"},{"$f":"MAX(0,MIN(dagroosterberekening!$J$3,C621)-MAX(dagroosterberekening!$I$3,B621))","v":"00:00:00"},0,0]
["zondag","11:00:00","11:15:00",{"$f":"Beheer!I46","v":1.2},{"$f":"MAX(0,MIN(dagroosterberekening!$H$3,C622)-MAX(dagroosterberekening!$G$3,B622))","v":"00:00:00"},{"$f":"MAX(0,MIN(dagroosterberekening!$J$3,C622)-MAX(dagroosterberekening!$I$3,B622))","v":"00:00:00"},0,0]
["zondag","11:15:00","11:30:00",{"$f":"Beheer!I47","v":1.2},{"$f":"MAX(0,MIN(dagroosterberekening!$H$3,C623)-MAX(dagroosterberekening!$G$3,B623))","v":"00:00:00"},{"$f":"MAX(0,MIN(dagroosterberekening!$J$3,C623)-MAX(dagroosterberekening!$I$3,B623))","v":"00:00:00"},0,0]
["zondag","11:30:00","11:45:00",{"$f":"Beheer!I48","v":1.2},{"$f":"MAX(0,MIN(dagroosterberekening!$H$3,C624)-MAX(dagroosterberekening!$G$3,B624))","v":"00:00:00"},{"$f":"MAX(0,MIN(dagroosterberekening!$J$3,C624)-MAX(dagroosterberekening!$I$3,B624))","v":"00:00:00"},0,0]
["zondag","11:45:00","12:00:00",{"$f":"Beheer!I49","v":1.2},{"$f":"MAX(0,MIN(dagroosterberekening!$H$3,C625)-MAX(dagroosterberekening!$G$3,B625))","v":"00:00:00"},{"$f":"MAX(0,MIN(dagroosterberekening!$J$3,C625)-MAX(dagroosterberekening!$I$3,B625))","v":"00:00:00"},0,0]
["zondag","12:00:00","12:15:00",{"$f":"Beheer!I50","v":1.2},{"$f":"MAX(0,MIN(dagroosterberekening!$H$3,C626)-MAX(dagroosterberekening!$G$3,B626))","v":"00:00:00"},{"$f":"MAX(0,MIN(dagroosterberekening!$J$3,C626)-MAX(dagroosterberekening!$I$3,B626))","v":"00:00:00"},0,0]
["zondag","12:15:00","12:30:00",{"$f":"Beheer!I51","v":1.2},{"$f":"MAX(0,MIN(dagroosterberekening!$H$3,C627)-MAX(dagroosterberekening!$G$3,B627))","v":"00:00:00"},{"$f":"MAX(0,MIN(dagroosterberekening!$J$3,C627)-MAX(dagroosterberekening!$I$3,B627))","v":"00:00:00"},0,0]
["zondag","12:30:00","12:45:00",{"$f":"Beheer!I52","v":1.2},{"$f":"MAX(0,MIN(dagroosterberekening!$H$3,C628)-MAX(dagroosterberekening!$G$3,B628))","v":"00:00:00"},{"$f":"MAX(0,MIN(dagroosterberekening!$J$3,C628)-MAX(dagroosterberekening!$I$3,B628))","v":"00:00:00"},0,0]
["zondag","12:45:00","13:00:00",{"$f":"Beheer!I53","v":1.2},{"$f":"MAX(0,MIN(dagroosterberekening!$H$3,C629)-MAX(dagroosterberekening!$G$3,B629))","v":"00:00:00"},{"$f":"MAX(0,MIN(dagroosterberekening!$J$3,C629)-MAX(dagroosterberekening!$I$3,B629))","v":"00:00:00"},0,0]
["zondag","13:00:00","13:15:00",{"$f":"Beheer!I54","v":1.2},{"$f":"MAX(0,MIN(dagroosterberekening!$H$3,C630)-MAX(dagroosterberekening!$G$3,B630))","v":"00:00:00"},{"$f":"MAX(0,MIN(dagroosterberekening!$J$3,C630)-MAX(dagroosterberekening!$I$3,B630))","v":"00:00:00"},0,0]
["zondag","13:15:00","13:30:00",{"$f":"Beheer!I55","v":1.2},{"$f":"MAX(0,MIN(dagroosterberekening!$H$3,C631)-MAX(dagroosterberekening!$G$3,B631))","v":"00:00:00"},{"$f":"MAX(0,MIN(dagroosterberekening!$J$3,C631)-MAX(dagroosterberekening!$I$3,B631))","v":"00:00:00"},0,0]
["zondag","13:30:00","13:45:00",{"$f":"Beheer!I56","v":1.2},{"$f":"MAX(0,MIN(dagroosterberekening!$H$3,C632)-MAX(dagroosterberekening!$G$3,B632))","v":"00:00:00"},{"$f":"MAX(0,MIN(dagroosterberekening!$J$3,C632)-MAX(dagroosterberekening!$I$3,B632))","v":"00:00:00"},0,0]
["zondag","13:45:00","14:00:00",{"$f":"Beheer!I57","v":1.2},{"$f":"MAX(0,MIN(dagroosterberekening!$H$3,C633)-MAX(dagroosterberekening!$G$3,B633))","v":"00:00:00"},{"$f":"MAX(0,MIN(dagroosterberekening!$J$3,C633)-MAX(dagroosterberekening!$I$3,B633))","v":"00:00:00"},0,0]
["zondag","14:00:00","14:15:00",{"$f":"Beheer!I58","v":1.2},{"$f":"MAX(0,MIN(dagroosterberekening!$H$3,C634)-MAX(dagroosterberekening!$G$3,B634))","v":"00:00:00"},{"$f":"MAX(0,MIN(dagroosterberekening!$J$3,C634)-MAX(dagroosterberekening!$I$3,B634))","v":"00:00:00"},0,0]
["zondag","14:15:00","14:30:00",{"$f":"Beheer!I59","v":1.2},{"$f":"MAX(0,MIN(dagroosterberekening!$H$3,C635)-MAX(dagroosterberekening!$G$3,B635))","v":"00:00:00"},{"$f":"MAX(0,MIN(dagroosterberekening!$J$3,C635)-MAX(dagroosterberekening!$I$3,B635))","v":"00:00:00"},0,0]
["zondag","14:30:00","14:45:00",{"$f":"Beheer!I60","v":1.2},{"$f":"MAX(0,MIN(dagroosterberekening!$H$3,C636)-MAX(dagroosterberekening!$G$3,B636))","v":"00:00:00"},{"$f":"MAX(0,MIN(dagroosterberekening!$J$3,C636)-MAX(dagroosterberekening!$I$3,B636))","v":"00:00:00"},0,0]
["zondag","14:45:00","15:00:00",{"$f":"Beheer!I61","v":1.2},{"$f":"MAX(0,MIN(dagroosterberekening!$H$3,C637)-MAX(dagroosterberekening!$G$3,B637))","v":"00:00:00"},{"$f":"MAX(0,MIN(dagroosterberekening!$J$3,C637)-MAX(dagroosterberekening!$I$3,B637))","v":"00:00:00"},0,0]
["zondag","15:00:00","15:15:00",{"$f":"Beheer!I62","v":1.2},{"$f":"MAX(0,MIN(dagroosterberekening!$H$3,C638)-MAX(dagroosterberekening!$G$3,B638))","v":"00:00:00"},{"$f":"MAX(0,MIN(dagroosterberekening!$J$3,C638)-MAX(dagroosterberekening!$I$3,B638))","v":"00:00:00"},0,0]
["zondag","15:15:00","15:30:00",{"$f":"Beheer!I63","v":1.2},{"$f":"MAX(0,MIN(dagroosterberekening!$H$3,C639)-MAX(dagroosterberekening!$G$3,B639))","v":"00:00:00"},{"$f":"MAX(0,MIN(dagroosterberekening!$J$3,C639)-MAX(dagroosterberekening!$I$3,B639))","v":"00:00:00"},0,0]
["zondag","15:30:00","15:45:00",{"$f":"Beheer!I64","v":1.2},{"$f":"MAX(0,MIN(dagroosterberekening!$H$3,C640)-MAX(dagroosterberekening!$G$3,B640))","v":"00:00:00"},{"$f":"MAX(0,MIN(dagroosterberekening!$J$3,C640)-MAX(dagroosterberekening!$I$3,B640))","v":"00:00:00"},0,0]
["zondag","15:45:00","16:00:00",{"$f":"Beheer!I65","v":1.2},{"$f":"MAX(0,MIN(dagroosterberekening!$H$3,C641)-MAX(dagroosterberekening!$G$3,B641))","v":"00:00:00"},{"$f":"MAX(0,MIN(dagroosterberekening!$J$3,C641)-MAX(dagroosterberekening!$I$3,B641))","v":"00:00:00"},0,0]
["zondag","16:00:00","16:15:00",{"$f":"Beheer!I66","v":1.2},{"$f":"MAX(0,MIN(dagroosterberekening!$H$3,C642)-MAX(dagroosterberekening!$G$3,B642))","v":"00:00:00"},{"$f":"MAX(0,MIN(dagroosterberekening!$J$3,C642)-MAX(dagroosterberekening!$I$3,B642))","v":"00:00:00"},0,0]
["zondag",{"$f":"C642","v":"16:15:00"},"16:30:00",{"$f":"Beheer!I67","v":1.2},{"$f":"MAX(0,MIN(dagroosterberekening!$H$3,C643)-MAX(dagroosterberekening!$G$3,B643))","v":"00:00:00"},{"$f":"MAX(0,MIN(dagroosterberekening!$J$3,C643)-MAX(dagroosterberekening!$I$3,B643))","v":"00:00:00"},{"$f":"ROUND((E643*1)+(E643*D643),10)","v":0},{"$f":"ROUND((F643*1)+(F643*D643),10)","v":0}]
["zondag","16:30:00","16:45:00",{"$f":"Beheer!I68","v":1.2},{"$f":"MAX(0,MIN(dagroosterberekening!$H$3,C644)-MAX(dagroosterberekening!$G$3,B644))","v":"00:00:00"},{"$f":"MAX(0,MIN(dagroosterberekening!$J$3,C644)-MAX(dagroosterberekening!$I$3,B644))","v":"00:00:00"},0,0]
["zondag","16:45:00","17:00:00",{"$f":"Beheer!I69","v":1.2},{"$f":"MAX(0,MIN(dagroosterberekening!$H$3,C645)-MAX(dagroosterberekening!$G$3,B645))","v":"00:00:00"},{"$f":"MAX(0,MIN(dagroosterberekening!$J$3,C645)-MAX(dagroosterberekening!$I$3,B645))","v":"00:00:00"},0,0]
["zondag","17:00:00","17:15:00",{"$f":"Beheer!I70","v":1.2},{"$f":"MAX(0,MIN(dagroosterberekening!$H$3,C646)-MAX(dagroosterberekening!$G$3,B646))","v":"00:00:00"},{"$f":"MAX(0,MIN(dagroosterberekening!$J$3,C646)-MAX(dagroosterberekening!$I$3,B646))","v":"00:00:00"},0,0]
["zondag","17:15:00","17:30:00",{"$f":"Beheer!I71","v":1.2},{"$f":"MAX(0,MIN(dagroosterberekening!$H$3,C647)-MAX(dagroosterberekening!$G$3,B647))","v":"00:00:00"},{"$f":"MAX(0,MIN(dagroosterberekening!$J$3,C647)-MAX(dagroosterberekening!$I$3,B647))","v":"00:00:00"},0,0]
["zondag","17:30:00","17:45:00",{"$f":"Beheer!I72","v":1.2},{"$f":"MAX(0,MIN(dagroosterberekening!$H$3,C648)-MAX(dagroosterberekening!$G$3,B648))","v":"00:00:00"},{"$f":"MAX(0,MIN(dagroosterberekening!$J$3,C648)-MAX(dagroosterberekening!$I$3,B648))","v":"00:00:00"},0,0]
["zondag","17:45:00","18:00:00",{"$f":"Beheer!I73","v":1.2},{"$f":"MAX(0,MIN(dagroosterberekening!$H$3,C649)-MAX(dagroosterberekening!$G$3,B649))","v":"00:00:00"},{"$f":"MAX(0,MIN(dagroosterberekening!$J$3,C649)-MAX(dagroosterberekening!$I$3,B649))","v":"00:00:00"},0,0]
["zondag","18:00:00","18:15:00",{"$f":"Beheer!I74","v":1.2},{"$f":"MAX(0,MIN(dagroosterberekening!$H$3,C650)-MAX(dagroosterberekening!$G$3,B650))","v":"00:00:00"},{"$f":"MAX(0,MIN(dagroosterberekening!$J$3,C650)-MAX(dagroosterberekening!$I$3,B650))","v":"00:00:00"},0,0]
["zondag","18:15:00","18:30:00",{"$f":"Beheer!I75","v":1.2},{"$f":"MAX(0,MIN(dagroosterberekening!$H$3,C651)-MAX(dagroosterberekening!$G$3,B651))","v":"00:00:00"},{"$f":"MAX(0,MIN(dagroosterberekening!$J$3,C651)-MAX(dagroosterberekening!$I$3,B651))","v":"00:00:00"},0,0]
["zondag","18:30:00","18:45:00",{"$f":"Beheer!I76","v":1.2},{"$f":"MAX(0,MIN(dagroosterberekening!$H$3,C652)-MAX(dagroosterberekening!$G$3,B652))","v":"00:00:00"},{"$f":"MAX(0,MIN(dagroosterberekening!$J$3,C652)-MAX(dagroosterberekening!$I$3,B652))","v":"00:00:00"},0,0]
["zondag","18:45:00","19:00:00",{"$f":"Beheer!I77","v":1.2},{"$f":"MAX(0,MIN(dagroosterberekening!$H$3,C653)-MAX(dagroosterberekening!$G$3,B653))","v":"00:00:00"},{"$f":"MAX(0,MIN(dagroosterberekening!$J$3,C653)-MAX(dagroosterberekening!$I$3,B653))","v":"00:00:00"},0,0]
["zondag","19:00:00","19:15:00",{"$f":"Beheer!I78","v":1.2},{"$f":"MAX(0,MIN(dagroosterberekening!$H$3,C654)-MAX(dagroosterberekening!$G$3,B654))","v":"00:00:00"},{"$f":"MAX(0,MIN(dagroosterberekening!$J$3,C654)-MAX(dagroosterberekening!$I$3,B654))","v":"00:00:00"},0,0]
["zondag","19:15:00","19:30:00",{"$f":"Beheer!I79","v":1.2},{"$f":"MAX(0,MIN(dagroosterberekening!$H$3,C655)-MAX(dagroosterberekening!$G$3,B655))","v":"00:00:00"},{"$f":"MAX(0,MIN(dagroosterberekening!$J$3,C655)-MAX(dagroosterberekening!$I$3,B655))","v":"00:00:00"},0,0]
["zondag","19:30:00","19:45:00",{"$f":"Beheer!I80","v":1.2},{"$f":"MAX(0,MIN(dagroosterberekening!$H$3,C656)-MAX(dagroosterberekening!$G$3,B656))","v":"00:00:00"},{"$f":"MAX(0,MIN(dagroosterberekening!$J$3,C656)-MAX(dagroosterberekening!$I$3,B656))","v":"00:00:00"},0,0]
["zondag","19:45:00","20:00:00",{"$f":"Beheer!I81","v":1.2},{"$f":"MAX(0,MIN(dagroosterberekening!$H$3,C657)-MAX(dagroosterberekening!$G$3,B657))","v":"00:00:00"},{"$f":"MAX(0,MIN(dagroosterberekening!$J$3,C657)-MAX(dagroosterberekening!$I$3,B657))","v":"00:00:00"},0,0]
["zondag","20:00:00","20:15:00",{"$f":"Beheer!I82","v":1.2},{"$f":"MAX(0,MIN(dagroosterberekening!$H$3,C658)-MAX(dagroosterberekening!$G$3,B658))","v":"00:00:00"},{"$f":"MAX(0,MIN(dagroosterberekening!$J$3,C658)-MAX(dagroosterberekening!$I$3,B658))","v":"00:00:00"},0,0]
["zondag","20:15:00","20:30:00",{"$f":"Beheer!I83","v":1.2},{"$f":"MAX(0,MIN(dagroosterberekening!$H$3,C659)-MAX(dagroosterberekening!$G$3,B659))","v":"00:00:00"},{"$f":"MAX(0,MIN(dagroosterberekening!$J$3,C659)-MAX(dagroosterberekening!$I$3,B659))","v":"00:00:00"},0,0]
["zondag","20:30:00","20:45:00",{"$f":"Beheer!I84","v":1.2},{"$f":"MAX(0,MIN(dagroosterberekening!$H$3,C660)-MAX(dagroosterberekening!$G$3,B660))","v":"00:00:00"},{"$f":"MAX(0,MIN(dagroosterberekening!$J$3,C660)-MAX(dagroosterberekening!$I$3,B660))","v":"00:00:00"},0,0]
["zondag","20:45:00","21:00:00",{"$f":"Beheer!I85","v":1.2},{"$f":"MAX(0,MIN(dagroosterberekening!$H$3,C661)-MAX(dagroosterberekening!$G$3,B661))","v":"00:00:00"},{"$f":"MAX(0,MIN(dagroosterberekening!$J$3,C661)-MAX(dagroosterberekening!$I$3,B661))","v":"00:00:00"},0,0]
["zondag","21:00:00","21:15:00",{"$f":"Beheer!I86","v":1.2},{"$f":"MAX(0,MIN(dagroosterberekening!$H$3,C662)-MAX(dagroosterberekening!$G$3,B662))","v":"00:00:00"},{"$f":"MAX(0,MIN(dagroosterberekening!$J$3,C662)-MAX(dagroosterberekening!$I$3,B662))","v":"00:00:00"},0,0]
["zondag","21:15:00","21:30:00",{"$f":"Beheer!I87","v":1.2},{"$f":"MAX(0,MIN(dagroosterberekening!$H$3,C663)-MAX(dagroosterberekening!$G$3,B663))","v":"00:00:00"},{"$f":"MAX(0,MIN(dagroosterberekening!$J$3,C663)-MAX(dagroosterberekening!$I$3,B663))","v":"00:00:00"},0,0]
["zondag","21:30:00","21:45:00",{"$f":"Beheer!I88","v":1.2},{"$f":"MAX(0,MIN(dagroosterberekening!$H$3,C664)-MAX(dagroosterberekening!$G$3,B664))","v":"00:00:00"},{"$f":"MAX(0,MIN(dagroosterberekening!$J$3,C664)-MAX(dagroosterberekening!$I$3,B664))","v":"00:00:00"},0,0]
["zondag","21:45:00","22:00:00",{"$f":"Beheer!I89","v":1.2},{"$f":"MAX(0,MIN(dagroosterberekening!$H$3,C665)-MAX(dagroosterberekening!$G$3,B665))","v":"00:00:00"},{"$f":"MAX(0,MIN(dagroosterberekening!$J$3,C665)-MAX(dagroosterberekening!$I$3,B665))","v":"00:00:00"},0,0]
["zondag","22:00:00","22:15:00",{"$f":"Beheer!I90","v":1.2},{"$f":"MAX(0,MIN(dagroosterberekening!$H$3,C666)-MAX(dagroosterberekening!$G$3,B666))","v":"00:00:00"},{"$f":"MAX(0,MIN(dagroosterberekening!$J$3,C666)-MAX(dagroosterberekening!$I$3,B666))","v":"00:00:00"},0,0]
["zondag","22:15:00","22:30:00",{"$f":"Beheer!I91","v":1.2},{"$f":"MAX(0,MIN(dagroosterberekening!$H$3,C667)-MAX(dagroosterberekening!$G$3,B667))","v":"00:00:00"},{"$f":"MAX(0,MIN(dagroosterberekening!$J$3,C667)-MAX(dagroosterberekening!$I$3,B667))","v":"00:00:00"},0,0]
["zondag","22:30:00","22:45:00",{"$f":"Beheer!I92","v":1.2},{"$f":"MAX(0,MIN(dagroosterberekening!$H$3,C668)-MAX(dagroosterberekening!$G$3,B668))","v":"00:00:00"},{"$f":"MAX(0,MIN(dagroosterberekening!$J$3,C668)-MAX(dagroosterberekening!$I$3,B668))","v":"00:00:00"},0,0]
["zondag","22:45:00","23:00:00",{"$f":"Beheer!I93","v":1.2},{"$f":"MAX(0,MIN(dagroosterberekening!$H$3,C669)-MAX(dagroosterberekening!$G$3,B669))","v":"00:00:00"},{"$f":"MAX(0,MIN(dagroosterberekening!$J$3,C669)-MAX(dagroosterberekening!$I$3,B669))","v":"00:00:00"},0,0]
["zondag","23:00:00","23:15:00",{"$f":"Beheer!I94","v":1.2},{"$f":"MAX(0,MIN(dagroosterberekening!$H$3,C670)-MAX(dagroosterberekening!$G$3,B670))","v":"00:00:00"},{"$f":"MAX(0,MIN(dagroosterberekening!$J$3,C670)-MAX(dagroosterberekening!$I$3,B670))","v":"00:00:00"},0,0]
["zondag","23:15:00","23:30:00",{"$f":"Beheer!I95","v":1.2},{"$f":"MAX(0,MIN(dagroosterberekening!$H$3,C671)-MAX(dagroosterberekening!$G$3,B671))","v":"00:00:00"},{"$f":"MAX(0,MIN(dagroosterberekening!$J$3,C671)-MAX(dagroosterberekening!$I$3,B671))","v":"00:00:00"},0,0]
["zondag","23:30:00","23:45:00",{"$f":"Beheer!I96","v":1.2},{"$f":"MAX(0,MIN(dagroosterberekening!$H$3,C672)-MAX(dagroosterberekening!$G$3,B672))","v":"00:00:00"},{"$f":"MAX(0,MIN(dagroosterberekening!$J$3,C672)-MAX(dagroosterberekening!$I$3,B672))","v":"00:00:00"},0,0]
["zondag","23:45:00",1,{"$f":"Beheer!I97","v":1.2},{"$f":"MAX(0,MIN(dagroosterberekening!$H$3,C673)-MAX(dagroosterberekening!$G$3,B673))","v":"00:00:00"},{"$f":"MAX(0,MIN(dagroosterberekening!$J$3,C673)-MAX(dagroosterberekening!$I$3,B673))","v":"00:00:00"},0,0]

{"sheet":"dagrooster invoer","index":3,"n_rows":1,"n_cols":5,"rows_kept":1,"cut":false,"hidden":true,"merged":[]}
["van","tot","van","tot","dagroostercode"]

{"sheet":"dagroosterberekening","index":4,"n_rows":3,"n_cols":19,"rows_kept":3,"cut":false,"hidden":true,"merged":[[0,0,0,3],[0,6,0,7],[0,8,0,9]]}
["invoer",null,null,null,"werktijd","pauze","huidige dag",null,"opvolgende dag"]
["van","tot","van","tot","over de nacht","over de nacht","van","tot","van","tot","aanwezig","gewerkt","maandagwaarde","dinsdagwaarde","woensdagwaarde","donderdagwaarde","vrijdagwaarde","zaterdagwaarde","zondagwaarde"]
["08:00:00","08:08:00",null,null,{"$f":"IF(ISBLANK(B3),\"\",IF(B3>=A3,0,1))","v":0},{"$f":"IF(ISBLANK(B3),\"\",IF(D3>=C3,0,1))","v":0},{"$f":"IF(ISBLANK(B3),\"\",A3)","v":"08:00:00"},{"$f":"IF(ISBLANK(B3),\"\",IF(E3=1,1,B3))","v":"08:08:00"},{"$f":"IF(ISBLANK(B3),\"\",IF(E3=1,0,0))","v":"00:00:00"},{"$f":"IF(ISBLANK(B3),\"\",IF(E3=1,B3,0))","v":"00:00:00"},{"$f":"IF(ISBLANK(B3),\"\",(B3+E3)-A3)","v":"00:08:00"},{"$f":"IF(ISBLANK(B3),\"\",((B3+E3)-A3)-((D3+F3)-C3))","v":"00:08:00"},{"$f":"IF(ISBLANK(B3),\"\",SUM(mawaarde)+IF(E3=1,SUM(diwaardevd),0))","v":5.5555556000000004E-3},{"$f":"IF(ISBLANK(B3),\"\",SUM(diwaarde)+IF(E3=1,SUM(wowaardevd),0))","v":5.5555556000000004E-3},{"$f":"IF(ISBLANK(B3),\"\",SUM(wowaarde)+IF(E3=1,SUM(dowaardevd),0))","v":5.5555556000000004E-3},{"$f":"IF(ISBLANK(B3),\"\",SUM(dowaarde)+IF(E3=1,SUM(vrwaardevd),0))","v":5.5555556000000004E-3},{"$f":"IF(ISBLANK(B3),\"\",SUM(vrwaarde)+IF(E3=1,SUM(zawaardevd),0))","v":5.5555556000000004E-3},{"$f":"IF(ISBLANK(B3),\"\",SUM(zawaarde)+IF(E3=1,SUM(zowaardevd),0))","v":7.7777777999999999E-3},{"$f":"IF(ISBLANK(B3),\"\",SUM(zowaarde)+IF(E3=1,SUM(mawaardevd),0))","v":1.2222222200000001E-2}]

{"sheet":"dagroosteroverzicht","index":5,"n_rows":132,"n_cols":15,"rows_kept":132,"cut":false,"hidden":true,"merged":[]}
["van","tot","van","tot","uniek","dagroostercode","aanwezig","gewerkt","maandagwaarde","dinsdagwaarde","woensdagwaarde","donderdagwaarde","vrijdagwaarde","zaterdagwaarde","zondagwaarde"]
["x","x","x","x","x","voorbeeld","x","x","x","x","x","x","x","x","x"]
["06:30:00","15:00:00","10:30:00","11:00:00",{"$f":"A3&B3&C3&D3","v":"0,2708333333333330,6250,43750,458333333333333"},"a",0.35416666666666669,0.33333333333333337,0.36250000100000013,0.36250000100000013,0.36250000100000013,0.36250000100000013,0.36250000100000013,0.59583333299999997,0.77916666780000021]
["14:45:00","23:15:00","18:45:00","19:15:00","0,6145833333333330,968750,781250,802083333333333","b",0.35416666666666663,0.33333333333333326,0.44166666639999996,0.44166666639999996,0.44166666639999996,0.44166666639999996,0.44166666639999996,0.77916666780000021,0.77916666780000021]
["14:00:00","22:30:00","18:00:00","18:30:00","0,5833333333333330,93750,750,770833333333333","c",0.35416666666666663,0.33333333333333326,0.42916666659999997,0.42916666659999997,0.42916666659999997,0.42916666659999997,0.42916666659999997,0.77916666780000021,0.77916666780000021]
["05:30:00","14:00:00","11:45:00","12:15:00","0,2291666666666670,5833333333333330,4895833333333330,510416666666667","d",0.35416666666666674,0.33333333333333343,0.37916666740000016,0.37916666740000016,0.37916666740000016,0.37916666740000016,0.37916666740000016,0.56249999939999995,0.77916666780000021]
["06:30:00","15:00:00","11:00:00","11:30:00","0,2708333333333330,6250,4583333333333330,479166666666667","e",0.35416666666666669,0.33333333333333331,0.36250000100000013,0.36250000100000013,0.36250000100000013,0.36250000100000013,0.36250000100000013,0.59583333299999997,0.77916666780000021]
["15:00:00","23:30:00","19:00:00","19:30:00","0,6250,9791666666666670,7916666666666670,8125","f",0.35416666666666663,0.33333333333333326,0.445833333,0.445833333,0.445833333,0.445833333,0.445833333,0.77916666780000021,0.77916666780000021]
["23:30:00","06:30:00",null,null,"0,9791666666666670,270833333333333","g",0.29166666666666663,0.29166666666666663,0.40833333239999997,0.40833333239999997,0.40833333239999997,0.40833333239999997,0.40833333239999997,0.64166666759999991,0.42499999919999998]
["06:30:00","15:00:00","12:30:00","13:00:00","0,2708333333333330,6250,5208333333333330,541666666666667","h",0.35416666666666669,0.33333333333333343,0.36250000100000013,0.36250000100000013,0.36250000100000013,0.36250000100000013,0.36250000100000013,0.59583333299999997,0.77916666780000021]
["09:00:00","17:30:00","13:00:00","13:30:00","0,3750,7291666666666670,5416666666666670,5625","i",0.35416666666666663,0.33333333333333326,0.35416666780000011,0.35416666780000011,0.35416666780000011,0.35416666780000011,0.35416666780000011,0.67916666699999995,0.77916666780000021]
["15:00:00","23:30:00","17:00:00","17:30:00","0,6250,9791666666666670,7083333333333330,729166666666667","j",0.35416666666666663,0.33333333333333337,0.445833333,0.445833333,0.445833333,0.445833333,0.445833333,0.77916666780000021,0.77916666780000021]
["19:30:00","23:30:00",null,null,"0,81250,979166666666667","k",0.16666666666666663,0.16666666666666663,0.23333333279999999,0.23333333279999999,0.23333333279999999,0.23333333279999999,0.23333333279999999,0.36666666719999991,0.36666666719999991]
["09:00:00","13:00:00",null,null,"0,3750,541666666666667","l",0.16666666666666663,0.16666666666666663,0.16666666719999995,0.16666666719999995,0.16666666719999995,0.16666666719999995,0.16666666719999995,0.26666666639999997,0.36666666719999991]
["15:00:00","19:00:00",null,null,"0,6250,791666666666667","m",0.16666666666666663,0.16666666666666663,0.18333333359999998,0.18333333359999998,0.18333333359999998,0.18333333359999998,0.18333333359999998,0.36666666719999991,0.36666666719999991]
["15:00:00","22:00:00","17:30:00","18:00:00","0,6250,9166666666666670,7291666666666670,75","n",0.29166666666666663,0.27083333333333326,0.35833333319999999,0.35833333319999999,0.35833333319999999,0.35833333319999999,0.35833333319999999,0.64166666760000002,0.64166666760000002]
["15:00:00","23:30:00","17:45:00","18:15:00","0,6250,9791666666666670,7395833333333330,760416666666667","o",0.35416666666666663,0.33333333333333337,0.445833333,0.445833333,0.445833333,0.445833333,0.445833333,0.77916666780000021,0.77916666780000021]
["15:00:00","00:00:00","17:45:00","18:15:00","0,62500,7395833333333330,760416666666667","p",0.375,0.35416666666666674,0.4749999996,0.4749999996,0.4749999996,0.4749999996,0.4749999996,0.82500000120000028,0.82500000120000028]
["21:30:00","06:30:00","01:45:00","02:15:00","0,8958333333333330,2708333333333330,07291666666666670,09375","q",0.37499999999999989,0.35416666666666657,0.52499999879999992,0.52499999879999992,0.52499999879999992,0.52499999879999992,0.52499999879999992,0.82500000119999994,0.60833333280000002]
["23:30:00","06:30:00","","","0,9791666666666670,270833333333333","r",0.29166666666666663,0.29166666666666663,0.40833333239999997,0.40833333239999997,0.40833333239999997,0.40833333239999997,0.40833333239999997,0.64166666759999991,0.42499999919999998]
["06:30:00","14:15:00","11:00:00","11:30:00","0,2708333333333330,593750,4583333333333330,479166666666667","s",0.32291666666666669,0.30208333333333331,0.33125000090000006,0.33125000090000006,0.33125000090000006,0.33125000090000006,0.33125000090000006,0.52708333289999987,0.71041666770000012]
["23:30:00","06:30:00","01:45:00","02:15:00","0,9791666666666670,2708333333333330,07291666666666670,09375","t",0.29166666666666663,0.27083333333333331,0.40833333239999997,0.40833333239999997,0.40833333239999997,0.40833333239999997,0.40833333239999997,0.64166666759999991,0.42499999919999998]
["08:00:00","16:30:00","12:00:00","12:30:00","0,3333333333333330,68750,50,520833333333333","u",0.35416666666666669,0.33333333333333331,0.35416666780000011,0.35416666780000011,0.35416666780000011,0.35416666780000011,0.35416666780000011,0.64583333339999993,0.77916666780000021]
["08:00:00","12:00:00",null,null,"0,3333333333333330,5","v",0.16666666666666669,0.16666666666666669,0.16666666719999995,0.16666666719999995,0.16666666719999995,0.16666666719999995,0.16666666719999995,0.23333333279999999,0.36666666719999991]
["23:00:00","06:45:00","02:30:00","03:00:00","0,9583333333333330,281250,1041666666666670,125","w",0.32291666666666663,0.30208333333333331,0.45208333229999997,0.45208333229999997,0.45208333229999997,0.45208333229999997,0.45208333229999997,0.7104166677,0.48541666589999999]
["06:30:00","14:15:00","10:30:00","11:00:00","0,2708333333333330,593750,43750,458333333333333","x",0.32291666666666669,0.30208333333333337,0.33125000090000006,0.33125000090000006,0.33125000090000006,0.33125000090000006,0.33125000090000006,0.52708333289999987,0.71041666770000012]
["06:30:00","15:45:00","11:00:00","11:30:00","0,2708333333333330,656250,4583333333333330,479166666666667","y",0.38541666666666669,0.36458333333333331,0.39375000110000019,0.39375000110000019,0.39375000110000019,0.39375000110000019,0.39375000110000019,0.66458333310000006,0.84791666790000031]
["12:30:00","22:30:00","19:00:00","19:30:00","0,5208333333333330,93750,7916666666666670,8125","z",0.41666666666666663,0.39583333333333326,0.49166666679999993,0.49166666679999993,0.49166666679999993,0.49166666679999993,0.49166666679999993,0.91666666800000041,0.91666666800000041]
["22:15:00","06:45:00","02:30:00","03:00:00","0,9270833333333330,281250,1041666666666670,125","aa",0.35416666666666663,0.33333333333333331,0.49583333219999998,0.49583333219999998,0.49583333219999998,0.49583333219999998,0.49583333219999998,0.77916666779999999,0.55416666599999997]
["06:30:00","14:00:00","10:00:00","10:30:00","0,2708333333333330,5833333333333330,4166666666666670,4375","ab",0.31250000000000006,0.29166666666666674,0.32083333420000004,0.32083333420000004,0.32083333420000004,0.32083333420000004,0.32083333420000004,0.50416666619999984,0.68750000100000008]
["13:45:00","22:15:00","17:45:00","18:15:00","0,5729166666666670,9270833333333330,7395833333333330,760416666666667","ac",0.35416666666666674,0.33333333333333348,0.42499999999999993,0.42499999999999993,0.42499999999999993,0.42499999999999993,0.42499999999999993,0.77916666780000021,0.77916666780000021]
["22:00:00","06:45:00","02:00:00","02:30:00","0,9166666666666670,281250,08333333333333330,104166666666667","ad",0.36458333333333337,0.34375,0.51041666549999998,0.51041666549999998,0.51041666549999998,0.51041666549999998,0.51041666549999998,0.80208333450000002,0.57708333270000001]
["06:30:00","16:00:00","10:00:00","10:30:00","0,2708333333333330,6666666666666670,4166666666666670,4375","ae",0.39583333333333331,0.375,0.40416666780000021,0.40416666780000021,0.40416666780000021,0.40416666780000021,0.40416666780000021,0.68749999980000009,0.87083333460000034]
["07:00:00","11:00:00",null,null,"0,2916666666666670,458333333333333","af",0.16666666666666663,0.16666666666666663,0.16666666719999995,0.16666666719999995,0.16666666719999995,0.16666666719999995,0.16666666719999995,0.23333333279999999,0.36666666719999991]
["08:00:00","13:00:00",null,null,{"$f":"A35&B35&C35&D35","v":"0,3333333333333330,541666666666667"},"ag",0.20833333333333331,0.20833333333333331,0.20833333399999993,0.20833333399999993,0.20833333399999993,0.20833333399999993,0.20833333399999993,0.32499999959999992,0.45833333399999981]
["07:00:00","15:00:00",null,null,"0,2916666666666670,625","ah",0.33333333333333331,0.33333333333333331,0.33333333440000007,0.33333333440000007,0.33333333440000007,0.33333333440000007,0.33333333440000007,0.56666666639999985,0.73333333440000015]
["15:00:00","23:00:00",null,null,"0,6250,958333333333333","ai",0.33333333333333337,0.33333333333333337,0.4166666664,0.4166666664,0.4166666664,0.4166666664,0.4166666664,0.73333333440000015,0.73333333440000015]
["23:00:00","07:00:00",null,null,"0,9583333333333330,291666666666667","aj",0.33333333333333337,0.33333333333333337,0.46666666559999997,0.46666666559999997,0.46666666559999997,0.46666666559999997,0.46666666559999997,0.73333333440000004,0.49999999919999999]
["08:30:00","17:00:00","12:30:00","13:00:00","0,3541666666666670,7083333333333330,5208333333333330,541666666666667","ak",0.35416666666666669,0.33333333333333343,0.35416666780000011,0.35416666780000011,0.35416666780000011,0.35416666780000011,0.35416666780000011,0.66250000019999999,0.77916666780000021]
["10:00:00","14:00:00",null,null,"0,4166666666666670,583333333333333","al",0.16666666666666669,0.16666666666666669,0.16666666719999995,0.16666666719999995,0.16666666719999995,0.16666666719999995,0.16666666719999995,0.29999999999999993,0.36666666719999991]
["07:30:00","16:00:00","11:30:00","12:00:00","0,31250,6666666666666670,4791666666666670,5","am",0.35416666666666663,0.33333333333333331,0.35416666780000011,0.35416666780000011,0.35416666780000011,0.35416666780000011,0.35416666780000011,0.62916666659999987,0.77916666780000021]
["06:00:00","14:30:00","10:00:00","10:30:00","0,250,6041666666666670,4166666666666670,4375","an",0.35416666666666663,0.33333333333333331,0.37083333420000014,0.37083333420000014,0.37083333420000014,0.37083333420000014,0.37083333420000014,0.5791666661999999,0.77916666780000021]
["05:45:00","14:15:00","10:00:00","10:30:00","0,2395833333333330,593750,4166666666666670,4375","ao",0.35416666666666663,0.33333333333333331,0.37500000080000018,0.37500000080000018,0.37500000080000018,0.37500000080000018,0.37500000080000018,0.57083333279999993,0.77916666780000021]
["13:45:00","22:15:00","17:30:00","18:00:00","0,5729166666666670,9270833333333330,7291666666666670,75","ap",0.35416666666666674,0.33333333333333337,0.42499999999999993,0.42499999999999993,0.42499999999999993,0.42499999999999993,0.42499999999999993,0.77916666780000021,0.77916666780000021]
["07:30:00","16:00:00","12:00:00","12:30:00","0,31250,6666666666666670,50,520833333333333","aq",0.35416666666666663,0.33333333333333326,0.35416666780000011,0.35416666780000011,0.35416666780000011,0.35416666780000011,0.35416666780000011,0.62916666659999987,0.77916666780000021]
["06:00:00","14:30:00","12:00:00","12:30:00","0,250,6041666666666670,50,520833333333333","ar",0.35416666666666663,0.33333333333333326,0.37083333420000014,0.37083333420000014,0.37083333420000014,0.37083333420000014,0.37083333420000014,0.5791666661999999,0.77916666780000021]
["13:30:00","22:00:00","17:30:00","18:00:00","0,56250,9166666666666670,7291666666666670,75","as",0.35416666666666663,0.33333333333333326,0.42083333339999995,0.42083333339999995,0.42083333339999995,0.42083333339999995,0.42083333339999995,0.77916666780000021,0.77916666780000021]
["09:30:00","14:30:00",null,null,"0,3958333333333330,604166666666667","at",0.20833333333333331,0.20833333333333331,0.20833333399999993,0.20833333399999993,0.20833333399999993,0.20833333399999993,0.20833333399999993,0.37499999999999989,0.45833333399999981]
["14:30:00","22:00:00","17:30:00","18:00:00","0,6041666666666670,9166666666666670,7291666666666670,75","au",0.3125,0.29166666666666663,0.37916666659999998,0.37916666659999998,0.37916666659999998,0.37916666659999998,0.37916666659999998,0.68750000100000008,0.68750000100000008]
["07:30:00","15:30:00","12:00:00","12:30:00","0,31250,6458333333333330,50,520833333333333","av",0.33333333333333337,0.3125,0.33333333440000007,0.33333333440000007,0.33333333440000007,0.33333333440000007,0.33333333440000007,0.5833333331999998,0.73333333440000015]
["08:00:00","17:00:00","11:30:00","12:00:00","0,3333333333333330,7083333333333330,4791666666666670,5","aw",0.37500000000000006,0.35416666666666674,0.37500000120000015,0.37500000120000015,0.37500000120000015,0.37500000120000015,0.37500000120000015,0.6916666668,0.82500000120000028]
["09:00:00","16:00:00","12:00:00","12:30:00","0,3750,6666666666666670,50,520833333333333","ax",0.29166666666666663,0.27083333333333326,0.29166666759999998,0.29166666759999998,0.29166666759999998,0.29166666759999998,0.29166666759999998,0.54166666679999975,0.64166666760000002]
["09:00:00","17:30:00","12:00:00","12:30:00","0,3750,7291666666666670,50,520833333333333","ay",0.35416666666666663,0.33333333333333326,0.35416666780000011,0.35416666780000011,0.35416666780000011,0.35416666780000011,0.35416666780000011,0.67916666699999995,0.77916666780000021]
[null,null,null,null,"","az"]
[null,null,null,null,"","ba"]
[null,null,null,null,"","bb"]
[null,null,null,null,"","bc"]
[null,null,null,null,"","bd"]
[null,null,null,null,"","be"]
[null,null,null,null,"","bf"]
[null,null,null,null,"","bg"]
[null,null,null,null,"","bh"]
[null,null,null,null,"","bi"]
[null,null,null,null,"","bj"]
[null,null,null,null,"","bk"]
[null,null,null,null,"","bl"]
[null,null,null,null,{"$f":"A67&B67&C67&D67","v":""},"bm"]
[null,null,null,null,{"$f":"A68&B68&C68&D68","v":""},"bn"]
[null,null,null,null,"","bo"]
[null,null,null,null,"","bp"]
[null,null,null,null,"","bq"]
[null,null,null,null,"","br"]
[null,null,null,null,"","bs"]
[null,null,null,null,"","bt"]
[null,null,null,null,"","bu"]
[null,null,null,null,"","bv"]
[null,null,null,null,"","bw"]
[null,null,null,null,"","bx"]
[null,null,null,null,"","by"]
[null,null,null,null,"","bz"]
[null,null,null,null,"","ca"]
[null,null,null,null,"","cb"]
[null,null,null,null,"","cc"]
[null,null,null,null,"","cd"]
[null,null,null,null,"","ce"]
[null,null,null,null,"","cf"]
[null,null,null,null,"","cg"]
[null,null,null,null,"","ch"]
[null,null,null,null,"","ci"]
[null,null,null,null,"","cj"]
[null,null,null,null,"","ck"]
[null,null,null,null,"","cl"]
[null,null,null,null,"","cm"]
[null,null,null,null,"","cn"]
[null,null,null,null,"","co"]
[null,null,null,null,"","cp"]
[null,null,null,null,"","cq"]
[null,null,null,null,"","cr"]
[null,null,null,null,"","cs"]
[null,null,null,null,"","ct"]
[null,null,null,null,"","cu"]
[null,null,null,null,"","cv"]
[null,null,null,null,"","cw"]
[null,null,null,null,"","cx"]
[null,null,null,null,"","cy"]
[null,null,null,null,"","cz"]
[null,null,null,null,"","da"]
[null,null,null,null,"","db"]
[null,null,null,null,"","dc"]
[null,null,null,null,"","dd"]
[null,null,null,null,"","de"]
[null,null,null,null,"","df"]
[null,null,null,null,"","dg"]
[null,null,null,null,"","dh"]
[null,null,null,null,"","di"]
[null,null,null,null,"","dj"]
[null,null,null,null,"","dk"]
[null,null,null,null,"","dl"]
[null,null,null,null,"","dm"]
[null,null,null,null,"","dn"]
[null,null,null,null,"","do"]
[null,null,null,null,"","dp"]
[null,null,null,null,"","dq"]
[null,null,null,null,"","dr"]
[null,null,null,null,"","ds"]
[null,null,null,null,"","dt"]
[null,null,null,null,"","du"]
[null,null,null,null,"","dv"]
[null,null,null,null,"","dw"]
[null,null,null,null,"","dx"]
[null,null,null,null,"","dy"]
[null,null,null,null,{"$f":"A132&B132&C132&D132","v":""},"dz"]