{"text_format":"1","workbook":"xlsx","n_sheets":5,"sheets":["Pivots","Interactief Concerten Dashboard","Zoeken in Database","Concerten","Lijst"],"not_rendered":{"charts":2,"images":0,"macros":1,"external_links":0,"defined_names":6,"comments":1,"pivot_tables":5},"unopened":[],"bounds":{"document_bytes":16777216,"sheet_cells":100000,"rows_first":2000,"rows_last":500,"rows_between":2000,"halvings":0,"cell_chars":16384,"cell_head_chars":4096},"cells_cut":0,"cells_raw":0,"read":"whole","date_system":"1900"}

{"sheet":"Pivots","index":0,"n_rows":964,"n_cols":15,"rows_kept":964,"cut":false,"hidden":true,"merged":[]}
[null,"tbv cirkel van soort",null,null,"tbv grafiek door het jaar heen",null,null,"tbv top10 artiest",null,null,"tbv top10 locatie",null,null,"tbv top 10 plaats"]
[]
[null,"Row Labels","Count of Artiest",null,"Row Labels","Count of Artiest",null,"Row Labels","Count of Locatie",null,"Row Labels","Count of Artiest",null,"Row Labels","Count of Artiest"]
[null,"(blank)",null,null,1999,20,null,"Krezip",11,null,"Doornroosje",129,null,"Nijmegen",241]
[null,"Comedy",6,null,2000,15,null,"Adams, Ryan",11,null,"Paradiso",96,null,"Amsterdam",211]
[null,"Festivaloptreden",693,null,2001,60,null,"Eels",10,null,"Heineken Music Hall",52,null,"Biddinghuizen",161]
[null,"Hoofdprogramma",372,null,2002,65,null,"Solitus",10,null,"Schouwburg Cuijk",37,null,"Haldern",132]
[null,"Musical",1,null,2003,91,null,"Counting Crows",10,null,"Melkweg",34,null,"Werchter",108]
[null,"Theater",61,null,2004,104,null,"Johan",8,null,"TivoliVredenburg",33,null,"Utrecht",84]
[null,"Voorprogramma",266,null,2005,126,null,"National, The",7,null,"Merleyn",32,null,"Landgraaf",54]
[null,null,null,null,2006,122,null,"Voicst ",7,null,"Rock Werchter 2007",27,null,"Cuijk",49]
[null,null,null,null,2007,106,null,"Racoon",7,null,"Rock Werchter 2006",26,null,"Vierlingsbeek",38]
[null,null,null,null,2008,76,null,"Radiohead",7,null,"Rock Werchter 2005",25,null,"Eindhoven",33]
[null,null,null,null,2009,77,null,"Rice, Damien",7,null,"Lowlands 2005",24,null,"Arnhem",33]
[null,null,null,null,2010,79,null,"Of No Avail",6,null,"Roepaen",22,null,"Boxmeer",27]
[null,null,null,null,2011,62,null,"Lohues, Daniel",6,null,"Rock Werchter 2003",22,null,"Beuningen",26]
[null,null,null,null,2012,47,null,"Cave, Nick",6,null,"Effenaar",20,null,"Tilburg",24]
[null,null,null,null,2013,69,null,"Folds, Ben",6,null,"Haldern Pop 2006",20,null,"Ottersum",22]
[null,null,null,null,2014,55,null,"Costello, Elvis",6,null,"O13",20,null,"Hilvarenbeek",17]
[null,null,null,null,2015,91,null,"Bright Eyes",6,null,"Lowlands 2006",19,null,"Den Bosch",15]
[null,null,null,null,2016,79,null,"Spinvis",6,null,"Haldern Pop 2015",18,null,"Venlo",14]
[null,null,null,null,2017,55,null,"Das Pop",6,null,"Tivoli Oudegracht",17,null,"Rotterdam",14]
[null,null,null,null,null,null,null,"Never The Less",5,null,"Ekko",17,null,"Den Haag",11]
[null,null,null,null,null,null,null,"Admiral Freebee",5,null,"Lowlands 2004",17,null,"Köln",11]
[null,null,null,null,null,null,null,"Wilco",5,null,"Haldern Pop 2010",16,null,"Heerlen",8]
[null,null,null,null,null,null,null,"dEUS",5,null,"Lowlands 2007",16,null,"Sittard",8]
[null,null,null,null,null,null,null,"Acda en de Munnik",5,null,"Lowlands 2009",16,null,"Breda",7]
[null,null,null,null,null,null,null,"Stevens, Sufjan",5,null,"Haldern Pop 2014",15,null,"Weert",6]
[null,null,null,null,null,null,null,"Gem",5,null,"Pinkpop 2003",14,null,"Oss",5]
[null,null,null,null,null,null,null,"Stereophonics",5,null,"Down the Rabbit Hole 2015",14,null,"Uden",4]
[null,null,null,null,null,null,null,"Hansard, Glen",5,null,"Lowlands 2008",14,null,"Baarn",4]
[null,null,null,null,null,null,null,"Harcourt, Ed",5,null,"Pinkpop 2008",14,null,"St. Agatha",3]
[null,null,null,null,null,null,null,"Knol, Tim",5,null,"Lowlands 2002",14,null,"Mill",3]
[null,null,null,null,null,null,null,"Death Cab For Cutie",4,null,"Haldern Pop 2011",14,null,"Milsbeek",2]
[null,null,null,null,null,null,null,"Manuel, André",4,null,"Lowlands 2010",14,null,"Sambeek",2]
[null,null,null,null,null,null,null,"Living End, The ",4,null,"W2",14,null,"Lierop",2]
[null,null,null,null,null,null,null,"Balthazar",4,null,"Haldern Pop 2013",13,null,"Essen",2]
[null,null,null,null,null,null,null,"Brainpower",4,null,"Weijertheater",13,null,"Scheveningen",2]
[null,null,null,null,null,null,null,"Frightened Rabbit",4,null,"Lowlands 2001",13,null,"Düsseldorf",2]
[null,null,null,null,null,null,null,"Staat, De",4,null,"Haldern Pop 2012",13,null,"Zaandam",2]
[null,null,null,null,null,null,null,"Colour Of Fire",4,null,"Lowlands 2003",13,null,"Raalte",2]
[null,null,null,null,null,null,null,"Malin, Jesse",4,null,"MC Frits Philips",12,null,"Edinburgh",2]
[null,null,null,null,null,null,null,"Heideroosjes",4,null,"Down the Rabbit Hole 2016",12,null,"Haarlem",2]
[null,null,null,null,null,null,null,"Danko Jones",4,null,"Box",11,null,"Los Angeles",2]
[null,null,null,null,null,null,null,"Hives, The",4,null,"Haldern Pop 2016",11,null,"London",1]
[null,null,null,null,null,null,null,"Polyphonic Spree, The ",4,null,"Gelredome",11,null,"Lent",1]
[null,null,null,null,null,null,null,"Isbell, Jason",4,null,"Best Kept Secret 2017",11,null,"New York",1]
[null,null,null,null,null,null,null,"Ritter, Josh",4,null,"Vereeniging",10,null,"Gennep",1]
[null,null,null,null,null,null,null,"Wainwright, Rufus",4,null,"Haldern Pop 2009",10]
[null,null,null,null,null,null,null,"Drive-by Truckers",4,null,"Pinkpop 2001",10]
[null,null,null,null,null,null,null,"Lekman, Jens",4,null,"Balloon",9]
[null,null,null,null,null,null,null,"McRae, Tom",4,null,"Valkhof Festival 2017",9]
[null,null,null,null,null,null,null,"Foo Fighters",3,null,"Valkhof Festival 2015",8]
[null,null,null,null,null,null,null,"Shins, The",3,null,"Pinkpop 2002",8]
[null,null,null,null,null,null,null,"Arends, Daniel",3,null,"Parkstad Limburg Theater",8]
[null,null,null,null,null,null,null,"Blue Grass Boogiemen",3,null,"Ahoy",8]
[null,null,null,null,null,null,null,"Alabama Shakes",3,null,"Rock Werchter 1999",8]
[null,null,null,null,null,null,null,"Lucky Fonz III",3,null,"Pinkpop 2000",8]
[null,null,null,null,null,null,null,"Cold War Kids",3,null,"Feest Aan De Rijn 2004",7]
[null,null,null,null,null,null,null,"Magic Numbers, The",3,null,"Perron 55",7]
[null,null,null,null,null,null,null,"Roosbeef",3,null,"Valkhof Affaire 2009",7]
[null,null,null,null,null,null,null,"Grant, John",3,null,"Toomler",6]
[null,null,null,null,null,null,null,"Snow Patrol",3,null,"Op De Toffel 2006",6]
[null,null,null,null,null,null,null,"Hold Steady, The",3,null,"Op De Toffel 2005",6]
[null,null,null,null,null,null,null,"St. Vincent",3,null,"Valkhof Affaire 2011",6]
[null,null,null,null,null,null,null,"Maxïmo Park",3,null,"Ziggo Dome",6]
[null,null,null,null,null,null,null,"Stuurbaard Bakkebaard",3,null,"Op De Toffel 2004",6]
[null,null,null,null,null,null,null,"Veils, The",3,null,"Lux",6]
[null,null,null,null,null,null,null,"Barnett, Courtney",3,null,"Luxor Live",6]
[null,null,null,null,null,null,null,"Villagers",3,null,"Best Kept Secret 2015",6]
[null,null,null,null,null,null,null,"Coldplay",3,null,"Cultuurpark Westergasfabriek",5]
[null,null,null,null,null,null,null,"Muse",3,null,"Parkpop 2001",5]
[null,null,null,null,null,null,null,"Rowwen Heze",3,null,"Op de Toffel 2009",5]
[null,null,null,null,null,null,null,"Hackensaw Boys, The",3,null,"Metropolis 2001",5]
[null,null,null,null,null,null,null,"Skin",3,null,"Vredenburg Leidsche Rijn",5]
[null,null,null,null,null,null,null,"Daryll-Ann",3,null,"Mezz",5]
[null,null,null,null,null,null,null,"Soldaat, Anne",3,null,"Amsterdam Arena",5]
[null,null,null,null,null,null,null,"Nine Inch Nails",3,null,"Sportpark Boshoven",4]
[null,null,null,null,null,null,null,"Dolorean",3,null,"Palladium",4]
[null,null,null,null,null,null,null,"Novastar",3,null,"Goffert Openluchttheater",4]
[null,null,null,null,null,null,null,"Afterpartees, The",3,null,"Grenswerk",4]
[null,null,null,null,null,null,null,"Coral, The",3,null,"Goffertpark",4]
[null,null,null,null,null,null,null,"Burke, Solomon",3,null,"MC Vredenburg",4]
[null,null,null,null,null,null,null,"Kaizers Orchestra",3,null,"Carré",4]
[null,null,null,null,null,null,null,"Sue The Night",3,null,"Auw Mok 2000",4]
[null,null,null,null,null,null,null,"Queens Of The Stone-Age",3,null,"Paleis Soestdijk",4]
[null,null,null,null,null,null,null,"Dawes",3,null,"013",4]
[null,null,null,null,null,null,null,"Extince",3,null,"Auw Mok 2001",4]
[null,null,null,null,null,null,null,"Moss",3,null,"Feest Aan De Rijn 2005",4]
[null,null,null,null,null,null,null,"Anouk",3,null,"De Pul",4]
[null,null,null,null,null,null,null,"Kowlier, Flip",3,null,"Op De Toffel 2003",4]
[null,null,null,null,null,null,null,"Loney, Dear",3,null,"Tivoli De Helling",4]
[null,null,null,null,null,null,null,"Bird, Andrew",2,null,"De Groene Engel",4]
[null,null,null,null,null,null,null,"Sioen",2,null,"Op De Toffel 2007",4]
[null,null,null,null,null,null,null,"Noise Pollution",2,null,"Lombok",3]
[null,null,null,null,null,null,null,"Black Rebel Motorcycle Club",2,null,"De Wissel",3]
[null,null,null,null,null,null,null,"Tallest Man On Earth, The",2,null,"Valkhof Festival 2016",3]
[null,null,null,null,null,null,null,"Blake, James",2,null,"Op De Toffel 2002",3]
[null,null,null,null,null,null,null,"Midlake",2,null,"Congresscentrum",3]
[null,null,null,null,null,null,null,"Bloc Party",2,null,"Parkpop 2002",3]
[null,null,null,null,null,null,null,"Barzelay, Eef",2,null,"The Greek Theatre",2]
[null,null,null,null,null,null,null,"Blood Red Shoes",2,null,"Merlet",2]
[null,null,null,null,null,null,null,"Belle And Sebastian",2,null,"Valkhof Affaire 2005",2]
[null,null,null,null,null,null,null,"Bon Iver",2,null,"Chassé Theater",2]
[null,null,null,null,null,null,null,"Viva Voce",2,null,"Stadsschouwburg",2]
[null,null,null,null,null,null,null,"Bravery, The",2,null,"Circustheater",2]
[null,null,null,null,null,null,null,"Mason, Willy",2,null,"Lindenberg",2]
[null,null,null,null,null,null,null,"Adams, Bryan ",2,null,"Gele Rijdersplein",2]
[null,null,null,null,null,null,null,"Myer, Jochem",2,null,"Op De Toffel 2000",2]
[null,null,null,null,null,null,null,"British Sea Power",2,null,"De Weijer",2]
[null,null,null,null,null,null,null,"Orwells, The",2,null,"Vredenburg Leeuwenbergh",2]
[null,null,null,null,null,null,null,"Bulat, Basia",2,null,"Oranjepop 2012",2]
[null,null,null,null,null,null,null,"Be Your Own PET",2,null,"Stadthalle Köln-Mülheim",2]
[null,null,null,null,null,null,null,"Bush",2,null,"Die Kantine",2]
[null,null,null,null,null,null,null,"Beck",2,null,"Vasim",2]
[null,null,null,null,null,null,null,"Car Seat Headrest",2,null,"Bosuil",2]
[null,null,null,null,null,null,null,"Sun Kil Moon",2,null,"Usher Hall",2]
[null,null,null,null,null,null,null,"Casal, Neal",2,null,"Plein Zaandam",2]
[null,null,null,null,null,null,null,"Vanderslice, John",2,null,"Live Music Hall",2]
[null,null,null,null,null,null,null,"Chao, Manu",2,null,"Ribs & Blues 2015",2]
[null,null,null,null,null,null,null,"Walkmen, The",2,null,"Paradiso Noord",2]
[null,null,null,null,null,null,null,"Chemical Brothers",2,null,"Nirwana Tuinfeest 2017",2]
[null,null,null,null,null,null,null,"Zutons, The",2,null,"Vierdaagsefeesten 2005",2]
[null,null,null,null,null,null,null,"Christensen, Tim",2,null,"Sounds Venlo",2]
[null,null,null,null,null,null,null,"Meeuwis, Guus",2,null,"Gryphus",2]
[null,null,null,null,null,null,null,"Cooper Temple Clause, The ",2,null,"Zalloon",2]
[null,null,null,null,null,null,null,"Moby",2,null,"De Haas Verhuur",2]
[null,null,null,null,null,null,null,"4 Fridges",2,null,"Colosseum",2]
[null,null,null,null,null,null,null,"Badly Drawn Boy",2,null,"Philharmonie",2]
[null,null,null,null,null,null,null,"Cronin, Mikal",2,null,"Mitsubishi Electric Halle",2]
[null,null,null,null,null,null,null,"Oasis",2,null,"Haldernpopbar",1]
[null,null,null,null,null,null,null,"Dandy Warhols, The",2,null,"Brebl",1]
[null,null,null,null,null,null,null,"Ozark Henry",2,null,"Willem I",1]
[null,null,null,null,null,null,null,"Allen, Lily",2,null,"Beatrix Theater",1]
[null,null,null,null,null,null,null,"Romano, Daniel",2,null,"Evoluon",1]
[null,null,null,null,null,null,null,"De La Soul",2,null,"Grotestraat",1]
[null,null,null,null,null,null,null,"Sexsmith, Ron",2,null,"Stevenskerk",1]
[null,null,null,null,null,null,null,"Dears, The",2,null,"t Vertrek",1]
[null,null,null,null,null,null,null,"Slobberbone",2,null,"Concerto",1]
[null,null,null,null,null,null,null,"Decemberists, The",2,null,"Valkhof Affaire 2003",1]
[null,null,null,null,null,null,null,"Soulwax",2,null,"De Lievekamp",1]
[null,null,null,null,null,null,null,"Dijk, De",2,null,"Lindefeesten 2003",1]
[null,null,null,null,null,null,null,"Stone Temple Pilots",2,null,"Vierdaagsefeesten 2008",1]
[null,null,null,null,null,null,null,"Divine Comedy, The",2,null,"Valkhof Affaire 2006",1]
[null,null,null,null,null,null,null,"Suuns",2,null,"Lyceum Theatre",1]
[null,null,null,null,null,null,null,"Eagles Of Death Metal",2,null,"Valkhof Affaire 2007",1]
[null,null,null,null,null,null,null,"Two Cow Garage",2,null,"E-werk",1]
[null,null,null,null,null,null,null,"Ebben, Tommy & The Small Town Villains",2,null,"Rai",1]
[null,null,null,null,null,null,null,"Vile, Kurt & the Violators",2,null,"Take One",1]
[null,null,null,null,null,null,null,"Editors",2,null,"De Kube",1]
[null,null,null,null,null,null,null,"Wainwright, Martha",2,null,"Zomerparkfeesten 2014",1]
[null,null,null,null,null,null,null,"Eerden, Klaas van der",2,null,"Loonies",1]
[null,null,null,null,null,null,null,"We Are Scientists",2,null,"Verkadefabriek",1]
[null,null,null,null,null,null,null,"Elbow",2,null,"Haldern Pop Bar",1]
[null,null,null,null,null,null,null,"Wipneus & Pim",2,null,"Kersenboomgaard",1]
[null,null,null,null,null,null,null,"Enge Buren",2,null,"Stadsschouwburg Nijmegen",1]
[null,null,null,null,null,null,null,"Amber Arcades",2,null,"Lindefeesten 2006",1]
[null,null,null,null,null,null,null,"Etten, Sharon van",2,null,"Stadsschouwburg Utrecht",1]
[null,null,null,null,null,null,null,"Audioslave",2,null,"Koninginnedag Arnhem 2002",1]
[null,null,null,null,null,null,null,"Faithless",2,null,"Majestic Theatre",1]
[null,null,null,null,null,null,null,"Metallica",2,null,"Koninginnedag Arnhem 2003",1]
[null,null,null,null,null,null,null,"Father John Misty",2,null,"Nieuwe Luxor Theater",1]
[null,null,null,null,null,null,null,"Millionaire",2]
[null,null,null,null,null,null,null,"Fink",2]
[null,null,null,null,null,null,null,"Morrissey",2]
[null,null,null,null,null,null,null,"First Aid Kit",2]
[null,null,null,null,null,null,null,"Mystery Jets,The",2]
[null,null,null,null,null,null,null,"Flaming Lips, The",2]
[null,null,null,null,null,null,null,"Noel Gallaghers High Flying Birds",2]
[null,null,null,null,null,null,null,"Flogging Molly",2]
[null,null,null,null,null,null,null,"Notwist, The",2]
[null,null,null,null,null,null,null,"Florence & The Machine",2]
[null,null,null,null,null,null,null,"Oberst, Conor",2]
[null,null,null,null,null,null,null,"Frames, The",2]
[null,null,null,null,null,null,null,"Other Lives",2]
[null,null,null,null,null,null,null,"Fullbright, John",2]
[null,null,null,null,null,null,null,"Portugal. The Man",2]
[null,null,null,null,null,null,null,"Green Day",2]
[null,null,null,null,null,null,null,"Rammstein",2]
[null,null,null,null,null,null,null,"Green Lizard",2]
[null,null,null,null,null,null,null,"Rose, Lucy",2]
[null,null,null,null,null,null,null,"Apers, The",2]
[null,null,null,null,null,null,null,"Saybia",2]
[null,null,null,null,null,null,null,"Arcade Fire",2]
[null,null,null,null,null,null,null,"Sigur Ros",2]
[null,null,null,null,null,null,null,"Hart, Beth",2]
[null,null,null,null,null,null,null,"Skip The Rush",2]
[null,null,null,null,null,null,null,"Help She Can't Swim",2]
[null,null,null,null,null,null,null,"Beastie Boys",2]
[null,null,null,null,null,null,null,"Arctic Monkeys",2]
[null,null,null,null,null,null,null,"Beef",2]
[null,null,null,null,null,null,null,"Hoop, Jesca",2]
[null,null,null,null,null,null,null,"Spades, The",2]
[null,null,null,null,null,null,null,"Hooverphonic",2]
[null,null,null,null,null,null,null,"Belvedere",2]
[null,null,null,null,null,null,null,"Horse Company, The",2]
[null,null,null,null,null,null,null,"Strypes, The",2]
[null,null,null,null,null,null,null,"Hot Chip",2]
[null,null,null,null,null,null,null,"Supergrass",2]
[null,null,null,null,null,null,null,"Howard, Ben",2]
[null,null,null,null,null,null,null,"Sweatmaster",2]
[null,null,null,null,null,null,null,"Jeugd Van Tegenwoordig",2]
[null,null,null,null,null,null,null,"Teenage Fanclub",2]
[null,null,null,null,null,null,null,"Joan As Police Woman",2]
[null,null,null,null,null,null,null,"Unknown Mortal Orchestra",2]
[null,null,null,null,null,null,null,"Jules, Gary",2]
[null,null,null,null,null,null,null,"Vek, Tom",2]
[null,null,null,null,null,null,null,"K's Choice",2]
[null,null,null,null,null,null,null,"Visser, Eefje de",2]
[null,null,null,null,null,null,null,"Kills, The ",2]
[null,null,null,null,null,null,null,"Billy, Bonnie \"Prince\"",2]
[null,null,null,null,null,null,null,"Korn",2]
[null,null,null,null,null,null,null,"Wal, Jan Jaap van der",2]
[null,null,null,null,null,null,null,"Lawson, Davie",2]
[null,null,null,null,null,null,null,"War On Drugs, The",2]
[null,null,null,null,null,null,null,"LCD Soundsystem",2]
[null,null,null,null,null,null,null,"Whitney",2]
[null,null,null,null,null,null,null,"Lebbis",2]
[null,null,null,null,null,null,null,"Wild Beasts",2]
[null,null,null,null,null,null,null,"Lidell, Jamie",2]
[null,null,null,null,null,null,null,"Woods",2]
[null,null,null,null,null,null,null,"Loco-Loco Disco Show",2]
[null,null,null,null,null,null,null,"Cockflavored Lollipops",2]
[null,null,null,null,null,null,null,"Maccabees, The",2]
[null,null,null,null,null,null,null,"Mando Diao",2]
[null,null,null,null,null,null,null,"Middleton, Malcolm",2]
[null,null,null,null,null,null,null,"Cymbals Eat Guitars",1]
[null,null,null,null,null,null,null,"Panic! At The Disco",1]
[null,null,null,null,null,null,null,"DeMarco, Mac",1]
[null,null,null,null,null,null,null,"Direct",1]
[null,null,null,null,null,null,null,"Richmond Fontaine",1]
[null,null,null,null,null,null,null,"Dirk Serries' Microphonics",1]
[null,null,null,null,null,null,null,"De La Vega",1]
[null,null,null,null,null,null,null,"Districts, The",1]
[null,null,null,null,null,null,null,"Lupa, Miwi La",1]
[null,null,null,null,null,null,null,"Bon Jovi",1]
[null,null,null,null,null,null,null,"Prass, Natalie",1]
[null,null,null,null,null,null,null,"DMA's",1]
[null,null,null,null,null,null,null,"Schausch",1]
[null,null,null,null,null,null,null,"Do Me Bad Things",1]
[null,null,null,null,null,null,null,"Stijn",1]
[null,null,null,null,null,null,null,"Do The Undo",1]
[null,null,null,null,null,null,null,"Deacon, Dan",1]
[null,null,null,null,null,null,null,"Dohmen, Twan",1]
[null,null,null,null,null,null,null,"Di-Rect",1]
[null,null,null,null,null,null,null,"Doll And The Kicks",1]
[null,null,null,null,null,null,null,"Offspring",1]
[null,null,null,null,null,null,null,"Dolly, I Beg Your Pardon",1]
[null,null,null,null,null,null,null,"Peter Pan Speedrock",1]
[null,null,null,null,null,null,null,"Aloa Input",1]
[null,null,null,null,null,null,null,"Rage Against The Machine",1]
[null,null,null,null,null,null,null,"Dotan",1]
[null,null,null,null,null,null,null,"Rossem, Maarten van",1]
[null,null,null,null,null,null,null,"Drams, The",1]
[null,null,null,null,null,null,null,"Shorty",1]
[null,null,null,null,null,null,null,"Dresden Dolls",1]
[null,null,null,null,null,null,null,"Dananananaykroyd",1]
[null,null,null,null,null,null,null,"Ambulance LTD",1]
[null,null,null,null,null,null,null,"Sum 41",1]
[null,null,null,null,null,null,null,"Dropkick Murphies",1]
[null,null,null,null,null,null,null,"Tool",1]
[null,null,null,null,null,null,null,"Dubioza Kolektiv",1]
[null,null,null,null,null,null,null,"Verve, The",1]
[null,null,null,null,null,null,null,"Dylan, Bob",1]
[null,null,null,null,null,null,null,"White Rabbits",1]
[null,null,null,null,null,null,null,"DZ Deathrays",1]
[null,null,null,null,null,null,null,"Yeah Yeah Yeahs",1]
[null,null,null,null,null,null,null,"Bonde Do Rolê",1]
[null,null,null,null,null,null,null,"Cloud Nothings",1]
[null,null,null,null,null,null,null,"Eastern Lane",1]
[null,null,null,null,null,null,null,"Oscar and the Wolf",1]
[null,null,null,null,null,null,null,"Bonham, Tracy",1]
[null,null,null,null,null,null,null,"Pax, The",1]
[null,null,null,null,null,null,null,"Echoboy",1]
[null,null,null,null,null,null,null,"Poe, David",1]
[null,null,null,null,null,null,null,"Borneman, Robin",1]
[null,null,null,null,null,null,null,"Puts Marie",1]
[null,null,null,null,null,null,null,"Edwards, Kathleen",1]
[null,null,null,null,null,null,null,"Reflecting Elephants, The",1]
[null,null,null,null,null,null,null,"Amos, Tori",1]
[null,null,null,null,null,null,null,"Rollins, Henry ",1]
[null,null,null,null,null,null,null,"Bowerbirds",1]
[null,null,null,null,null,null,null,"Rude Rich And The High Notes",1]
[null,null,null,null,null,null,null,"Eicher, Stephan",1]
[null,null,null,null,null,null,null,"Cribs, The",1]
[null,null,null,null,null,null,null,"Eighties Matchbox B-Line Disaster, The",1]
[null,null,null,null,null,null,null,"CSS",1]
[null,null,null,null,null,null,null,"Einaudi, Ludovico",1]
[null,null,null,null,null,null,null,"Daft Punk",1]
[null,null,null,null,null,null,null,"El Pino and the Volunteers",1]
[null,null,null,null,null,null,null,"St. Germain",1]
[null,null,null,null,null,null,null,"Boyfriends, The",1]
[null,null,null,null,null,null,null,"Stray Cats",1]
[null,null,null,null,null,null,null,"Emmi@Leo",1]
[null,null,null,null,null,null,null,"T. Raumschmiere & Band",1]
[null,null,null,null,null,null,null,"Enemy, The",1]
[null,null,null,null,null,null,null,"Thermals, The",1]
[null,null,null,null,null,null,null,"Bozulich, Carla",1]
[null,null,null,null,null,null,null,"Tunng",1]
[null,null,null,null,null,null,null,"Bradfield, James Dean",1]
[null,null,null,null,null,null,null,"Bijl, Janneke de",1]
[null,null,null,null,null,null,null,"Everest",1]
[null,null,null,null,null,null,null,"Vliegende Panters, De",1]
[null,null,null,null,null,null,null,"Everlast",1]
[null,null,null,null,null,null,null,"Destroyer",1]
[null,null,null,null,null,null,null,"And You Will Know Us By The Trail Of Dead",1]
[null,null,null,null,null,null,null,"Wild Light",1]
[null,null,null,null,null,null,null,"Face Tomorrow",1]
[null,null,null,null,null,null,null,"Diamond, Neil",1]
[null,null,null,null,null,null,null,"Faint, The",1]
[null,null,null,null,null,null,null,"Zanden, Leon van der",1]
[null,null,null,null,null,null,null,"Bradley, Charles",1]
[null,null,null,null,null,null,null,"Nouveau Vélo",1]
[null,null,null,null,null,null,null,"Family of the Year",1]
[null,null,null,null,null,null,null,"Francobello",1]
[null,null,null,null,null,null,null,"Fanfarlo",1]
[null,null,null,null,null,null,null,"Orgel, Otto",1]
[null,null,null,null,null,null,null,"Fatboy Slim",1]
[null,null,null,null,null,null,null,"Outcast, The",1]
[null,null,null,null,null,null,null,"101's, The",1]
[null,null,null,null,null,null,null,"Parquet Courts",1]
[null,null,null,null,null,null,null,"Feeder",1]
[null,null,null,null,null,null,null,"Peeters, Eefke",1]
[null,null,null,null,null,null,null,"Felice, Simone",1]
[null,null,null,null,null,null,null,"Pink Mountaintops",1]
[null,null,null,null,null,null,null,"Fickle Friends",1]
[null,null,null,null,null,null,null,"Pop, Stefan",1]
[null,null,null,null,null,null,null,"Fiery Furnaces",1]
[null,null,null,null,null,null,null,"Protomartyr",1]
[null,null,null,null,null,null,null,"Black Lips",1]
[null,null,null,null,null,null,null,"A Balladeer",1]
[null,null,null,null,null,null,null,"Fire Harvest, The",1]
[null,null,null,null,null,null,null,"Razorlight",1]
[null,null,null,null,null,null,null,"Breeders, The",1]
[null,null,null,null,null,null,null,"Reynolds, Steve",1]
[null,null,null,null,null,null,null,"BJ Baartmans",1]
[null,null,null,null,null,null,null,"Rise A Thousand",1]
[null,null,null,null,null,null,null,"Fleet Foxes",1]
[null,null,null,null,null,null,null,"Bat For Lashes",1]
[null,null,null,null,null,null,null,"Fleetwood Mac",1]
[null,null,null,null,null,null,null,"Royal Bangs",1]
[null,null,null,null,null,null,null,"Black, Frank",1]
[null,null,null,null,null,null,null,"Sat2D",1]
[null,null,null,null,null,null,null,"Broken Bells",1]
[null,null,null,null,null,null,null,"Sean Walsh Band",1]
[null,null,null,null,null,null,null,"Flynn, Johnny",1]
[null,null,null,null,null,null,null,"Shearer, Josh",1]
[null,null,null,null,null,null,null,"Anderson",1]
[null,null,null,null,null,null,null,"Crowley, Adrian",1]
[null,null,null,null,null,null,null,"5 Days Off",1]
[null,null,null,null,null,null,null,"Slow Show, The",1]
[null,null,null,null,null,null,null,"Ford, David",1]
[null,null,null,null,null,null,null,"Soda P",1]
[null,null,null,null,null,null,null,"Fort Minor",1]
[null,null,null,null,null,null,null,"Soon",1]
[null,null,null,null,null,null,null,"Fossa",1]
[null,null,null,null,null,null,null,"Special, Duke",1]
[null,null,null,null,null,null,null,"Frahm, Nils",1]
[null,null,null,null,null,null,null,"Starsailor",1]
[null,null,null,null,null,null,null,"Broken Family Band, The",1]
[null,null,null,null,null,null,null,"Stith, DM",1]
[null,null,null,null,null,null,null,"Francis, Stewart",1]
[null,null,null,null,null,null,null,"Alkaline Trio",1]
[null,null,null,null,null,null,null,"Frank, Bob & John Murry",1]
[null,null,null,null,null,null,null,"Susanna And The Magical Orchestra",1]
[null,null,null,null,null,null,null,"Fransen, Tim",1]
[null,null,null,null,null,null,null,"Tangerine",1]
[null,null,null,null,null,null,null,"Franz Ferdinand",1]
[null,null,null,null,null,null,null,"Tempest, Kate",1]
[null,null,null,null,null,null,null,"Fratsen",1]
[null,null,null,null,null,null,null,"Thomas, Rosie",1]
[null,null,null,null,null,null,null,"Antcow",1]
[null,null,null,null,null,null,null,"Travoltas",1]
[null,null,null,null,null,null,null,"Full Monty, The",1]
[null,null,null,null,null,null,null,"Two Door Cinema Club",1]
[null,null,null,null,null,null,null,"Broken Records",1]
[null,null,null,null,null,null,null,"Vampire Weekend",1]
[null,null,null,null,null,null,null,"Fun Lovin' Criminals",1]
[null,null,null,null,null,null,null,"Venus In Flames",1]
[null,null,null,null,null,null,null,"Furman, Ezra",1]
[null,null,null,null,null,null,null,"Billy Talent",1]
[null,null,null,null,null,null,null,"G, Alex",1]
[null,null,null,null,null,null,null,"Vries, Jorrit de",1]
[null,null,null,null,null,null,null,"Gang of Youths",1]
[null,null,null,null,null,null,null,"Dependent",1]
[null,null,null,null,null,null,null,"Garratt, Jack",1]
[null,null,null,null,null,null,null,"Weaver, Ben",1]
[null,null,null,null,null,null,null,"Gaslight Anthem, The",1]
[null,null,null,null,null,null,null,"Who, The",1]
[null,null,null,null,null,null,null,"Gelukkige Huisvrouw, De",1]
[null,null,null,null,null,null,null,"Williamson, Jess",1]
[null,null,null,null,null,null,null,"Antillectual",1]
[null,null,null,null,null,null,null,"Wolfendale",1]
[null,null,null,null,null,null,null,"Gerner, Liam",1]
[null,null,null,null,null,null,null,"Wye Oak",1]
[null,null,null,null,null,null,null,"Giphart & Chabot met Bril",1]
[null,null,null,null,null,null,null,"York, Dee Dee",1]
[null,null,null,null,null,null,null,"Girl Called Eddy, A",1]
[null,null,null,null,null,null,null,"Difford, Chris",1]
[null,null,null,null,null,null,null,"Glotzbach, Harry",1]
[null,null,null,null,null,null,null,"Reid, Nadia",1]
[null,null,null,null,null,null,null,"Go Back To The Zoo",1]
[null,null,null,null,null,null,null,"Real Estate",1]
[null,null,null,null,null,null,null,"Gogol Bordello",1]
[null,null,null,null,null,null,null,"Dakota",1]
[null,null,null,null,null,null,null,"Gold, Alice",1]
[null,null,null,null,null,null,null,"Dinosaur Jr.",1]
[null,null,null,null,null,null,null,"Good The Bad And The Queen, The",1]
[null,null,null,null,null,null,null,"One In A Million",1]
[null,null,null,null,null,null,null,"Gorillaz",1]
[null,null,null,null,null,null,null,"Osbourne, Kelly",1]
[null,null,null,null,null,null,null,"Gorki",1]
[null,null,null,null,null,null,null,"Ottesen, Janove",1]
[null,null,null,null,null,null,null,"Goslink",1]
[null,null,null,null,null,null,null,"P.O.D.",1]
[null,null,null,null,null,null,null,"Gotye",1]
[null,null,null,null,null,null,null,"Parks, Tess & Anton Newcombe",1]
[null,null,null,null,null,null,null,"Gram",1]
[null,null,null,null,null,null,null,"Paulusma",1]
[null,null,null,null,null,null,null,"Graney, Dave & Clare Moore",1]
[null,null,null,null,null,null,null,"Pearson, Josh T.",1]
[null,null,null,null,null,null,null,"Grant Lee Buffalo",1]
[null,null,null,null,null,null,null,"Pet Shop Boys",1]
[null,null,null,null,null,null,null,"Anubiz",1]
[null,null,null,null,null,null,null,"Philly, Pete & Perquisite",1]
[null,null,null,null,null,null,null,"Grant, John & Tim Isfort",1]
[null,null,null,null,null,null,null,"Plant, Robert & The Strange Sensation",1]
[null,null,null,null,null,null,null,"Gravenhurst",1]
[null,null,null,null,null,null,null,"Pop, Iggy",1]
[null,null,null,null,null,null,null,"Gravin van Parma, De",1]
[null,null,null,null,null,null,null,"Blof",1]
[null,null,null,null,null,null,null,"Bronze Medal, The",1]
[null,null,null,null,null,null,null,"Pretty Girls Make Graves",1]
[null,null,null,null,null,null,null,"Brown, Derrick C.",1]
[null,null,null,null,null,null,null,"Pul, Babette",1]
[null,null,null,null,null,null,null,"Green, Adam",1]
[null,null,null,null,null,null,null,"Quit Your Dayjob",1]
[null,null,null,null,null,null,null,"Grevelink, Bas",1]
[null,null,null,null,null,null,null,"Radio 4",1]
[null,null,null,null,null,null,null,"Grinderman",1]
[null,null,null,null,null,null,null,"Rats on Rafts",1]
[null,null,null,null,null,null,null,"Gripka, Israel Nash",1]
[null,null,null,null,null,null,null,"Real Ones, The",1]
[null,null,null,null,null,null,null,"Grizzly Bear",1]
[null,null,null,null,null,null,null,"Rendez-Vous",1]
[null,null,null,null,null,null,null,"Grizzly Twister, The",1]
[null,null,null,null,null,null,null,"Basement Jaxx",1]
[null,null,null,null,null,null,null,"Guano Apes",1]
[null,null,null,null,null,null,null,"Rifles, The",1]
[null,null,null,null,null,null,null,"Guillemots",1]
[null,null,null,null,null,null,null,"Riverboat Gamblers, The",1]
[null,null,null,null,null,null,null,"Guinevere Leaves",1]
[null,null,null,null,null,null,null,"Air Traffic",1]
[null,null,null,null,null,null,null,"Guster",1]
[null,null,null,null,null,null,null,"Black Bud",1]
[null,null,null,null,null,null,null,"Guzman, Javier",1]
[null,null,null,null,null,null,null,"Routines, The",1]
[null,null,null,null,null,null,null,"GYDA",1]
[null,null,null,null,null,null,null,"Royal Parks",1]
[null,null,null,null,null,null,null,"Bruce Springsteen Undercoversessie (Tommy Ebben)",1]
[null,null,null,null,null,null,null,"Sainte Catherines, The",1]
[null,null,null,null,null,null,null,"Halfway Honest",1]
[null,null,null,null,null,null,null,"Coxon, Graham",1]
[null,null,null,null,null,null,null,"Hannigan, Lisa",1]
[null,null,null,null,null,null,null,"Scissor Sisters",1]
[null,null,null,null,null,null,null,"Aplin, Gabrielle",1]
[null,null,null,null,null,null,null,"Seedling",1]
[null,null,null,null,null,null,null,"Happymaker, The",1]
[null,null,null,null,null,null,null,"Shavers, The",1]
[null,null,null,null,null,null,null,"Happyness",1]
[null,null,null,null,null,null,null,"Beach House",1]
[null,null,null,null,null,null,null,"Har Mar Superstar",1]
[null,null,null,null,null,null,null,"Bloodhound Gang",1]
[null,null,null,null,null,null,null,"Blackbox Revelation, The",1]
[null,null,null,null,null,null,null,"Sjonnies, De",1]
[null,null,null,null,null,null,null,"Bulldozer Breed",1]
[null,null,null,null,null,null,null,"Slapyasilly",1]
[null,null,null,null,null,null,null,"Harvey, PJ",1]
[null,null,null,null,null,null,null,"Smith, John",1]
[null,null,null,null,null,null,null,"Haunts",1]
[null,null,null,null,null,null,null,"Soak",1]
[null,null,null,null,null,null,null,"Hayden",1]
[null,null,null,null,null,null,null,"Cypress Hill",1]
[null,null,null,null,null,null,null,"Heartless Bastards, The",1]
[null,null,null,null,null,null,null,"Sonics, The",1]
[null,null,null,null,null,null,null,"Hederos en Hellberg",1]
[null,null,null,null,null,null,null,"Dalt, Lucrecia",1]
[null,null,null,null,null,null,null,"Arcade Fire, The",1]
[null,null,null,null,null,null,null,"Speace, Amy",1]
[null,null,null,null,null,null,null,"Hek, Youp Van 't",1]
[null,null,null,null,null,null,null,"Blow, The",1]
[null,null,null,null,null,null,null,"Hell Is For Heroes",1]
[null,null,null,null,null,null,null,"Ben Folds Five",1]
[null,null,null,null,null,null,null,"Bunger, Enno",1]
[null,null,null,null,null,null,null,"Bennie Sings",1]
[null,null,null,null,null,null,null,"Helsen, Tom",1]
[null,null,null,null,null,null,null,"Stills, Chris",1]
[null,null,null,null,null,null,null,"Helsen, Wim",1]
[null,null,null,null,null,null,null,"Darkness, The",1]
[null,null,null,null,null,null,null,"Here We Go Magic",1]
[null,null,null,null,null,null,null,"Strike The Colour",1]
[null,null,null,null,null,null,null,"Hertz, Julian",1]
[null,null,null,null,null,null,null,"Subways, The",1]
[null,null,null,null,null,null,null,"Hickey Underworld, The",1]
[null,null,null,null,null,null,null,"Allah-Las",1]
[null,null,null,null,null,null,null,"High Hi",1]
[null,null,null,null,null,null,null,"Swearing At Motorists",1]
[null,null,null,null,null,null,null,"16 Down",1]
[null,null,null,null,null,null,null,"Blue Van, The",1]
[null,null,null,null,null,null,null,"Hof Van Commerce, 't ",1]
[null,null,null,null,null,null,null,"Tarzan",1]
[null,null,null,null,null,null,null,"5678's, The",1]
[null,null,null,null,null,null,null,"Teitur & Nico Muhly",1]
[null,null,null,null,null,null,null,"Holter, Julia",1]
[null,null,null,null,null,null,null,"That One Guy",1]
[null,null,null,null,null,null,null,"Hoof, Jan van",1]
[null,null,null,null,null,null,null,"This Beautiful Mess",1]
[null,null,null,null,null,null,null,"Hooft, Gerard 't",1]
[null,null,null,null,null,null,null,"Thrills, The",1]
[null,null,null,null,null,null,null,"Burke, Toby",1]
[null,null,null,null,null,null,null,"Trampled by Turtles",1]
[null,null,null,null,null,null,null,"Björk",1]
[null,null,null,null,null,null,null,"Trockener Kecks",1]
[null,null,null,null,null,null,null,"Byrne, David & St. Vincent",1]
[null,null,null,null,null,null,null,"Twin Shadow",1]
[null,null,null,null,null,null,null,"Cake",1]
[null,null,null,null,null,null,null,"U2",1]
[null,null,null,null,null,null,null,"Hot Hot Heat",1]
[null,null,null,null,null,null,null,"Urinetown",1]
[null,null,null,null,null,null,null,"Hotrod Lincoln",1]
[null,null,null,null,null,null,null,"Blues Brother Castro",1]
[null,null,null,null,null,null,null,"Houses",1]
[null,null,null,null,null,null,null,"Velde, Bram van der",1]
[null,null,null,null,null,null,null,"Callahan, Bill",1]
[null,null,null,null,null,null,null,"Verstegen, Antoinette",1]
[null,null,null,null,null,null,null,"Hulk",1]
[null,null,null,null,null,null,null,"Vile, Kurt",1]
[null,null,null,null,null,null,null,"Hunger, Sophie",1]
[null,null,null,null,null,null,null,"Bodi Bill",1]
[null,null,null,null,null,null,null,"I Am Oak",1]
[null,null,null,null,null,null,null,"Vollenhoven, Pieter van",1]
[null,null,null,null,null,null,null,"I'm From Barcelona",1]
[null,null,null,null,null,null,null,"Bingham, Ryan & The Dead Horses",1]
[null,null,null,null,null,null,null,"Ibeyi",1]
[null,null,null,null,null,null,null,"Walker, Ryley",1]
[null,null,null,null,null,null,null,"Ices, Lia",1]
[null,null,null,null,null,null,null,"Watson, Patrick",1]
[null,null,null,null,null,null,null,"Idlewild",1]
[null,null,null,null,null,null,null,"Wealthy Beggar",1]
[null,null,null,null,null,null,null,"Imarhan",1]
[null,null,null,null,null,null,null,"West, Kanye",1]
[null,null,null,null,null,null,null,"Incubus",1]
[null,null,null,null,null,null,null,"White, Jack",1]
[null,null,null,null,null,null,null,"Intergalactic Lovers, The",1]
[null,null,null,null,null,null,null,"Allyway, The",1]
[null,null,null,null,null,null,null,"Arid",1]
[null,null,null,null,null,null,null,"Williams, Kathryn",1]
[null,null,null,null,null,null,null,"Isbell, Jason & The 400 Unit",1]
[null,null,null,null,null,null,null,"Winehouse, Amy",1]
[null,null,null,null,null,null,null,"Isbells",1]
[null,null,null,null,null,null,null,"Within Temptation",1]
[null,null,null,null,null,null,null,"Islands",1]
[null,null,null,null,null,null,null,"Wombats, The",1]
[null,null,null,null,null,null,null,"Jackson, Joe",1]
[null,null,null,null,null,null,null,"Workman, Hawskley",1]
[null,null,null,null,null,null,null,"Janez Detd",1]
[null,null,null,null,null,null,null,"Yak",1]
[null,null,null,null,null,null,null,"Jansen, Dolf",1]
[null,null,null,null,null,null,null,"Yeasayer",1]
[null,null,null,null,null,null,null,"Jansen, Sam",1]
[null,null,null,null,null,null,null,"Young, Neil",1]
[null,null,null,null,null,null,null,"Jeremiah, Jonathan",1]
[null,null,null,null,null,null,null,"Zingende Fresia's, De",1]
[null,null,null,null,null,null,null,"Jess",1]
[null,null,null,null,null,null,null,"zZz",1]
[null,null,null,null,null,null,null,"Calvi, Anna",1]
[null,null,null,null,null,null,null,"Tasseomancy",1]
[null,null,null,null,null,null,null,"Jiggy Djé",1]
[null,null,null,null,null,null,null,"I Against I",1]
[null,null,null,null,null,null,null,"Jimmy Eat World",1]
[null,null,null,null,null,null,null,"Moe, Andreas",1]
[null,null,null,null,null,null,null,"Camaretten Finale Tournee",1]
[null,null,null,null,null,null,null,"Metronomy",1]
[null,null,null,null,null,null,null,"Joasinho",1]
[null,null,null,null,null,null,null,"McCombs, Cass",1]
[null,null,null,null,null,null,null,"Arie en Silvester",1]
[null,null,null,null,null,null,null,"Homesick, The",1]
[null,null,null,null,null,null,null,"John Frost",1]
[null,null,null,null,null,null,null,"McKenna, Declan",1]
[null,null,null,null,null,null,null,"John, Elton",1]
[null,null,null,null,null,null,null,"Baltazar",1]
[null,null,null,null,null,null,null,"Jon Spencer Blues Explosion, The ",1]
[null,null,null,null,null,null,null,"Okkervil River",1]
[null,null,null,null,null,null,null,"Jonsi",1]
[null,null,null,null,null,null,null,"Opposites, The",1]
[null,null,null,null,null,null,null,"Jovink en de Voederbietels",1]
[null,null,null,null,null,null,null,"Comedytrain",1]
[null,null,null,null,null,null,null,"Caplan, Ben & the Casual Smokers",1]
[null,null,null,null,null,null,null,"Oscar",1]
[null,null,null,null,null,null,null,"Julia P.",1]
[null,null,null,null,null,null,null,"Communions",1]
[null,null,null,null,null,null,null,"Junior Senior",1]
[null,null,null,null,null,null,null,"Ottoboy",1]
[null,null,null,null,null,null,null,"Junkie XL",1]
[null,null,null,null,null,null,null,"Cooper",1]
[null,null,null,null,null,null,null,"Jurado, Damien",1]
[null,null,null,null,null,null,null,"Palio Superspeed Donkey",1]
[null,null,null,null,null,null,null,"Blanche",1]
[null,null,null,null,null,null,null,"Pannekoek, Peter",1]
[null,null,null,null,null,null,null,"Kaiser Chiefs",1]
[null,null,null,null,null,null,null,"Parow, Jack",1]
[null,null,null,null,null,null,null,"Arno",1]
[null,null,null,null,null,null,null,"Passion Pit",1]
[null,null,null,null,null,null,null,"Kasabian",1]
[null,null,null,null,null,null,null,"Pauw",1]
[null,null,null,null,null,null,null,"Kelis",1]
[null,null,null,null,null,null,null,"Pearl Jam",1]
[null,null,null,null,null,null,null,"Kempes",1]
[null,null,null,null,null,null,null,"Pecknold, Robin",1]
[null,null,null,null,null,null,null,"Kensington",1]
[null,null,null,null,null,null,null,"Perkins, Elvis",1]
[null,null,null,null,null,null,null,"Kettcar",1]
[null,null,null,null,null,null,null,"Peter Dolving Band",1]
[null,null,null,null,null,null,null,"Keyser",1]
[null,null,null,null,null,null,null,"Phantom Of The Opera",1]
[null,null,null,null,null,null,null,"Khruangbin",1]
[null,null,null,null,null,null,null,"Phoenix Foundation, The",1]
[null,null,null,null,null,null,null,"Kiasmos",1]
[null,null,null,null,null,null,null,"Pixies, the",1]
[null,null,null,null,null,null,null,"Killers, The",1]
[null,null,null,null,null,null,null,"Plien en Bianca",1]
[null,null,null,null,null,null,null,"Cardigans",1]
[null,null,null,null,null,null,null,"69 Charger",1]
[null,null,null,null,null,null,null,"Kim Ki O",1]
[null,null,null,null,null,null,null,"Pop, Iggy & The Stooges",1]
[null,null,null,null,null,null,null,"Kings Of Leon",1]
[null,null,null,null,null,null,null,"Port O' Brien",1]
[null,null,null,null,null,null,null,"Kiwanuka, Michael",1]
[null,null,null,null,null,null,null,"Powervice",1]
[null,null,null,null,null,null,null,"Klaxons",1]
[null,null,null,null,null,null,null,"Presidents Of The United States Of America",1]
[null,null,null,null,null,null,null,"Klooteé, Freddy",1]
[null,null,null,null,null,null,null,"Prodigy",1]
[null,null,null,null,null,null,null,"Knife, The",1]
[null,null,null,null,null,null,null,"Puddles Pity Party",1]
[null,null,null,null,null,null,null,"Knijff, Peter de",1]
[null,null,null,null,null,null,null,"Purdy, Joe",1]
[null,null,null,null,null,null,null,"Arquettes",1]
[null,null,null,null,null,null,null,"Baltussen, Henk",1]
[null,null,null,null,null,null,null,"Kooks, The",1]
[null,null,null,null,null,null,null,"Raconteurs, The",1]
[null,null,null,null,null,null,null,"Caribou",1]
[null,null,null,null,null,null,null,"Radiator Hospital",1]
[null,null,null,null,null,null,null,"Kosheen",1]
[null,null,null,null,null,null,null,"Air",1]
[null,null,null,null,null,null,null,"Kouyaté, Bassekou & Ngoni Ba",1]
[null,null,null,null,null,null,null,"Corn Mo",1]
[null,null,null,null,null,null,null,"Arsenal",1]
[null,null,null,null,null,null,null,"Ray, Shilpa",1]
[null,null,null,null,null,null,null,"Kraak en Smaak",1]
[null,null,null,null,null,null,null,"Real Danger, The",1]
[null,null,null,null,null,null,null,"Kraftwerk",1]
[null,null,null,null,null,null,null,"Red Hot Chili Peppers",1]
[null,null,null,null,null,null,null,"Kravitz, Lenny",1]
[null,null,null,null,null,null,null,"Reineke, Joe",1]
[null,null,null,null,null,null,null,"Art Brut",1]
[null,null,null,null,null,null,null,"Retro Stefson",1]
[null,null,null,null,null,null,null,"Krol, Mike",1]
[null,null,null,null,null,null,null,"Rhys, Gruff",1]
[null,null,null,null,null,null,null,"Kuipers, Andre",1]
[null,null,null,null,null,null,null,"Rice, Johnathan",1]
[null,null,null,null,null,null,null,"La Roux",1]
[null,null,null,null,null,null,null,"Ride",1]
[null,null,null,null,null,null,null,"Ladytron",1]
[null,null,null,null,null,null,null,"Rilo Kiley",1]
[null,null,null,null,null,null,null,"Lambchop",1]
[null,null,null,null,null,null,null,"Baskery",1]
[null,null,null,null,null,null,null,"Lampchop",1]
[null,null,null,null,null,null,null,"Roberts, Alistair",1]
[null,null,null,null,null,null,null,"Landes, Dawn",1]
[null,null,null,null,null,null,null,"Rolo Tomassi",1]
[null,null,null,null,null,null,null,"Lange, Ilse De",1]
[null,null,null,null,null,null,null,"Room Eleven",1]
[null,null,null,null,null,null,null,"Last Internationale, The",1]
[null,null,null,null,null,null,null,"Roots, The",1]
[null,null,null,null,null,null,null,"Latebirds, The",1]
[null,null,null,null,null,null,null,"Rosemary & Garlic",1]
[null,null,null,null,null,null,null,"Carp",1]
[null,null,null,null,null,null,null,"Rouge United",1]
[null,null,null,null,null,null,null,"Blaudzun",1]
[null,null,null,null,null,null,null,"Coves",1]
[null,null,null,null,null,null,null,"Le Duc, Patrick",1]
[null,null,null,null,null,null,null,"Royal Headache",1]
[null,null,null,null,null,null,null,"Lea",1]
[null,null,null,null,null,null,null,"Ruben en Nathan",1]
[null,null,null,null,null,null,null,"Caspian",1]
[null,null,null,null,null,null,null,"Sabine",1]
[null,null,null,null,null,null,null,"Lebbis En Jansen",1]
[null,null,null,null,null,null,null,"Santiago, Roy",1]
[null,null,null,null,null,null,null,"Legend, John",1]
[null,null,null,null,null,null,null,"Savages",1]
[null,null,null,null,null,null,null,"Arthur, Joseph",1]
[null,null,null,null,null,null,null,"Scala",1]
[null,null,null,null,null,null,null,"Leonard, Kieran",1]
[null,null,null,null,null,null,null,"School Is Cool",1]
[null,null,null,null,null,null,null,"Lewis, Jeffrey",1]
[null,null,null,null,null,null,null,"Scotty",1]
[null,null,null,null,null,null,null,"Lewis, Jeffrey & the Jrams",1]
[null,null,null,null,null,null,null,"Seasick Steve",1]
[null,null,null,null,null,null,null,"Lewis, Jenny",1]
[null,null,null,null,null,null,null,"Seunnenga, Jancobus",1]
[null,null,null,null,null,null,null,"Cave Singers",1]
[null,null,null,null,null,null,null,"Seymour Bits",1]
[null,null,null,null,null,null,null,"Limp Bizkit",1]
[null,null,null,null,null,null,null,"She & Him",1]
[null,null,null,null,null,null,null,"Lion King, The",1]
[null,null,null,null,null,null,null,"Sheer, The",1]
[null,null,null,null,null,null,null,"Lisk",1]
[null,null,null,null,null,null,null,"Shires, Amanda",1]
[null,null,null,null,null,null,null,"Literatur-jugend",1]
[null,null,null,null,null,null,null,"Siegal, Ian",1]
[null,null,null,null,null,null,null,"Little Dragon",1]
[null,null,null,null,null,null,null,"Simpson, Sturgill",1]
[null,null,null,null,null,null,null,"Ashcroft, Richard",1]
[null,null,null,null,null,null,null,"Sital Singh, Luke",1]
[null,null,null,null,null,null,null,"Local Natives",1]
[null,null,null,null,null,null,null,"Bear In Heaven",1]
[null,null,null,null,null,null,null,"2nd Place Driver",1]
[null,null,null,null,null,null,null,"Skunk Anansie",1]
[null,null,null,null,null,null,null,"Ashton Brothers",1]
[null,null,null,null,null,null,null,"Cullum, Jamie",1]
[null,null,null,null,null,null,null,"Lola Kite",1]
[null,null,null,null,null,null,null,"Smash The Statues",1]
[null,null,null,null,null,null,null,"Paradisia",1]
[null,null,null,null,null,null,null,"Snoop Dogg",1]
[null,null,null,null,null,null,null,"Undeclinable Ambuscade",1]
[null,null,null,null,null,null,null,"So So Glos, The",1]
[null,null,null,null,null,null,null,"Purple Disco Machine",1]
[null,null,null,null,null,null,null,"Soares, Elza",1]
[null,null,null,null,null,null,null,"Likt, De",1]
[null,null,null,null,null,null,null,"Soft Moon, The",1]
[null,null,null,null,null,null,null,"Lowe, Nick",1]
[null,null,null,null,null,null,null,"Solex",1]
[null,null,null,null,null,null,null,"Lowlands All Stars ",1]
[null,null,null,null,null,null,null,"Solo",1]
[null,null,null,null,null,null,null,"Lowlands Zingt",1]
[null,null,null,null,null,null,null,"Sons And Daughters",1]
[null,null,null,null,null,null,null,"LPG",1]
[null,null,null,null,null,null,null,"Sophia",1]
[null,null,null,null,null,null,null,"Asian Dub Foundation",1]
[null,null,null,null,null,null,null,"Soundsurfer",1]
[null,null,null,null,null,null,null,"Lullabells, The",1]
[null,null,null,null,null,null,null,"Sparta",1]
[null,null,null,null,null,null,null,"Luwten",1]
[null,null,null,null,null,null,null,"Spearhead",1]
[null,null,null,null,null,null,null,"Lynn, Lera",1]
[null,null,null,null,null,null,null,"Spektor, Regina",1]
[null,null,null,null,null,null,null,"M83",1]
[null,null,null,null,null,null,null,"Springsteen, Bruce",1]
[null,null,null,null,null,null,null,"Maassen, Theo",1]
[null,null,null,null,null,null,null,"Alessi's Ark",1]
[null,null,null,null,null,null,null,"CDOASS",1]
[null,null,null,null,null,null,null,"Staples, Stuart A.",1]
[null,null,null,null,null,null,null,"Macdonald, Amy",1]
[null,null,null,null,null,null,null,"Steer, Serafina",1]
[null,null,null,null,null,null,null,"Madagaskar",1]
[null,null,null,null,null,null,null,"Best, Brent",1]
[null,null,null,null,null,null,null,"Madd, The",1]
[null,null,null,null,null,null,null,"Stillettos, The",1]
[null,null,null,null,null,null,null,"Athlete ",1]
[null,null,null,null,null,null,null,"Stinson, Tommy",1]
[null,null,null,null,null,null,null,"Magnus",1]
[null,null,null,null,null,null,null,"Stone Sour",1]
[null,null,null,null,null,null,null,"Atkins, Nicole",1]
[null,null,null,null,null,null,null,"Strands Of Oaks",1]
[null,null,null,null,null,null,null,"Malle Pietje en de Bimbos",1]
[null,null,null,null,null,null,null,"Streets, The",1]
[null,null,null,null,null,null,null,"Mammút",1]
[null,null,null,null,null,null,null,"Strokes, The",1]
[null,null,null,null,null,null,null,"Man van la Mancha",1]
[null,null,null,null,null,null,null,"Bettens, Sarah",1]
[null,null,null,null,null,null,null,"Chalets, The",1]
[null,null,null,null,null,null,null,"Bigger Lovers, The",1]
[null,null,null,null,null,null,null,"Atmosphere",1]
[null,null,null,null,null,null,null,"Sun and the Wolf, The",1]
[null,null,null,null,null,null,null,"Mark B. And His Counterweight",1]
[null,null,null,null,null,null,null,"Datsuns, The",1]
[null,null,null,null,null,null,null,"Marling, Laura",1]
[null,null,null,null,null,null,null,"Daughter",1]
[null,null,null,null,null,null,null,"Marooned",1]
[null,null,null,null,null,null,null,"Abynthe Minded",1]
[null,null,null,null,null,null,null,"Blind Pilot",1]
[null,null,null,null,null,null,null,"Tacker",1]
[null,null,null,null,null,null,null,"Chapin Sisters, The",1]
[null,null,null,null,null,null,null,"Tamarin Desert",1]
[null,null,null,null,null,null,null,"Mayer Hawthorne",1]
[null,null,null,null,null,null,null,"Tankian, Serj",1]
[null,null,null,null,null,null,null,"McCartney, Paul",1]
[null,null,null,null,null,null,null,"Team Me",1]
[null,null,null,null,null,null,null,"McMorrow, James Vincent",1]
[null,null,null,null,null,null,null,"Teeuwen, Hans",1]
[null,null,null,null,null,null,null,"Augustines",1]
[null,null,null,null,null,null,null,"Temper Trap, The",1]
[null,null,null,null,null,null,null,"Me First And The Gimme Gimmes",1]
[null,null,null,null,null,null,null,"Terwijn, Wilko",1]
[null,null,null,null,null,null,null,"Chatrou, Geert",1]
[null,null,null,null,null,null,null,"Them Crooked Vultures",1]
[null,null,null,null,null,null,null,"Meijer, Bart",1]
[null,null,null,null,null,null,null,"Third Half",1]
[null,null,null,null,null,null,null,"Mekanik, The",1]
[null,null,null,null,null,null,null,"This Is The Kit",1]
[null,null,null,null,null,null,null,"Men, The",1]
[null,null,null,null,null,null,null,"Thou",1]
[null,null,null,null,null,null,null,"Mercury Rev",1]
[null,null,null,null,null,null,null,"Tinley, Emmett",1]
[null,null,null,null,null,null,null,"Merritt, Tift",1]
[null,null,null,null,null,null,null,"Train",1]
[null,null,null,null,null,null,null,"Merwijk, Jeroen van",1]
[null,null,null,null,null,null,null,"Traumahelikopter",1]
[null,null,null,null,null,null,null,"Blink 182",1]
[null,null,null,null,null,null,null,"Triggerfinger",1]
[null,null,null,null,null,null,null,"MGMT",1]
[null,null,null,null,null,null,null,"Tune-Yards",1]
[null,null,null,null,null,null,null,"Birgit",1]
[null,null,null,null,null,null,null,"Tunstall, KT",1]
[null,null,null,null,null,null,null,"Black Atlantic, The",1]
[null,null,null,null,null,null,null,"De Sjonnies",1]
[null,null,null,null,null,null,null,"Mika",1]
[null,null,null,null,null,null,null,"Typhoon",1]
[null,null,null,null,null,null,null,"Mike & Thomas",1]
[null,null,null,null,null,null,null,"Underworld",1]
[null,null,null,null,null,null,null,"Miller-Heidke, Kate",1]
[null,null,null,null,null,null,null,"Urban Dance Squad",1]
[null,null,null,null,null,null,null,"Miller, Misty",1]
[null,null,null,null,null,null,null,"Vals Licht",1]
[null,null,null,null,null,null,null,"Circle J.",1]
[null,null,null,null,null,null,null,"Van Muiswinkel en van Vleuten",1]
[null,null,null,null,null,null,null,"Mintzkov Luna",1]
[null,null,null,null,null,null,null,"Vanhoof, Silke",1]
[null,null,null,null,null,null,null,"Mishka",1]
[null,null,null,null,null,null,null,"Alles",1]
[null,null,null,null,null,null,null,"Miss Saigon",1]
[null,null,null,null,null,null,null,"Velvet Revolver",1]
[null,null,null,null,null,null,null,"Misun",1]
[null,null,null,null,null,null,null,"Verbogt, Thomas",1]
[null,null,null,null,null,null,null,"Mo Solid Gold",1]
[null,null,null,null,null,null,null,"Vertigo",1]
[null,null,null,null,null,null,null,"Claire, Bonnie st.",1]
[null,null,null,null,null,null,null,"View, The",1]
[null,null,null,null,null,null,null,"Moke",1]
[null,null,null,null,null,null,null,"Death From Above 1979",1]
[null,null,null,null,null,null,null,"Money For Rope",1]
[null,null,null,null,null,null,null,"Death Letters, The",1]
[null,null,null,null,null,null,null,"Monza",1]
[null,null,null,null,null,null,null,"Vleuten, Diederik van",1]
[null,null,null,null,null,null,null,"Morby, Kevin",1]
[null,null,null,null,null,null,null,"Def P & The Beatbusters",1]
[null,null,null,null,null,null,null,"Morcheeba",1]
[null,null,null,null,null,null,null,"Von Balthazar, Troy",1]
[null,null,null,null,null,null,null,"Morgan Heritage",1]
[null,null,null,null,null,null,null,"Delays, The",1]
[null,null,null,null,null,null,null,"Morning Benders, The",1]
[null,null,null,null,null,null,null,"Waking Eyes, The",1]
[null,null,null,null,null,null,null,"Morning Runner",1]
[null,null,null,null,null,null,null,"Wal, Jan-Jaap van der",1]
[null,null,null,null,null,null,null,"Clap Your Hands Say Yeah!",1]
[null,null,null,null,null,null,null,"Depeche Mode",1]
[null,null,null,null,null,null,null,"Avidan, Asaf & the Mojos",1]
[null,null,null,null,null,null,null,"Waterboys, The",1]
[null,null,null,null,null,null,null,"Motörhead",1]
[null,null,null,null,null,null,null,"Waxahatchee",1]
[null,null,null,null,null,null,null,"Mountain Goats, The",1]
[null,null,null,null,null,null,null,"We Were Promised Jetpacks",1]
[null,null,null,null,null,null,null,"Mozes and the Firstborn",1]
[null,null,null,null,null,null,null,"Weather Station, The",1]
[null,null,null,null,null,null,null,"Mraz, Jason",1]
[null,null,null,null,null,null,null,"Wertheim, Micha",1]
[null,null,null,null,null,null,null,"Mulvey, Nick",1]
[null,null,null,null,null,null,null,"Westerik, Maurits",1]
[null,null,null,null,null,null,null,"Mumford & Sons",1]
[null,null,null,null,null,null,null,"White Stripes, The",1]
[null,null,null,null,null,null,null,"Murphy, Roisin",1]
[null,null,null,null,null,null,null,"Detroit Social Club",1]
[null,null,null,null,null,null,null,"Awaiting Seasons",1]
[null,null,null,null,null,null,null,"Wicked",1]
[null,null,null,null,null,null,null,"My Bloody Valentine",1]
[null,null,null,null,null,null,null,"Dez Mona",1]
[null,null,null,null,null,null,null,"My Brightest Diamond",1]
[null,null,null,null,null,null,null,"Williams III, Hank and Assjack",1]
[null,null,null,null,null,null,null,"My Morning Jacket",1]
[null,null,null,null,null,null,null,"Williams, Robbie",1]
[null,null,null,null,null,null,null,"My Toys Like Me",1]
[null,null,null,null,null,null,null,"Wilson, Brian",1]
[null,null,null,null,null,null,null,"My Vitriol",1]
[null,null,null,null,null,null,null,"Wintersleep",1]
[null,null,null,null,null,null,null,"Clientele, The",1]
[null,null,null,null,null,null,null,"Wit, Tex de",1]
[null,null,null,null,null,null,null,"Close Second",1]
[null,null,null,null,null,null,null,"Wolf, Patrick",1]
[null,null,null,null,null,null,null,"N*E*R*D",1]
[null,null,null,null,null,null,null,"Wolfmother",1]
[null,null,null,null,null,null,null,"Nada Surf",1]
[null,null,null,null,null,null,null,"Woodpigeon",1]
[null,null,null,null,null,null,null,"Nailpin",1]
[null,null,null,null,null,null,null,"Woody and Paul",1]
[null,null,null,null,null,null,null,"Nash, Kate",1]
[null,null,null,null,null,null,null,"Wrens, The",1]
[null,null,null,null,null,null,null,"Awkward I",1]
[null,null,null,null,null,null,null,"Xzibit",1]
[null,null,null,null,null,null,null,"Netherlands, The",1]
[null,null,null,null,null,null,null,"Ye Vagabonds",1]
[null,null,null,null,null,null,null,"Bachman, Daniel",1]
[null,null,null,null,null,null,null,"Yearlings, The",1]
[null,null,null,null,null,null,null,"New Found Glory",1]
[null,null,null,null,null,null,null,"Yes-R",1]
[null,null,null,null,null,null,null,"New Order",1]
[null,null,null,null,null,null,null,"Young Rebel Set, The",1]
[null,null,null,null,null,null,null,"New Pornographers, The",1]
[null,null,null,null,null,null,null,"Yuck",1]
[null,null,null,null,null,null,null,"New Rhodes",1]
[null,null,null,null,null,null,null,"Zebrahead",1]
[null,null,null,null,null,null,null,"Newman, Randy",1]
[null,null,null,null,null,null,null,"Zomotta",1]
[null,null,null,null,null,null,null,"News Of Comedy",1]
[null,null,null,null,null,null,null,"Zwan",1]
[null,null,null,null,null,null,null,"Newsom, Joanna",1]
[null,null,null,null,null,null,null,"Black Crowes, The",1]
[null,null,null,null,null,null,null,"Newsome, Paul",1]
[null,null,null,null,null,null,null,"Bridgers, Phoebe",1]
[null,null,null,null,null,null,null,"Ninasmemmen",1]
[null,null,null,null,null,null,null,"Shauf, Andy",1]
[null,null,null,null,null,null,null,"Cloud Control",1]
[null,null,null,null,null,null,null,"O'Neill, Lisa",1]
[null,null,null,null,null,null,null,"Nizlopi",1]
[null,null,null,null,null,null,null,"Stavast",1]
[null,null,null,null,null,null,null,"Cohen, Leonard",1]
[null,null,null,null,null,null,null,"Dijkshoorn, Nico & Leon Verdonschot",1]
[null,null,null,null,null,null,null,"Aerosmith",1]
[null,null,null,null,null,null,null,"Mayer, John",1]
[null,null,null,null,null,null,null,"Nona Mez",1]
[null,null,null,null,null,null,null,"Jo Goes Hunting",1]
[null,null,null,null,null,null,null,"Norgren, Daniel",1]
[null,null,null,null,null,null,null,"Run the Jewels",1]
[null,null,null,null,null,null,null,"Afghan Whigs, The",1]
[null,null,null,null,null,null,null,"Azier, Thomas",1]
[null,null,null,null,null,null,null,"Nova, Heather",1]
[null,null,null,null,null,null,null,"Morrison, Van",1]
[null,null,null,null,null,null,null,"Ballonblazer",1]
[null,null,null,null,null,null,null,"Meatbodies",1]
[null,null,null,null,null,null,null,"NUHR",1]
[null,null,null,null,null,null,null,"Moonlandingz, The",1]
[null,null,null,null,null,null,null,"Nutini, Paolo",1]
[null,null,null,null,null,null,null,"Hair, Dan & the Extensions",1]
[null,null,null,null,null,null,null,"Colettes, The",1]
[null,null,null,null,null,null,null,"Canshaker Pi",1]
[null,null,null,null,null,null,null,"3 Musketiers",1]
[null,null,null,null,null,null,null,"Oberst, Conor & Dawes",1]
[null,null,null,null,null,null,null,"Weezer",1]
[null,null,null,null,null,null,null,"Lost Souls, The",1]
[null,null,null,null,null,null,null,"Jamiroquai",1]
[null,null,null,null,null,null,null,"Loveless, Lydia",1]
[null,null,null,null,null,null,null,"!!!",1]
[null,null,null,null,null,null,null,"Low",1]
[null,null,null,null,null,null,null,"Grand Total",1399]

{"sheet":"Interactief Concerten Dashboard","index":1,"n_rows":16,"n_cols":9,"rows_kept":16,"cut":false,"hidden":false,"merged":[[5,2,5,4],[5,6,5,8],[1,1,3,12]]}
[]
[null,"Concerten Dashboard"]
[]
[]
[]
[null,null,"Top 10 Locatie",null,null,null,"Top 10 Plaats"]
["1.",null,{"$f":"IF(E7=\"\",\"\",A7)","v":"1."},{"$f":"IF($E7=\"\",\"\",Pivots!K4)","v":"Doornroosje"},{"$f":"IF(Pivots!L4=\"\",\"\",Pivots!L4)","v":129},null,{"$f":"IF(I7=\"\",\"\",A7)","v":"1."},{"$f":"IF(Pivots!O4=\"\",\"\",Pivots!N4)","v":"Nijmegen"},{"$f":"IF(Pivots!O4=\"\",\"\",Pivots!O4)","v":241}]
["2.",null,"2.",{"$f":"IF($E8=\"\",\"\",Pivots!K5)","v":"Paradiso"},{"$f":"IF(Pivots!L5=\"\",\"\",Pivots!L5)","v":96},null,"2.",{"$f":"IF(Pivots!O5=\"\",\"\",Pivots!N5)","v":"Amsterdam"},{"$f":"IF(Pivots!O5=\"\",\"\",Pivots!O5)","v":211}]
["3.",null,"3.",{"$f":"IF($E9=\"\",\"\",Pivots!K6)","v":"Heineken Music Hall"},{"$f":"IF(Pivots!L6=\"\",\"\",Pivots!L6)","v":52},null,"3.",{"$f":"IF(Pivots!O6=\"\",\"\",Pivots!N6)","v":"Biddinghuizen"},{"$f":"IF(Pivots!O6=\"\",\"\",Pivots!O6)","v":161}]
["4.",null,"4.",{"$f":"IF($E10=\"\",\"\",Pivots!K7)","v":"Schouwburg Cuijk"},{"$f":"IF(Pivots!L7=\"\",\"\",Pivots!L7)","v":37},null,"4.",{"$f":"IF(Pivots!O7=\"\",\"\",Pivots!N7)","v":"Haldern"},{"$f":"IF(Pivots!O7=\"\",\"\",Pivots!O7)","v":132}]
["5.",null,"5.",{"$f":"IF($E11=\"\",\"\",Pivots!K8)","v":"Melkweg"},{"$f":"IF(Pivots!L8=\"\",\"\",Pivots!L8)","v":34},null,"5.",{"$f":"IF(Pivots!O8=\"\",\"\",Pivots!N8)","v":"Werchter"},{"$f":"IF(Pivots!O8=\"\",\"\",Pivots!O8)","v":108}]
["6.",null,"6.",{"$f":"IF($E12=\"\",\"\",Pivots!K9)","v":"TivoliVredenburg"},{"$f":"IF(Pivots!L9=\"\",\"\",Pivots!L9)","v":33},null,"6.",{"$f":"IF(Pivots!O9=\"\",\"\",Pivots!N9)","v":"Utrecht"},{"$f":"IF(Pivots!O9=\"\",\"\",Pivots!O9)","v":84}]
["7.",null,"7.",{"$f":"IF($E13=\"\",\"\",Pivots!K10)","v":"Merleyn"},{"$f":"IF(Pivots!L10=\"\",\"\",Pivots!L10)","v":32},null,"7.",{"$f":"IF(Pivots!O10=\"\",\"\",Pivots!N10)","v":"Landgraaf"},{"$f":"IF(Pivots!O10=\"\",\"\",Pivots!O10)","v":54}]
["8.",null,"8.",{"$f":"IF($E14=\"\",\"\",Pivots!K11)","v":"Rock Werchter 2007"},{"$f":"IF(Pivots!L11=\"\",\"\",Pivots!L11)","v":27},null,"8.",{"$f":"IF(Pivots!O11=\"\",\"\",Pivots!N11)","v":"Cuijk"},{"$f":"IF(Pivots!O11=\"\",\"\",Pivots!O11)","v":49}]
["9.",null,"9.",{"$f":"IF($E15=\"\",\"\",Pivots!K12)","v":"Rock Werchter 2006"},{"$f":"IF(Pivots!L12=\"\",\"\",Pivots!L12)","v":26},null,"9.",{"$f":"IF(Pivots!O12=\"\",\"\",Pivots!N12)","v":"Vierlingsbeek"},{"$f":"IF(Pivots!O12=\"\",\"\",Pivots!O12)","v":38}]
["10.",null,"10.",{"$f":"IF($E16=\"\",\"\",Pivots!K13)","v":"Rock Werchter 2005"},{"$f":"IF(Pivots!L13=\"\",\"\",Pivots!L13)","v":25},null,"10.",{"$f":"IF(Pivots!O13=\"\",\"\",Pivots!N13)","v":"Eindhoven"},{"$f":"IF(Pivots!O13=\"\",\"\",Pivots!O13)","v":33}]

{"sheet":"Zoeken in Database","index":2,"n_rows":10,"n_cols":4,"rows_kept":10,"cut":false,"hidden":false,"merged":[]}
[]
[]
[null,null,"Artiest"]
[null,null,"Locatie"]
[null,null,"Plaats"]
[null,null,"Soort optreden"]
[{"$f":"IF(ISBLANK(D7),1,D7)","v":1},null,"Datum van:"]
[{"$f":"IF(ISBLANK(D8),99999,D8)","v":99999},null,"Datum tot:"]
[]
[null,null,{"$f":"IF(D10=\"\",\"\",\"Aantal gevonden resultaten:\")","v":""},{"$f":"IF(2499-COUNTBLANK(C14:C2512)=0,\"\",2499-COUNTBLANK(C14:C2512))","v":""}]

{"sheet":"Concerten","index":3,"n_rows":1400,"n_cols":15,"rows_kept":1400,"cut":false,"hidden":true,"merged":[]}
["Artiest","Locatie","Plaats","Datum ","Setlist","Festival/andere bijz.","Soort optreden","Maand (getal)","Jaar","Maand","Artiest2","Locatie2","Plaats3","Soort Optreden4","Datum Selectie"]
["Never The Less","Lombok","St. Agatha","1999-02-06",null,null,"Festivaloptreden",{"$f":"IF(ISBLANK(D2),\"\",MONTH(D2))","v":2},{"$f":"IF(ISBLANK(D2),\"\",YEAR(D2))","v":1999},{"$f":"VLOOKUP(Table1[[#This Row],[Maand (getal)]],Lijst!A:B,2,FALSE)","v":"feb"},{"$f":"IFERROR(IF(ISBLANK('Zoeken in Database'!$D$3),\"x\",IF(SEARCH('Zoeken in Database'!$D$3,Concerten!A2,1),\"x\",\"\")),\"\")","v":"x"},{"$f":"IFERROR(IF(ISBLANK('Zoeken in Database'!$D$4),\"x\",IF(SEARCH('Zoeken in Database'!$D$4,Concerten!B2,1),\"x\",\"\")),\"\")","v":"x"},{"$f":"IFERROR(IF(ISBLANK('Zoeken in Database'!$D$5),\"x\",IF(SEARCH('Zoeken in Database'!$D$5,Concerten!C2,1),\"x\",\"\")),\"\")","v":"x"},{"$f":"IFERROR(IF(ISBLANK('Zoeken in Database'!$D$6),\"x\",IF(SEARCH('Zoeken in Database'!$D$6,Concerten!G2,1),\"x\",\"\")),\"\")","v":"x"},{"$f":"IF(AND(D2>='Zoeken in Database'!$A$7,'Zoeken in Database'!$A$8>=D2),\"x\",\"\")","v":"x"}]
["Noise Pollution","Lombok","St. Agatha","1999-02-06",null,null,"Festivaloptreden",{"$f":"IF(ISBLANK(D3),\"\",MONTH(D3))","v":2},{"$f":"IF(ISBLANK(D3),\"\",YEAR(D3))","v":1999},{"$f":"VLOOKUP(Table1[[#This Row],[Maand (getal)]],Lijst!A:B,2,FALSE)","v":"feb"},{"$f":"IFERROR(IF(ISBLANK('Zoeken in Database'!$D$3),\"x\",IF(SEARCH('Zoeken in Database'!$D$3,Concerten!A3,1),\"x\",\"\")),\"\")","v":"x"},{"$f":"IFERROR(IF(ISBLANK('Zoeken in Database'!$D$4),\"x\",IF(SEARCH('Zoeken in Database'!$D$4,Concerten!B3,1),\"x\",\"\")),\"\")","v":"x"},{"$f":"IFERROR(IF(ISBLANK('Zoeken in Database'!$D$5),\"x\",IF(SEARCH('Zoeken in Database'!$D$5,Concerten!C3,1),\"x\",\"\")),\"\")","v":"x"},{"$f":"IFERROR(IF(ISBLANK('Zoeken in Database'!$D$6),\"x\",IF(SEARCH('Zoeken in Database'!$D$6,Concerten!G3,1),\"x\",\"\")),\"\")","v":"x"},{"$f":"IF(AND(D3>='Zoeken in Database'!$A$7,'Zoeken in Database'!$A$8>=D3),\"x\",\"\")","v":"x"}]
["Outcast, The","Lombok","St. Agatha","1999-02-06",null,null,"Festivaloptreden",2,1999,{"$f":"VLOOKUP(Table1[[#This Row],[Maand (getal)]],Lijst!A:B,2,FALSE)","v":"feb"},{"$f":"IFERROR(IF(ISBLANK('Zoeken in Database'!$D$3),\"x\",IF(SEARCH('Zoeken in Database'!$D$3,Concerten!A4,1),\"x\",\"\")),\"\")","v":"x"},{"$f":"IFERROR(IF(ISBLANK('Zoeken in Database'!$D$4),\"x\",IF(SEARCH('Zoeken in Database'!$D$4,Concerten!B4,1),\"x\",\"\")),\"\")","v":"x"},{"$f":"IFERROR(IF(ISBLANK('Zoeken in Database'!$D$5),\"x\",IF(SEARCH('Zoeken in Database'!$D$5,Concerten!C4,1),\"x\",\"\")),\"\")","v":"x"},{"$f":"IFERROR(IF(ISBLANK('Zoeken in Database'!$D$6),\"x\",IF(SEARCH('Zoeken in Database'!$D$6,Concerten!G4,1),\"x\",\"\")),\"\")","v":"x"},{"$f":"IF(AND(D4>='Zoeken in Database'!$A$7,'Zoeken in Database'!$A$8>=D4),\"x\",\"\")","v":"x"}]
["Never The Less","Merlet","Cuijk","1999-03-03",null,"Talentenjacht Merlet","Festivaloptreden",3,1999,{"$f":"VLOOKUP(Table1[[#This Row],[Maand (getal)]],Lijst!A:B,2,FALSE)","v":"mrt"},{"$f":"IFERROR(IF(ISBLANK('Zoeken in Database'!$D$3),\"x\",IF(SEARCH('Zoeken in Database'!$D$3,Concerten!A5,1),\"x\",\"\")),\"\")","v":"x"},{"$f":"IFERROR(IF(ISBLANK('Zoeken in Database'!$D$4),\"x\",IF(SEARCH('Zoeken in Database'!$D$4,Concerten!B5,1),\"x\",\"\")),\"\")","v":"x"},{"$f":"IFERROR(IF(ISBLANK('Zoeken in Database'!$D$5),\"x\",IF(SEARCH('Zoeken in Database'!$D$5,Concerten!C5,1),\"x\",\"\")),\"\")","v":"x"},{"$f":"IFERROR(IF(ISBLANK('Zoeken in Database'!$D$6),\"x\",IF(SEARCH('Zoeken in Database'!$D$6,Concerten!G5,1),\"x\",\"\")),\"\")","v":"x"},{"$f":"IF(AND(D5>='Zoeken in Database'!$A$7,'Zoeken in Database'!$A$8>=D5),\"x\",\"\")","v":"x"}]
["Anubiz","Box","Boxmeer","1999-03-27",null,"Skaters Paradise Fest","Festivaloptreden",3,1999,{"$f":"VLOOKUP(Table1[[#This Row],[Maand (getal)]],Lijst!A:B,2,FALSE)","v":"mrt"},{"$f":"IFERROR(IF(ISBLANK('Zoeken in Database'!$D$3),\"x\",IF(SEARCH('Zoeken in Database'!$D$3,Concerten!A6,1),\"x\",\"\")),\"\")","v":"x"},{"$f":"IFERROR(IF(ISBLANK('Zoeken in Database'!$D$4),\"x\",IF(SEARCH('Zoeken in Database'!$D$4,Concerten!B6,1),\"x\",\"\")),\"\")","v":"x"},{"$f":"IFERROR(IF(ISBLANK('Zoeken in Database'!$D$5),\"x\",IF(SEARCH('Zoeken in Database'!$D$5,Concerten!C6,1),\"x\",\"\")),\"\")","v":"x"},{"$f":"IFERROR(IF(ISBLANK('Zoeken in Database'!$D$6),\"x\",IF(SEARCH('Zoeken in Database'!$D$6,Concerten!G6,1),\"x\",\"\")),\"\")","v":"x"},{"$f":"IF(AND(D6>='Zoeken in Database'!$A$7,'Zoeken in Database'!$A$8>=D6),\"x\",\"\")","v":"x"}]
["Keyser","Box","Boxmeer","1999-03-27",null,"Skaters Paradise Fest","Festivaloptreden",3,1999,{"$f":"VLOOKUP(Table1[[#This Row],[Maand (getal)]],Lijst!A:B,2,FALSE)","v":"mrt"},{"$f":"IFERROR(IF(ISBLANK('Zoeken in Database'!$D$3),\"x\",IF(SEARCH('Zoeken in Database'!$D$3,Concerten!A7,1),\"x\",\"\")),\"\")","v":"x"},{"$f":"IFERROR(IF(ISBLANK('Zoeken in Database'!$D$4),\"x\",IF(SEARCH('Zoeken in Database'!$D$4,Concerten!B7,1),\"x\",\"\")),\"\")","v":"x"},{"$f":"IFERROR(IF(ISBLANK('Zoeken in Database'!$D$5),\"x\",IF(SEARCH('Zoeken in Database'!$D$5,Concerten!C7,1),\"x\",\"\")),\"\")","v":"x"},{"$f":"IFERROR(IF(ISBLANK('Zoeken in Database'!$D$6),\"x\",IF(SEARCH('Zoeken in Database'!$D$6,Concerten!G7,1),\"x\",\"\")),\"\")","v":"x"},{"$f":"IF(AND(D7>='Zoeken in Database'!$A$7,'Zoeken in Database'!$A$8>=D7),\"x\",\"\")","v":"x"}]
["Never The Less","Box","Boxmeer","1999-03-27",null,"Skaters Paradise Fest","Festivaloptreden",3,1999,{"$f":"VLOOKUP(Table1[[#This Row],[Maand (getal)]],Lijst!A:B,2,FALSE)","v":"mrt"},{"$f":"IFERROR(IF(ISBLANK('Zoeken in Database'!$D$3),\"x\",IF(SEARCH('Zoeken in Database'!$D$3,Concerten!A8,1),\"x\",\"\")),\"\")","v":"x"},{"$f":"IFERROR(IF(ISBLANK('Zoeken in Database'!$D$4),\"x\",IF(SEARCH('Zoeken in Database'!$D$4,Concerten!B8,1),\"x\",\"\")),\"\")","v":"x"},{"$f":"IFERROR(IF(ISBLANK('Zoeken in Database'!$D$5),\"x\",IF(SEARCH('Zoeken in Database'!$D$5,Concerten!C8,1),\"x\",\"\")),\"\")","v":"x"},{"$f":"IFERROR(IF(ISBLANK('Zoeken in Database'!$D$6),\"x\",IF(SEARCH('Zoeken in Database'!$D$6,Concerten!G8,1),\"x\",\"\")),\"\")","v":"x"},{"$f":"IF(AND(D8>='Zoeken in Database'!$A$7,'Zoeken in Database'!$A$8>=D8),\"x\",\"\")","v":"x"}]
["Noise Pollution","Box","Boxmeer","1999-03-27",null,"Skaters Paradise Fest","Festivaloptreden",3,1999,{"$f":"VLOOKUP(Table1[[#This Row],[Maand (getal)]],Lijst!A:B,2,FALSE)","v":"mrt"},{"$f":"IFERROR(IF(ISBLANK('Zoeken in Database'!$D$3),\"x\",IF(SEARCH('Zoeken in Database'!$D$3,Concerten!A9,1),\"x\",\"\")),\"\")","v":"x"},{"$f":"IFERROR(IF(ISBLANK('Zoeken in Database'!$D$4),\"x\",IF(SEARCH('Zoeken in Database'!$D$4,Concerten!B9,1),\"x\",\"\")),\"\")","v":"x"},{"$f":"IFERROR(IF(ISBLANK('Zoeken in Database'!$D$5),\"x\",IF(SEARCH('Zoeken in Database'!$D$5,Concerten!C9,1),\"x\",\"\")),\"\")","v":"x"},{"$f":"IFERROR(IF(ISBLANK('Zoeken in Database'!$D$6),\"x\",IF(SEARCH('Zoeken in Database'!$D$6,Concerten!G9,1),\"x\",\"\")),\"\")","v":"x"},{"$f":"IF(AND(D9>='Zoeken in Database'!$A$7,'Zoeken in Database'!$A$8>=D9),\"x\",\"\")","v":"x"}]
["Alles","Balloon","Cuijk","1999-06-12",null,"Fuik Van Cuijk","Festivaloptreden",6,1999,{"$f":"VLOOKUP(Table1[[#This Row],[Maand (getal)]],Lijst!A:B,2,FALSE)","v":"jun"},{"$f":"IFERROR(IF(ISBLANK('Zoeken in Database'!$D$3),\"x\",IF(SEARCH('Zoeken in Database'!$D$3,Concerten!A10,1),\"x\",\"\")),\"\")","v":"x"},{"$f":"IFERROR(IF(ISBLANK('Zoeken in Database'!$D$4),\"x\",IF(SEARCH('Zoeken in Database'!$D$4,Concerten!B10,1),\"x\",\"\")),\"\")","v":"x"},{"$f":"IFERROR(IF(ISBLANK('Zoeken in Database'!$D$5),\"x\",IF(SEARCH('Zoeken in Database'!$D$5,Concerten!C10,1),\"x\",\"\")),\"\")","v":"x"},{"$f":"IFERROR(IF(ISBLANK('Zoeken in Database'!$D$6),\"x\",IF(SEARCH('Zoeken in Database'!$D$6,Concerten!G10,1),\"x\",\"\")),\"\")","v":"x"},{"$f":"IF(AND(D10>='Zoeken in Database'!$A$7,'Zoeken in Database'!$A$8>=D10),\"x\",\"\")","v":"x"}]
["Antcow","Balloon","Cuijk","1999-06-12",null,"Fuik Van Cuijk","Festivaloptreden",6,1999,{"$f":"VLOOKUP(Table1[[#This Row],[Maand (getal)]],Lijst!A:B,2,FALSE)","v":"jun"},{"$f":"IFERROR(IF(ISBLANK('Zoeken in Database'!$D$3),\"x\",IF(SEARCH('Zoeken in Database'!$D$3,Concerten!A11,1),\"x\",\"\")),\"\")","v":"x"},{"$f":"IFERROR(IF(ISBLANK('Zoeken in Database'!$D$4),\"x\",IF(SEARCH('Zoeken in Database'!$D$4,Concerten!B11,1),\"x\",\"\")),\"\")","v":"x"},{"$f":"IFERROR(IF(ISBLANK('Zoeken in Database'!$D$5),\"x\",IF(SEARCH('Zoeken in Database'!$D$5,Concerten!C11,1),\"x\",\"\")),\"\")","v":"x"},{"$f":"IFERROR(IF(ISBLANK('Zoeken in Database'!$D$6),\"x\",IF(SEARCH('Zoeken in Database'!$D$6,Concerten!G11,1),\"x\",\"\")),\"\")","v":"x"},{"$f":"IF(AND(D11>='Zoeken in Database'!$A$7,'Zoeken in Database'!$A$8>=D11),\"x\",\"\")","v":"x"}]
["Never The Less","Balloon","Cuijk","1999-06-12",null,"Fuik Van Cuijk","Festivaloptreden",6,1999,{"$f":"VLOOKUP(Table1[[#This Row],[Maand (getal)]],Lijst!A:B,2,FALSE)","v":"jun"},{"$f":"IFERROR(IF(ISBLANK('Zoeken in Database'!$D$3),\"x\",IF(SEARCH('Zoeken in Database'!$D$3,Concerten!A12,1),\"x\",\"\")),\"\")","v":"x"},{"$f":"IFERROR(IF(ISBLANK('Zoeken in Database'!$D$4),\"x\",IF(SEARCH('Zoeken in Database'!$D$4,Concerten!B12,1),\"x\",\"\")),\"\")","v":"x"},{"$f":"IFERROR(IF(ISBLANK('Zoeken in Database'!$D$5),\"x\",IF(SEARCH('Zoeken in Database'!$D$5,Concerten!C12,1),\"x\",\"\")),\"\")","v":"x"},{"$f":"IFERROR(IF(ISBLANK('Zoeken in Database'!$D$6),\"x\",IF(SEARCH('Zoeken in Database'!$D$6,Concerten!G12,1),\"x\",\"\")),\"\")","v":"x"},{"$f":"IF(AND(D12>='Zoeken in Database'!$A$7,'Zoeken in Database'!$A$8>=D12),\"x\",\"\")","v":"x"}]
["Slapyasilly","Balloon","Cuijk","1999-06-12",null,"Fuik Van Cuijk","Festivaloptreden",6,1999,{"$f":"VLOOKUP(Table1[[#This Row],[Maand (getal)]],Lijst!A:B,2,FALSE)","v":"jun"},{"$f":"IFERROR(IF(ISBLANK('Zoeken in Database'!$D$3),\"x\",IF(SEARCH('Zoeken in Database'!$D$3,Concerten!A13,1),\"x\",\"\")),\"\")","v":"x"},{"$f":"IFERROR(IF(ISBLANK('Zoeken in Database'!$D$4),\"x\",IF(SEARCH('Zoeken in Database'!$D$4,Concerten!B13,1),\"x\",\"\")),\"\")","v":"x"},{"$f":"IFERROR(IF(ISBLANK('Zoeken in Database'!$D$5),\"x\",IF(SEARCH('Zoeken in Database'!$D$5,Concerten!C13,1),\"x\",\"\")),\"\")","v":"x"},{"$f":"IFERROR(IF(ISBLANK('Zoeken in Database'!$D$6),\"x\",IF(SEARCH('Zoeken in Database'!$D$6,Concerten!G13,1),\"x\",\"\")),\"\")","v":"x"},{"$f":"IF(AND(D13>='Zoeken in Database'!$A$7,'Zoeken in Database'!$A$8>=D13),\"x\",\"\")","v":"x"}]
["Chemical Brothers","Rock Werchter 1999","Werchter","1999-07-02",null,"Hoofdpodium","Festivaloptreden",7,1999,{"$f":"VLOOKUP(Table1[[#This Row],[Maand (getal)]],Lijst!A:B,2,FALSE)","v":"jul"},{"$f":"IFERROR(IF(ISBLANK('Zoeken in Database'!$D$3),\"x\",IF(SEARCH('Zoeken in Database'!$D$3,Concerten!A14,1),\"x\",\"\")),\"\")","v":"x"},{"$f":"IFERROR(IF(ISBLANK('Zoeken in Database'!$D$4),\"x\",IF(SEARCH('Zoeken in Database'!$D$4,Concerten!B14,1),\"x\",\"\")),\"\")","v":"x"},{"$f":"IFERROR(IF(ISBLANK('Zoeken in Database'!$D$5),\"x\",IF(SEARCH('Zoeken in Database'!$D$5,Concerten!C14,1),\"x\",\"\")),\"\")","v":"x"},{"$f":"IFERROR(IF(ISBLANK('Zoeken in Database'!$D$6),\"x\",IF(SEARCH('Zoeken in Database'!$D$6,Concerten!G14,1),\"x\",\"\")),\"\")","v":"x"},{"$f":"IF(AND(D14>='Zoeken in Database'!$A$7,'Zoeken in Database'!$A$8>=D14),\"x\",\"\")","v":"x"}]
["Fatboy Slim","Rock Werchter 1999","Werchter","1999-07-02",null,"Pyramid Marquee","Festivaloptreden",7,1999,{"$f":"VLOOKUP(Table1[[#This Row],[Maand (getal)]],Lijst!A:B,2,FALSE)","v":"jul"},{"$f":"IFERROR(IF(ISBLANK('Zoeken in Database'!$D$3),\"x\",IF(SEARCH('Zoeken in Database'!$D$3,Concerten!A15,1),\"x\",\"\")),\"\")","v":"x"},{"$f":"IFERROR(IF(ISBLANK('Zoeken in Database'!$D$4),\"x\",IF(SEARCH('Zoeken in Database'!$D$4,Concerten!B15,1),\"x\",\"\")),\"\")","v":"x"},{"$f":"IFERROR(IF(ISBLANK('Zoeken in Database'!$D$5),\"x\",IF(SEARCH('Zoeken in Database'!$D$5,Concerten!C15,1),\"x\",\"\")),\"\")","v":"x"},{"$f":"IFERROR(IF(ISBLANK('Zoeken in Database'!$D$6),\"x\",IF(SEARCH('Zoeken in Database'!$D$6,Concerten!G15,1),\"x\",\"\")),\"\")","v":"x"},{"$f":"IF(AND(D15>='Zoeken in Database'!$A$7,'Zoeken in Database'!$A$8>=D15),\"x\",\"\")","v":"x"}]
["Adams, Bryan ","Rock Werchter 1999","Werchter","1999-07-03","01 - How Do Ya Feel Tonight\n02 - Back To You\n03 - 18 Til I Die\n04 - Can't Stop This Thing We Started\n05 - Summer Of '69\n06 - It's Only Love\n07 - On A Day Like Today\n08 - Getaway\n09 - Have You Ever Really Loved A Woman?\n10 - I Don't Wanna Live Forever\n11 - Cuts Like A Knife\n12 - When You're Gone\n13 - Heaven\n14 - Before The Night Is Over\n15 - If Ya Wanna Be Bad (Ya Gotta Be Good) / Let's Make A Night To Remember\n16 - The Only Thing That Looks Good On Me Is You\n17 - Somebody\n18 - Run To You\n19 - Cloud #9\n","Hoofdpodium","Festivaloptreden",7,1999,{"$f":"VLOOKUP(Table1[[#This Row],[Maand (getal)]],Lijst!A:B,2,FALSE)","v":"jul"},{"$f":"IFERROR(IF(ISBLANK('Zoeken in Database'!$D$3),\"x\",IF(SEARCH('Zoeken in Database'!$D$3,Concerten!A16,1),\"x\",\"\")),\"\")","v":"x"},{"$f":"IFERROR(IF(ISBLANK('Zoeken in Database'!$D$4),\"x\",IF(SEARCH('Zoeken in Database'!$D$4,Concerten!B16,1),\"x\",\"\")),\"\")","v":"x"},{"$f":"IFERROR(IF(ISBLANK('Zoeken in Database'!$D$5),\"x\",IF(SEARCH('Zoeken in Database'!$D$5,Concerten!C16,1),\"x\",\"\")),\"\")","v":"x"},{"$f":"IFERROR(IF(ISBLANK('Zoeken in Database'!$D$6),\"x\",IF(SEARCH('Zoeken in Database'!$D$6,Concerten!G16,1),\"x\",\"\")),\"\")","v":"x"},{"$f":"IF(AND(D16>='Zoeken in Database'!$A$7,'Zoeken in Database'!$A$8>=D16),\"x\",\"\")","v":"x"}]
["Everlast","Rock Werchter 1999","Werchter","1999-07-03",null,"Pyramid Marquee","Festivaloptreden",7,1999,{"$f":"VLOOKUP(Table1[[#This Row],[Maand (getal)]],Lijst!A:B,2,FALSE)","v":"jul"},{"$f":"IFERROR(IF(ISBLANK('Zoeken in Database'!$D$3),\"x\",IF(SEARCH('Zoeken in Database'!$D$3,Concerten!A17,1),\"x\",\"\")),\"\")","v":"x"},{"$f":"IFERROR(IF(ISBLANK('Zoeken in Database'!$D$4),\"x\",IF(SEARCH('Zoeken in Database'!$D$4,Concerten!B17,1),\"x\",\"\")),\"\")","v":"x"},{"$f":"IFERROR(IF(ISBLANK('Zoeken in Database'!$D$5),\"x\",IF(SEARCH('Zoeken in Database'!$D$5,Concerten!C17,1),\"x\",\"\")),\"\")","v":"x"},{"$f":"IFERROR(IF(ISBLANK('Zoeken in Database'!$D$6),\"x\",IF(SEARCH('Zoeken in Database'!$D$6,Concerten!G17,1),\"x\",\"\")),\"\")","v":"x"},{"$f":"IF(AND(D17>='Zoeken in Database'!$A$7,'Zoeken in Database'!$A$8>=D17),\"x\",\"\")","v":"x"}]
["Metallica","Rock Werchter 1999","Werchter","1999-07-03","01. The Ecstacy Of Gold\n02. Breadfan\n03. Master Of Puppets\n04. Wherever I May Roam\n05. The Thing That Should Not Be\n06. Fuel\n07. The Memory Remains\n08. Bleeding Me\n09. Bass Solo\n10. Seek And Destroy\n11. For Whom The Bell Tolls\n12. King Nothing\n13. Whiskey In The Jar\n14. One\n15. Fight Fire With Fire\n16. Nothing Else Matters\n17. Sad But True\n18. Creeping Death\n19. Die, Die My Darling\n20. Enter Sandman\n21. Battery\n","Hoofdpodium","Festivaloptreden",7,1999,{"$f":"VLOOKUP(Table1[[#This Row],[Maand (getal)]],Lijst!A:B,2,FALSE)","v":"jul"},{"$f":"IFERROR(IF(ISBLANK('Zoeken in Database'!$D$3),\"x\",IF(SEARCH('Zoeken in Database'!$D$3,Concerten!A18,1),\"x\",\"\")),\"\")","v":"x"},{"$f":"IFERROR(IF(ISBLANK('Zoeken in Database'!$D$4),\"x\",IF(SEARCH('Zoeken in Database'!$D$4,Concerten!B18,1),\"x\",\"\")),\"\")","v":"x"},{"$f":"IFERROR(IF(ISBLANK('Zoeken in Database'!$D$5),\"x\",IF(SEARCH('Zoeken in Database'!$D$5,Concerten!C18,1),\"x\",\"\")),\"\")","v":"x"},{"$f":"IFERROR(IF(ISBLANK('Zoeken in Database'!$D$6),\"x\",IF(SEARCH('Zoeken in Database'!$D$6,Concerten!G18,1),\"x\",\"\")),\"\")","v":"x"},{"$f":"IF(AND(D18>='Zoeken in Database'!$A$7,'Zoeken in Database'!$A$8>=D18),\"x\",\"\")","v":"x"}]
["Skunk Anansie","Rock Werchter 1999","Werchter","1999-07-03",null,"Hoofdpodium","Festivaloptreden",7,1999,{"$f":"VLOOKUP(Table1[[#This Row],[Maand (getal)]],Lijst!A:B,2,FALSE)","v":"jul"},{"$f":"IFERROR(IF(ISBLANK('Zoeken in Database'!$D$3),\"x\",IF(SEARCH('Zoeken in Database'!$D$3,Concerten!A19,1),\"x\",\"\")),\"\")","v":"x"},{"$f":"IFERROR(IF(ISBLANK('Zoeken in Database'!$D$4),\"x\",IF(SEARCH('Zoeken in Database'!$D$4,Concerten!B19,1),\"x\",\"\")),\"\")","v":"x"},{"$f":"IFERROR(IF(ISBLANK('Zoeken in Database'!$D$5),\"x\",IF(SEARCH('Zoeken in Database'!$D$5,Concerten!C19,1),\"x\",\"\")),\"\")","v":"x"},{"$f":"IFERROR(IF(ISBLANK('Zoeken in Database'!$D$6),\"x\",IF(SEARCH('Zoeken in Database'!$D$6,Concerten!G19,1),\"x\",\"\")),\"\")","v":"x"},{"$f":"IF(AND(D19>='Zoeken in Database'!$A$7,'Zoeken in Database'!$A$8>=D19),\"x\",\"\")","v":"x"}]
["Faithless","Rock Werchter 1999","Werchter","1999-07-04",null,"Hoofdpodium","Festivaloptreden",7,1999,{"$f":"VLOOKUP(Table1[[#This Row],[Maand (getal)]],Lijst!A:B,2,FALSE)","v":"jul"},{"$f":"IFERROR(IF(ISBLANK('Zoeken in Database'!$D$3),\"x\",IF(SEARCH('Zoeken in Database'!$D$3,Concerten!A20,1),\"x\",\"\")),\"\")","v":"x"},{"$f":"IFERROR(IF(ISBLANK('Zoeken in Database'!$D$4),\"x\",IF(SEARCH('Zoeken in Database'!$D$4,Concerten!B20,1),\"x\",\"\")),\"\")","v":"x"},{"$f":"IFERROR(IF(ISBLANK('Zoeken in Database'!$D$5),\"x\",IF(SEARCH('Zoeken in Database'!$D$5,Concerten!C20,1),\"x\",\"\")),\"\")","v":"x"},{"$f":"IFERROR(IF(ISBLANK('Zoeken in Database'!$D$6),\"x\",IF(SEARCH('Zoeken in Database'!$D$6,Concerten!G20,1),\"x\",\"\")),\"\")","v":"x"},{"$f":"IF(AND(D20>='Zoeken in Database'!$A$7,'Zoeken in Database'!$A$8>=D20),\"x\",\"\")","v":"x"}]
["Kravitz, Lenny","Rock Werchter 1999","Werchter","1999-07-04",null,"Hoofdpodium","Festivaloptreden",7,1999,{"$f":"VLOOKUP(Table1[[#This Row],[Maand (getal)]],Lijst!A:B,2,FALSE)","v":"jul"},{"$f":"IFERROR(IF(ISBLANK('Zoeken in Database'!$D$3),\"x\",IF(SEARCH('Zoeken in Database'!$D$3,Concerten!A21,1),\"x\",\"\")),\"\")","v":"x"},{"$f":"IFERROR(IF(ISBLANK('Zoeken in Database'!$D$4),\"x\",IF(SEARCH('Zoeken in Database'!$D$4,Concerten!B21,1),\"x\",\"\")),\"\")","v":"x"},{"$f":"IFERROR(IF(ISBLANK('Zoeken in Database'!$D$5),\"x\",IF(SEARCH('Zoeken in Database'!$D$5,Concerten!C21,1),\"x\",\"\")),\"\")","v":"x"},{"$f":"IFERROR(IF(ISBLANK('Zoeken in Database'!$D$6),\"x\",IF(SEARCH('Zoeken in Database'!$D$6,Concerten!G21,1),\"x\",\"\")),\"\")","v":"x"},{"$f":"IF(AND(D21>='Zoeken in Database'!$A$7,'Zoeken in Database'!$A$8>=D21),\"x\",\"\")","v":"x"}]
["Never The Less","Merlet","Cuijk","2000-02-10",null,"Talentenjacht Merlet","Festivaloptreden",2,2000,{"$f":"VLOOKUP(Table1[[#This Row],[Maand (getal)]],Lijst!A:B,2,FALSE)","v":"feb"},{"$f":"IFERROR(IF(ISBLANK('Zoeken in Database'!$D$3),\"x\",IF(SEARCH('Zoeken in Database'!$D$3,Concerten!A22,1),\"x\",\"\")),\"\")","v":"x"},{"$f":"IFERROR(IF(ISBLANK('Zoeken in Database'!$D$4),\"x\",IF(SEARCH('Zoeken in Database'!$D$4,Concerten!B22,1),\"x\",\"\")),\"\")","v":"x"},{"$f":"IFERROR(IF(ISBLANK('Zoeken in Database'!$D$5),\"x\",IF(SEARCH('Zoeken in Database'!$D$5,Concerten!C22,1),\"x\",\"\")),\"\")","v":"x"},{"$f":"IFERROR(IF(ISBLANK('Zoeken in Database'!$D$6),\"x\",IF(SEARCH('Zoeken in Database'!$D$6,Concerten!G22,1),\"x\",\"\")),\"\")","v":"x"},{"$f":"IF(AND(D22>='Zoeken in Database'!$A$7,'Zoeken in Database'!$A$8>=D22),\"x\",\"\")","v":"x"}]
["Bush","Pinkpop 2000","Landgraaf","2000-06-10",null,"Noordpodium","Festivaloptreden",6,2000,{"$f":"VLOOKUP(Table1[[#This Row],[Maand (getal)]],Lijst!A:B,2,FALSE)","v":"jun"},{"$f":"IFERROR(IF(ISBLANK('Zoeken in Database'!$D$3),\"x\",IF(SEARCH('Zoeken in Database'!$D$3,Concerten!A23,1),\"x\",\"\")),\"\")","v":"x"},{"$f":"IFERROR(IF(ISBLANK('Zoeken in Database'!$D$4),\"x\",IF(SEARCH('Zoeken in Database'!$D$4,Concerten!B23,1),\"x\",\"\")),\"\")","v":"x"},{"$f":"IFERROR(IF(ISBLANK('Zoeken in Database'!$D$5),\"x\",IF(SEARCH('Zoeken in Database'!$D$5,Concerten!C23,1),\"x\",\"\")),\"\")","v":"x"},{"$f":"IFERROR(IF(ISBLANK('Zoeken in Database'!$D$6),\"x\",IF(SEARCH('Zoeken in Database'!$D$6,Concerten!G23,1),\"x\",\"\")),\"\")","v":"x"},{"$f":"IF(AND(D23>='Zoeken in Database'!$A$7,'Zoeken in Database'!$A$8>=D23),\"x\",\"\")","v":"x"}]
["Oasis","Pinkpop 2000","Landgraaf","2000-06-10",null,"Noordpodium","Festivaloptreden",6,2000,{"$f":"VLOOKUP(Table1[[#This Row],[Maand (getal)]],Lijst!A:B,2,FALSE)","v":"jun"},{"$f":"IFERROR(IF(ISBLANK('Zoeken in Database'!$D$3),\"x\",IF(SEARCH('Zoeken in Database'!$D$3,Concerten!A24,1),\"x\",\"\")),\"\")","v":"x"},{"$f":"IFERROR(IF(ISBLANK('Zoeken in Database'!$D$4),\"x\",IF(SEARCH('Zoeken in Database'!$D$4,Concerten!B24,1),\"x\",\"\")),\"\")","v":"x"},{"$f":"IFERROR(IF(ISBLANK('Zoeken in Database'!$D$5),\"x\",IF(SEARCH('Zoeken in Database'!$D$5,Concerten!C24,1),\"x\",\"\")),\"\")","v":"x"},{"$f":"IFERROR(IF(ISBLANK('Zoeken in Database'!$D$6),\"x\",IF(SEARCH('Zoeken in Database'!$D$6,Concerten!G24,1),\"x\",\"\")),\"\")","v":"x"},{"$f":"IF(AND(D24>='Zoeken in Database'!$A$7,'Zoeken in Database'!$A$8>=D24),\"x\",\"\")","v":"x"}]
["Guano Apes","Pinkpop 2000","Landgraaf","2000-06-11",null,"Noordpodium","Festivaloptreden",6,2000,{"$f":"VLOOKUP(Table1[[#This Row],[Maand (getal)]],Lijst!A:B,2,FALSE)","v":"jun"},{"$f":"IFERROR(IF(ISBLANK('Zoeken in Database'!$D$3),\"x\",IF(SEARCH('Zoeken in Database'!$D$3,Concerten!A25,1),\"x\",\"\")),\"\")","v":"x"},{"$f":"IFERROR(IF(ISBLANK('Zoeken in Database'!$D$4),\"x\",IF(SEARCH('Zoeken in Database'!$D$4,Concerten!B25,1),\"x\",\"\")),\"\")","v":"x"},{"$f":"IFERROR(IF(ISBLANK('Zoeken in Database'!$D$5),\"x\",IF(SEARCH('Zoeken in Database'!$D$5,Concerten!C25,1),\"x\",\"\")),\"\")","v":"x"},{"$f":"IFERROR(IF(ISBLANK('Zoeken in Database'!$D$6),\"x\",IF(SEARCH('Zoeken in Database'!$D$6,Concerten!G25,1),\"x\",\"\")),\"\")","v":"x"},{"$f":"IF(AND(D25>='Zoeken in Database'!$A$7,'Zoeken in Database'!$A$8>=D25),\"x\",\"\")","v":"x"}]
["Krezip","Pinkpop 2000","Landgraaf","2000-06-11",null,"Noordpodium","Festivaloptreden",6,2000,{"$f":"VLOOKUP(Table1[[#This Row],[Maand (getal)]],Lijst!A:B,2,FALSE)","v":"jun"},{"$f":"IFERROR(IF(ISBLANK('Zoeken in Database'!$D$3),\"x\",IF(SEARCH('Zoeken in Database'!$D$3,Concerten!A26,1),\"x\",\"\")),\"\")","v":"x"},{"$f":"IFERROR(IF(ISBLANK('Zoeken in Database'!$D$4),\"x\",IF(SEARCH('Zoeken in Database'!$D$4,Concerten!B26,1),\"x\",\"\")),\"\")","v":"x"},{"$f":"IFERROR(IF(ISBLANK('Zoeken in Database'!$D$5),\"x\",IF(SEARCH('Zoeken in Database'!$D$5,Concerten!C26,1),\"x\",\"\")),\"\")","v":"x"},{"$f":"IFERROR(IF(ISBLANK('Zoeken in Database'!$D$6),\"x\",IF(SEARCH('Zoeken in Database'!$D$6,Concerten!G26,1),\"x\",\"\")),\"\")","v":"x"},{"$f":"IF(AND(D26>='Zoeken in Database'!$A$7,'Zoeken in Database'!$A$8>=D26),\"x\",\"\")","v":"x"}]
["Counting Crows","Pinkpop 2000","Landgraaf","2000-06-12","01. Angels of the silences\n02. Mr.jones (ended in the big star version)\n03. I wish i was a girl\n04. A murder of one\n05. Have you seen me lately\n06. Mrs. Potters lullaby\n07. Anna begins\n08. Round here (she doesn't exist anymore)\n09. Omaha\n10. Rain king (thunder road)\n11. Long december\n12. Hanging around\n\n","Noordpodium","Festivaloptreden",6,2000,{"$f":"VLOOKUP(Table1[[#This Row],[Maand (getal)]],Lijst!A:B,2,FALSE)","v":"jun"},{"$f":"IFERROR(IF(ISBLANK('Zoeken in Database'!$D$3),\"x\",IF(SEARCH('Zoeken in Database'!$D$3,Concerten!A27,1),\"x\",\"\")),\"\")","v":"x"},{"$f":"IFERROR(IF(ISBLANK('Zoeken in Database'!$D$4),\"x\",IF(SEARCH('Zoeken in Database'!$D$4,Concerten!B27,1),\"x\",\"\")),\"\")","v":"x"},{"$f":"IFERROR(IF(ISBLANK('Zoeken in Database'!$D$5),\"x\",IF(SEARCH('Zoeken in Database'!$D$5,Concerten!C27,1),\"x\",\"\")),\"\")","v":"x"},{"$f":"IFERROR(IF(ISBLANK('Zoeken in Database'!$D$6),\"x\",IF(SEARCH('Zoeken in Database'!$D$6,Concerten!G27,1),\"x\",\"\")),\"\")","v":"x"},{"$f":"IF(AND(D27>='Zoeken in Database'!$A$7,'Zoeken in Database'!$A$8>=D27),\"x\",\"\")","v":"x"}]
["Dijk, De","Pinkpop 2000","Landgraaf","2000-06-12",null,"Zuidpodium","Festivaloptreden",6,2000,{"$f":"VLOOKUP(Table1[[#This Row],[Maand (getal)]],Lijst!A:B,2,FALSE)","v":"jun"},{"$f":"IFERROR(IF(ISBLANK('Zoeken in Database'!$D$3),\"x\",IF(SEARCH('Zoeken in Database'!$D$3,Concerten!A28,1),\"x\",\"\")),\"\")","v":"x"},{"$f":"IFERROR(IF(ISBLANK('Zoeken in Database'!$D$4),\"x\",IF(SEARCH('Zoeken in Database'!$D$4,Concerten!B28,1),\"x\",\"\")),\"\")","v":"x"},{"$f":"IFERROR(IF(ISBLANK('Zoeken in Database'!$D$5),\"x\",IF(SEARCH('Zoeken in Database'!$D$5,Concerten!C28,1),\"x\",\"\")),\"\")","v":"x"},{"$f":"IFERROR(IF(ISBLANK('Zoeken in Database'!$D$6),\"x\",IF(SEARCH('Zoeken in Database'!$D$6,Concerten!G28,1),\"x\",\"\")),\"\")","v":"x"},{"$f":"IF(AND(D28>='Zoeken in Database'!$A$7,'Zoeken in Database'!$A$8>=D28),\"x\",\"\")","v":"x"}]
["Korn","Pinkpop 2000","Landgraaf","2000-06-12",null,"Zuidpodium","Festivaloptreden",6,2000,{"$f":"VLOOKUP(Table1[[#This Row],[Maand (getal)]],Lijst!A:B,2,FALSE)","v":"jun"},{"$f":"IFERROR(IF(ISBLANK('Zoeken in Database'!$D$3),\"x\",IF(SEARCH('Zoeken in Database'!$D$3,Concerten!A29,1),\"x\",\"\")),\"\")","v":"x"},{"$f":"IFERROR(IF(ISBLANK('Zoeken in Database'!$D$4),\"x\",IF(SEARCH('Zoeken in Database'!$D$4,Concerten!B29,1),\"x\",\"\")),\"\")","v":"x"},{"$f":"IFERROR(IF(ISBLANK('Zoeken in Database'!$D$5),\"x\",IF(SEARCH('Zoeken in Database'!$D$5,Concerten!C29,1),\"x\",\"\")),\"\")","v":"x"},{"$f":"IFERROR(IF(ISBLANK('Zoeken in Database'!$D$6),\"x\",IF(SEARCH('Zoeken in Database'!$D$6,Concerten!G29,1),\"x\",\"\")),\"\")","v":"x"},{"$f":"IF(AND(D29>='Zoeken in Database'!$A$7,'Zoeken in Database'!$A$8>=D29),\"x\",\"\")","v":"x"}]
["Moby","Pinkpop 2000","Landgraaf","2000-06-12",null,"Zuidpodium","Festivaloptreden",6,2000,{"$f":"VLOOKUP(Table1[[#This Row],[Maand (getal)]],Lijst!A:B,2,FALSE)","v":"jun"},{"$f":"IFERROR(IF(ISBLANK('Zoeken in Database'!$D$3),\"x\",IF(SEARCH('Zoeken in Database'!$D$3,Concerten!A30,1),\"x\",\"\")),\"\")","v":"x"},{"$f":"IFERROR(IF(ISBLANK('Zoeken in Database'!$D$4),\"x\",IF(SEARCH('Zoeken in Database'!$D$4,Concerten!B30,1),\"x\",\"\")),\"\")","v":"x"},{"$f":"IFERROR(IF(ISBLANK('Zoeken in Database'!$D$5),\"x\",IF(SEARCH('Zoeken in Database'!$D$5,Concerten!C30,1),\"x\",\"\")),\"\")","v":"x"},{"$f":"IFERROR(IF(ISBLANK('Zoeken in Database'!$D$6),\"x\",IF(SEARCH('Zoeken in Database'!$D$6,Concerten!G30,1),\"x\",\"\")),\"\")","v":"x"},{"$f":"IF(AND(D30>='Zoeken in Database'!$A$7,'Zoeken in Database'!$A$8>=D30),\"x\",\"\")","v":"x"}]
["Krezip","Op De Toffel 2000","Vierlingsbeek","2000-06-18",null,"Hoofdpodium","Festivaloptreden",6,2000,{"$f":"VLOOKUP(Table1[[#This Row],[Maand (getal)]],Lijst!A:B,2,FALSE)","v":"jun"},{"$f":"IFERROR(IF(ISBLANK('Zoeken in Database'!$D$3),\"x\",IF(SEARCH('Zoeken in Database'!$D$3,Concerten!A31,1),\"x\",\"\")),\"\")","v":"x"},{"$f":"IFERROR(IF(ISBLANK('Zoeken in Database'!$D$4),\"x\",IF(SEARCH('Zoeken in Database'!$D$4,Concerten!B31,1),\"x\",\"\")),\"\")","v":"x"},{"$f":"IFERROR(IF(ISBLANK('Zoeken in Database'!$D$5),\"x\",IF(SEARCH('Zoeken in Database'!$D$5,Concerten!C31,1),\"x\",\"\")),\"\")","v":"x"},{"$f":"IFERROR(IF(ISBLANK('Zoeken in Database'!$D$6),\"x\",IF(SEARCH('Zoeken in Database'!$D$6,Concerten!G31,1),\"x\",\"\")),\"\")","v":"x"},{"$f":"IF(AND(D31>='Zoeken in Database'!$A$7,'Zoeken in Database'!$A$8>=D31),\"x\",\"\")","v":"x"}]
["Travoltas","Op De Toffel 2000","Vierlingsbeek","2000-06-18",null,"Hoofdpodium","Festivaloptreden",6,2000,{"$f":"VLOOKUP(Table1[[#This Row],[Maand (getal)]],Lijst!A:B,2,FALSE)","v":"jun"},{"$f":"IFERROR(IF(ISBLANK('Zoeken in Database'!$D$3),\"x\",IF(SEARCH('Zoeken in Database'!$D$3,Concerten!A32,1),\"x\",\"\")),\"\")","v":"x"},{"$f":"IFERROR(IF(ISBLANK('Zoeken in Database'!$D$4),\"x\",IF(SEARCH('Zoeken in Database'!$D$4,Concerten!B32,1),\"x\",\"\")),\"\")","v":"x"},{"$f":"IFERROR(IF(ISBLANK('Zoeken in Database'!$D$5),\"x\",IF(SEARCH('Zoeken in Database'!$D$5,Concerten!C32,1),\"x\",\"\")),\"\")","v":"x"},{"$f":"IFERROR(IF(ISBLANK('Zoeken in Database'!$D$6),\"x\",IF(SEARCH('Zoeken in Database'!$D$6,Concerten!G32,1),\"x\",\"\")),\"\")","v":"x"},{"$f":"IF(AND(D32>='Zoeken in Database'!$A$7,'Zoeken in Database'!$A$8>=D32),\"x\",\"\")","v":"x"}]
["Green Lizard","Auw Mok 2000","Sittard","2000-11-25",null,null,"Festivaloptreden",11,2000,{"$f":"VLOOKUP(Table1[[#This Row],[Maand (getal)]],Lijst!A:B,2,FALSE)","v":"nov"},{"$f":"IFERROR(IF(ISBLANK('Zoeken in Database'!$D$3),\"x\",IF(SEARCH('Zoeken in Database'!$D$3,Concerten!A33,1),\"x\",\"\")),\"\")","v":"x"},{"$f":"IFERROR(IF(ISBLANK('Zoeken in Database'!$D$4),\"x\",IF(SEARCH('Zoeken in Database'!$D$4,Concerten!B33,1),\"x\",\"\")),\"\")","v":"x"},{"$f":"IFERROR(IF(ISBLANK('Zoeken in Database'!$D$5),\"x\",IF(SEARCH('Zoeken in Database'!$D$5,Concerten!C33,1),\"x\",\"\")),\"\")","v":"x"},{"$f":"IFERROR(IF(ISBLANK('Zoeken in Database'!$D$6),\"x\",IF(SEARCH('Zoeken in Database'!$D$6,Concerten!G33,1),\"x\",\"\")),\"\")","v":"x"},{"$f":"IF(AND(D33>='Zoeken in Database'!$A$7,'Zoeken in Database'!$A$8>=D33),\"x\",\"\")","v":"x"}]
["Krezip","Auw Mok 2000","Sittard","2000-11-25",null,null,"Festivaloptreden",11,2000,{"$f":"VLOOKUP(Table1[[#This Row],[Maand (getal)]],Lijst!A:B,2,FALSE)","v":"nov"},{"$f":"IFERROR(IF(ISBLANK('Zoeken in Database'!$D$3),\"x\",IF(SEARCH('Zoeken in Database'!$D$3,Concerten!A34,1),\"x\",\"\")),\"\")","v":"x"},{"$f":"IFERROR(IF(ISBLANK('Zoeken in Database'!$D$4),\"x\",IF(SEARCH('Zoeken in Database'!$D$4,Concerten!B34,1),\"x\",\"\")),\"\")","v":"x"},{"$f":"IFERROR(IF(ISBLANK('Zoeken in Database'!$D$5),\"x\",IF(SEARCH('Zoeken in Database'!$D$5,Concerten!C34,1),\"x\",\"\")),\"\")","v":"x"},{"$f":"IFERROR(IF(ISBLANK('Zoeken in Database'!$D$6),\"x\",IF(SEARCH('Zoeken in Database'!$D$6,Concerten!G34,1),\"x\",\"\")),\"\")","v":"x"},{"$f":"IF(AND(D34>='Zoeken in Database'!$A$7,'Zoeken in Database'!$A$8>=D34),\"x\",\"\")","v":"x"}]
["Racoon","Auw Mok 2000","Sittard","2000-11-25",null,null,"Festivaloptreden",11,2000,{"$f":"VLOOKUP(Table1[[#This Row],[Maand (getal)]],Lijst!A:B,2,FALSE)","v":"nov"},{"$f":"IFERROR(IF(ISBLANK('Zoeken in Database'!$D$3),\"x\",IF(SEARCH('Zoeken in Database'!$D$3,Concerten!A35,1),\"x\",\"\")),\"\")","v":"x"},{"$f":"IFERROR(IF(ISBLANK('Zoeken in Database'!$D$4),\"x\",IF(SEARCH('Zoeken in Database'!$D$4,Concerten!B35,1),\"x\",\"\")),\"\")","v":"x"},{"$f":"IFERROR(IF(ISBLANK('Zoeken in Database'!$D$5),\"x\",IF(SEARCH('Zoeken in Database'!$D$5,Concerten!C35,1),\"x\",\"\")),\"\")","v":"x"},{"$f":"IFERROR(IF(ISBLANK('Zoeken in Database'!$D$6),\"x\",IF(SEARCH('Zoeken in Database'!$D$6,Concerten!G35,1),\"x\",\"\")),\"\")","v":"x"},{"$f":"IF(AND(D35>='Zoeken in Database'!$A$7,'Zoeken in Database'!$A$8>=D35),\"x\",\"\")","v":"x"}]
["Wipneus & Pim","Auw Mok 2000","Sittard","2000-11-25",null,null,"Festivaloptreden",11,2000,{"$f":"VLOOKUP(Table1[[#This Row],[Maand (getal)]],Lijst!A:B,2,FALSE)","v":"nov"},{"$f":"IFERROR(IF(ISBLANK('Zoeken in Database'!$D$3),\"x\",IF(SEARCH('Zoeken in Database'!$D$3,Concerten!A36,1),\"x\",\"\")),\"\")","v":"x"},{"$f":"IFERROR(IF(ISBLANK('Zoeken in Database'!$D$4),\"x\",IF(SEARCH('Zoeken in Database'!$D$4,Concerten!B36,1),\"x\",\"\")),\"\")","v":"x"},{"$f":"IFERROR(IF(ISBLANK('Zoeken in Database'!$D$5),\"x\",IF(SEARCH('Zoeken in Database'!$D$5,Concerten!C36,1),\"x\",\"\")),\"\")","v":"x"},{"$f":"IFERROR(IF(ISBLANK('Zoeken in Database'!$D$6),\"x\",IF(SEARCH('Zoeken in Database'!$D$6,Concerten!G36,1),\"x\",\"\")),\"\")","v":"x"},{"$f":"IF(AND(D36>='Zoeken in Database'!$A$7,'Zoeken in Database'!$A$8>=D36),\"x\",\"\")","v":"x"}]
["Cooper","W2","Den Bosch","2001-03-31",null,null,"Voorprogramma",3,2001,{"$f":"VLOOKUP(Table1[[#This Row],[Maand (getal)]],Lijst!A:B,2,FALSE)","v":"mrt"},{"$f":"IFERROR(IF(ISBLANK('Zoeken in Database'!$D$3),\"x\",IF(SEARCH('Zoeken in Database'!$D$3,Concerten!A37,1),\"x\",\"\")),\"\")","v":"x"},{"$f":"IFERROR(IF(ISBLANK('Zoeken in Database'!$D$4),\"x\",IF(SEARCH('Zoeken in Database'!$D$4,Concerten!B37,1),\"x\",\"\")),\"\")","v":"x"},{"$f":"IFERROR(IF(ISBLANK('Zoeken in Database'!$D$5),\"x\",IF(SEARCH('Zoeken in Database'!$D$5,Concerten!C37,1),\"x\",\"\")),\"\")","v":"x"},{"$f":"IFERROR(IF(ISBLANK('Zoeken in Database'!$D$6),\"x\",IF(SEARCH('Zoeken in Database'!$D$6,Concerten!G37,1),\"x\",\"\")),\"\")","v":"x"},{"$f":"IF(AND(D37>='Zoeken in Database'!$A$7,'Zoeken in Database'!$A$8>=D37),\"x\",\"\")","v":"x"}]
["Krezip","O13","Tilburg","2001-03-31",null,"Fanclubdag","Hoofdprogramma",3,2001,{"$f":"VLOOKUP(Table1[[#This Row],[Maand (getal)]],Lijst!A:B,2,FALSE)","v":"mrt"},{"$f":"IFERROR(IF(ISBLANK('Zoeken in Database'!$D$3),\"x\",IF(SEARCH('Zoeken in Database'!$D$3,Concerten!A38,1),\"x\",\"\")),\"\")","v":"x"},{"$f":"IFERROR(IF(ISBLANK('Zoeken in Database'!$D$4),\"x\",IF(SEARCH('Zoeken in Database'!$D$4,Concerten!B38,1),\"x\",\"\")),\"\")","v":"x"},{"$f":"IFERROR(IF(ISBLANK('Zoeken in Database'!$D$5),\"x\",IF(SEARCH('Zoeken in Database'!$D$5,Concerten!C38,1),\"x\",\"\")),\"\")","v":"x"},{"$f":"IFERROR(IF(ISBLANK('Zoeken in Database'!$D$6),\"x\",IF(SEARCH('Zoeken in Database'!$D$6,Concerten!G38,1),\"x\",\"\")),\"\")","v":"x"},{"$f":"IF(AND(D38>='Zoeken in Database'!$A$7,'Zoeken in Database'!$A$8>=D38),\"x\",\"\")","v":"x"}]
["Lisk","O13","Tilburg","2001-03-31",null,null,"Voorprogramma",3,2001,{"$f":"VLOOKUP(Table1[[#This Row],[Maand (getal)]],Lijst!A:B,2,FALSE)","v":"mrt"},{"$f":"IFERROR(IF(ISBLANK('Zoeken in Database'!$D$3),\"x\",IF(SEARCH('Zoeken in Database'!$D$3,Concerten!A39,1),\"x\",\"\")),\"\")","v":"x"},{"$f":"IFERROR(IF(ISBLANK('Zoeken in Database'!$D$4),\"x\",IF(SEARCH('Zoeken in Database'!$D$4,Concerten!B39,1),\"x\",\"\")),\"\")","v":"x"},{"$f":"IFERROR(IF(ISBLANK('Zoeken in Database'!$D$5),\"x\",IF(SEARCH('Zoeken in Database'!$D$5,Concerten!C39,1),\"x\",\"\")),\"\")","v":"x"},{"$f":"IFERROR(IF(ISBLANK('Zoeken in Database'!$D$6),\"x\",IF(SEARCH('Zoeken in Database'!$D$6,Concerten!G39,1),\"x\",\"\")),\"\")","v":"x"},{"$f":"IF(AND(D39>='Zoeken in Database'!$A$7,'Zoeken in Database'!$A$8>=D39),\"x\",\"\")","v":"x"}]
["Living End, The ","W2","Den Bosch","2001-03-31",null,null,"Hoofdprogramma",3,2001,{"$f":"VLOOKUP(Table1[[#This Row],[Maand (getal)]],Lijst!A:B,2,FALSE)","v":"mrt"},{"$f":"IFERROR(IF(ISBLANK('Zoeken in Database'!$D$3),\"x\",IF(SEARCH('Zoeken in Database'!$D$3,Concerten!A40,1),\"x\",\"\")),\"\")","v":"x"},{"$f":"IFERROR(IF(ISBLANK('Zoeken in Database'!$D$4),\"x\",IF(SEARCH('Zoeken in Database'!$D$4,Concerten!B40,1),\"x\",\"\")),\"\")","v":"x"},{"$f":"IFERROR(IF(ISBLANK('Zoeken in Database'!$D$5),\"x\",IF(SEARCH('Zoeken in Database'!$D$5,Concerten!C40,1),\"x\",\"\")),\"\")","v":"x"},{"$f":"IFERROR(IF(ISBLANK('Zoeken in Database'!$D$6),\"x\",IF(SEARCH('Zoeken in Database'!$D$6,Concerten!G40,1),\"x\",\"\")),\"\")","v":"x"},{"$f":"IF(AND(D40>='Zoeken in Database'!$A$7,'Zoeken in Database'!$A$8>=D40),\"x\",\"\")","v":"x"}]
["Teeuwen, Hans","Schouwburg Cuijk","Cuijk","2001-05-06",null,"Dat dan weer wel","Theater",5,2001,{"$f":"VLOOKUP(Table1[[#This Row],[Maand (getal)]],Lijst!A:B,2,FALSE)","v":"mei"},{"$f":"IFERROR(IF(ISBLANK('Zoeken in Database'!$D$3),\"x\",IF(SEARCH('Zoeken in Database'!$D$3,Concerten!A41,1),\"x\",\"\")),\"\")","v":"x"},{"$f":"IFERROR(IF(ISBLANK('Zoeken in Database'!$D$4),\"x\",IF(SEARCH('Zoeken in Database'!$D$4,Concerten!B41,1),\"x\",\"\")),\"\")","v":"x"},{"$f":"IFERROR(IF(ISBLANK('Zoeken in Database'!$D$5),\"x\",IF(SEARCH('Zoeken in Database'!$D$5,Concerten!C41,1),\"x\",\"\")),\"\")","v":"x"},{"$f":"IFERROR(IF(ISBLANK('Zoeken in Database'!$D$6),\"x\",IF(SEARCH('Zoeken in Database'!$D$6,Concerten!G41,1),\"x\",\"\")),\"\")","v":"x"},{"$f":"IF(AND(D41>='Zoeken in Database'!$A$7,'Zoeken in Database'!$A$8>=D41),\"x\",\"\")","v":"x"}]
["Beef","Vereeniging","Nijmegen","2001-05-19",null,null,"Voorprogramma",5,2001,{"$f":"VLOOKUP(Table1[[#This Row],[Maand (getal)]],Lijst!A:B,2,FALSE)","v":"mei"},{"$f":"IFERROR(IF(ISBLANK('Zoeken in Database'!$D$3),\"x\",IF(SEARCH('Zoeken in Database'!$D$3,Concerten!A42,1),\"x\",\"\")),\"\")","v":"x"},{"$f":"IFERROR(IF(ISBLANK('Zoeken in Database'!$D$4),\"x\",IF(SEARCH('Zoeken in Database'!$D$4,Concerten!B42,1),\"x\",\"\")),\"\")","v":"x"},{"$f":"IFERROR(IF(ISBLANK('Zoeken in Database'!$D$5),\"x\",IF(SEARCH('Zoeken in Database'!$D$5,Concerten!C42,1),\"x\",\"\")),\"\")","v":"x"},{"$f":"IFERROR(IF(ISBLANK('Zoeken in Database'!$D$6),\"x\",IF(SEARCH('Zoeken in Database'!$D$6,Concerten!G42,1),\"x\",\"\")),\"\")","v":"x"},{"$f":"IF(AND(D42>='Zoeken in Database'!$A$7,'Zoeken in Database'!$A$8>=D42),\"x\",\"\")","v":"x"}]
["Krezip","Vereeniging","Nijmegen","2001-05-19",null,null,"Hoofdprogramma",5,2001,{"$f":"VLOOKUP(Table1[[#This Row],[Maand (getal)]],Lijst!A:B,2,FALSE)","v":"mei"},{"$f":"IFERROR(IF(ISBLANK('Zoeken in Database'!$D$3),\"x\",IF(SEARCH('Zoeken in Database'!$D$3,Concerten!A43,1),\"x\",\"\")),\"\")","v":"x"},{"$f":"IFERROR(IF(ISBLANK('Zoeken in Database'!$D$4),\"x\",IF(SEARCH('Zoeken in Database'!$D$4,Concerten!B43,1),\"x\",\"\")),\"\")","v":"x"},{"$f":"IFERROR(IF(ISBLANK('Zoeken in Database'!$D$5),\"x\",IF(SEARCH('Zoeken in Database'!$D$5,Concerten!C43,1),\"x\",\"\")),\"\")","v":"x"},{"$f":"IFERROR(IF(ISBLANK('Zoeken in Database'!$D$6),\"x\",IF(SEARCH('Zoeken in Database'!$D$6,Concerten!G43,1),\"x\",\"\")),\"\")","v":"x"},{"$f":"IF(AND(D43>='Zoeken in Database'!$A$7,'Zoeken in Database'!$A$8>=D43),\"x\",\"\")","v":"x"}]
["Krezip","Pinkpop 2001","Landgraaf","2001-06-02","01. Happy now \n02. Won't cry \n03. Get it on \n04. Fatherthing \n05. Nieuwe (ja zo nieuw dat er nog geen titel voor is) (new) \n06. Why do i \n07. Protection \n08. Give my live \n09. I would stay \n10. Just like this (new) \n11. In her sun (stupid) \n12. All unsaid \n13. Everyything and more \n14. In her head \n15. Let it go \n-------------------- \n16. Fine \n17. I'll be gone \n\n","Noordpodium","Festivaloptreden",6,2001,{"$f":"VLOOKUP(Table1[[#This Row],[Maand (getal)]],Lijst!A:B,2,FALSE)","v":"jun"},{"$f":"IFERROR(IF(ISBLANK('Zoeken in Database'!$D$3),\"x\",IF(SEARCH('Zoeken in Database'!$D$3,Concerten!A44,1),\"x\",\"\")),\"\")","v":"x"},{"$f":"IFERROR(IF(ISBLANK('Zoeken in Database'!$D$4),\"x\",IF(SEARCH('Zoeken in Database'!$D$4,Concerten!B44,1),\"x\",\"\")),\"\")","v":"x"},{"$f":"IFERROR(IF(ISBLANK('Zoeken in Database'!$D$5),\"x\",IF(SEARCH('Zoeken in Database'!$D$5,Concerten!C44,1),\"x\",\"\")),\"\")","v":"x"},{"$f":"IFERROR(IF(ISBLANK('Zoeken in Database'!$D$6),\"x\",IF(SEARCH('Zoeken in Database'!$D$6,Concerten!G44,1),\"x\",\"\")),\"\")","v":"x"},{"$f":"IF(AND(D44>='Zoeken in Database'!$A$7,'Zoeken in Database'!$A$8>=D44),\"x\",\"\")","v":"x"}]
["Spearhead","Pinkpop 2001","Landgraaf","2001-06-02","Keep Me Liftid\nPositive\nStay Human\nPeople In Da Middle\nRun For Ya Life\nAnybody Seen My Mind\nRock Da Nation\nHole In Da Bucket\nRed Beans\nSoulShine\nWe Don't Mind… Intro\nSometimes","Noordpodium","Festivaloptreden",6,2001,{"$f":"VLOOKUP(Table1[[#This Row],[Maand (getal)]],Lijst!A:B,2,FALSE)","v":"jun"},{"$f":"IFERROR(IF(ISBLANK('Zoeken in Database'!$D$3),\"x\",IF(SEARCH('Zoeken in Database'!$D$3,Concerten!A45,1),\"x\",\"\")),\"\")","v":"x"},{"$f":"IFERROR(IF(ISBLANK('Zoeken in Database'!$D$4),\"x\",IF(SEARCH('Zoeken in Database'!$D$4,Concerten!B45,1),\"x\",\"\")),\"\")","v":"x"},{"$f":"IFERROR(IF(ISBLANK('Zoeken in Database'!$D$5),\"x\",IF(SEARCH('Zoeken in Database'!$D$5,Concerten!C45,1),\"x\",\"\")),\"\")","v":"x"},{"$f":"IFERROR(IF(ISBLANK('Zoeken in Database'!$D$6),\"x\",IF(SEARCH('Zoeken in Database'!$D$6,Concerten!G45,1),\"x\",\"\")),\"\")","v":"x"},{"$f":"IF(AND(D45>='Zoeken in Database'!$A$7,'Zoeken in Database'!$A$8>=D45),\"x\",\"\")","v":"x"}]
["Brainpower","Pinkpop 2001","Landgraaf","2001-06-03",null,"3FM Tent","Festivaloptreden",6,2001,{"$f":"VLOOKUP(Table1[[#This Row],[Maand (getal)]],Lijst!A:B,2,FALSE)","v":"jun"},{"$f":"IFERROR(IF(ISBLANK('Zoeken in Database'!$D$3),\"x\",IF(SEARCH('Zoeken in Database'!$D$3,Concerten!A46,1),\"x\",\"\")),\"\")","v":"x"},{"$f":"IFERROR(IF(ISBLANK('Zoeken in Database'!$D$4),\"x\",IF(SEARCH('Zoeken in Database'!$D$4,Concerten!B46,1),\"x\",\"\")),\"\")","v":"x"},{"$f":"IFERROR(IF(ISBLANK('Zoeken in Database'!$D$5),\"x\",IF(SEARCH('Zoeken in Database'!$D$5,Concerten!C46,1),\"x\",\"\")),\"\")","v":"x"},{"$f":"IFERROR(IF(ISBLANK('Zoeken in Database'!$D$6),\"x\",IF(SEARCH('Zoeken in Database'!$D$6,Concerten!G46,1),\"x\",\"\")),\"\")","v":"x"},{"$f":"IF(AND(D46>='Zoeken in Database'!$A$7,'Zoeken in Database'!$A$8>=D46),\"x\",\"\")","v":"x"}]
["Das Pop","Pinkpop 2001","Landgraaf","2001-06-03",null,"3FM Tent","Festivaloptreden",6,2001,{"$f":"VLOOKUP(Table1[[#This Row],[Maand (getal)]],Lijst!A:B,2,FALSE)","v":"jun"},{"$f":"IFERROR(IF(ISBLANK('Zoeken in Database'!$D$3),\"x\",IF(SEARCH('Zoeken in Database'!$D$3,Concerten!A47,1),\"x\",\"\")),\"\")","v":"x"},{"$f":"IFERROR(IF(ISBLANK('Zoeken in Database'!$D$4),\"x\",IF(SEARCH('Zoeken in Database'!$D$4,Concerten!B47,1),\"x\",\"\")),\"\")","v":"x"},{"$f":"IFERROR(IF(ISBLANK('Zoeken in Database'!$D$5),\"x\",IF(SEARCH('Zoeken in Database'!$D$5,Concerten!C47,1),\"x\",\"\")),\"\")","v":"x"},{"$f":"IFERROR(IF(ISBLANK('Zoeken in Database'!$D$6),\"x\",IF(SEARCH('Zoeken in Database'!$D$6,Concerten!G47,1),\"x\",\"\")),\"\")","v":"x"},{"$f":"IF(AND(D47>='Zoeken in Database'!$A$7,'Zoeken in Database'!$A$8>=D47),\"x\",\"\")","v":"x"}]
["K's Choice","Pinkpop 2001","Landgraaf","2001-06-03",null,"Noordpodium","Festivaloptreden",6,2001,{"$f":"VLOOKUP(Table1[[#This Row],[Maand (getal)]],Lijst!A:B,2,FALSE)","v":"jun"},{"$f":"IFERROR(IF(ISBLANK('Zoeken in Database'!$D$3),\"x\",IF(SEARCH('Zoeken in Database'!$D$3,Concerten!A48,1),\"x\",\"\")),\"\")","v":"x"},{"$f":"IFERROR(IF(ISBLANK('Zoeken in Database'!$D$4),\"x\",IF(SEARCH('Zoeken in Database'!$D$4,Concerten!B48,1),\"x\",\"\")),\"\")","v":"x"},{"$f":"IFERROR(IF(ISBLANK('Zoeken in Database'!$D$5),\"x\",IF(SEARCH('Zoeken in Database'!$D$5,Concerten!C48,1),\"x\",\"\")),\"\")","v":"x"},{"$f":"IFERROR(IF(ISBLANK('Zoeken in Database'!$D$6),\"x\",IF(SEARCH('Zoeken in Database'!$D$6,Concerten!G48,1),\"x\",\"\")),\"\")","v":"x"},{"$f":"IF(AND(D48>='Zoeken in Database'!$A$7,'Zoeken in Database'!$A$8>=D48),\"x\",\"\")","v":"x"}]
["St. Germain","Pinkpop 2001","Landgraaf","2001-06-03",null,"3FM Tent","Festivaloptreden",6,2001,{"$f":"VLOOKUP(Table1[[#This Row],[Maand (getal)]],Lijst!A:B,2,FALSE)","v":"jun"},{"$f":"IFERROR(IF(ISBLANK('Zoeken in Database'!$D$3),\"x\",IF(SEARCH('Zoeken in Database'!$D$3,Concerten!A49,1),\"x\",\"\")),\"\")","v":"x"},{"$f":"IFERROR(IF(ISBLANK('Zoeken in Database'!$D$4),\"x\",IF(SEARCH('Zoeken in Database'!$D$4,Concerten!B49,1),\"x\",\"\")),\"\")","v":"x"},{"$f":"IFERROR(IF(ISBLANK('Zoeken in Database'!$D$5),\"x\",IF(SEARCH('Zoeken in Database'!$D$5,Concerten!C49,1),\"x\",\"\")),\"\")","v":"x"},{"$f":"IFERROR(IF(ISBLANK('Zoeken in Database'!$D$6),\"x\",IF(SEARCH('Zoeken in Database'!$D$6,Concerten!G49,1),\"x\",\"\")),\"\")","v":"x"},{"$f":"IF(AND(D49>='Zoeken in Database'!$A$7,'Zoeken in Database'!$A$8>=D49),\"x\",\"\")","v":"x"}]
["Limp Bizkit","Pinkpop 2001","Landgraaf","2001-06-04",null,"Zuidpodium","Festivaloptreden",6,2001,{"$f":"VLOOKUP(Table1[[#This Row],[Maand (getal)]],Lijst!A:B,2,FALSE)","v":"jun"},{"$f":"IFERROR(IF(ISBLANK('Zoeken in Database'!$D$3),\"x\",IF(SEARCH('Zoeken in Database'!$D$3,Concerten!A50,1),\"x\",\"\")),\"\")","v":"x"},{"$f":"IFERROR(IF(ISBLANK('Zoeken in Database'!$D$4),\"x\",IF(SEARCH('Zoeken in Database'!$D$4,Concerten!B50,1),\"x\",\"\")),\"\")","v":"x"},{"$f":"IFERROR(IF(ISBLANK('Zoeken in Database'!$D$5),\"x\",IF(SEARCH('Zoeken in Database'!$D$5,Concerten!C50,1),\"x\",\"\")),\"\")","v":"x"},{"$f":"IFERROR(IF(ISBLANK('Zoeken in Database'!$D$6),\"x\",IF(SEARCH('Zoeken in Database'!$D$6,Concerten!G50,1),\"x\",\"\")),\"\")","v":"x"},{"$f":"IF(AND(D50>='Zoeken in Database'!$A$7,'Zoeken in Database'!$A$8>=D50),\"x\",\"\")","v":"x"}]
["Offspring","Pinkpop 2001","Landgraaf","2001-06-04",null,"Noordpodium","Festivaloptreden",6,2001,{"$f":"VLOOKUP(Table1[[#This Row],[Maand (getal)]],Lijst!A:B,2,FALSE)","v":"jun"},{"$f":"IFERROR(IF(ISBLANK('Zoeken in Database'!$D$3),\"x\",IF(SEARCH('Zoeken in Database'!$D$3,Concerten!A51,1),\"x\",\"\")),\"\")","v":"x"},{"$f":"IFERROR(IF(ISBLANK('Zoeken in Database'!$D$4),\"x\",IF(SEARCH('Zoeken in Database'!$D$4,Concerten!B51,1),\"x\",\"\")),\"\")","v":"x"},{"$f":"IFERROR(IF(ISBLANK('Zoeken in Database'!$D$5),\"x\",IF(SEARCH('Zoeken in Database'!$D$5,Concerten!C51,1),\"x\",\"\")),\"\")","v":"x"},{"$f":"IFERROR(IF(ISBLANK('Zoeken in Database'!$D$6),\"x\",IF(SEARCH('Zoeken in Database'!$D$6,Concerten!G51,1),\"x\",\"\")),\"\")","v":"x"},{"$f":"IF(AND(D51>='Zoeken in Database'!$A$7,'Zoeken in Database'!$A$8>=D51),\"x\",\"\")","v":"x"}]
["Radiohead","Pinkpop 2001","Landgraaf","2001-06-04","01. national anthem\n02. morning bell\n03. lucky\n04. talk show host\n05. in limbo\n06. my iron lung\n07. exit music\n08. no surprises\n09. dollars and cents\n10. karma police\n11. i might be wrong\n12. pyramid song\n13. paranoid android\n14. idioteque\n15. everything in it's right place\n----------------\n16. street spirit\n17. climbing up the walls\n18. the bends\n19. how to disappear.\n\n","Zuidpodium","Festivaloptreden",6,2001,{"$f":"VLOOKUP(Table1[[#This Row],[Maand (getal)]],Lijst!A:B,2,FALSE)","v":"jun"},{"$f":"IFERROR(IF(ISBLANK('Zoeken in Database'!$D$3),\"x\",IF(SEARCH('Zoeken in Database'!$D$3,Concerten!A52,1),\"x\",\"\")),\"\")","v":"x"},{"$f":"IFERROR(IF(ISBLANK('Zoeken in Database'!$D$4),\"x\",IF(SEARCH('Zoeken in Database'!$D$4,Concerten!B52,1),\"x\",\"\")),\"\")","v":"x"},{"$f":"IFERROR(IF(ISBLANK('Zoeken in Database'!$D$5),\"x\",IF(SEARCH('Zoeken in Database'!$D$5,Concerten!C52,1),\"x\",\"\")),\"\")","v":"x"},{"$f":"IFERROR(IF(ISBLANK('Zoeken in Database'!$D$6),\"x\",IF(SEARCH('Zoeken in Database'!$D$6,Concerten!G52,1),\"x\",\"\")),\"\")","v":"x"},{"$f":"IF(AND(D52>='Zoeken in Database'!$A$7,'Zoeken in Database'!$A$8>=D52),\"x\",\"\")","v":"x"}]
["Stereophonics","Pinkpop 2001","Landgraaf","2001-06-04",null,"Noordpodium","Festivaloptreden",6,2001,{"$f":"VLOOKUP(Table1[[#This Row],[Maand (getal)]],Lijst!A:B,2,FALSE)","v":"jun"},{"$f":"IFERROR(IF(ISBLANK('Zoeken in Database'!$D$3),\"x\",IF(SEARCH('Zoeken in Database'!$D$3,Concerten!A53,1),\"x\",\"\")),\"\")","v":"x"},{"$f":"IFERROR(IF(ISBLANK('Zoeken in Database'!$D$4),\"x\",IF(SEARCH('Zoeken in Database'!$D$4,Concerten!B53,1),\"x\",\"\")),\"\")","v":"x"},{"$f":"IFERROR(IF(ISBLANK('Zoeken in Database'!$D$5),\"x\",IF(SEARCH('Zoeken in Database'!$D$5,Concerten!C53,1),\"x\",\"\")),\"\")","v":"x"},{"$f":"IFERROR(IF(ISBLANK('Zoeken in Database'!$D$6),\"x\",IF(SEARCH('Zoeken in Database'!$D$6,Concerten!G53,1),\"x\",\"\")),\"\")","v":"x"},{"$f":"IF(AND(D53>='Zoeken in Database'!$A$7,'Zoeken in Database'!$A$8>=D53),\"x\",\"\")","v":"x"}]
["Fun Lovin' Criminals","Parkpop 2001","Den Haag","2001-06-24",null,null,"Festivaloptreden",6,2001,{"$f":"VLOOKUP(Table1[[#This Row],[Maand (getal)]],Lijst!A:B,2,FALSE)","v":"jun"},{"$f":"IFERROR(IF(ISBLANK('Zoeken in Database'!$D$3),\"x\",IF(SEARCH('Zoeken in Database'!$D$3,Concerten!A54,1),\"x\",\"\")),\"\")","v":"x"},{"$f":"IFERROR(IF(ISBLANK('Zoeken in Database'!$D$4),\"x\",IF(SEARCH('Zoeken in Database'!$D$4,Concerten!B54,1),\"x\",\"\")),\"\")","v":"x"},{"$f":"IFERROR(IF(ISBLANK('Zoeken in Database'!$D$5),\"x\",IF(SEARCH('Zoeken in Database'!$D$5,Concerten!C54,1),\"x\",\"\")),\"\")","v":"x"},{"$f":"IFERROR(IF(ISBLANK('Zoeken in Database'!$D$6),\"x\",IF(SEARCH('Zoeken in Database'!$D$6,Concerten!G54,1),\"x\",\"\")),\"\")","v":"x"},{"$f":"IF(AND(D54>='Zoeken in Database'!$A$7,'Zoeken in Database'!$A$8>=D54),\"x\",\"\")","v":"x"}]
["Heideroosjes","Parkpop 2001","Den Haag","2001-06-24",null,null,"Festivaloptreden",6,2001,{"$f":"VLOOKUP(Table1[[#This Row],[Maand (getal)]],Lijst!A:B,2,FALSE)","v":"jun"},{"$f":"IFERROR(IF(ISBLANK('Zoeken in Database'!$D$3),\"x\",IF(SEARCH('Zoeken in Database'!$D$3,Concerten!A55,1),\"x\",\"\")),\"\")","v":"x"},{"$f":"IFERROR(IF(ISBLANK('Zoeken in Database'!$D$4),\"x\",IF(SEARCH('Zoeken in Database'!$D$4,Concerten!B55,1),\"x\",\"\")),\"\")","v":"x"},{"$f":"IFERROR(IF(ISBLANK('Zoeken in Database'!$D$5),\"x\",IF(SEARCH('Zoeken in Database'!$D$5,Concerten!C55,1),\"x\",\"\")),\"\")","v":"x"},{"$f":"IFERROR(IF(ISBLANK('Zoeken in Database'!$D$6),\"x\",IF(SEARCH('Zoeken in Database'!$D$6,Concerten!G55,1),\"x\",\"\")),\"\")","v":"x"},{"$f":"IF(AND(D55>='Zoeken in Database'!$A$7,'Zoeken in Database'!$A$8>=D55),\"x\",\"\")","v":"x"}]
["Johan","Parkpop 2001","Den Haag","2001-06-24",null,null,"Festivaloptreden",6,2001,{"$f":"VLOOKUP(Table1[[#This Row],[Maand (getal)]],Lijst!A:B,2,FALSE)","v":"jun"},{"$f":"IFERROR(IF(ISBLANK('Zoeken in Database'!$D$3),\"x\",IF(SEARCH('Zoeken in Database'!$D$3,Concerten!A56,1),\"x\",\"\")),\"\")","v":"x"},{"$f":"IFERROR(IF(ISBLANK('Zoeken in Database'!$D$4),\"x\",IF(SEARCH('Zoeken in Database'!$D$4,Concerten!B56,1),\"x\",\"\")),\"\")","v":"x"},{"$f":"IFERROR(IF(ISBLANK('Zoeken in Database'!$D$5),\"x\",IF(SEARCH('Zoeken in Database'!$D$5,Concerten!C56,1),\"x\",\"\")),\"\")","v":"x"},{"$f":"IFERROR(IF(ISBLANK('Zoeken in Database'!$D$6),\"x\",IF(SEARCH('Zoeken in Database'!$D$6,Concerten!G56,1),\"x\",\"\")),\"\")","v":"x"},{"$f":"IF(AND(D56>='Zoeken in Database'!$A$7,'Zoeken in Database'!$A$8>=D56),\"x\",\"\")","v":"x"}]
["Novastar","Parkpop 2001","Den Haag","2001-06-24",null,null,"Festivaloptreden",6,2001,{"$f":"VLOOKUP(Table1[[#This Row],[Maand (getal)]],Lijst!A:B,2,FALSE)","v":"jun"},{"$f":"IFERROR(IF(ISBLANK('Zoeken in Database'!$D$3),\"x\",IF(SEARCH('Zoeken in Database'!$D$3,Concerten!A57,1),\"x\",\"\")),\"\")","v":"x"},{"$f":"IFERROR(IF(ISBLANK('Zoeken in Database'!$D$4),\"x\",IF(SEARCH('Zoeken in Database'!$D$4,Concerten!B57,1),\"x\",\"\")),\"\")","v":"x"},{"$f":"IFERROR(IF(ISBLANK('Zoeken in Database'!$D$5),\"x\",IF(SEARCH('Zoeken in Database'!$D$5,Concerten!C57,1),\"x\",\"\")),\"\")","v":"x"},{"$f":"IFERROR(IF(ISBLANK('Zoeken in Database'!$D$6),\"x\",IF(SEARCH('Zoeken in Database'!$D$6,Concerten!G57,1),\"x\",\"\")),\"\")","v":"x"},{"$f":"IF(AND(D57>='Zoeken in Database'!$A$7,'Zoeken in Database'!$A$8>=D57),\"x\",\"\")","v":"x"}]
["Wipneus & Pim","Parkpop 2001","Den Haag","2001-06-24",null,null,"Festivaloptreden",6,2001,{"$f":"VLOOKUP(Table1[[#This Row],[Maand (getal)]],Lijst!A:B,2,FALSE)","v":"jun"},{"$f":"IFERROR(IF(ISBLANK('Zoeken in Database'!$D$3),\"x\",IF(SEARCH('Zoeken in Database'!$D$3,Concerten!A58,1),\"x\",\"\")),\"\")","v":"x"},{"$f":"IFERROR(IF(ISBLANK('Zoeken in Database'!$D$4),\"x\",IF(SEARCH('Zoeken in Database'!$D$4,Concerten!B58,1),\"x\",\"\")),\"\")","v":"x"},{"$f":"IFERROR(IF(ISBLANK('Zoeken in Database'!$D$5),\"x\",IF(SEARCH('Zoeken in Database'!$D$5,Concerten!C58,1),\"x\",\"\")),\"\")","v":"x"},{"$f":"IFERROR(IF(ISBLANK('Zoeken in Database'!$D$6),\"x\",IF(SEARCH('Zoeken in Database'!$D$6,Concerten!G58,1),\"x\",\"\")),\"\")","v":"x"},{"$f":"IF(AND(D58>='Zoeken in Database'!$A$7,'Zoeken in Database'!$A$8>=D58),\"x\",\"\")","v":"x"}]
["Brainpower","Metropolis 2001","Rotterdam","2001-07-01",null,"Hoofdpodium","Festivaloptreden",7,2001,{"$f":"VLOOKUP(Table1[[#This Row],[Maand (getal)]],Lijst!A:B,2,FALSE)","v":"jul"},{"$f":"IFERROR(IF(ISBLANK('Zoeken in Database'!$D$3),\"x\",IF(SEARCH('Zoeken in Database'!$D$3,Concerten!A59,1),\"x\",\"\")),\"\")","v":"x"},{"$f":"IFERROR(IF(ISBLANK('Zoeken in Database'!$D$4),\"x\",IF(SEARCH('Zoeken in Database'!$D$4,Concerten!B59,1),\"x\",\"\")),\"\")","v":"x"},{"$f":"IFERROR(IF(ISBLANK('Zoeken in Database'!$D$5),\"x\",IF(SEARCH('Zoeken in Database'!$D$5,Concerten!C59,1),\"x\",\"\")),\"\")","v":"x"},{"$f":"IFERROR(IF(ISBLANK('Zoeken in Database'!$D$6),\"x\",IF(SEARCH('Zoeken in Database'!$D$6,Concerten!G59,1),\"x\",\"\")),\"\")","v":"x"},{"$f":"IF(AND(D59>='Zoeken in Database'!$A$7,'Zoeken in Database'!$A$8>=D59),\"x\",\"\")","v":"x"}]
["Danko Jones","Metropolis 2001","Rotterdam","2001-07-01",null,"Hoofdpodium","Festivaloptreden",7,2001,{"$f":"VLOOKUP(Table1[[#This Row],[Maand (getal)]],Lijst!A:B,2,FALSE)","v":"jul"},{"$f":"IFERROR(IF(ISBLANK('Zoeken in Database'!$D$3),\"x\",IF(SEARCH('Zoeken in Database'!$D$3,Concerten!A60,1),\"x\",\"\")),\"\")","v":"x"},{"$f":"IFERROR(IF(ISBLANK('Zoeken in Database'!$D$4),\"x\",IF(SEARCH('Zoeken in Database'!$D$4,Concerten!B60,1),\"x\",\"\")),\"\")","v":"x"},{"$f":"IFERROR(IF(ISBLANK('Zoeken in Database'!$D$5),\"x\",IF(SEARCH('Zoeken in Database'!$D$5,Concerten!C60,1),\"x\",\"\")),\"\")","v":"x"},{"$f":"IFERROR(IF(ISBLANK('Zoeken in Database'!$D$6),\"x\",IF(SEARCH('Zoeken in Database'!$D$6,Concerten!G60,1),\"x\",\"\")),\"\")","v":"x"},{"$f":"IF(AND(D60>='Zoeken in Database'!$A$7,'Zoeken in Database'!$A$8>=D60),\"x\",\"\")","v":"x"}]
["Mo Solid Gold","Metropolis 2001","Rotterdam","2001-07-01",null,"Hoofdpodium","Festivaloptreden",7,2001,{"$f":"VLOOKUP(Table1[[#This Row],[Maand (getal)]],Lijst!A:B,2,FALSE)","v":"jul"},{"$f":"IFERROR(IF(ISBLANK('Zoeken in Database'!$D$3),\"x\",IF(SEARCH('Zoeken in Database'!$D$3,Concerten!A61,1),\"x\",\"\")),\"\")","v":"x"},{"$f":"IFERROR(IF(ISBLANK('Zoeken in Database'!$D$4),\"x\",IF(SEARCH('Zoeken in Database'!$D$4,Concerten!B61,1),\"x\",\"\")),\"\")","v":"x"},{"$f":"IFERROR(IF(ISBLANK('Zoeken in Database'!$D$5),\"x\",IF(SEARCH('Zoeken in Database'!$D$5,Concerten!C61,1),\"x\",\"\")),\"\")","v":"x"},{"$f":"IFERROR(IF(ISBLANK('Zoeken in Database'!$D$6),\"x\",IF(SEARCH('Zoeken in Database'!$D$6,Concerten!G61,1),\"x\",\"\")),\"\")","v":"x"},{"$f":"IF(AND(D61>='Zoeken in Database'!$A$7,'Zoeken in Database'!$A$8>=D61),\"x\",\"\")","v":"x"}]
["My Vitriol","Metropolis 2001","Rotterdam","2001-07-01",null,"Hoofdpodium","Festivaloptreden",7,2001,{"$f":"VLOOKUP(Table1[[#This Row],[Maand (getal)]],Lijst!A:B,2,FALSE)","v":"jul"},{"$f":"IFERROR(IF(ISBLANK('Zoeken in Database'!$D$3),\"x\",IF(SEARCH('Zoeken in Database'!$D$3,Concerten!A62,1),\"x\",\"\")),\"\")","v":"x"},{"$f":"IFERROR(IF(ISBLANK('Zoeken in Database'!$D$4),\"x\",IF(SEARCH('Zoeken in Database'!$D$4,Concerten!B62,1),\"x\",\"\")),\"\")","v":"x"},{"$f":"IFERROR(IF(ISBLANK('Zoeken in Database'!$D$5),\"x\",IF(SEARCH('Zoeken in Database'!$D$5,Concerten!C62,1),\"x\",\"\")),\"\")","v":"x"},{"$f":"IFERROR(IF(ISBLANK('Zoeken in Database'!$D$6),\"x\",IF(SEARCH('Zoeken in Database'!$D$6,Concerten!G62,1),\"x\",\"\")),\"\")","v":"x"},{"$f":"IF(AND(D62>='Zoeken in Database'!$A$7,'Zoeken in Database'!$A$8>=D62),\"x\",\"\")","v":"x"}]
["Train","Metropolis 2001","Rotterdam","2001-07-01",null,"Hoofdpodium","Festivaloptreden",7,2001,{"$f":"VLOOKUP(Table1[[#This Row],[Maand (getal)]],Lijst!A:B,2,FALSE)","v":"jul"},{"$f":"IFERROR(IF(ISBLANK('Zoeken in Database'!$D$3),\"x\",IF(SEARCH('Zoeken in Database'!$D$3,Concerten!A63,1),\"x\",\"\")),\"\")","v":"x"},{"$f":"IFERROR(IF(ISBLANK('Zoeken in Database'!$D$4),\"x\",IF(SEARCH('Zoeken in Database'!$D$4,Concerten!B63,1),\"x\",\"\")),\"\")","v":"x"},{"$f":"IFERROR(IF(ISBLANK('Zoeken in Database'!$D$5),\"x\",IF(SEARCH('Zoeken in Database'!$D$5,Concerten!C63,1),\"x\",\"\")),\"\")","v":"x"},{"$f":"IFERROR(IF(ISBLANK('Zoeken in Database'!$D$6),\"x\",IF(SEARCH('Zoeken in Database'!$D$6,Concerten!G63,1),\"x\",\"\")),\"\")","v":"x"},{"$f":"IF(AND(D63>='Zoeken in Database'!$A$7,'Zoeken in Database'!$A$8>=D63),\"x\",\"\")","v":"x"}]
["Kelis","Gelredome","Arnhem","2001-07-31",null,null,"Voorprogramma",7,2001,{"$f":"VLOOKUP(Table1[[#This Row],[Maand (getal)]],Lijst!A:B,2,FALSE)","v":"jul"},{"$f":"IFERROR(IF(ISBLANK('Zoeken in Database'!$D$3),\"x\",IF(SEARCH('Zoeken in Database'!$D$3,Concerten!A64,1),\"x\",\"\")),\"\")","v":"x"},{"$f":"IFERROR(IF(ISBLANK('Zoeken in Database'!$D$4),\"x\",IF(SEARCH('Zoeken in Database'!$D$4,Concerten!B64,1),\"x\",\"\")),\"\")","v":"x"},{"$f":"IFERROR(IF(ISBLANK('Zoeken in Database'!$D$5),\"x\",IF(SEARCH('Zoeken in Database'!$D$5,Concerten!C64,1),\"x\",\"\")),\"\")","v":"x"},{"$f":"IFERROR(IF(ISBLANK('Zoeken in Database'!$D$6),\"x\",IF(SEARCH('Zoeken in Database'!$D$6,Concerten!G64,1),\"x\",\"\")),\"\")","v":"x"},{"$f":"IF(AND(D64>='Zoeken in Database'!$A$7,'Zoeken in Database'!$A$8>=D64),\"x\",\"\")","v":"x"}]
["U2","Gelredome","Arnhem","2001-07-31","01. Elevation\n02. Beautiful Day\n03. Until The End Of The World\n04. New Year's Day\n05. Kite\n06. Gone\n07. New York\n08. I Will Follow\n09. Sunday Bloody Sunday\n10. When I Get Home / Stuck In A Moment You Can't Get Out Of\n11. In A Little While\n12. Desire\n13. Stay (Faraway, So Close!)\n14. Bad / '40'\n15. Where The Streets Have No Name\n16. Mysterious Ways\n17. The Fly\n---------\n18. Bullet The Blue Sky\n19. With Or Without You\n20. One\n21. Wake Up Dead Man\n22. Walk On\n\n","Elevation-tour","Hoofdprogramma",7,2001,{"$f":"VLOOKUP(Table1[[#This Row],[Maand (getal)]],Lijst!A:B,2,FALSE)","v":"jul"},{"$f":"IFERROR(IF(ISBLANK('Zoeken in Database'!$D$3),\"x\",IF(SEARCH('Zoeken in Database'!$D$3,Concerten!A65,1),\"x\",\"\")),\"\")","v":"x"},{"$f":"IFERROR(IF(ISBLANK('Zoeken in Database'!$D$4),\"x\",IF(SEARCH('Zoeken in Database'!$D$4,Concerten!B65,1),\"x\",\"\")),\"\")","v":"x"},{"$f":"IFERROR(IF(ISBLANK('Zoeken in Database'!$D$5),\"x\",IF(SEARCH('Zoeken in Database'!$D$5,Concerten!C65,1),\"x\",\"\")),\"\")","v":"x"},{"$f":"IFERROR(IF(ISBLANK('Zoeken in Database'!$D$6),\"x\",IF(SEARCH('Zoeken in Database'!$D$6,Concerten!G65,1),\"x\",\"\")),\"\")","v":"x"},{"$f":"IF(AND(D65>='Zoeken in Database'!$A$7,'Zoeken in Database'!$A$8>=D65),\"x\",\"\")","v":"x"}]
["Muse","Lowlands 2001","Biddinghuizen","2001-08-24","Citizen Erased \nMicro Cuts \nNew Born \nMuscle Museum \nShowbiz \nFeeling Good (Leslie Bricusse & Anthony Newley cover) \nSunburn \nHyper Music \nCave \nPlug In Baby \nBliss","Alpha","Festivaloptreden",8,2001,{"$f":"VLOOKUP(Table1[[#This Row],[Maand (getal)]],Lijst!A:B,2,FALSE)","v":"aug"},{"$f":"IFERROR(IF(ISBLANK('Zoeken in Database'!$D$3),\"x\",IF(SEARCH('Zoeken in Database'!$D$3,Concerten!A66,1),\"x\",\"\")),\"\")","v":"x"},{"$f":"IFERROR(IF(ISBLANK('Zoeken in Database'!$D$4),\"x\",IF(SEARCH('Zoeken in Database'!$D$4,Concerten!B66,1),\"x\",\"\")),\"\")","v":"x"},{"$f":"IFERROR(IF(ISBLANK('Zoeken in Database'!$D$5),\"x\",IF(SEARCH('Zoeken in Database'!$D$5,Concerten!C66,1),\"x\",\"\")),\"\")","v":"x"},{"$f":"IFERROR(IF(ISBLANK('Zoeken in Database'!$D$6),\"x\",IF(SEARCH('Zoeken in Database'!$D$6,Concerten!G66,1),\"x\",\"\")),\"\")","v":"x"},{"$f":"IF(AND(D66>='Zoeken in Database'!$A$7,'Zoeken in Database'!$A$8>=D66),\"x\",\"\")","v":"x"}]
["Prodigy","Lowlands 2001","Biddinghuizen","2001-08-24",null,"Alpha","Festivaloptreden",{"$f":"IF(ISBLANK(D67),\"\",MONTH(D67))","v":8},{"$f":"IF(ISBLANK(D67),\"\",YEAR(D67))","v":2001},{"$f":"VLOOKUP(Table1[[#This Row],[Maand (getal)]],Lijst!A:B,2,FALSE)","v":"aug"},{"$f":"IFERROR(IF(ISBLANK('Zoeken in Database'!$D$3),\"x\",IF(SEARCH('Zoeken in Database'!$D$3,Concerten!A67,1),\"x\",\"\")),\"\")","v":"x"},{"$f":"IFERROR(IF(ISBLANK('Zoeken in Database'!$D$4),\"x\",IF(SEARCH('Zoeken in Database'!$D$4,Concerten!B67,1),\"x\",\"\")),\"\")","v":"x"},{"$f":"IFERROR(IF(ISBLANK('Zoeken in Database'!$D$5),\"x\",IF(SEARCH('Zoeken in Database'!$D$5,Concerten!C67,1),\"x\",\"\")),\"\")","v":"x"},{"$f":"IFERROR(IF(ISBLANK('Zoeken in Database'!$D$6),\"x\",IF(SEARCH('Zoeken in Database'!$D$6,Concerten!G67,1),\"x\",\"\")),\"\")","v":"x"},{"$f":"IF(AND(D67>='Zoeken in Database'!$A$7,'Zoeken in Database'!$A$8>=D67),\"x\",\"\")","v":"x"}]
["Zebrahead","Lowlands 2001","Biddinghuizen","2001-08-24",null,"Dommelsch","Festivaloptreden",8,2001,{"$f":"VLOOKUP(Table1[[#This Row],[Maand (getal)]],Lijst!A:B,2,FALSE)","v":"aug"},{"$f":"IFERROR(IF(ISBLANK('Zoeken in Database'!$D$3),\"x\",IF(SEARCH('Zoeken in Database'!$D$3,Concerten!A68,1),\"x\",\"\")),\"\")","v":"x"},{"$f":"IFERROR(IF(ISBLANK('Zoeken in Database'!$D$4),\"x\",IF(SEARCH('Zoeken in Database'!$D$4,Concerten!B68,1),\"x\",\"\")),\"\")","v":"x"},{"$f":"IFERROR(IF(ISBLANK('Zoeken in Database'!$D$5),\"x\",IF(SEARCH('Zoeken in Database'!$D$5,Concerten!C68,1),\"x\",\"\")),\"\")","v":"x"},{"$f":"IFERROR(IF(ISBLANK('Zoeken in Database'!$D$6),\"x\",IF(SEARCH('Zoeken in Database'!$D$6,Concerten!G68,1),\"x\",\"\")),\"\")","v":"x"},{"$f":"IF(AND(D68>='Zoeken in Database'!$A$7,'Zoeken in Database'!$A$8>=D68),\"x\",\"\")","v":"x"}]
["Brainpower","Lowlands 2001","Biddinghuizen","2001-08-25",null,"Bravo","Festivaloptreden",8,2001,{"$f":"VLOOKUP(Table1[[#This Row],[Maand (getal)]],Lijst!A:B,2,FALSE)","v":"aug"},{"$f":"IFERROR(IF(ISBLANK('Zoeken in Database'!$D$3),\"x\",IF(SEARCH('Zoeken in Database'!$D$3,Concerten!A69,1),\"x\",\"\")),\"\")","v":"x"},{"$f":"IFERROR(IF(ISBLANK('Zoeken in Database'!$D$4),\"x\",IF(SEARCH('Zoeken in Database'!$D$4,Concerten!B69,1),\"x\",\"\")),\"\")","v":"x"},{"$f":"IFERROR(IF(ISBLANK('Zoeken in Database'!$D$5),\"x\",IF(SEARCH('Zoeken in Database'!$D$5,Concerten!C69,1),\"x\",\"\")),\"\")","v":"x"},{"$f":"IFERROR(IF(ISBLANK('Zoeken in Database'!$D$6),\"x\",IF(SEARCH('Zoeken in Database'!$D$6,Concerten!G69,1),\"x\",\"\")),\"\")","v":"x"},{"$f":"IF(AND(D69>='Zoeken in Database'!$A$7,'Zoeken in Database'!$A$8>=D69),\"x\",\"\")","v":"x"}]
["Heideroosjes","Lowlands 2001","Biddinghuizen","2001-08-25",null,"Golf","Festivaloptreden",8,2001,{"$f":"VLOOKUP(Table1[[#This Row],[Maand (getal)]],Lijst!A:B,2,FALSE)","v":"aug"},{"$f":"IFERROR(IF(ISBLANK('Zoeken in Database'!$D$3),\"x\",IF(SEARCH('Zoeken in Database'!$D$3,Concerten!A70,1),\"x\",\"\")),\"\")","v":"x"},{"$f":"IFERROR(IF(ISBLANK('Zoeken in Database'!$D$4),\"x\",IF(SEARCH('Zoeken in Database'!$D$4,Concerten!B70,1),\"x\",\"\")),\"\")","v":"x"},{"$f":"IFERROR(IF(ISBLANK('Zoeken in Database'!$D$5),\"x\",IF(SEARCH('Zoeken in Database'!$D$5,Concerten!C70,1),\"x\",\"\")),\"\")","v":"x"},{"$f":"IFERROR(IF(ISBLANK('Zoeken in Database'!$D$6),\"x\",IF(SEARCH('Zoeken in Database'!$D$6,Concerten!G70,1),\"x\",\"\")),\"\")","v":"x"},{"$f":"IF(AND(D70>='Zoeken in Database'!$A$7,'Zoeken in Database'!$A$8>=D70),\"x\",\"\")","v":"x"}]
["Jansen, Dolf","Lowlands 2001","Biddinghuizen","2001-08-25",null,"Foxtrot","Festivaloptreden",8,2001,{"$f":"VLOOKUP(Table1[[#This Row],[Maand (getal)]],Lijst!A:B,2,FALSE)","v":"aug"},{"$f":"IFERROR(IF(ISBLANK('Zoeken in Database'!$D$3),\"x\",IF(SEARCH('Zoeken in Database'!$D$3,Concerten!A71,1),\"x\",\"\")),\"\")","v":"x"},{"$f":"IFERROR(IF(ISBLANK('Zoeken in Database'!$D$4),\"x\",IF(SEARCH('Zoeken in Database'!$D$4,Concerten!B71,1),\"x\",\"\")),\"\")","v":"x"},{"$f":"IFERROR(IF(ISBLANK('Zoeken in Database'!$D$5),\"x\",IF(SEARCH('Zoeken in Database'!$D$5,Concerten!C71,1),\"x\",\"\")),\"\")","v":"x"},{"$f":"IFERROR(IF(ISBLANK('Zoeken in Database'!$D$6),\"x\",IF(SEARCH('Zoeken in Database'!$D$6,Concerten!G71,1),\"x\",\"\")),\"\")","v":"x"},{"$f":"IF(AND(D71>='Zoeken in Database'!$A$7,'Zoeken in Database'!$A$8>=D71),\"x\",\"\")","v":"x"}]
["Johan","Lowlands 2001","Biddinghuizen","2001-08-25",null,"Golf","Festivaloptreden",8,2001,{"$f":"VLOOKUP(Table1[[#This Row],[Maand (getal)]],Lijst!A:B,2,FALSE)","v":"aug"},{"$f":"IFERROR(IF(ISBLANK('Zoeken in Database'!$D$3),\"x\",IF(SEARCH('Zoeken in Database'!$D$3,Concerten!A72,1),\"x\",\"\")),\"\")","v":"x"},{"$f":"IFERROR(IF(ISBLANK('Zoeken in Database'!$D$4),\"x\",IF(SEARCH('Zoeken in Database'!$D$4,Concerten!B72,1),\"x\",\"\")),\"\")","v":"x"},{"$f":"IFERROR(IF(ISBLANK('Zoeken in Database'!$D$5),\"x\",IF(SEARCH('Zoeken in Database'!$D$5,Concerten!C72,1),\"x\",\"\")),\"\")","v":"x"},{"$f":"IFERROR(IF(ISBLANK('Zoeken in Database'!$D$6),\"x\",IF(SEARCH('Zoeken in Database'!$D$6,Concerten!G72,1),\"x\",\"\")),\"\")","v":"x"},{"$f":"IF(AND(D72>='Zoeken in Database'!$A$7,'Zoeken in Database'!$A$8>=D72),\"x\",\"\")","v":"x"}]
["Kosheen","Lowlands 2001","Biddinghuizen","2001-08-25",null,"Bravo","Festivaloptreden",8,2001,{"$f":"VLOOKUP(Table1[[#This Row],[Maand (getal)]],Lijst!A:B,2,FALSE)","v":"aug"},{"$f":"IFERROR(IF(ISBLANK('Zoeken in Database'!$D$3),\"x\",IF(SEARCH('Zoeken in Database'!$D$3,Concerten!A73,1),\"x\",\"\")),\"\")","v":"x"},{"$f":"IFERROR(IF(ISBLANK('Zoeken in Database'!$D$4),\"x\",IF(SEARCH('Zoeken in Database'!$D$4,Concerten!B73,1),\"x\",\"\")),\"\")","v":"x"},{"$f":"IFERROR(IF(ISBLANK('Zoeken in Database'!$D$5),\"x\",IF(SEARCH('Zoeken in Database'!$D$5,Concerten!C73,1),\"x\",\"\")),\"\")","v":"x"},{"$f":"IFERROR(IF(ISBLANK('Zoeken in Database'!$D$6),\"x\",IF(SEARCH('Zoeken in Database'!$D$6,Concerten!G73,1),\"x\",\"\")),\"\")","v":"x"},{"$f":"IF(AND(D73>='Zoeken in Database'!$A$7,'Zoeken in Database'!$A$8>=D73),\"x\",\"\")","v":"x"}]
["Chao, Manu","Lowlands 2001","Biddinghuizen","2001-08-26",null,"Alpha","Festivaloptreden",8,2001,{"$f":"VLOOKUP(Table1[[#This Row],[Maand (getal)]],Lijst!A:B,2,FALSE)","v":"aug"},{"$f":"IFERROR(IF(ISBLANK('Zoeken in Database'!$D$3),\"x\",IF(SEARCH('Zoeken in Database'!$D$3,Concerten!A74,1),\"x\",\"\")),\"\")","v":"x"},{"$f":"IFERROR(IF(ISBLANK('Zoeken in Database'!$D$4),\"x\",IF(SEARCH('Zoeken in Database'!$D$4,Concerten!B74,1),\"x\",\"\")),\"\")","v":"x"},{"$f":"IFERROR(IF(ISBLANK('Zoeken in Database'!$D$5),\"x\",IF(SEARCH('Zoeken in Database'!$D$5,Concerten!C74,1),\"x\",\"\")),\"\")","v":"x"},{"$f":"IFERROR(IF(ISBLANK('Zoeken in Database'!$D$6),\"x\",IF(SEARCH('Zoeken in Database'!$D$6,Concerten!G74,1),\"x\",\"\")),\"\")","v":"x"},{"$f":"IF(AND(D74>='Zoeken in Database'!$A$7,'Zoeken in Database'!$A$8>=D74),\"x\",\"\")","v":"x"}]
["Eels","Lowlands 2001","Biddinghuizen","2001-08-26","Intro \nElizabeth on the Bathroom Floor \nGet Ur Freak On (Missy Elliott cover) \nDog Faced Boy \nThat's Not Really Funny \nGoing to Your Funeral Part I \nIt's a Motherfucker \nSouljacker part I \nMy Beloved Monster \nWoman Driving, Man Sleeping \nNot Ready Yet \nWorld of Shit \nFresh Feeling \nMr. E's Beautiful Blues\n","Alpha","Festivaloptreden",8,2001,{"$f":"VLOOKUP(Table1[[#This Row],[Maand (getal)]],Lijst!A:B,2,FALSE)","v":"aug"},{"$f":"IFERROR(IF(ISBLANK('Zoeken in Database'!$D$3),\"x\",IF(SEARCH('Zoeken in Database'!$D$3,Concerten!A75,1),\"x\",\"\")),\"\")","v":"x"},{"$f":"IFERROR(IF(ISBLANK('Zoeken in Database'!$D$4),\"x\",IF(SEARCH('Zoeken in Database'!$D$4,Concerten!B75,1),\"x\",\"\")),\"\")","v":"x"},{"$f":"IFERROR(IF(ISBLANK('Zoeken in Database'!$D$5),\"x\",IF(SEARCH('Zoeken in Database'!$D$5,Concerten!C75,1),\"x\",\"\")),\"\")","v":"x"},{"$f":"IFERROR(IF(ISBLANK('Zoeken in Database'!$D$6),\"x\",IF(SEARCH('Zoeken in Database'!$D$6,Concerten!G75,1),\"x\",\"\")),\"\")","v":"x"},{"$f":"IF(AND(D75>='Zoeken in Database'!$A$7,'Zoeken in Database'!$A$8>=D75),\"x\",\"\")","v":"x"}]
["Hives, The","Lowlands 2001","Biddinghuizen","2001-08-26",null,"Dommelsch","Festivaloptreden",8,2001,{"$f":"VLOOKUP(Table1[[#This Row],[Maand (getal)]],Lijst!A:B,2,FALSE)","v":"aug"},{"$f":"IFERROR(IF(ISBLANK('Zoeken in Database'!$D$3),\"x\",IF(SEARCH('Zoeken in Database'!$D$3,Concerten!A76,1),\"x\",\"\")),\"\")","v":"x"},{"$f":"IFERROR(IF(ISBLANK('Zoeken in Database'!$D$4),\"x\",IF(SEARCH('Zoeken in Database'!$D$4,Concerten!B76,1),\"x\",\"\")),\"\")","v":"x"},{"$f":"IFERROR(IF(ISBLANK('Zoeken in Database'!$D$5),\"x\",IF(SEARCH('Zoeken in Database'!$D$5,Concerten!C76,1),\"x\",\"\")),\"\")","v":"x"},{"$f":"IFERROR(IF(ISBLANK('Zoeken in Database'!$D$6),\"x\",IF(SEARCH('Zoeken in Database'!$D$6,Concerten!G76,1),\"x\",\"\")),\"\")","v":"x"},{"$f":"IF(AND(D76>='Zoeken in Database'!$A$7,'Zoeken in Database'!$A$8>=D76),\"x\",\"\")","v":"x"}]
["Living End, The ","Lowlands 2001","Biddinghuizen","2001-08-26","Pictures In The Mirror \nMonday \nRoll On \nRevolution Regained \nAll Torn Down \nLookin' Out My Back Door (Creedence Clearwater Revival cover) \nDon't Shut the Gate \nTainted Love (Soft Cell cover) \nSave The Day \nPrisoner Of Society \nE Boogie \nCarry Me Home \nDirty Man \nSecond Solution\n","Golf","Festivaloptreden",8,2001,{"$f":"VLOOKUP(Table1[[#This Row],[Maand (getal)]],Lijst!A:B,2,FALSE)","v":"aug"},{"$f":"IFERROR(IF(ISBLANK('Zoeken in Database'!$D$3),\"x\",IF(SEARCH('Zoeken in Database'!$D$3,Concerten!A77,1),\"x\",\"\")),\"\")","v":"x"},{"$f":"IFERROR(IF(ISBLANK('Zoeken in Database'!$D$4),\"x\",IF(SEARCH('Zoeken in Database'!$D$4,Concerten!B77,1),\"x\",\"\")),\"\")","v":"x"},{"$f":"IFERROR(IF(ISBLANK('Zoeken in Database'!$D$5),\"x\",IF(SEARCH('Zoeken in Database'!$D$5,Concerten!C77,1),\"x\",\"\")),\"\")","v":"x"},{"$f":"IFERROR(IF(ISBLANK('Zoeken in Database'!$D$6),\"x\",IF(SEARCH('Zoeken in Database'!$D$6,Concerten!G77,1),\"x\",\"\")),\"\")","v":"x"},{"$f":"IF(AND(D77>='Zoeken in Database'!$A$7,'Zoeken in Database'!$A$8>=D77),\"x\",\"\")","v":"x"}]
["Stone Temple Pilots","Lowlands 2001","Biddinghuizen","2001-08-26",null,"Alpha","Festivaloptreden",8,2001,{"$f":"VLOOKUP(Table1[[#This Row],[Maand (getal)]],Lijst!A:B,2,FALSE)","v":"aug"},{"$f":"IFERROR(IF(ISBLANK('Zoeken in Database'!$D$3),\"x\",IF(SEARCH('Zoeken in Database'!$D$3,Concerten!A78,1),\"x\",\"\")),\"\")","v":"x"},{"$f":"IFERROR(IF(ISBLANK('Zoeken in Database'!$D$4),\"x\",IF(SEARCH('Zoeken in Database'!$D$4,Concerten!B78,1),\"x\",\"\")),\"\")","v":"x"},{"$f":"IFERROR(IF(ISBLANK('Zoeken in Database'!$D$5),\"x\",IF(SEARCH('Zoeken in Database'!$D$5,Concerten!C78,1),\"x\",\"\")),\"\")","v":"x"},{"$f":"IFERROR(IF(ISBLANK('Zoeken in Database'!$D$6),\"x\",IF(SEARCH('Zoeken in Database'!$D$6,Concerten!G78,1),\"x\",\"\")),\"\")","v":"x"},{"$f":"IF(AND(D78>='Zoeken in Database'!$A$7,'Zoeken in Database'!$A$8>=D78),\"x\",\"\")","v":"x"}]
["Stereophonics","O13","Tilburg","2001-10-17",null,null,"Hoofdprogramma",10,2001,{"$f":"VLOOKUP(Table1[[#This Row],[Maand (getal)]],Lijst!A:B,2,FALSE)","v":"okt"},{"$f":"IFERROR(IF(ISBLANK('Zoeken in Database'!$D$3),\"x\",IF(SEARCH('Zoeken in Database'!$D$3,Concerten!A79,1),\"x\",\"\")),\"\")","v":"x"},{"$f":"IFERROR(IF(ISBLANK('Zoeken in Database'!$D$4),\"x\",IF(SEARCH('Zoeken in Database'!$D$4,Concerten!B79,1),\"x\",\"\")),\"\")","v":"x"},{"$f":"IFERROR(IF(ISBLANK('Zoeken in Database'!$D$5),\"x\",IF(SEARCH('Zoeken in Database'!$D$5,Concerten!C79,1),\"x\",\"\")),\"\")","v":"x"},{"$f":"IFERROR(IF(ISBLANK('Zoeken in Database'!$D$6),\"x\",IF(SEARCH('Zoeken in Database'!$D$6,Concerten!G79,1),\"x\",\"\")),\"\")","v":"x"},{"$f":"IF(AND(D79>='Zoeken in Database'!$A$7,'Zoeken in Database'!$A$8>=D79),\"x\",\"\")","v":"x"}]
["Vals Licht","O13","Tilburg","2001-10-17",null,null,"Voorprogramma",10,2001,{"$f":"VLOOKUP(Table1[[#This Row],[Maand (getal)]],Lijst!A:B,2,FALSE)","v":"okt"},{"$f":"IFERROR(IF(ISBLANK('Zoeken in Database'!$D$3),\"x\",IF(SEARCH('Zoeken in Database'!$D$3,Concerten!A80,1),\"x\",\"\")),\"\")","v":"x"},{"$f":"IFERROR(IF(ISBLANK('Zoeken in Database'!$D$4),\"x\",IF(SEARCH('Zoeken in Database'!$D$4,Concerten!B80,1),\"x\",\"\")),\"\")","v":"x"},{"$f":"IFERROR(IF(ISBLANK('Zoeken in Database'!$D$5),\"x\",IF(SEARCH('Zoeken in Database'!$D$5,Concerten!C80,1),\"x\",\"\")),\"\")","v":"x"},{"$f":"IFERROR(IF(ISBLANK('Zoeken in Database'!$D$6),\"x\",IF(SEARCH('Zoeken in Database'!$D$6,Concerten!G80,1),\"x\",\"\")),\"\")","v":"x"},{"$f":"IF(AND(D80>='Zoeken in Database'!$A$7,'Zoeken in Database'!$A$8>=D80),\"x\",\"\")","v":"x"}]
["Acda en de Munnik","Schouwburg Cuijk","Cuijk","2001-10-20",null,"Deel III: It's only cabaret, but I like it","Theater",10,2001,{"$f":"VLOOKUP(Table1[[#This Row],[Maand (getal)]],Lijst!A:B,2,FALSE)","v":"okt"},{"$f":"IFERROR(IF(ISBLANK('Zoeken in Database'!$D$3),\"x\",IF(SEARCH('Zoeken in Database'!$D$3,Concerten!A81,1),\"x\",\"\")),\"\")","v":"x"},{"$f":"IFERROR(IF(ISBLANK('Zoeken in Database'!$D$4),\"x\",IF(SEARCH('Zoeken in Database'!$D$4,Concerten!B81,1),\"x\",\"\")),\"\")","v":"x"},{"$f":"IFERROR(IF(ISBLANK('Zoeken in Database'!$D$5),\"x\",IF(SEARCH('Zoeken in Database'!$D$5,Concerten!C81,1),\"x\",\"\")),\"\")","v":"x"},{"$f":"IFERROR(IF(ISBLANK('Zoeken in Database'!$D$6),\"x\",IF(SEARCH('Zoeken in Database'!$D$6,Concerten!G81,1),\"x\",\"\")),\"\")","v":"x"},{"$f":"IF(AND(D81>='Zoeken in Database'!$A$7,'Zoeken in Database'!$A$8>=D81),\"x\",\"\")","v":"x"}]
["Johan","Doornroosje","Nijmegen","2001-10-26",null,null,"Hoofdprogramma",10,2001,{"$f":"VLOOKUP(Table1[[#This Row],[Maand (getal)]],Lijst!A:B,2,FALSE)","v":"okt"},{"$f":"IFERROR(IF(ISBLANK('Zoeken in Database'!$D$3),\"x\",IF(SEARCH('Zoeken in Database'!$D$3,Concerten!A82,1),\"x\",\"\")),\"\")","v":"x"},{"$f":"IFERROR(IF(ISBLANK('Zoeken in Database'!$D$4),\"x\",IF(SEARCH('Zoeken in Database'!$D$4,Concerten!B82,1),\"x\",\"\")),\"\")","v":"x"},{"$f":"IFERROR(IF(ISBLANK('Zoeken in Database'!$D$5),\"x\",IF(SEARCH('Zoeken in Database'!$D$5,Concerten!C82,1),\"x\",\"\")),\"\")","v":"x"},{"$f":"IFERROR(IF(ISBLANK('Zoeken in Database'!$D$6),\"x\",IF(SEARCH('Zoeken in Database'!$D$6,Concerten!G82,1),\"x\",\"\")),\"\")","v":"x"},{"$f":"IF(AND(D82>='Zoeken in Database'!$A$7,'Zoeken in Database'!$A$8>=D82),\"x\",\"\")","v":"x"}]
["Zomotta","Doornroosje","Nijmegen","2001-10-26",null,null,"Voorprogramma",10,2001,{"$f":"VLOOKUP(Table1[[#This Row],[Maand (getal)]],Lijst!A:B,2,FALSE)","v":"okt"},{"$f":"IFERROR(IF(ISBLANK('Zoeken in Database'!$D$3),\"x\",IF(SEARCH('Zoeken in Database'!$D$3,Concerten!A83,1),\"x\",\"\")),\"\")","v":"x"},{"$f":"IFERROR(IF(ISBLANK('Zoeken in Database'!$D$4),\"x\",IF(SEARCH('Zoeken in Database'!$D$4,Concerten!B83,1),\"x\",\"\")),\"\")","v":"x"},{"$f":"IFERROR(IF(ISBLANK('Zoeken in Database'!$D$5),\"x\",IF(SEARCH('Zoeken in Database'!$D$5,Concerten!C83,1),\"x\",\"\")),\"\")","v":"x"},{"$f":"IFERROR(IF(ISBLANK('Zoeken in Database'!$D$6),\"x\",IF(SEARCH('Zoeken in Database'!$D$6,Concerten!G83,1),\"x\",\"\")),\"\")","v":"x"},{"$f":"IF(AND(D83>='Zoeken in Database'!$A$7,'Zoeken in Database'!$A$8>=D83),\"x\",\"\")","v":"x"}]
["Eels","Effenaar","Eindhoven","2001-10-28",null,null,"Hoofdprogramma",10,2001,{"$f":"VLOOKUP(Table1[[#This Row],[Maand (getal)]],Lijst!A:B,2,FALSE)","v":"okt"},{"$f":"IFERROR(IF(ISBLANK('Zoeken in Database'!$D$3),\"x\",IF(SEARCH('Zoeken in Database'!$D$3,Concerten!A84,1),\"x\",\"\")),\"\")","v":"x"},{"$f":"IFERROR(IF(ISBLANK('Zoeken in Database'!$D$4),\"x\",IF(SEARCH('Zoeken in Database'!$D$4,Concerten!B84,1),\"x\",\"\")),\"\")","v":"x"},{"$f":"IFERROR(IF(ISBLANK('Zoeken in Database'!$D$5),\"x\",IF(SEARCH('Zoeken in Database'!$D$5,Concerten!C84,1),\"x\",\"\")),\"\")","v":"x"},{"$f":"IFERROR(IF(ISBLANK('Zoeken in Database'!$D$6),\"x\",IF(SEARCH('Zoeken in Database'!$D$6,Concerten!G84,1),\"x\",\"\")),\"\")","v":"x"},{"$f":"IF(AND(D84>='Zoeken in Database'!$A$7,'Zoeken in Database'!$A$8>=D84),\"x\",\"\")","v":"x"}]
["Shorty","Effenaar","Eindhoven","2001-10-28",null,null,"Voorprogramma",10,2001,{"$f":"VLOOKUP(Table1[[#This Row],[Maand (getal)]],Lijst!A:B,2,FALSE)","v":"okt"},{"$f":"IFERROR(IF(ISBLANK('Zoeken in Database'!$D$3),\"x\",IF(SEARCH('Zoeken in Database'!$D$3,Concerten!A85,1),\"x\",\"\")),\"\")","v":"x"},{"$f":"IFERROR(IF(ISBLANK('Zoeken in Database'!$D$4),\"x\",IF(SEARCH('Zoeken in Database'!$D$4,Concerten!B85,1),\"x\",\"\")),\"\")","v":"x"},{"$f":"IFERROR(IF(ISBLANK('Zoeken in Database'!$D$5),\"x\",IF(SEARCH('Zoeken in Database'!$D$5,Concerten!C85,1),\"x\",\"\")),\"\")","v":"x"},{"$f":"IFERROR(IF(ISBLANK('Zoeken in Database'!$D$6),\"x\",IF(SEARCH('Zoeken in Database'!$D$6,Concerten!G85,1),\"x\",\"\")),\"\")","v":"x"},{"$f":"IF(AND(D85>='Zoeken in Database'!$A$7,'Zoeken in Database'!$A$8>=D85),\"x\",\"\")","v":"x"}]
["Hooverphonic","Doornroosje","Nijmegen","2001-10-30",null,null,"Hoofdprogramma",10,2001,{"$f":"VLOOKUP(Table1[[#This Row],[Maand (getal)]],Lijst!A:B,2,FALSE)","v":"okt"},{"$f":"IFERROR(IF(ISBLANK('Zoeken in Database'!$D$3),\"x\",IF(SEARCH('Zoeken in Database'!$D$3,Concerten!A86,1),\"x\",\"\")),\"\")","v":"x"},{"$f":"IFERROR(IF(ISBLANK('Zoeken in Database'!$D$4),\"x\",IF(SEARCH('Zoeken in Database'!$D$4,Concerten!B86,1),\"x\",\"\")),\"\")","v":"x"},{"$f":"IFERROR(IF(ISBLANK('Zoeken in Database'!$D$5),\"x\",IF(SEARCH('Zoeken in Database'!$D$5,Concerten!C86,1),\"x\",\"\")),\"\")","v":"x"},{"$f":"IFERROR(IF(ISBLANK('Zoeken in Database'!$D$6),\"x\",IF(SEARCH('Zoeken in Database'!$D$6,Concerten!G86,1),\"x\",\"\")),\"\")","v":"x"},{"$f":"IF(AND(D86>='Zoeken in Database'!$A$7,'Zoeken in Database'!$A$8>=D86),\"x\",\"\")","v":"x"}]
["Adams, Bryan ","Heineken Music Hall","Amsterdam","2001-11-13","01. Back To You \n02. House Arrest \n03. 18 ‘Til I Die \n04. Can't Stop This Thing We Started \n05. Summer Of '69 \n06. It's Only Love \n07. Thought I'd Died And Gone To Heaven \n08. Everything I Do I Do It For You \n09. Cuts Like A Knife \n10. Do To You \n11. Please Forgive Me \n12. Pick Me \n13. When You're Gone \n14. Into The Fire \n15. I'm Ready \n16. Heaven \n17. One Night Love Affair \n18. Blues Jam \n19. Let’s Make A Night To Remember \n20. The Only Thing That Looks Good On Me Is You \n21. Cloud # 9 \n22. Somebody \n23. Run To You \n24. The Best Of Me \n25. When The Night Comes \n26. The Way You Make Me Feel\n\n",null,"Hoofdprogramma",11,2001,{"$f":"VLOOKUP(Table1[[#This Row],[Maand (getal)]],Lijst!A:B,2,FALSE)","v":"nov"},{"$f":"IFERROR(IF(ISBLANK('Zoeken in Database'!$D$3),\"x\",IF(SEARCH('Zoeken in Database'!$D$3,Concerten!A87,1),\"x\",\"\")),\"\")","v":"x"},{"$f":"IFERROR(IF(ISBLANK('Zoeken in Database'!$D$4),\"x\",IF(SEARCH('Zoeken in Database'!$D$4,Concerten!B87,1),\"x\",\"\")),\"\")","v":"x"},{"$f":"IFERROR(IF(ISBLANK('Zoeken in Database'!$D$5),\"x\",IF(SEARCH('Zoeken in Database'!$D$5,Concerten!C87,1),\"x\",\"\")),\"\")","v":"x"},{"$f":"IFERROR(IF(ISBLANK('Zoeken in Database'!$D$6),\"x\",IF(SEARCH('Zoeken in Database'!$D$6,Concerten!G87,1),\"x\",\"\")),\"\")","v":"x"},{"$f":"IF(AND(D87>='Zoeken in Database'!$A$7,'Zoeken in Database'!$A$8>=D87),\"x\",\"\")","v":"x"}]
["Trockener Kecks","O13","Tilburg","2001-11-22","01. Niemand Thuis    \n02. Meer Niet!    \n03. Met Hart En Ziel    \n04. Nu Of Nooit    \n05. In Tranen    \n06. Veel Te Veel Water    \n07. Waaklied    \n08. Zou Je Niettegenstaande De Recente............    \n09. De Jacht Is Mooier Dan De Vangst    \n10. Czaar Peterstraat    \n11. Een Dag, Zo Mooi    \n12. Niemand Danst    \n13. Ik Denk Nooit Meer Aan Jou    \n14. Paradijs    \n15. Altijd Voor 'T Eerst    \n16. Vanavond Voor Altjid    \n17. Twee    \n18. Het Feest Van De Gemiste Kansen    \n19. Het Komt Nooit Meer Goed    \n20. Trek Je Jas Aan    \n\n","Opnames CD: MEER NIET!","Hoofdprogramma",11,2001,{"$f":"VLOOKUP(Table1[[#This Row],[Maand (getal)]],Lijst!A:B,2,FALSE)","v":"nov"},{"$f":"IFERROR(IF(ISBLANK('Zoeken in Database'!$D$3),\"x\",IF(SEARCH('Zoeken in Database'!$D$3,Concerten!A88,1),\"x\",\"\")),\"\")","v":"x"},{"$f":"IFERROR(IF(ISBLANK('Zoeken in Database'!$D$4),\"x\",IF(SEARCH('Zoeken in Database'!$D$4,Concerten!B88,1),\"x\",\"\")),\"\")","v":"x"},{"$f":"IFERROR(IF(ISBLANK('Zoeken in Database'!$D$5),\"x\",IF(SEARCH('Zoeken in Database'!$D$5,Concerten!C88,1),\"x\",\"\")),\"\")","v":"x"},{"$f":"IFERROR(IF(ISBLANK('Zoeken in Database'!$D$6),\"x\",IF(SEARCH('Zoeken in Database'!$D$6,Concerten!G88,1),\"x\",\"\")),\"\")","v":"x"},{"$f":"IF(AND(D88>='Zoeken in Database'!$A$7,'Zoeken in Database'!$A$8>=D88),\"x\",\"\")","v":"x"}]
["Birgit","Doornroosje","Nijmegen","2001-11-28",null,null,"Hoofdprogramma",11,2001,{"$f":"VLOOKUP(Table1[[#This Row],[Maand (getal)]],Lijst!A:B,2,FALSE)","v":"nov"},{"$f":"IFERROR(IF(ISBLANK('Zoeken in Database'!$D$3),\"x\",IF(SEARCH('Zoeken in Database'!$D$3,Concerten!A89,1),\"x\",\"\")),\"\")","v":"x"},{"$f":"IFERROR(IF(ISBLANK('Zoeken in Database'!$D$4),\"x\",IF(SEARCH('Zoeken in Database'!$D$4,Concerten!B89,1),\"x\",\"\")),\"\")","v":"x"},{"$f":"IFERROR(IF(ISBLANK('Zoeken in Database'!$D$5),\"x\",IF(SEARCH('Zoeken in Database'!$D$5,Concerten!C89,1),\"x\",\"\")),\"\")","v":"x"},{"$f":"IFERROR(IF(ISBLANK('Zoeken in Database'!$D$6),\"x\",IF(SEARCH('Zoeken in Database'!$D$6,Concerten!G89,1),\"x\",\"\")),\"\")","v":"x"},{"$f":"IF(AND(D89>='Zoeken in Database'!$A$7,'Zoeken in Database'!$A$8>=D89),\"x\",\"\")","v":"x"}]
["Brainpower","Auw Mok 2001","Sittard","2001-12-01",null,null,"Festivaloptreden",12,2001,{"$f":"VLOOKUP(Table1[[#This Row],[Maand (getal)]],Lijst!A:B,2,FALSE)","v":"dec"},{"$f":"IFERROR(IF(ISBLANK('Zoeken in Database'!$D$3),\"x\",IF(SEARCH('Zoeken in Database'!$D$3,Concerten!A90,1),\"x\",\"\")),\"\")","v":"x"},{"$f":"IFERROR(IF(ISBLANK('Zoeken in Database'!$D$4),\"x\",IF(SEARCH('Zoeken in Database'!$D$4,Concerten!B90,1),\"x\",\"\")),\"\")","v":"x"},{"$f":"IFERROR(IF(ISBLANK('Zoeken in Database'!$D$5),\"x\",IF(SEARCH('Zoeken in Database'!$D$5,Concerten!C90,1),\"x\",\"\")),\"\")","v":"x"},{"$f":"IFERROR(IF(ISBLANK('Zoeken in Database'!$D$6),\"x\",IF(SEARCH('Zoeken in Database'!$D$6,Concerten!G90,1),\"x\",\"\")),\"\")","v":"x"},{"$f":"IF(AND(D90>='Zoeken in Database'!$A$7,'Zoeken in Database'!$A$8>=D90),\"x\",\"\")","v":"x"}]
["Das Pop","Auw Mok 2001","Sittard","2001-12-01",null,null,"Festivaloptreden",12,2001,{"$f":"VLOOKUP(Table1[[#This Row],[Maand (getal)]],Lijst!A:B,2,FALSE)","v":"dec"},{"$f":"IFERROR(IF(ISBLANK('Zoeken in Database'!$D$3),\"x\",IF(SEARCH('Zoeken in Database'!$D$3,Concerten!A91,1),\"x\",\"\")),\"\")","v":"x"},{"$f":"IFERROR(IF(ISBLANK('Zoeken in Database'!$D$4),\"x\",IF(SEARCH('Zoeken in Database'!$D$4,Concerten!B91,1),\"x\",\"\")),\"\")","v":"x"},{"$f":"IFERROR(IF(ISBLANK('Zoeken in Database'!$D$5),\"x\",IF(SEARCH('Zoeken in Database'!$D$5,Concerten!C91,1),\"x\",\"\")),\"\")","v":"x"},{"$f":"IFERROR(IF(ISBLANK('Zoeken in Database'!$D$6),\"x\",IF(SEARCH('Zoeken in Database'!$D$6,Concerten!G91,1),\"x\",\"\")),\"\")","v":"x"},{"$f":"IF(AND(D91>='Zoeken in Database'!$A$7,'Zoeken in Database'!$A$8>=D91),\"x\",\"\")","v":"x"}]
["Johan","Auw Mok 2001","Sittard","2001-12-01",null,null,"Festivaloptreden",12,2001,{"$f":"VLOOKUP(Table1[[#This Row],[Maand (getal)]],Lijst!A:B,2,FALSE)","v":"dec"},{"$f":"IFERROR(IF(ISBLANK('Zoeken in Database'!$D$3),\"x\",IF(SEARCH('Zoeken in Database'!$D$3,Concerten!A92,1),\"x\",\"\")),\"\")","v":"x"},{"$f":"IFERROR(IF(ISBLANK('Zoeken in Database'!$D$4),\"x\",IF(SEARCH('Zoeken in Database'!$D$4,Concerten!B92,1),\"x\",\"\")),\"\")","v":"x"},{"$f":"IFERROR(IF(ISBLANK('Zoeken in Database'!$D$5),\"x\",IF(SEARCH('Zoeken in Database'!$D$5,Concerten!C92,1),\"x\",\"\")),\"\")","v":"x"},{"$f":"IFERROR(IF(ISBLANK('Zoeken in Database'!$D$6),\"x\",IF(SEARCH('Zoeken in Database'!$D$6,Concerten!G92,1),\"x\",\"\")),\"\")","v":"x"},{"$f":"IF(AND(D92>='Zoeken in Database'!$A$7,'Zoeken in Database'!$A$8>=D92),\"x\",\"\")","v":"x"}]
["Loco-Loco Disco Show","Auw Mok 2001","Sittard","2001-12-01",null,null,"Festivaloptreden",12,2001,{"$f":"VLOOKUP(Table1[[#This Row],[Maand (getal)]],Lijst!A:B,2,FALSE)","v":"dec"},{"$f":"IFERROR(IF(ISBLANK('Zoeken in Database'!$D$3),\"x\",IF(SEARCH('Zoeken in Database'!$D$3,Concerten!A93,1),\"x\",\"\")),\"\")","v":"x"},{"$f":"IFERROR(IF(ISBLANK('Zoeken in Database'!$D$4),\"x\",IF(SEARCH('Zoeken in Database'!$D$4,Concerten!B93,1),\"x\",\"\")),\"\")","v":"x"},{"$f":"IFERROR(IF(ISBLANK('Zoeken in Database'!$D$5),\"x\",IF(SEARCH('Zoeken in Database'!$D$5,Concerten!C93,1),\"x\",\"\")),\"\")","v":"x"},{"$f":"IFERROR(IF(ISBLANK('Zoeken in Database'!$D$6),\"x\",IF(SEARCH('Zoeken in Database'!$D$6,Concerten!G93,1),\"x\",\"\")),\"\")","v":"x"},{"$f":"IF(AND(D93>='Zoeken in Database'!$A$7,'Zoeken in Database'!$A$8>=D93),\"x\",\"\")","v":"x"}]
["Racoon","Doornroosje","Nijmegen","2001-12-06","01. Hilarious\n02. Daily News\n03. Biggest Fan\n04. Reach\n05. Autumn Tunes\n06. Side Effects\n07. www\n08. Particular\n09. Smoothly\n10. Flf\n11. Eric’s Bar\n12. Impossible\n13. Kot\n14. Blue Days\n15. Hardcore Tapes\n16. Shooting Star\n17. Ice Cream Time\n\n",null,"Hoofdprogramma",12,2001,{"$f":"VLOOKUP(Table1[[#This Row],[Maand (getal)]],Lijst!A:B,2,FALSE)","v":"dec"},{"$f":"IFERROR(IF(ISBLANK('Zoeken in Database'!$D$3),\"x\",IF(SEARCH('Zoeken in Database'!$D$3,Concerten!A94,1),\"x\",\"\")),\"\")","v":"x"},{"$f":"IFERROR(IF(ISBLANK('Zoeken in Database'!$D$4),\"x\",IF(SEARCH('Zoeken in Database'!$D$4,Concerten!B94,1),\"x\",\"\")),\"\")","v":"x"},{"$f":"IFERROR(IF(ISBLANK('Zoeken in Database'!$D$5),\"x\",IF(SEARCH('Zoeken in Database'!$D$5,Concerten!C94,1),\"x\",\"\")),\"\")","v":"x"},{"$f":"IFERROR(IF(ISBLANK('Zoeken in Database'!$D$6),\"x\",IF(SEARCH('Zoeken in Database'!$D$6,Concerten!G94,1),\"x\",\"\")),\"\")","v":"x"},{"$f":"IF(AND(D94>='Zoeken in Database'!$A$7,'Zoeken in Database'!$A$8>=D94),\"x\",\"\")","v":"x"}]
["Scotty","Doornroosje","Nijmegen","2001-12-06",null,null,"Voorprogramma",12,2001,{"$f":"VLOOKUP(Table1[[#This Row],[Maand (getal)]],Lijst!A:B,2,FALSE)","v":"dec"},{"$f":"IFERROR(IF(ISBLANK('Zoeken in Database'!$D$3),\"x\",IF(SEARCH('Zoeken in Database'!$D$3,Concerten!A95,1),\"x\",\"\")),\"\")","v":"x"},{"$f":"IFERROR(IF(ISBLANK('Zoeken in Database'!$D$4),\"x\",IF(SEARCH('Zoeken in Database'!$D$4,Concerten!B95,1),\"x\",\"\")),\"\")","v":"x"},{"$f":"IFERROR(IF(ISBLANK('Zoeken in Database'!$D$5),\"x\",IF(SEARCH('Zoeken in Database'!$D$5,Concerten!C95,1),\"x\",\"\")),\"\")","v":"x"},{"$f":"IFERROR(IF(ISBLANK('Zoeken in Database'!$D$6),\"x\",IF(SEARCH('Zoeken in Database'!$D$6,Concerten!G95,1),\"x\",\"\")),\"\")","v":"x"},{"$f":"IF(AND(D95>='Zoeken in Database'!$A$7,'Zoeken in Database'!$A$8>=D95),\"x\",\"\")","v":"x"}]
["Extince","Doornroosje","Nijmegen","2001-12-09",null,null,"Hoofdprogramma",12,2001,{"$f":"VLOOKUP(Table1[[#This Row],[Maand (getal)]],Lijst!A:B,2,FALSE)","v":"dec"},{"$f":"IFERROR(IF(ISBLANK('Zoeken in Database'!$D$3),\"x\",IF(SEARCH('Zoeken in Database'!$D$3,Concerten!A96,1),\"x\",\"\")),\"\")","v":"x"},{"$f":"IFERROR(IF(ISBLANK('Zoeken in Database'!$D$4),\"x\",IF(SEARCH('Zoeken in Database'!$D$4,Concerten!B96,1),\"x\",\"\")),\"\")","v":"x"},{"$f":"IFERROR(IF(ISBLANK('Zoeken in Database'!$D$5),\"x\",IF(SEARCH('Zoeken in Database'!$D$5,Concerten!C96,1),\"x\",\"\")),\"\")","v":"x"},{"$f":"IFERROR(IF(ISBLANK('Zoeken in Database'!$D$6),\"x\",IF(SEARCH('Zoeken in Database'!$D$6,Concerten!G96,1),\"x\",\"\")),\"\")","v":"x"},{"$f":"IF(AND(D96>='Zoeken in Database'!$A$7,'Zoeken in Database'!$A$8>=D96),\"x\",\"\")","v":"x"}]
["Myer, Jochem","Weijertheater","Boxmeer","2002-02-03",null,"Adéhadé","Theater",2,2002,{"$f":"VLOOKUP(Table1[[#This Row],[Maand (getal)]],Lijst!A:B,2,FALSE)","v":"feb"},{"$f":"IFERROR(IF(ISBLANK('Zoeken in Database'!$D$3),\"x\",IF(SEARCH('Zoeken in Database'!$D$3,Concerten!A97,1),\"x\",\"\")),\"\")","v":"x"},{"$f":"IFERROR(IF(ISBLANK('Zoeken in Database'!$D$4),\"x\",IF(SEARCH('Zoeken in Database'!$D$4,Concerten!B97,1),\"x\",\"\")),\"\")","v":"x"},{"$f":"IFERROR(IF(ISBLANK('Zoeken in Database'!$D$5),\"x\",IF(SEARCH('Zoeken in Database'!$D$5,Concerten!C97,1),\"x\",\"\")),\"\")","v":"x"},{"$f":"IFERROR(IF(ISBLANK('Zoeken in Database'!$D$6),\"x\",IF(SEARCH('Zoeken in Database'!$D$6,Concerten!G97,1),\"x\",\"\")),\"\")","v":"x"},{"$f":"IF(AND(D97>='Zoeken in Database'!$A$7,'Zoeken in Database'!$A$8>=D97),\"x\",\"\")","v":"x"}]
["Adams, Ryan","Paradiso","Amsterdam","2002-02-06","01. The Rescue Blues \n02. Soundtrack Of Your Life \n03. The Paradiso To Be Young (Is To Be Sad, Is To Be High)   \n04. Firecracker   \n05. Answering Bell   \n06. Metal Improv Song  \n07. Touch, Feel & Lose  \n08. Not Gonna Make It Out Of This One This Time  \n09. Harder Now That It's Over  \n10. When The Stars Go Blue  \n11. Somehow, Someday  \n12. Nobody Girl  \n13. La Cienega Just Smiled  \n14. Diamonds Or Hearts  \n15. Mix Tapes  \n16. Lovesick Blues  \n17. Ooh Las Vegas  \n18. Sin City  \n19. Oh My Sweet Carolina  \n20. Improv Song \"Song For Natalie\"  \n21. New York, New York  \n22. Brown Sugar  \n23. Tina Toledo's Street Walkin' Blues  \n24. My Winding Wheel  \n25. Don't Ask For The Water  \n26. You Will Always Be The Same  \n27. Desire  \n28. Shakedown On 9th Street  \n29. Firecracker  \n30. Dance All Night  \n31. Vampire  \n32. Call Me On Your Way Back Home  \n33. Come Pick Me Up  \n\n","& The Sweetheart Revolution","Hoofdprogramma",2,2002,{"$f":"VLOOKUP(Table1[[#This Row],[Maand (getal)]],Lijst!A:B,2,FALSE)","v":"feb"},{"$f":"IFERROR(IF(ISBLANK('Zoeken in Database'!$D$3),\"x\",IF(SEARCH('Zoeken in Database'!$D$3,Concerten!A98,1),\"x\",\"\")),\"\")","v":"x"},{"$f":"IFERROR(IF(ISBLANK('Zoeken in Database'!$D$4),\"x\",IF(SEARCH('Zoeken in Database'!$D$4,Concerten!B98,1),\"x\",\"\")),\"\")","v":"x"},{"$f":"IFERROR(IF(ISBLANK('Zoeken in Database'!$D$5),\"x\",IF(SEARCH('Zoeken in Database'!$D$5,Concerten!C98,1),\"x\",\"\")),\"\")","v":"x"},{"$f":"IFERROR(IF(ISBLANK('Zoeken in Database'!$D$6),\"x\",IF(SEARCH('Zoeken in Database'!$D$6,Concerten!G98,1),\"x\",\"\")),\"\")","v":"x"},{"$f":"IF(AND(D98>='Zoeken in Database'!$A$7,'Zoeken in Database'!$A$8>=D98),\"x\",\"\")","v":"x"}]
["Hederos en Hellberg","Paradiso","Amsterdam","2002-02-06",null,null,"Voorprogramma",2,2002,{"$f":"VLOOKUP(Table1[[#This Row],[Maand (getal)]],Lijst!A:B,2,FALSE)","v":"feb"},{"$f":"IFERROR(IF(ISBLANK('Zoeken in Database'!$D$3),\"x\",IF(SEARCH('Zoeken in Database'!$D$3,Concerten!A99,1),\"x\",\"\")),\"\")","v":"x"},{"$f":"IFERROR(IF(ISBLANK('Zoeken in Database'!$D$4),\"x\",IF(SEARCH('Zoeken in Database'!$D$4,Concerten!B99,1),\"x\",\"\")),\"\")","v":"x"},{"$f":"IFERROR(IF(ISBLANK('Zoeken in Database'!$D$5),\"x\",IF(SEARCH('Zoeken in Database'!$D$5,Concerten!C99,1),\"x\",\"\")),\"\")","v":"x"},{"$f":"IFERROR(IF(ISBLANK('Zoeken in Database'!$D$6),\"x\",IF(SEARCH('Zoeken in Database'!$D$6,Concerten!G99,1),\"x\",\"\")),\"\")","v":"x"},{"$f":"IF(AND(D99>='Zoeken in Database'!$A$7,'Zoeken in Database'!$A$8>=D99),\"x\",\"\")","v":"x"}]
["K's Choice","O13","Tilburg","2002-02-19",null,null,"Hoofdprogramma",2,2002,{"$f":"VLOOKUP(Table1[[#This Row],[Maand (getal)]],Lijst!A:B,2,FALSE)","v":"feb"},{"$f":"IFERROR(IF(ISBLANK('Zoeken in Database'!$D$3),\"x\",IF(SEARCH('Zoeken in Database'!$D$3,Concerten!A100,1),\"x\",\"\")),\"\")","v":"x"},{"$f":"IFERROR(IF(ISBLANK('Zoeken in Database'!$D$4),\"x\",IF(SEARCH('Zoeken in Database'!$D$4,Concerten!B100,1),\"x\",\"\")),\"\")","v":"x"},{"$f":"IFERROR(IF(ISBLANK('Zoeken in Database'!$D$5),\"x\",IF(SEARCH('Zoeken in Database'!$D$5,Concerten!C100,1),\"x\",\"\")),\"\")","v":"x"},{"$f":"IFERROR(IF(ISBLANK('Zoeken in Database'!$D$6),\"x\",IF(SEARCH('Zoeken in Database'!$D$6,Concerten!G100,1),\"x\",\"\")),\"\")","v":"x"},{"$f":"IF(AND(D100>='Zoeken in Database'!$A$7,'Zoeken in Database'!$A$8>=D100),\"x\",\"\")","v":"x"}]
["Venus In Flames","O13","Tilburg","2002-02-19",null,null,"Voorprogramma",2,2002,{"$f":"VLOOKUP(Table1[[#This Row],[Maand (getal)]],Lijst!A:B,2,FALSE)","v":"feb"},{"$f":"IFERROR(IF(ISBLANK('Zoeken in Database'!$D$3),\"x\",IF(SEARCH('Zoeken in Database'!$D$3,Concerten!A101,1),\"x\",\"\")),\"\")","v":"x"},{"$f":"IFERROR(IF(ISBLANK('Zoeken in Database'!$D$4),\"x\",IF(SEARCH('Zoeken in Database'!$D$4,Concerten!B101,1),\"x\",\"\")),\"\")","v":"x"},{"$f":"IFERROR(IF(ISBLANK('Zoeken in Database'!$D$5),\"x\",IF(SEARCH('Zoeken in Database'!$D$5,Concerten!C101,1),\"x\",\"\")),\"\")","v":"x"},{"$f":"IFERROR(IF(ISBLANK('Zoeken in Database'!$D$6),\"x\",IF(SEARCH('Zoeken in Database'!$D$6,Concerten!G101,1),\"x\",\"\")),\"\")","v":"x"},{"$f":"IF(AND(D101>='Zoeken in Database'!$A$7,'Zoeken in Database'!$A$8>=D101),\"x\",\"\")","v":"x"}]
["Ozark Henry","Doornroosje","Nijmegen","2002-04-21",null,null,"Hoofdprogramma",4,2002,{"$f":"VLOOKUP(Table1[[#This Row],[Maand (getal)]],Lijst!A:B,2,FALSE)","v":"apr"},{"$f":"IFERROR(IF(ISBLANK('Zoeken in Database'!$D$3),\"x\",IF(SEARCH('Zoeken in Database'!$D$3,Concerten!A102,1),\"x\",\"\")),\"\")","v":"x"},{"$f":"IFERROR(IF(ISBLANK('Zoeken in Database'!$D$4),\"x\",IF(SEARCH('Zoeken in Database'!$D$4,Concerten!B102,1),\"x\",\"\")),\"\")","v":"x"},{"$f":"IFERROR(IF(ISBLANK('Zoeken in Database'!$D$5),\"x\",IF(SEARCH('Zoeken in Database'!$D$5,Concerten!C102,1),\"x\",\"\")),\"\")","v":"x"},{"$f":"IFERROR(IF(ISBLANK('Zoeken in Database'!$D$6),\"x\",IF(SEARCH('Zoeken in Database'!$D$6,Concerten!G102,1),\"x\",\"\")),\"\")","v":"x"},{"$f":"IF(AND(D102>='Zoeken in Database'!$A$7,'Zoeken in Database'!$A$8>=D102),\"x\",\"\")","v":"x"}]
["This Beautiful Mess","Doornroosje","Nijmegen","2002-04-21",null,null,"Voorprogramma",4,2002,{"$f":"VLOOKUP(Table1[[#This Row],[Maand (getal)]],Lijst!A:B,2,FALSE)","v":"apr"},{"$f":"IFERROR(IF(ISBLANK('Zoeken in Database'!$D$3),\"x\",IF(SEARCH('Zoeken in Database'!$D$3,Concerten!A103,1),\"x\",\"\")),\"\")","v":"x"},{"$f":"IFERROR(IF(ISBLANK('Zoeken in Database'!$D$4),\"x\",IF(SEARCH('Zoeken in Database'!$D$4,Concerten!B103,1),\"x\",\"\")),\"\")","v":"x"},{"$f":"IFERROR(IF(ISBLANK('Zoeken in Database'!$D$5),\"x\",IF(SEARCH('Zoeken in Database'!$D$5,Concerten!C103,1),\"x\",\"\")),\"\")","v":"x"},{"$f":"IFERROR(IF(ISBLANK('Zoeken in Database'!$D$6),\"x\",IF(SEARCH('Zoeken in Database'!$D$6,Concerten!G103,1),\"x\",\"\")),\"\")","v":"x"},{"$f":"IF(AND(D103>='Zoeken in Database'!$A$7,'Zoeken in Database'!$A$8>=D103),\"x\",\"\")","v":"x"}]
["Marooned","De Pul","Uden","2002-04-27",null,null,"Voorprogramma",4,2002,{"$f":"VLOOKUP(Table1[[#This Row],[Maand (getal)]],Lijst!A:B,2,FALSE)","v":"apr"},{"$f":"IFERROR(IF(ISBLANK('Zoeken in Database'!$D$3),\"x\",IF(SEARCH('Zoeken in Database'!$D$3,Concerten!A104,1),\"x\",\"\")),\"\")","v":"x"},{"$f":"IFERROR(IF(ISBLANK('Zoeken in Database'!$D$4),\"x\",IF(SEARCH('Zoeken in Database'!$D$4,Concerten!B104,1),\"x\",\"\")),\"\")","v":"x"},{"$f":"IFERROR(IF(ISBLANK('Zoeken in Database'!$D$5),\"x\",IF(SEARCH('Zoeken in Database'!$D$5,Concerten!C104,1),\"x\",\"\")),\"\")","v":"x"},{"$f":"IFERROR(IF(ISBLANK('Zoeken in Database'!$D$6),\"x\",IF(SEARCH('Zoeken in Database'!$D$6,Concerten!G104,1),\"x\",\"\")),\"\")","v":"x"},{"$f":"IF(AND(D104>='Zoeken in Database'!$A$7,'Zoeken in Database'!$A$8>=D104),\"x\",\"\")","v":"x"}]
["Racoon","De Pul","Uden","2002-04-27",null,null,"Hoofdprogramma",4,2002,{"$f":"VLOOKUP(Table1[[#This Row],[Maand (getal)]],Lijst!A:B,2,FALSE)","v":"apr"},{"$f":"IFERROR(IF(ISBLANK('Zoeken in Database'!$D$3),\"x\",IF(SEARCH('Zoeken in Database'!$D$3,Concerten!A105,1),\"x\",\"\")),\"\")","v":"x"},{"$f":"IFERROR(IF(ISBLANK('Zoeken in Database'!$D$4),\"x\",IF(SEARCH('Zoeken in Database'!$D$4,Concerten!B105,1),\"x\",\"\")),\"\")","v":"x"},{"$f":"IFERROR(IF(ISBLANK('Zoeken in Database'!$D$5),\"x\",IF(SEARCH('Zoeken in Database'!$D$5,Concerten!C105,1),\"x\",\"\")),\"\")","v":"x"},{"$f":"IFERROR(IF(ISBLANK('Zoeken in Database'!$D$6),\"x\",IF(SEARCH('Zoeken in Database'!$D$6,Concerten!G105,1),\"x\",\"\")),\"\")","v":"x"},{"$f":"IF(AND(D105>='Zoeken in Database'!$A$7,'Zoeken in Database'!$A$8>=D105),\"x\",\"\")","v":"x"}]
["Rowwen Heze","Koninginnedag Arnhem 2002","Arnhem","2002-04-30",null,"Marktplein","Festivaloptreden",4,2002,{"$f":"VLOOKUP(Table1[[#This Row],[Maand (getal)]],Lijst!A:B,2,FALSE)","v":"apr"},{"$f":"IFERROR(IF(ISBLANK('Zoeken in Database'!$D$3),\"x\",IF(SEARCH('Zoeken in Database'!$D$3,Concerten!A106,1),\"x\",\"\")),\"\")","v":"x"},{"$f":"IFERROR(IF(ISBLANK('Zoeken in Database'!$D$4),\"x\",IF(SEARCH('Zoeken in Database'!$D$4,Concerten!B106,1),\"x\",\"\")),\"\")","v":"x"},{"$f":"IFERROR(IF(ISBLANK('Zoeken in Database'!$D$5),\"x\",IF(SEARCH('Zoeken in Database'!$D$5,Concerten!C106,1),\"x\",\"\")),\"\")","v":"x"},{"$f":"IFERROR(IF(ISBLANK('Zoeken in Database'!$D$6),\"x\",IF(SEARCH('Zoeken in Database'!$D$6,Concerten!G106,1),\"x\",\"\")),\"\")","v":"x"},{"$f":"IF(AND(D106>='Zoeken in Database'!$A$7,'Zoeken in Database'!$A$8>=D106),\"x\",\"\")","v":"x"}]
["Bush","Pinkpop 2002","Landgraaf","2002-05-18",null,"Noordpodium","Festivaloptreden",5,2002,{"$f":"VLOOKUP(Table1[[#This Row],[Maand (getal)]],Lijst!A:B,2,FALSE)","v":"mei"},{"$f":"IFERROR(IF(ISBLANK('Zoeken in Database'!$D$3),\"x\",IF(SEARCH('Zoeken in Database'!$D$3,Concerten!A107,1),\"x\",\"\")),\"\")","v":"x"},{"$f":"IFERROR(IF(ISBLANK('Zoeken in Database'!$D$4),\"x\",IF(SEARCH('Zoeken in Database'!$D$4,Concerten!B107,1),\"x\",\"\")),\"\")","v":"x"},{"$f":"IFERROR(IF(ISBLANK('Zoeken in Database'!$D$5),\"x\",IF(SEARCH('Zoeken in Database'!$D$5,Concerten!C107,1),\"x\",\"\")),\"\")","v":"x"},{"$f":"IFERROR(IF(ISBLANK('Zoeken in Database'!$D$6),\"x\",IF(SEARCH('Zoeken in Database'!$D$6,Concerten!G107,1),\"x\",\"\")),\"\")","v":"x"},{"$f":"IF(AND(D107>='Zoeken in Database'!$A$7,'Zoeken in Database'!$A$8>=D107),\"x\",\"\")","v":"x"}]
["P.O.D.","Pinkpop 2002","Landgraaf","2002-05-18",null,"Noordpodium","Festivaloptreden",5,2002,{"$f":"VLOOKUP(Table1[[#This Row],[Maand (getal)]],Lijst!A:B,2,FALSE)","v":"mei"},{"$f":"IFERROR(IF(ISBLANK('Zoeken in Database'!$D$3),\"x\",IF(SEARCH('Zoeken in Database'!$D$3,Concerten!A108,1),\"x\",\"\")),\"\")","v":"x"},{"$f":"IFERROR(IF(ISBLANK('Zoeken in Database'!$D$4),\"x\",IF(SEARCH('Zoeken in Database'!$D$4,Concerten!B108,1),\"x\",\"\")),\"\")","v":"x"},{"$f":"IFERROR(IF(ISBLANK('Zoeken in Database'!$D$5),\"x\",IF(SEARCH('Zoeken in Database'!$D$5,Concerten!C108,1),\"x\",\"\")),\"\")","v":"x"},{"$f":"IFERROR(IF(ISBLANK('Zoeken in Database'!$D$6),\"x\",IF(SEARCH('Zoeken in Database'!$D$6,Concerten!G108,1),\"x\",\"\")),\"\")","v":"x"},{"$f":"IF(AND(D108>='Zoeken in Database'!$A$7,'Zoeken in Database'!$A$8>=D108),\"x\",\"\")","v":"x"}]
["Faithless","Pinkpop 2002","Landgraaf","2002-05-19",null,"Zuidpodium","Festivaloptreden",5,2002,{"$f":"VLOOKUP(Table1[[#This Row],[Maand (getal)]],Lijst!A:B,2,FALSE)","v":"mei"},{"$f":"IFERROR(IF(ISBLANK('Zoeken in Database'!$D$3),\"x\",IF(SEARCH('Zoeken in Database'!$D$3,Concerten!A109,1),\"x\",\"\")),\"\")","v":"x"},{"$f":"IFERROR(IF(ISBLANK('Zoeken in Database'!$D$4),\"x\",IF(SEARCH('Zoeken in Database'!$D$4,Concerten!B109,1),\"x\",\"\")),\"\")","v":"x"},{"$f":"IFERROR(IF(ISBLANK('Zoeken in Database'!$D$5),\"x\",IF(SEARCH('Zoeken in Database'!$D$5,Concerten!C109,1),\"x\",\"\")),\"\")","v":"x"},{"$f":"IFERROR(IF(ISBLANK('Zoeken in Database'!$D$6),\"x\",IF(SEARCH('Zoeken in Database'!$D$6,Concerten!G109,1),\"x\",\"\")),\"\")","v":"x"},{"$f":"IF(AND(D109>='Zoeken in Database'!$A$7,'Zoeken in Database'!$A$8>=D109),\"x\",\"\")","v":"x"}]
["Racoon","Pinkpop 2002","Landgraaf","2002-05-19",null,"Noordpodium","Festivaloptreden",5,2002,{"$f":"VLOOKUP(Table1[[#This Row],[Maand (getal)]],Lijst!A:B,2,FALSE)","v":"mei"},{"$f":"IFERROR(IF(ISBLANK('Zoeken in Database'!$D$3),\"x\",IF(SEARCH('Zoeken in Database'!$D$3,Concerten!A110,1),\"x\",\"\")),\"\")","v":"x"},{"$f":"IFERROR(IF(ISBLANK('Zoeken in Database'!$D$4),\"x\",IF(SEARCH('Zoeken in Database'!$D$4,Concerten!B110,1),\"x\",\"\")),\"\")","v":"x"},{"$f":"IFERROR(IF(ISBLANK('Zoeken in Database'!$D$5),\"x\",IF(SEARCH('Zoeken in Database'!$D$5,Concerten!C110,1),\"x\",\"\")),\"\")","v":"x"},{"$f":"IFERROR(IF(ISBLANK('Zoeken in Database'!$D$6),\"x\",IF(SEARCH('Zoeken in Database'!$D$6,Concerten!G110,1),\"x\",\"\")),\"\")","v":"x"},{"$f":"IF(AND(D110>='Zoeken in Database'!$A$7,'Zoeken in Database'!$A$8>=D110),\"x\",\"\")","v":"x"}]
["Black Rebel Motorcycle Club","Pinkpop 2002","Landgraaf","2002-05-20",null,"3FM Tent","Festivaloptreden",5,2002,{"$f":"VLOOKUP(Table1[[#This Row],[Maand (getal)]],Lijst!A:B,2,FALSE)","v":"mei"},{"$f":"IFERROR(IF(ISBLANK('Zoeken in Database'!$D$3),\"x\",IF(SEARCH('Zoeken in Database'!$D$3,Concerten!A111,1),\"x\",\"\")),\"\")","v":"x"},{"$f":"IFERROR(IF(ISBLANK('Zoeken in Database'!$D$4),\"x\",IF(SEARCH('Zoeken in Database'!$D$4,Concerten!B111,1),\"x\",\"\")),\"\")","v":"x"},{"$f":"IFERROR(IF(ISBLANK('Zoeken in Database'!$D$5),\"x\",IF(SEARCH('Zoeken in Database'!$D$5,Concerten!C111,1),\"x\",\"\")),\"\")","v":"x"},{"$f":"IFERROR(IF(ISBLANK('Zoeken in Database'!$D$6),\"x\",IF(SEARCH('Zoeken in Database'!$D$6,Concerten!G111,1),\"x\",\"\")),\"\")","v":"x"},{"$f":"IF(AND(D111>='Zoeken in Database'!$A$7,'Zoeken in Database'!$A$8>=D111),\"x\",\"\")","v":"x"}]
["Millionaire","Pinkpop 2002","Landgraaf","2002-05-20",null,"Noordpodium","Festivaloptreden",5,2002,{"$f":"VLOOKUP(Table1[[#This Row],[Maand (getal)]],Lijst!A:B,2,FALSE)","v":"mei"},{"$f":"IFERROR(IF(ISBLANK('Zoeken in Database'!$D$3),\"x\",IF(SEARCH('Zoeken in Database'!$D$3,Concerten!A112,1),\"x\",\"\")),\"\")","v":"x"},{"$f":"IFERROR(IF(ISBLANK('Zoeken in Database'!$D$4),\"x\",IF(SEARCH('Zoeken in Database'!$D$4,Concerten!B112,1),\"x\",\"\")),\"\")","v":"x"},{"$f":"IFERROR(IF(ISBLANK('Zoeken in Database'!$D$5),\"x\",IF(SEARCH('Zoeken in Database'!$D$5,Concerten!C112,1),\"x\",\"\")),\"\")","v":"x"},{"$f":"IFERROR(IF(ISBLANK('Zoeken in Database'!$D$6),\"x\",IF(SEARCH('Zoeken in Database'!$D$6,Concerten!G112,1),\"x\",\"\")),\"\")","v":"x"},{"$f":"IF(AND(D112>='Zoeken in Database'!$A$7,'Zoeken in Database'!$A$8>=D112),\"x\",\"\")","v":"x"}]
["Muse","Pinkpop 2002","Landgraaf","2002-05-20",null,"Zuidpodium","Festivaloptreden",5,2002,{"$f":"VLOOKUP(Table1[[#This Row],[Maand (getal)]],Lijst!A:B,2,FALSE)","v":"mei"},{"$f":"IFERROR(IF(ISBLANK('Zoeken in Database'!$D$3),\"x\",IF(SEARCH('Zoeken in Database'!$D$3,Concerten!A113,1),\"x\",\"\")),\"\")","v":"x"},{"$f":"IFERROR(IF(ISBLANK('Zoeken in Database'!$D$4),\"x\",IF(SEARCH('Zoeken in Database'!$D$4,Concerten!B113,1),\"x\",\"\")),\"\")","v":"x"},{"$f":"IFERROR(IF(ISBLANK('Zoeken in Database'!$D$5),\"x\",IF(SEARCH('Zoeken in Database'!$D$5,Concerten!C113,1),\"x\",\"\")),\"\")","v":"x"},{"$f":"IFERROR(IF(ISBLANK('Zoeken in Database'!$D$6),\"x\",IF(SEARCH('Zoeken in Database'!$D$6,Concerten!G113,1),\"x\",\"\")),\"\")","v":"x"},{"$f":"IF(AND(D113>='Zoeken in Database'!$A$7,'Zoeken in Database'!$A$8>=D113),\"x\",\"\")","v":"x"}]
["Rammstein","Pinkpop 2002","Landgraaf","2002-05-20",null,"Zuidpodium","Festivaloptreden",5,2002,{"$f":"VLOOKUP(Table1[[#This Row],[Maand (getal)]],Lijst!A:B,2,FALSE)","v":"mei"},{"$f":"IFERROR(IF(ISBLANK('Zoeken in Database'!$D$3),\"x\",IF(SEARCH('Zoeken in Database'!$D$3,Concerten!A114,1),\"x\",\"\")),\"\")","v":"x"},{"$f":"IFERROR(IF(ISBLANK('Zoeken in Database'!$D$4),\"x\",IF(SEARCH('Zoeken in Database'!$D$4,Concerten!B114,1),\"x\",\"\")),\"\")","v":"x"},{"$f":"IFERROR(IF(ISBLANK('Zoeken in Database'!$D$5),\"x\",IF(SEARCH('Zoeken in Database'!$D$5,Concerten!C114,1),\"x\",\"\")),\"\")","v":"x"},{"$f":"IFERROR(IF(ISBLANK('Zoeken in Database'!$D$6),\"x\",IF(SEARCH('Zoeken in Database'!$D$6,Concerten!G114,1),\"x\",\"\")),\"\")","v":"x"},{"$f":"IF(AND(D114>='Zoeken in Database'!$A$7,'Zoeken in Database'!$A$8>=D114),\"x\",\"\")","v":"x"}]
["Kowlier, Flip","Doornroosje","Nijmegen","2002-05-30",null,null,"Hoofdprogramma",5,2002,{"$f":"VLOOKUP(Table1[[#This Row],[Maand (getal)]],Lijst!A:B,2,FALSE)","v":"mei"},{"$f":"IFERROR(IF(ISBLANK('Zoeken in Database'!$D$3),\"x\",IF(SEARCH('Zoeken in Database'!$D$3,Concerten!A115,1),\"x\",\"\")),\"\")","v":"x"},{"$f":"IFERROR(IF(ISBLANK('Zoeken in Database'!$D$4),\"x\",IF(SEARCH('Zoeken in Database'!$D$4,Concerten!B115,1),\"x\",\"\")),\"\")","v":"x"},{"$f":"IFERROR(IF(ISBLANK('Zoeken in Database'!$D$5),\"x\",IF(SEARCH('Zoeken in Database'!$D$5,Concerten!C115,1),\"x\",\"\")),\"\")","v":"x"},{"$f":"IFERROR(IF(ISBLANK('Zoeken in Database'!$D$6),\"x\",IF(SEARCH('Zoeken in Database'!$D$6,Concerten!G115,1),\"x\",\"\")),\"\")","v":"x"},{"$f":"IF(AND(D115>='Zoeken in Database'!$A$7,'Zoeken in Database'!$A$8>=D115),\"x\",\"\")","v":"x"}]
["Heideroosjes","Paradiso","Amsterdam","2002-06-08",null,"12,5 jarig bestaan","Hoofdprogramma",6,2002,{"$f":"VLOOKUP(Table1[[#This Row],[Maand (getal)]],Lijst!A:B,2,FALSE)","v":"jun"},{"$f":"IFERROR(IF(ISBLANK('Zoeken in Database'!$D$3),\"x\",IF(SEARCH('Zoeken in Database'!$D$3,Concerten!A116,1),\"x\",\"\")),\"\")","v":"x"},{"$f":"IFERROR(IF(ISBLANK('Zoeken in Database'!$D$4),\"x\",IF(SEARCH('Zoeken in Database'!$D$4,Concerten!B116,1),\"x\",\"\")),\"\")","v":"x"},{"$f":"IFERROR(IF(ISBLANK('Zoeken in Database'!$D$5),\"x\",IF(SEARCH('Zoeken in Database'!$D$5,Concerten!C116,1),\"x\",\"\")),\"\")","v":"x"},{"$f":"IFERROR(IF(ISBLANK('Zoeken in Database'!$D$6),\"x\",IF(SEARCH('Zoeken in Database'!$D$6,Concerten!G116,1),\"x\",\"\")),\"\")","v":"x"},{"$f":"IF(AND(D116>='Zoeken in Database'!$A$7,'Zoeken in Database'!$A$8>=D116),\"x\",\"\")","v":"x"}]
["16 Down","Op De Toffel 2002","Vierlingsbeek","2002-06-23",null,"Hoofdpodium","Festivaloptreden",6,2002,{"$f":"VLOOKUP(Table1[[#This Row],[Maand (getal)]],Lijst!A:B,2,FALSE)","v":"jun"},{"$f":"IFERROR(IF(ISBLANK('Zoeken in Database'!$D$3),\"x\",IF(SEARCH('Zoeken in Database'!$D$3,Concerten!A117,1),\"x\",\"\")),\"\")","v":"x"},{"$f":"IFERROR(IF(ISBLANK('Zoeken in Database'!$D$4),\"x\",IF(SEARCH('Zoeken in Database'!$D$4,Concerten!B117,1),\"x\",\"\")),\"\")","v":"x"},{"$f":"IFERROR(IF(ISBLANK('Zoeken in Database'!$D$5),\"x\",IF(SEARCH('Zoeken in Database'!$D$5,Concerten!C117,1),\"x\",\"\")),\"\")","v":"x"},{"$f":"IFERROR(IF(ISBLANK('Zoeken in Database'!$D$6),\"x\",IF(SEARCH('Zoeken in Database'!$D$6,Concerten!G117,1),\"x\",\"\")),\"\")","v":"x"},{"$f":"IF(AND(D117>='Zoeken in Database'!$A$7,'Zoeken in Database'!$A$8>=D117),\"x\",\"\")","v":"x"}]
["Def P & The Beatbusters","Op De Toffel 2002","Vierlingsbeek","2002-06-23",null,"Hoofdpodium","Festivaloptreden",6,2002,{"$f":"VLOOKUP(Table1[[#This Row],[Maand (getal)]],Lijst!A:B,2,FALSE)","v":"jun"},{"$f":"IFERROR(IF(ISBLANK('Zoeken in Database'!$D$3),\"x\",IF(SEARCH('Zoeken in Database'!$D$3,Concerten!A118,1),\"x\",\"\")),\"\")","v":"x"},{"$f":"IFERROR(IF(ISBLANK('Zoeken in Database'!$D$4),\"x\",IF(SEARCH('Zoeken in Database'!$D$4,Concerten!B118,1),\"x\",\"\")),\"\")","v":"x"},{"$f":"IFERROR(IF(ISBLANK('Zoeken in Database'!$D$5),\"x\",IF(SEARCH('Zoeken in Database'!$D$5,Concerten!C118,1),\"x\",\"\")),\"\")","v":"x"},{"$f":"IFERROR(IF(ISBLANK('Zoeken in Database'!$D$6),\"x\",IF(SEARCH('Zoeken in Database'!$D$6,Concerten!G118,1),\"x\",\"\")),\"\")","v":"x"},{"$f":"IF(AND(D118>='Zoeken in Database'!$A$7,'Zoeken in Database'!$A$8>=D118),\"x\",\"\")","v":"x"}]
["Spades, The","Op De Toffel 2002","Vierlingsbeek","2002-06-23",null,"Hoofdpodium","Festivaloptreden",6,2002,{"$f":"VLOOKUP(Table1[[#This Row],[Maand (getal)]],Lijst!A:B,2,FALSE)","v":"jun"},{"$f":"IFERROR(IF(ISBLANK('Zoeken in Database'!$D$3),\"x\",IF(SEARCH('Zoeken in Database'!$D$3,Concerten!A119,1),\"x\",\"\")),\"\")","v":"x"},{"$f":"IFERROR(IF(ISBLANK('Zoeken in Database'!$D$4),\"x\",IF(SEARCH('Zoeken in Database'!$D$4,Concerten!B119,1),\"x\",\"\")),\"\")","v":"x"},{"$f":"IFERROR(IF(ISBLANK('Zoeken in Database'!$D$5),\"x\",IF(SEARCH('Zoeken in Database'!$D$5,Concerten!C119,1),\"x\",\"\")),\"\")","v":"x"},{"$f":"IFERROR(IF(ISBLANK('Zoeken in Database'!$D$6),\"x\",IF(SEARCH('Zoeken in Database'!$D$6,Concerten!G119,1),\"x\",\"\")),\"\")","v":"x"},{"$f":"IF(AND(D119>='Zoeken in Database'!$A$7,'Zoeken in Database'!$A$8>=D119),\"x\",\"\")","v":"x"}]
["Dandy Warhols, The","Parkpop 2002","Den Haag","2002-06-30",null,null,"Festivaloptreden",6,2002,{"$f":"VLOOKUP(Table1[[#This Row],[Maand (getal)]],Lijst!A:B,2,FALSE)","v":"jun"},{"$f":"IFERROR(IF(ISBLANK('Zoeken in Database'!$D$3),\"x\",IF(SEARCH('Zoeken in Database'!$D$3,Concerten!A120,1),\"x\",\"\")),\"\")","v":"x"},{"$f":"IFERROR(IF(ISBLANK('Zoeken in Database'!$D$4),\"x\",IF(SEARCH('Zoeken in Database'!$D$4,Concerten!B120,1),\"x\",\"\")),\"\")","v":"x"},{"$f":"IFERROR(IF(ISBLANK('Zoeken in Database'!$D$5),\"x\",IF(SEARCH('Zoeken in Database'!$D$5,Concerten!C120,1),\"x\",\"\")),\"\")","v":"x"},{"$f":"IFERROR(IF(ISBLANK('Zoeken in Database'!$D$6),\"x\",IF(SEARCH('Zoeken in Database'!$D$6,Concerten!G120,1),\"x\",\"\")),\"\")","v":"x"},{"$f":"IF(AND(D120>='Zoeken in Database'!$A$7,'Zoeken in Database'!$A$8>=D120),\"x\",\"\")","v":"x"}]
["Direct","Parkpop 2002","Den Haag","2002-06-30",null,null,"Festivaloptreden",6,2002,{"$f":"VLOOKUP(Table1[[#This Row],[Maand (getal)]],Lijst!A:B,2,FALSE)","v":"jun"},{"$f":"IFERROR(IF(ISBLANK('Zoeken in Database'!$D$3),\"x\",IF(SEARCH('Zoeken in Database'!$D$3,Concerten!A121,1),\"x\",\"\")),\"\")","v":"x"},{"$f":"IFERROR(IF(ISBLANK('Zoeken in Database'!$D$4),\"x\",IF(SEARCH('Zoeken in Database'!$D$4,Concerten!B121,1),\"x\",\"\")),\"\")","v":"x"},{"$f":"IFERROR(IF(ISBLANK('Zoeken in Database'!$D$5),\"x\",IF(SEARCH('Zoeken in Database'!$D$5,Concerten!C121,1),\"x\",\"\")),\"\")","v":"x"},{"$f":"IFERROR(IF(ISBLANK('Zoeken in Database'!$D$6),\"x\",IF(SEARCH('Zoeken in Database'!$D$6,Concerten!G121,1),\"x\",\"\")),\"\")","v":"x"},{"$f":"IF(AND(D121>='Zoeken in Database'!$A$7,'Zoeken in Database'!$A$8>=D121),\"x\",\"\")","v":"x"}]
["Within Temptation","Parkpop 2002","Den Haag","2002-06-30",null,null,"Festivaloptreden",6,2002,{"$f":"VLOOKUP(Table1[[#This Row],[Maand (getal)]],Lijst!A:B,2,FALSE)","v":"jun"},{"$f":"IFERROR(IF(ISBLANK('Zoeken in Database'!$D$3),\"x\",IF(SEARCH('Zoeken in Database'!$D$3,Concerten!A122,1),\"x\",\"\")),\"\")","v":"x"},{"$f":"IFERROR(IF(ISBLANK('Zoeken in Database'!$D$4),\"x\",IF(SEARCH('Zoeken in Database'!$D$4,Concerten!B122,1),\"x\",\"\")),\"\")","v":"x"},{"$f":"IFERROR(IF(ISBLANK('Zoeken in Database'!$D$5),\"x\",IF(SEARCH('Zoeken in Database'!$D$5,Concerten!C122,1),\"x\",\"\")),\"\")","v":"x"},{"$f":"IFERROR(IF(ISBLANK('Zoeken in Database'!$D$6),\"x\",IF(SEARCH('Zoeken in Database'!$D$6,Concerten!G122,1),\"x\",\"\")),\"\")","v":"x"},{"$f":"IF(AND(D122>='Zoeken in Database'!$A$7,'Zoeken in Database'!$A$8>=D122),\"x\",\"\")","v":"x"}]
["Arid","Heineken Music Hall","Amsterdam","2002-08-19",null,null,"Voorprogramma",8,2002,{"$f":"VLOOKUP(Table1[[#This Row],[Maand (getal)]],Lijst!A:B,2,FALSE)","v":"aug"},{"$f":"IFERROR(IF(ISBLANK('Zoeken in Database'!$D$3),\"x\",IF(SEARCH('Zoeken in Database'!$D$3,Concerten!A123,1),\"x\",\"\")),\"\")","v":"x"},{"$f":"IFERROR(IF(ISBLANK('Zoeken in Database'!$D$4),\"x\",IF(SEARCH('Zoeken in Database'!$D$4,Concerten!B123,1),\"x\",\"\")),\"\")","v":"x"},{"$f":"IFERROR(IF(ISBLANK('Zoeken in Database'!$D$5),\"x\",IF(SEARCH('Zoeken in Database'!$D$5,Concerten!C123,1),\"x\",\"\")),\"\")","v":"x"},{"$f":"IFERROR(IF(ISBLANK('Zoeken in Database'!$D$6),\"x\",IF(SEARCH('Zoeken in Database'!$D$6,Concerten!G123,1),\"x\",\"\")),\"\")","v":"x"},{"$f":"IF(AND(D123>='Zoeken in Database'!$A$7,'Zoeken in Database'!$A$8>=D123),\"x\",\"\")","v":"x"}]
["Counting Crows","Heineken Music Hall","Amsterdam","2002-08-19","01. Mrs. Potter's lullaby\n02. Hard candy\n03. Mr. Jones\n04. Goodnight elisabeth\n05. Miami\n06. Daylight fading\n07. Omaha\n08. High life\n09. If i could give all my love - or richard manuel is dead\n10. Carriage\n11. A long december\n12. Have you seen me lately?\n13. American girls\n14. Rain king\n-------------------------\n15. Big yellow taxi\n16. Hangin' around\n17. Sullivan street\n\n",null,"Hoofdprogramma",8,2002,{"$f":"VLOOKUP(Table1[[#This Row],[Maand (getal)]],Lijst!A:B,2,FALSE)","v":"aug"},{"$f":"IFERROR(IF(ISBLANK('Zoeken in Database'!$D$3),\"x\",IF(SEARCH('Zoeken in Database'!$D$3,Concerten!A124,1),\"x\",\"\")),\"\")","v":"x"},{"$f":"IFERROR(IF(ISBLANK('Zoeken in Database'!$D$4),\"x\",IF(SEARCH('Zoeken in Database'!$D$4,Concerten!B124,1),\"x\",\"\")),\"\")","v":"x"},{"$f":"IFERROR(IF(ISBLANK('Zoeken in Database'!$D$5),\"x\",IF(SEARCH('Zoeken in Database'!$D$5,Concerten!C124,1),\"x\",\"\")),\"\")","v":"x"},{"$f":"IFERROR(IF(ISBLANK('Zoeken in Database'!$D$6),\"x\",IF(SEARCH('Zoeken in Database'!$D$6,Concerten!G124,1),\"x\",\"\")),\"\")","v":"x"},{"$f":"IF(AND(D124>='Zoeken in Database'!$A$7,'Zoeken in Database'!$A$8>=D124),\"x\",\"\")","v":"x"}]
["Apers, The","Lowlands 2002","Biddinghuizen","2002-08-23",null,"Charlie","Festivaloptreden",8,2002,{"$f":"VLOOKUP(Table1[[#This Row],[Maand (getal)]],Lijst!A:B,2,FALSE)","v":"aug"},{"$f":"IFERROR(IF(ISBLANK('Zoeken in Database'!$D$3),\"x\",IF(SEARCH('Zoeken in Database'!$D$3,Concerten!A125,1),\"x\",\"\")),\"\")","v":"x"},{"$f":"IFERROR(IF(ISBLANK('Zoeken in Database'!$D$4),\"x\",IF(SEARCH('Zoeken in Database'!$D$4,Concerten!B125,1),\"x\",\"\")),\"\")","v":"x"},{"$f":"IFERROR(IF(ISBLANK('Zoeken in Database'!$D$5),\"x\",IF(SEARCH('Zoeken in Database'!$D$5,Concerten!C125,1),\"x\",\"\")),\"\")","v":"x"},{"$f":"IFERROR(IF(ISBLANK('Zoeken in Database'!$D$6),\"x\",IF(SEARCH('Zoeken in Database'!$D$6,Concerten!G125,1),\"x\",\"\")),\"\")","v":"x"},{"$f":"IF(AND(D125>='Zoeken in Database'!$A$7,'Zoeken in Database'!$A$8>=D125),\"x\",\"\")","v":"x"}]
["Cooper Temple Clause, The ","Lowlands 2002","Biddinghuizen","2002-08-23",null,"Charlie","Festivaloptreden",8,2002,{"$f":"VLOOKUP(Table1[[#This Row],[Maand (getal)]],Lijst!A:B,2,FALSE)","v":"aug"},{"$f":"IFERROR(IF(ISBLANK('Zoeken in Database'!$D$3),\"x\",IF(SEARCH('Zoeken in Database'!$D$3,Concerten!A126,1),\"x\",\"\")),\"\")","v":"x"},{"$f":"IFERROR(IF(ISBLANK('Zoeken in Database'!$D$4),\"x\",IF(SEARCH('Zoeken in Database'!$D$4,Concerten!B126,1),\"x\",\"\")),\"\")","v":"x"},{"$f":"IFERROR(IF(ISBLANK('Zoeken in Database'!$D$5),\"x\",IF(SEARCH('Zoeken in Database'!$D$5,Concerten!C126,1),\"x\",\"\")),\"\")","v":"x"},{"$f":"IFERROR(IF(ISBLANK('Zoeken in Database'!$D$6),\"x\",IF(SEARCH('Zoeken in Database'!$D$6,Concerten!G126,1),\"x\",\"\")),\"\")","v":"x"},{"$f":"IF(AND(D126>='Zoeken in Database'!$A$7,'Zoeken in Database'!$A$8>=D126),\"x\",\"\")","v":"x"}]
["Jon Spencer Blues Explosion, The ","Lowlands 2002","Biddinghuizen","2002-08-23",null,"Dommelsch","Festivaloptreden",8,2002,{"$f":"VLOOKUP(Table1[[#This Row],[Maand (getal)]],Lijst!A:B,2,FALSE)","v":"aug"},{"$f":"IFERROR(IF(ISBLANK('Zoeken in Database'!$D$3),\"x\",IF(SEARCH('Zoeken in Database'!$D$3,Concerten!A127,1),\"x\",\"\")),\"\")","v":"x"},{"$f":"IFERROR(IF(ISBLANK('Zoeken in Database'!$D$4),\"x\",IF(SEARCH('Zoeken in Database'!$D$4,Concerten!B127,1),\"x\",\"\")),\"\")","v":"x"},{"$f":"IFERROR(IF(ISBLANK('Zoeken in Database'!$D$5),\"x\",IF(SEARCH('Zoeken in Database'!$D$5,Concerten!C127,1),\"x\",\"\")),\"\")","v":"x"},{"$f":"IFERROR(IF(ISBLANK('Zoeken in Database'!$D$6),\"x\",IF(SEARCH('Zoeken in Database'!$D$6,Concerten!G127,1),\"x\",\"\")),\"\")","v":"x"},{"$f":"IF(AND(D127>='Zoeken in Database'!$A$7,'Zoeken in Database'!$A$8>=D127),\"x\",\"\")","v":"x"}]
["Kowlier, Flip","Lowlands 2002","Biddinghuizen","2002-08-23","01. Marley\n02. Ti Woa\n03. Ocharme Ik\n04. Kwestie Van Organisatie\n05. Min Moaten\n06. Verkluot\n07. Ik Ben Moe\n08. Drain Me\n09. Welgemeende\n10. Slichte Mins\n-----\n11. Moeder\n\n","India","Festivaloptreden",8,2002,{"$f":"VLOOKUP(Table1[[#This Row],[Maand (getal)]],Lijst!A:B,2,FALSE)","v":"aug"},{"$f":"IFERROR(IF(ISBLANK('Zoeken in Database'!$D$3),\"x\",IF(SEARCH('Zoeken in Database'!$D$3,Concerten!A128,1),\"x\",\"\")),\"\")","v":"x"},{"$f":"IFERROR(IF(ISBLANK('Zoeken in Database'!$D$4),\"x\",IF(SEARCH('Zoeken in Database'!$D$4,Concerten!B128,1),\"x\",\"\")),\"\")","v":"x"},{"$f":"IFERROR(IF(ISBLANK('Zoeken in Database'!$D$5),\"x\",IF(SEARCH('Zoeken in Database'!$D$5,Concerten!C128,1),\"x\",\"\")),\"\")","v":"x"},{"$f":"IFERROR(IF(ISBLANK('Zoeken in Database'!$D$6),\"x\",IF(SEARCH('Zoeken in Database'!$D$6,Concerten!G128,1),\"x\",\"\")),\"\")","v":"x"},{"$f":"IF(AND(D128>='Zoeken in Database'!$A$7,'Zoeken in Database'!$A$8>=D128),\"x\",\"\")","v":"x"}]
["Incubus","Lowlands 2002","Biddinghuizen","2002-08-24",null,"Alpha","Festivaloptreden",8,2002,{"$f":"VLOOKUP(Table1[[#This Row],[Maand (getal)]],Lijst!A:B,2,FALSE)","v":"aug"},{"$f":"IFERROR(IF(ISBLANK('Zoeken in Database'!$D$3),\"x\",IF(SEARCH('Zoeken in Database'!$D$3,Concerten!A129,1),\"x\",\"\")),\"\")","v":"x"},{"$f":"IFERROR(IF(ISBLANK('Zoeken in Database'!$D$4),\"x\",IF(SEARCH('Zoeken in Database'!$D$4,Concerten!B129,1),\"x\",\"\")),\"\")","v":"x"},{"$f":"IFERROR(IF(ISBLANK('Zoeken in Database'!$D$5),\"x\",IF(SEARCH('Zoeken in Database'!$D$5,Concerten!C129,1),\"x\",\"\")),\"\")","v":"x"},{"$f":"IFERROR(IF(ISBLANK('Zoeken in Database'!$D$6),\"x\",IF(SEARCH('Zoeken in Database'!$D$6,Concerten!G129,1),\"x\",\"\")),\"\")","v":"x"},{"$f":"IF(AND(D129>='Zoeken in Database'!$A$7,'Zoeken in Database'!$A$8>=D129),\"x\",\"\")","v":"x"}]
["Korn","Lowlands 2002","Biddinghuizen","2002-08-24",null,"Alpha","Festivaloptreden",8,2002,{"$f":"VLOOKUP(Table1[[#This Row],[Maand (getal)]],Lijst!A:B,2,FALSE)","v":"aug"},{"$f":"IFERROR(IF(ISBLANK('Zoeken in Database'!$D$3),\"x\",IF(SEARCH('Zoeken in Database'!$D$3,Concerten!A130,1),\"x\",\"\")),\"\")","v":"x"},{"$f":"IFERROR(IF(ISBLANK('Zoeken in Database'!$D$4),\"x\",IF(SEARCH('Zoeken in Database'!$D$4,Concerten!B130,1),\"x\",\"\")),\"\")","v":"x"},{"$f":"IFERROR(IF(ISBLANK('Zoeken in Database'!$D$5),\"x\",IF(SEARCH('Zoeken in Database'!$D$5,Concerten!C130,1),\"x\",\"\")),\"\")","v":"x"},{"$f":"IFERROR(IF(ISBLANK('Zoeken in Database'!$D$6),\"x\",IF(SEARCH('Zoeken in Database'!$D$6,Concerten!G130,1),\"x\",\"\")),\"\")","v":"x"},{"$f":"IF(AND(D130>='Zoeken in Database'!$A$7,'Zoeken in Database'!$A$8>=D130),\"x\",\"\")","v":"x"}]
["Lowlands All Stars ","Lowlands 2002","Biddinghuizen","2002-08-24","(o.a. Brainpower, Van Dik Hout, Undeclinable, BZB, Krezip, Wipneus & Pim, Hallo Venray, Di-Rect, 16Down, Rudeboy, Rowwen heze)","Alpha","Festivaloptreden",{"$f":"IF(ISBLANK(D131),\"\",MONTH(D131))","v":8},{"$f":"IF(ISBLANK(D131),\"\",YEAR(D131))","v":2002},{"$f":"VLOOKUP(Table1[[#This Row],[Maand (getal)]],Lijst!A:B,2,FALSE)","v":"aug"},{"$f":"IFERROR(IF(ISBLANK('Zoeken in Database'!$D$3),\"x\",IF(SEARCH('Zoeken in Database'!$D$3,Concerten!A131,1),\"x\",\"\")),\"\")","v":"x"},{"$f":"IFERROR(IF(ISBLANK('Zoeken in Database'!$D$4),\"x\",IF(SEARCH('Zoeken in Database'!$D$4,Concerten!B131,1),\"x\",\"\")),\"\")","v":"x"},{"$f":"IFERROR(IF(ISBLANK('Zoeken in Database'!$D$5),\"x\",IF(SEARCH('Zoeken in Database'!$D$5,Concerten!C131,1),\"x\",\"\")),\"\")","v":"x"},{"$f":"IFERROR(IF(ISBLANK('Zoeken in Database'!$D$6),\"x\",IF(SEARCH('Zoeken in Database'!$D$6,Concerten!G131,1),\"x\",\"\")),\"\")","v":"x"},{"$f":"IF(AND(D131>='Zoeken in Database'!$A$7,'Zoeken in Database'!$A$8>=D131),\"x\",\"\")","v":"x"}]
["Scala","Lowlands 2002","Biddinghuizen","2002-08-24",null,"Alpha","Festivaloptreden",8,2002,{"$f":"VLOOKUP(Table1[[#This Row],[Maand (getal)]],Lijst!A:B,2,FALSE)","v":"aug"},{"$f":"IFERROR(IF(ISBLANK('Zoeken in Database'!$D$3),\"x\",IF(SEARCH('Zoeken in Database'!$D$3,Concerten!A132,1),\"x\",\"\")),\"\")","v":"x"},{"$f":"IFERROR(IF(ISBLANK('Zoeken in Database'!$D$4),\"x\",IF(SEARCH('Zoeken in Database'!$D$4,Concerten!B132,1),\"x\",\"\")),\"\")","v":"x"},{"$f":"IFERROR(IF(ISBLANK('Zoeken in Database'!$D$5),\"x\",IF(SEARCH('Zoeken in Database'!$D$5,Concerten!C132,1),\"x\",\"\")),\"\")","v":"x"},{"$f":"IFERROR(IF(ISBLANK('Zoeken in Database'!$D$6),\"x\",IF(SEARCH('Zoeken in Database'!$D$6,Concerten!G132,1),\"x\",\"\")),\"\")","v":"x"},{"$f":"IF(AND(D132>='Zoeken in Database'!$A$7,'Zoeken in Database'!$A$8>=D132),\"x\",\"\")","v":"x"}]
["Breeders, The","Lowlands 2002","Biddinghuizen","2002-08-25",null,"Golf","Festivaloptreden",8,2002,{"$f":"VLOOKUP(Table1[[#This Row],[Maand (getal)]],Lijst!A:B,2,FALSE)","v":"aug"},{"$f":"IFERROR(IF(ISBLANK('Zoeken in Database'!$D$3),\"x\",IF(SEARCH('Zoeken in Database'!$D$3,Concerten!A133,1),\"x\",\"\")),\"\")","v":"x"},{"$f":"IFERROR(IF(ISBLANK('Zoeken in Database'!$D$4),\"x\",IF(SEARCH('Zoeken in Database'!$D$4,Concerten!B133,1),\"x\",\"\")),\"\")","v":"x"},{"$f":"IFERROR(IF(ISBLANK('Zoeken in Database'!$D$5),\"x\",IF(SEARCH('Zoeken in Database'!$D$5,Concerten!C133,1),\"x\",\"\")),\"\")","v":"x"},{"$f":"IFERROR(IF(ISBLANK('Zoeken in Database'!$D$6),\"x\",IF(SEARCH('Zoeken in Database'!$D$6,Concerten!G133,1),\"x\",\"\")),\"\")","v":"x"},{"$f":"IF(AND(D133>='Zoeken in Database'!$A$7,'Zoeken in Database'!$A$8>=D133),\"x\",\"\")","v":"x"}]
["Danko Jones","Lowlands 2002","Biddinghuizen","2002-08-25",null,"Charlie","Festivaloptreden",8,2002,{"$f":"VLOOKUP(Table1[[#This Row],[Maand (getal)]],Lijst!A:B,2,FALSE)","v":"aug"},{"$f":"IFERROR(IF(ISBLANK('Zoeken in Database'!$D$3),\"x\",IF(SEARCH('Zoeken in Database'!$D$3,Concerten!A134,1),\"x\",\"\")),\"\")","v":"x"},{"$f":"IFERROR(IF(ISBLANK('Zoeken in Database'!$D$4),\"x\",IF(SEARCH('Zoeken in Database'!$D$4,Concerten!B134,1),\"x\",\"\")),\"\")","v":"x"},{"$f":"IFERROR(IF(ISBLANK('Zoeken in Database'!$D$5),\"x\",IF(SEARCH('Zoeken in Database'!$D$5,Concerten!C134,1),\"x\",\"\")),\"\")","v":"x"},{"$f":"IFERROR(IF(ISBLANK('Zoeken in Database'!$D$6),\"x\",IF(SEARCH('Zoeken in Database'!$D$6,Concerten!G134,1),\"x\",\"\")),\"\")","v":"x"},{"$f":"IF(AND(D134>='Zoeken in Database'!$A$7,'Zoeken in Database'!$A$8>=D134),\"x\",\"\")","v":"x"}]
["Harcourt, Ed","Lowlands 2002","Biddinghuizen","2002-08-25","01. Watching The Sun\n02. Hanging\n03. Undertaker\n04. She Fell\n05. Heart Of Darkness\n06. Birds Fly\n07. Misguided\n08. Jetsetter\n09. Apple\n10. God Protect\n--------\n11. Shanghai\n\n","India","Festivaloptreden",8,2002,{"$f":"VLOOKUP(Table1[[#This Row],[Maand (getal)]],Lijst!A:B,2,FALSE)","v":"aug"},{"$f":"IFERROR(IF(ISBLANK('Zoeken in Database'!$D$3),\"x\",IF(SEARCH('Zoeken in Database'!$D$3,Concerten!A135,1),\"x\",\"\")),\"\")","v":"x"},{"$f":"IFERROR(IF(ISBLANK('Zoeken in Database'!$D$4),\"x\",IF(SEARCH('Zoeken in Database'!$D$4,Concerten!B135,1),\"x\",\"\")),\"\")","v":"x"},{"$f":"IFERROR(IF(ISBLANK('Zoeken in Database'!$D$5),\"x\",IF(SEARCH('Zoeken in Database'!$D$5,Concerten!C135,1),\"x\",\"\")),\"\")","v":"x"},{"$f":"IFERROR(IF(ISBLANK('Zoeken in Database'!$D$6),\"x\",IF(SEARCH('Zoeken in Database'!$D$6,Concerten!G135,1),\"x\",\"\")),\"\")","v":"x"},{"$f":"IF(AND(D135>='Zoeken in Database'!$A$7,'Zoeken in Database'!$A$8>=D135),\"x\",\"\")","v":"x"}]
["Saybia","Lowlands 2002","Biddinghuizen","2002-08-25","01. 7 Demons\n02. So Much Better\n03. Miracle In July\n04. Fools Corner\n05. Snake Tounged Beast\n06. Joy\n07. The Day After Tomorrow\n08. The Second You Sleep\n09. In Spite Of\n\n","India","Festivaloptreden",8,2002,{"$f":"VLOOKUP(Table1[[#This Row],[Maand (getal)]],Lijst!A:B,2,FALSE)","v":"aug"},{"$f":"IFERROR(IF(ISBLANK('Zoeken in Database'!$D$3),\"x\",IF(SEARCH('Zoeken in Database'!$D$3,Concerten!A136,1),\"x\",\"\")),\"\")","v":"x"},{"$f":"IFERROR(IF(ISBLANK('Zoeken in Database'!$D$4),\"x\",IF(SEARCH('Zoeken in Database'!$D$4,Concerten!B136,1),\"x\",\"\")),\"\")","v":"x"},{"$f":"IFERROR(IF(ISBLANK('Zoeken in Database'!$D$5),\"x\",IF(SEARCH('Zoeken in Database'!$D$5,Concerten!C136,1),\"x\",\"\")),\"\")","v":"x"},{"$f":"IFERROR(IF(ISBLANK('Zoeken in Database'!$D$6),\"x\",IF(SEARCH('Zoeken in Database'!$D$6,Concerten!G136,1),\"x\",\"\")),\"\")","v":"x"},{"$f":"IF(AND(D136>='Zoeken in Database'!$A$7,'Zoeken in Database'!$A$8>=D136),\"x\",\"\")","v":"x"}]
["Stuurbaard Bakkebaard","Lowlands 2002","Biddinghuizen","2002-08-25",null,"Charlie","Festivaloptreden",8,2002,{"$f":"VLOOKUP(Table1[[#This Row],[Maand (getal)]],Lijst!A:B,2,FALSE)","v":"aug"},{"$f":"IFERROR(IF(ISBLANK('Zoeken in Database'!$D$3),\"x\",IF(SEARCH('Zoeken in Database'!$D$3,Concerten!A137,1),\"x\",\"\")),\"\")","v":"x"},{"$f":"IFERROR(IF(ISBLANK('Zoeken in Database'!$D$4),\"x\",IF(SEARCH('Zoeken in Database'!$D$4,Concerten!B137,1),\"x\",\"\")),\"\")","v":"x"},{"$f":"IFERROR(IF(ISBLANK('Zoeken in Database'!$D$5),\"x\",IF(SEARCH('Zoeken in Database'!$D$5,Concerten!C137,1),\"x\",\"\")),\"\")","v":"x"},{"$f":"IFERROR(IF(ISBLANK('Zoeken in Database'!$D$6),\"x\",IF(SEARCH('Zoeken in Database'!$D$6,Concerten!G137,1),\"x\",\"\")),\"\")","v":"x"},{"$f":"IF(AND(D137>='Zoeken in Database'!$A$7,'Zoeken in Database'!$A$8>=D137),\"x\",\"\")","v":"x"}]
["Workman, Hawskley","Lowlands 2002","Biddinghuizen","2002-08-25","01. Your Beauty\n02. Clever\n03. Little Tragedies\n04. Bullets\n05. Sad House\n06. Dirty + True\n07. Jealous\n08. Tarantulalove\n09. No More Johnny\n---\n10. No Beginning\n\n","India","Festivaloptreden",8,2002,{"$f":"VLOOKUP(Table1[[#This Row],[Maand (getal)]],Lijst!A:B,2,FALSE)","v":"aug"},{"$f":"IFERROR(IF(ISBLANK('Zoeken in Database'!$D$3),\"x\",IF(SEARCH('Zoeken in Database'!$D$3,Concerten!A138,1),\"x\",\"\")),\"\")","v":"x"},{"$f":"IFERROR(IF(ISBLANK('Zoeken in Database'!$D$4),\"x\",IF(SEARCH('Zoeken in Database'!$D$4,Concerten!B138,1),\"x\",\"\")),\"\")","v":"x"},{"$f":"IFERROR(IF(ISBLANK('Zoeken in Database'!$D$5),\"x\",IF(SEARCH('Zoeken in Database'!$D$5,Concerten!C138,1),\"x\",\"\")),\"\")","v":"x"},{"$f":"IFERROR(IF(ISBLANK('Zoeken in Database'!$D$6),\"x\",IF(SEARCH('Zoeken in Database'!$D$6,Concerten!G138,1),\"x\",\"\")),\"\")","v":"x"},{"$f":"IF(AND(D138>='Zoeken in Database'!$A$7,'Zoeken in Database'!$A$8>=D138),\"x\",\"\")","v":"x"}]
["Green Lizard","Doornroosje","Nijmegen","2002-09-13",null,null,"Hoofdprogramma",9,2002,{"$f":"VLOOKUP(Table1[[#This Row],[Maand (getal)]],Lijst!A:B,2,FALSE)","v":"sep"},{"$f":"IFERROR(IF(ISBLANK('Zoeken in Database'!$D$3),\"x\",IF(SEARCH('Zoeken in Database'!$D$3,Concerten!A139,1),\"x\",\"\")),\"\")","v":"x"},{"$f":"IFERROR(IF(ISBLANK('Zoeken in Database'!$D$4),\"x\",IF(SEARCH('Zoeken in Database'!$D$4,Concerten!B139,1),\"x\",\"\")),\"\")","v":"x"},{"$f":"IFERROR(IF(ISBLANK('Zoeken in Database'!$D$5),\"x\",IF(SEARCH('Zoeken in Database'!$D$5,Concerten!C139,1),\"x\",\"\")),\"\")","v":"x"},{"$f":"IFERROR(IF(ISBLANK('Zoeken in Database'!$D$6),\"x\",IF(SEARCH('Zoeken in Database'!$D$6,Concerten!G139,1),\"x\",\"\")),\"\")","v":"x"},{"$f":"IF(AND(D139>='Zoeken in Database'!$A$7,'Zoeken in Database'!$A$8>=D139),\"x\",\"\")","v":"x"}]
["Soda P","Doornroosje","Nijmegen","2002-09-13",null,null,"Voorprogramma",9,2002,{"$f":"VLOOKUP(Table1[[#This Row],[Maand (getal)]],Lijst!A:B,2,FALSE)","v":"sep"},{"$f":"IFERROR(IF(ISBLANK('Zoeken in Database'!$D$3),\"x\",IF(SEARCH('Zoeken in Database'!$D$3,Concerten!A140,1),\"x\",\"\")),\"\")","v":"x"},{"$f":"IFERROR(IF(ISBLANK('Zoeken in Database'!$D$4),\"x\",IF(SEARCH('Zoeken in Database'!$D$4,Concerten!B140,1),\"x\",\"\")),\"\")","v":"x"},{"$f":"IFERROR(IF(ISBLANK('Zoeken in Database'!$D$5),\"x\",IF(SEARCH('Zoeken in Database'!$D$5,Concerten!C140,1),\"x\",\"\")),\"\")","v":"x"},{"$f":"IFERROR(IF(ISBLANK('Zoeken in Database'!$D$6),\"x\",IF(SEARCH('Zoeken in Database'!$D$6,Concerten!G140,1),\"x\",\"\")),\"\")","v":"x"},{"$f":"IF(AND(D140>='Zoeken in Database'!$A$7,'Zoeken in Database'!$A$8>=D140),\"x\",\"\")","v":"x"}]
["Costello, Elvis","Heineken Music Hall","Amsterdam","2002-09-18","01. Miracle Man \n02. Watching The Detectives \n03. You Little Fool \n04. The Other Side Of Summer \n05. Spooky Girlfriend \n06. (I Don't Want To Go To) Chelsea \n07. 45 \n08. Good Year For The Roses \n09. Radio Silence \n10. High Fidelity \n11. Possession \n12. Temptation \n13. I Can't Stand Up For Falling Down \n14. Tart \n15. Indoor Fireworks \n16. Shipbuilding \n17. When I Was Cruel No. 2 \n18. I Hope You're Happy Now \n--------------------\n19. Tear Off Your Own Head (It's A Doll Revolution) \n20. Alibi \n21. Radio Radio \n22. Oliver's Army \n23. Pump It Up \n--------------------\n24. My Mood Swings \n25. Dust 2… \n26. Alison/He'll Have To Go \n27. 15 Petals \n28. I Want You\n\n\n","& The Imposters","Hoofdprogramma",9,2002,{"$f":"VLOOKUP(Table1[[#This Row],[Maand (getal)]],Lijst!A:B,2,FALSE)","v":"sep"},{"$f":"IFERROR(IF(ISBLANK('Zoeken in Database'!$D$3),\"x\",IF(SEARCH('Zoeken in Database'!$D$3,Concerten!A141,1),\"x\",\"\")),\"\")","v":"x"},{"$f":"IFERROR(IF(ISBLANK('Zoeken in Database'!$D$4),\"x\",IF(SEARCH('Zoeken in Database'!$D$4,Concerten!B141,1),\"x\",\"\")),\"\")","v":"x"},{"$f":"IFERROR(IF(ISBLANK('Zoeken in Database'!$D$5),\"x\",IF(SEARCH('Zoeken in Database'!$D$5,Concerten!C141,1),\"x\",\"\")),\"\")","v":"x"},{"$f":"IFERROR(IF(ISBLANK('Zoeken in Database'!$D$6),\"x\",IF(SEARCH('Zoeken in Database'!$D$6,Concerten!G141,1),\"x\",\"\")),\"\")","v":"x"},{"$f":"IF(AND(D141>='Zoeken in Database'!$A$7,'Zoeken in Database'!$A$8>=D141),\"x\",\"\")","v":"x"}]
["Difford, Chris","Heineken Music Hall","Amsterdam","2002-09-18",null,null,"Voorprogramma",9,2002,{"$f":"VLOOKUP(Table1[[#This Row],[Maand (getal)]],Lijst!A:B,2,FALSE)","v":"sep"},{"$f":"IFERROR(IF(ISBLANK('Zoeken in Database'!$D$3),\"x\",IF(SEARCH('Zoeken in Database'!$D$3,Concerten!A142,1),\"x\",\"\")),\"\")","v":"x"},{"$f":"IFERROR(IF(ISBLANK('Zoeken in Database'!$D$4),\"x\",IF(SEARCH('Zoeken in Database'!$D$4,Concerten!B142,1),\"x\",\"\")),\"\")","v":"x"},{"$f":"IFERROR(IF(ISBLANK('Zoeken in Database'!$D$5),\"x\",IF(SEARCH('Zoeken in Database'!$D$5,Concerten!C142,1),\"x\",\"\")),\"\")","v":"x"},{"$f":"IFERROR(IF(ISBLANK('Zoeken in Database'!$D$6),\"x\",IF(SEARCH('Zoeken in Database'!$D$6,Concerten!G142,1),\"x\",\"\")),\"\")","v":"x"},{"$f":"IF(AND(D142>='Zoeken in Database'!$A$7,'Zoeken in Database'!$A$8>=D142),\"x\",\"\")","v":"x"}]
["Badly Drawn Boy","Paradiso","Amsterdam","2002-09-25",null,null,"Hoofdprogramma",9,2002,{"$f":"VLOOKUP(Table1[[#This Row],[Maand (getal)]],Lijst!A:B,2,FALSE)","v":"sep"},{"$f":"IFERROR(IF(ISBLANK('Zoeken in Database'!$D$3),\"x\",IF(SEARCH('Zoeken in Database'!$D$3,Concerten!A143,1),\"x\",\"\")),\"\")","v":"x"},{"$f":"IFERROR(IF(ISBLANK('Zoeken in Database'!$D$4),\"x\",IF(SEARCH('Zoeken in Database'!$D$4,Concerten!B143,1),\"x\",\"\")),\"\")","v":"x"},{"$f":"IFERROR(IF(ISBLANK('Zoeken in Database'!$D$5),\"x\",IF(SEARCH('Zoeken in Database'!$D$5,Concerten!C143,1),\"x\",\"\")),\"\")","v":"x"},{"$f":"IFERROR(IF(ISBLANK('Zoeken in Database'!$D$6),\"x\",IF(SEARCH('Zoeken in Database'!$D$6,Concerten!G143,1),\"x\",\"\")),\"\")","v":"x"},{"$f":"IF(AND(D143>='Zoeken in Database'!$A$7,'Zoeken in Database'!$A$8>=D143),\"x\",\"\")","v":"x"}]
["5 Days Off","De Wissel","Mill","2002-09-27",null,"Punkfestival","Festivaloptreden",9,2002,{"$f":"VLOOKUP(Table1[[#This Row],[Maand (getal)]],Lijst!A:B,2,FALSE)","v":"sep"},{"$f":"IFERROR(IF(ISBLANK('Zoeken in Database'!$D$3),\"x\",IF(SEARCH('Zoeken in Database'!$D$3,Concerten!A144,1),\"x\",\"\")),\"\")","v":"x"},{"$f":"IFERROR(IF(ISBLANK('Zoeken in Database'!$D$4),\"x\",IF(SEARCH('Zoeken in Database'!$D$4,Concerten!B144,1),\"x\",\"\")),\"\")","v":"x"},{"$f":"IFERROR(IF(ISBLANK('Zoeken in Database'!$D$5),\"x\",IF(SEARCH('Zoeken in Database'!$D$5,Concerten!C144,1),\"x\",\"\")),\"\")","v":"x"},{"$f":"IFERROR(IF(ISBLANK('Zoeken in Database'!$D$6),\"x\",IF(SEARCH('Zoeken in Database'!$D$6,Concerten!G144,1),\"x\",\"\")),\"\")","v":"x"},{"$f":"IF(AND(D144>='Zoeken in Database'!$A$7,'Zoeken in Database'!$A$8>=D144),\"x\",\"\")","v":"x"}]
["Belvedere","De Wissel","Mill","2002-09-27",null,"Punkfestival","Festivaloptreden",9,2002,{"$f":"VLOOKUP(Table1[[#This Row],[Maand (getal)]],Lijst!A:B,2,FALSE)","v":"sep"},{"$f":"IFERROR(IF(ISBLANK('Zoeken in Database'!$D$3),\"x\",IF(SEARCH('Zoeken in Database'!$D$3,Concerten!A145,1),\"x\",\"\")),\"\")","v":"x"},{"$f":"IFERROR(IF(ISBLANK('Zoeken in Database'!$D$4),\"x\",IF(SEARCH('Zoeken in Database'!$D$4,Concerten!B145,1),\"x\",\"\")),\"\")","v":"x"},{"$f":"IFERROR(IF(ISBLANK('Zoeken in Database'!$D$5),\"x\",IF(SEARCH('Zoeken in Database'!$D$5,Concerten!C145,1),\"x\",\"\")),\"\")","v":"x"},{"$f":"IFERROR(IF(ISBLANK('Zoeken in Database'!$D$6),\"x\",IF(SEARCH('Zoeken in Database'!$D$6,Concerten!G145,1),\"x\",\"\")),\"\")","v":"x"},{"$f":"IF(AND(D145>='Zoeken in Database'!$A$7,'Zoeken in Database'!$A$8>=D145),\"x\",\"\")","v":"x"}]
["Of No Avail","De Wissel","Mill","2002-09-27",null,"Punkfestival","Festivaloptreden",9,2002,{"$f":"VLOOKUP(Table1[[#This Row],[Maand (getal)]],Lijst!A:B,2,FALSE)","v":"sep"},{"$f":"IFERROR(IF(ISBLANK('Zoeken in Database'!$D$3),\"x\",IF(SEARCH('Zoeken in Database'!$D$3,Concerten!A146,1),\"x\",\"\")),\"\")","v":"x"},{"$f":"IFERROR(IF(ISBLANK('Zoeken in Database'!$D$4),\"x\",IF(SEARCH('Zoeken in Database'!$D$4,Concerten!B146,1),\"x\",\"\")),\"\")","v":"x"},{"$f":"IFERROR(IF(ISBLANK('Zoeken in Database'!$D$5),\"x\",IF(SEARCH('Zoeken in Database'!$D$5,Concerten!C146,1),\"x\",\"\")),\"\")","v":"x"},{"$f":"IFERROR(IF(ISBLANK('Zoeken in Database'!$D$6),\"x\",IF(SEARCH('Zoeken in Database'!$D$6,Concerten!G146,1),\"x\",\"\")),\"\")","v":"x"},{"$f":"IF(AND(D146>='Zoeken in Database'!$A$7,'Zoeken in Database'!$A$8>=D146),\"x\",\"\")","v":"x"}]
["A Balladeer","O13","Tilburg","2002-10-11",null,null,"Voorprogramma",10,2002,{"$f":"VLOOKUP(Table1[[#This Row],[Maand (getal)]],Lijst!A:B,2,FALSE)","v":"okt"},{"$f":"IFERROR(IF(ISBLANK('Zoeken in Database'!$D$3),\"x\",IF(SEARCH('Zoeken in Database'!$D$3,Concerten!A147,1),\"x\",\"\")),\"\")","v":"x"},{"$f":"IFERROR(IF(ISBLANK('Zoeken in Database'!$D$4),\"x\",IF(SEARCH('Zoeken in Database'!$D$4,Concerten!B147,1),\"x\",\"\")),\"\")","v":"x"},{"$f":"IFERROR(IF(ISBLANK('Zoeken in Database'!$D$5),\"x\",IF(SEARCH('Zoeken in Database'!$D$5,Concerten!C147,1),\"x\",\"\")),\"\")","v":"x"},{"$f":"IFERROR(IF(ISBLANK('Zoeken in Database'!$D$6),\"x\",IF(SEARCH('Zoeken in Database'!$D$6,Concerten!G147,1),\"x\",\"\")),\"\")","v":"x"},{"$f":"IF(AND(D147>='Zoeken in Database'!$A$7,'Zoeken in Database'!$A$8>=D147),\"x\",\"\")","v":"x"}]
["Saybia","O13","Tilburg","2002-10-11",null,null,"Hoofdprogramma",10,2002,{"$f":"VLOOKUP(Table1[[#This Row],[Maand (getal)]],Lijst!A:B,2,FALSE)","v":"okt"},{"$f":"IFERROR(IF(ISBLANK('Zoeken in Database'!$D$3),\"x\",IF(SEARCH('Zoeken in Database'!$D$3,Concerten!A148,1),\"x\",\"\")),\"\")","v":"x"},{"$f":"IFERROR(IF(ISBLANK('Zoeken in Database'!$D$4),\"x\",IF(SEARCH('Zoeken in Database'!$D$4,Concerten!B148,1),\"x\",\"\")),\"\")","v":"x"},{"$f":"IFERROR(IF(ISBLANK('Zoeken in Database'!$D$5),\"x\",IF(SEARCH('Zoeken in Database'!$D$5,Concerten!C148,1),\"x\",\"\")),\"\")","v":"x"},{"$f":"IFERROR(IF(ISBLANK('Zoeken in Database'!$D$6),\"x\",IF(SEARCH('Zoeken in Database'!$D$6,Concerten!G148,1),\"x\",\"\")),\"\")","v":"x"},{"$f":"IF(AND(D148>='Zoeken in Database'!$A$7,'Zoeken in Database'!$A$8>=D148),\"x\",\"\")","v":"x"}]
["Coldplay","Ahoy","Rotterdam","2002-11-05","01. Politik \n02. Shiver \n03. Spies \n04. Daylight \n05. Trouble \n06. One I Love \n07. Don't Panic \n08. Everything's Not Lost \n09. Green Eyes \n10. Mooie Ellebogen (Dutch song written by Coldplay) \n11. God Put A Smile Upon Your Face \n12. Yellow \n13. The Scientist \n-------------\n14. Clocks \n15. In My Place \n16. Live Is For Living \n-------------\n17. Moses (first time ever)\n\n",null,"Hoofdprogramma",11,2002,{"$f":"VLOOKUP(Table1[[#This Row],[Maand (getal)]],Lijst!A:B,2,FALSE)","v":"nov"},{"$f":"IFERROR(IF(ISBLANK('Zoeken in Database'!$D$3),\"x\",IF(SEARCH('Zoeken in Database'!$D$3,Concerten!A149,1),\"x\",\"\")),\"\")","v":"x"},{"$f":"IFERROR(IF(ISBLANK('Zoeken in Database'!$D$4),\"x\",IF(SEARCH('Zoeken in Database'!$D$4,Concerten!B149,1),\"x\",\"\")),\"\")","v":"x"},{"$f":"IFERROR(IF(ISBLANK('Zoeken in Database'!$D$5),\"x\",IF(SEARCH('Zoeken in Database'!$D$5,Concerten!C149,1),\"x\",\"\")),\"\")","v":"x"},{"$f":"IFERROR(IF(ISBLANK('Zoeken in Database'!$D$6),\"x\",IF(SEARCH('Zoeken in Database'!$D$6,Concerten!G149,1),\"x\",\"\")),\"\")","v":"x"},{"$f":"IF(AND(D149>='Zoeken in Database'!$A$7,'Zoeken in Database'!$A$8>=D149),\"x\",\"\")","v":"x"}]
["Idlewild","Ahoy","Rotterdam","2002-11-05",null,null,"Voorprogramma",11,2002,{"$f":"VLOOKUP(Table1[[#This Row],[Maand (getal)]],Lijst!A:B,2,FALSE)","v":"nov"},{"$f":"IFERROR(IF(ISBLANK('Zoeken in Database'!$D$3),\"x\",IF(SEARCH('Zoeken in Database'!$D$3,Concerten!A150,1),\"x\",\"\")),\"\")","v":"x"},{"$f":"IFERROR(IF(ISBLANK('Zoeken in Database'!$D$4),\"x\",IF(SEARCH('Zoeken in Database'!$D$4,Concerten!B150,1),\"x\",\"\")),\"\")","v":"x"},{"$f":"IFERROR(IF(ISBLANK('Zoeken in Database'!$D$5),\"x\",IF(SEARCH('Zoeken in Database'!$D$5,Concerten!C150,1),\"x\",\"\")),\"\")","v":"x"},{"$f":"IFERROR(IF(ISBLANK('Zoeken in Database'!$D$6),\"x\",IF(SEARCH('Zoeken in Database'!$D$6,Concerten!G150,1),\"x\",\"\")),\"\")","v":"x"},{"$f":"IF(AND(D150>='Zoeken in Database'!$A$7,'Zoeken in Database'!$A$8>=D150),\"x\",\"\")","v":"x"}]
["Drive-by Truckers","Doornroosje","Nijmegen","2002-11-13","sandwiches for the road\nroad cases\n72\nWallace\ndead drunk and naked\nguitar man upstairs\nthe tough sel\none of these days\nsinkhole\ndecoration day\nhell no I ain’t happy\nmarry me\nlet there be rock\ndon’t be in love around me\nuncle frank\nthank god for the tva\nzip city\nshut up and get on the plane\nbuttholeville\nbulldozers and dirt\nheathens\ndo it yourself\nwomen without whiskey\nsteve mcqueen\n",null,"Hoofdprogramma",11,2002,{"$f":"VLOOKUP(Table1[[#This Row],[Maand (getal)]],Lijst!A:B,2,FALSE)","v":"nov"},{"$f":"IFERROR(IF(ISBLANK('Zoeken in Database'!$D$3),\"x\",IF(SEARCH('Zoeken in Database'!$D$3,Concerten!A151,1),\"x\",\"\")),\"\")","v":"x"},{"$f":"IFERROR(IF(ISBLANK('Zoeken in Database'!$D$4),\"x\",IF(SEARCH('Zoeken in Database'!$D$4,Concerten!B151,1),\"x\",\"\")),\"\")","v":"x"},{"$f":"IFERROR(IF(ISBLANK('Zoeken in Database'!$D$5),\"x\",IF(SEARCH('Zoeken in Database'!$D$5,Concerten!C151,1),\"x\",\"\")),\"\")","v":"x"},{"$f":"IFERROR(IF(ISBLANK('Zoeken in Database'!$D$6),\"x\",IF(SEARCH('Zoeken in Database'!$D$6,Concerten!G151,1),\"x\",\"\")),\"\")","v":"x"},{"$f":"IF(AND(D151>='Zoeken in Database'!$A$7,'Zoeken in Database'!$A$8>=D151),\"x\",\"\")","v":"x"}]
["Krezip","Doornroosje","Nijmegen","2002-11-20",null,null,"Hoofdprogramma",11,2002,{"$f":"VLOOKUP(Table1[[#This Row],[Maand (getal)]],Lijst!A:B,2,FALSE)","v":"nov"},{"$f":"IFERROR(IF(ISBLANK('Zoeken in Database'!$D$3),\"x\",IF(SEARCH('Zoeken in Database'!$D$3,Concerten!A152,1),\"x\",\"\")),\"\")","v":"x"},{"$f":"IFERROR(IF(ISBLANK('Zoeken in Database'!$D$4),\"x\",IF(SEARCH('Zoeken in Database'!$D$4,Concerten!B152,1),\"x\",\"\")),\"\")","v":"x"},{"$f":"IFERROR(IF(ISBLANK('Zoeken in Database'!$D$5),\"x\",IF(SEARCH('Zoeken in Database'!$D$5,Concerten!C152,1),\"x\",\"\")),\"\")","v":"x"},{"$f":"IFERROR(IF(ISBLANK('Zoeken in Database'!$D$6),\"x\",IF(SEARCH('Zoeken in Database'!$D$6,Concerten!G152,1),\"x\",\"\")),\"\")","v":"x"},{"$f":"IF(AND(D152>='Zoeken in Database'!$A$7,'Zoeken in Database'!$A$8>=D152),\"x\",\"\")","v":"x"}]
["Krezip","W2","Den Bosch","2002-11-24",null,null,"Hoofdprogramma",11,2002,{"$f":"VLOOKUP(Table1[[#This Row],[Maand (getal)]],Lijst!A:B,2,FALSE)","v":"nov"},{"$f":"IFERROR(IF(ISBLANK('Zoeken in Database'!$D$3),\"x\",IF(SEARCH('Zoeken in Database'!$D$3,Concerten!A153,1),\"x\",\"\")),\"\")","v":"x"},{"$f":"IFERROR(IF(ISBLANK('Zoeken in Database'!$D$4),\"x\",IF(SEARCH('Zoeken in Database'!$D$4,Concerten!B153,1),\"x\",\"\")),\"\")","v":"x"},{"$f":"IFERROR(IF(ISBLANK('Zoeken in Database'!$D$5),\"x\",IF(SEARCH('Zoeken in Database'!$D$5,Concerten!C153,1),\"x\",\"\")),\"\")","v":"x"},{"$f":"IFERROR(IF(ISBLANK('Zoeken in Database'!$D$6),\"x\",IF(SEARCH('Zoeken in Database'!$D$6,Concerten!G153,1),\"x\",\"\")),\"\")","v":"x"},{"$f":"IF(AND(D153>='Zoeken in Database'!$A$7,'Zoeken in Database'!$A$8>=D153),\"x\",\"\")","v":"x"}]
["Adams, Ryan","O13","Tilburg","2002-12-01","01. Sweet Lil' Gal (23rd/1st) \n02. To Be Young (Is To Be Sad, Is To Be High)   \n03. Firecracker   \n04. The Ballad Of Carol Lynn   \n05. Oh My Sweet Carolina   \n06. Touch, Feel & Lose   \n07. Shadowlands   \n08. Thank You Louise  \n09. I See Monsters   \n10. Not Gonna Make It Out Of This One This Time   \n11. Bartering Lines   \n12. My Winding Wheel   \n13. SYLVIA PLATH   \n14. Lovesick Blues   \n------------------ \n15. Hard Way To Fall  \n16. Like A Virgin   \n17. Dear Chicago   \n18. You Will Always Be The Same   \n19. La Cienega Just Smiled \n\n","Solo","Hoofdprogramma",12,2002,{"$f":"VLOOKUP(Table1[[#This Row],[Maand (getal)]],Lijst!A:B,2,FALSE)","v":"dec"},{"$f":"IFERROR(IF(ISBLANK('Zoeken in Database'!$D$3),\"x\",IF(SEARCH('Zoeken in Database'!$D$3,Concerten!A154,1),\"x\",\"\")),\"\")","v":"x"},{"$f":"IFERROR(IF(ISBLANK('Zoeken in Database'!$D$4),\"x\",IF(SEARCH('Zoeken in Database'!$D$4,Concerten!B154,1),\"x\",\"\")),\"\")","v":"x"},{"$f":"IFERROR(IF(ISBLANK('Zoeken in Database'!$D$5),\"x\",IF(SEARCH('Zoeken in Database'!$D$5,Concerten!C154,1),\"x\",\"\")),\"\")","v":"x"},{"$f":"IFERROR(IF(ISBLANK('Zoeken in Database'!$D$6),\"x\",IF(SEARCH('Zoeken in Database'!$D$6,Concerten!G154,1),\"x\",\"\")),\"\")","v":"x"},{"$f":"IF(AND(D154>='Zoeken in Database'!$A$7,'Zoeken in Database'!$A$8>=D154),\"x\",\"\")","v":"x"}]
["Malin, Jesse","O13","Tilburg","2002-12-01",null,null,"Voorprogramma",12,2002,{"$f":"VLOOKUP(Table1[[#This Row],[Maand (getal)]],Lijst!A:B,2,FALSE)","v":"dec"},{"$f":"IFERROR(IF(ISBLANK('Zoeken in Database'!$D$3),\"x\",IF(SEARCH('Zoeken in Database'!$D$3,Concerten!A155,1),\"x\",\"\")),\"\")","v":"x"},{"$f":"IFERROR(IF(ISBLANK('Zoeken in Database'!$D$4),\"x\",IF(SEARCH('Zoeken in Database'!$D$4,Concerten!B155,1),\"x\",\"\")),\"\")","v":"x"},{"$f":"IFERROR(IF(ISBLANK('Zoeken in Database'!$D$5),\"x\",IF(SEARCH('Zoeken in Database'!$D$5,Concerten!C155,1),\"x\",\"\")),\"\")","v":"x"},{"$f":"IFERROR(IF(ISBLANK('Zoeken in Database'!$D$6),\"x\",IF(SEARCH('Zoeken in Database'!$D$6,Concerten!G155,1),\"x\",\"\")),\"\")","v":"x"},{"$f":"IF(AND(D155>='Zoeken in Database'!$A$7,'Zoeken in Database'!$A$8>=D155),\"x\",\"\")","v":"x"}]
["Adams, Ryan","MC Vredenburg","Utrecht","2002-12-04","01. Sweet Lil' Gal (23rd/1st)\n02. Oh My Sweet Carolina   \n03. To Be Young (Is To Be Sad, Is To Be High)   \n04. Shadowlands   \n05. Twice As Bad As Love   \n06. Touch, Feel & Lose   \n07. SYLVIA PLATH   \n08. You Will Always Be The Same   \n09. Dear Chicago   \n10. Come Down Easy (Cover Debut)  \n11. Sweetest Decline   \n12. She Wants To Play Hearts   \n13. Oh My Sweet Chocolate Cookie   \n14. Thank You Louise   \n15. Learn How To Say Goodbye (Debut)   \n16. The Ballad Of Carol Lynn  \n\n","Solo","Hoofdprogramma",12,2002,{"$f":"VLOOKUP(Table1[[#This Row],[Maand (getal)]],Lijst!A:B,2,FALSE)","v":"dec"},{"$f":"IFERROR(IF(ISBLANK('Zoeken in Database'!$D$3),\"x\",IF(SEARCH('Zoeken in Database'!$D$3,Concerten!A156,1),\"x\",\"\")),\"\")","v":"x"},{"$f":"IFERROR(IF(ISBLANK('Zoeken in Database'!$D$4),\"x\",IF(SEARCH('Zoeken in Database'!$D$4,Concerten!B156,1),\"x\",\"\")),\"\")","v":"x"},{"$f":"IFERROR(IF(ISBLANK('Zoeken in Database'!$D$5),\"x\",IF(SEARCH('Zoeken in Database'!$D$5,Concerten!C156,1),\"x\",\"\")),\"\")","v":"x"},{"$f":"IFERROR(IF(ISBLANK('Zoeken in Database'!$D$6),\"x\",IF(SEARCH('Zoeken in Database'!$D$6,Concerten!G156,1),\"x\",\"\")),\"\")","v":"x"},{"$f":"IF(AND(D156>='Zoeken in Database'!$A$7,'Zoeken in Database'!$A$8>=D156),\"x\",\"\")","v":"x"}]
["Malin, Jesse","MC Vredenburg","Utrecht","2002-12-04",null,null,"Voorprogramma",12,2002,{"$f":"VLOOKUP(Table1[[#This Row],[Maand (getal)]],Lijst!A:B,2,FALSE)","v":"dec"},{"$f":"IFERROR(IF(ISBLANK('Zoeken in Database'!$D$3),\"x\",IF(SEARCH('Zoeken in Database'!$D$3,Concerten!A157,1),\"x\",\"\")),\"\")","v":"x"},{"$f":"IFERROR(IF(ISBLANK('Zoeken in Database'!$D$4),\"x\",IF(SEARCH('Zoeken in Database'!$D$4,Concerten!B157,1),\"x\",\"\")),\"\")","v":"x"},{"$f":"IFERROR(IF(ISBLANK('Zoeken in Database'!$D$5),\"x\",IF(SEARCH('Zoeken in Database'!$D$5,Concerten!C157,1),\"x\",\"\")),\"\")","v":"x"},{"$f":"IFERROR(IF(ISBLANK('Zoeken in Database'!$D$6),\"x\",IF(SEARCH('Zoeken in Database'!$D$6,Concerten!G157,1),\"x\",\"\")),\"\")","v":"x"},{"$f":"IF(AND(D157>='Zoeken in Database'!$A$7,'Zoeken in Database'!$A$8>=D157),\"x\",\"\")","v":"x"}]
["Foo Fighters","Heineken Music Hall","Amsterdam","2002-12-09","01. All My Life \n02. My Hero \n03. Generator \n04. Learn To Fly \n05. Up In Arms \n06. Have It All \n07. Stacked Actors \n08. Never Talking To You Again \n09. Times Like These \n10. For All The Cows \n11. The One \n12. Low \n13. Hey JP \n14. Monkeywrench \n15. Tired \n16. Everlong \n---------------------\n17. Enough Space \n18. Next To You - For Linda \n19. Breakout \n\n",null,"Hoofdprogramma",12,2002,{"$f":"VLOOKUP(Table1[[#This Row],[Maand (getal)]],Lijst!A:B,2,FALSE)","v":"dec"},{"$f":"IFERROR(IF(ISBLANK('Zoeken in Database'!$D$3),\"x\",IF(SEARCH('Zoeken in Database'!$D$3,Concerten!A158,1),\"x\",\"\")),\"\")","v":"x"},{"$f":"IFERROR(IF(ISBLANK('Zoeken in Database'!$D$4),\"x\",IF(SEARCH('Zoeken in Database'!$D$4,Concerten!B158,1),\"x\",\"\")),\"\")","v":"x"},{"$f":"IFERROR(IF(ISBLANK('Zoeken in Database'!$D$5),\"x\",IF(SEARCH('Zoeken in Database'!$D$5,Concerten!C158,1),\"x\",\"\")),\"\")","v":"x"},{"$f":"IFERROR(IF(ISBLANK('Zoeken in Database'!$D$6),\"x\",IF(SEARCH('Zoeken in Database'!$D$6,Concerten!G158,1),\"x\",\"\")),\"\")","v":"x"},{"$f":"IF(AND(D158>='Zoeken in Database'!$A$7,'Zoeken in Database'!$A$8>=D158),\"x\",\"\")","v":"x"}]
["Supergrass","Heineken Music Hall","Amsterdam","2002-12-09",null,null,"Voorprogramma",12,2002,{"$f":"VLOOKUP(Table1[[#This Row],[Maand (getal)]],Lijst!A:B,2,FALSE)","v":"dec"},{"$f":"IFERROR(IF(ISBLANK('Zoeken in Database'!$D$3),\"x\",IF(SEARCH('Zoeken in Database'!$D$3,Concerten!A159,1),\"x\",\"\")),\"\")","v":"x"},{"$f":"IFERROR(IF(ISBLANK('Zoeken in Database'!$D$4),\"x\",IF(SEARCH('Zoeken in Database'!$D$4,Concerten!B159,1),\"x\",\"\")),\"\")","v":"x"},{"$f":"IFERROR(IF(ISBLANK('Zoeken in Database'!$D$5),\"x\",IF(SEARCH('Zoeken in Database'!$D$5,Concerten!C159,1),\"x\",\"\")),\"\")","v":"x"},{"$f":"IFERROR(IF(ISBLANK('Zoeken in Database'!$D$6),\"x\",IF(SEARCH('Zoeken in Database'!$D$6,Concerten!G159,1),\"x\",\"\")),\"\")","v":"x"},{"$f":"IF(AND(D159>='Zoeken in Database'!$A$7,'Zoeken in Database'!$A$8>=D159),\"x\",\"\")","v":"x"}]
["Krezip","O13","Tilburg","2002-12-19",null,null,"Hoofdprogramma",12,2002,{"$f":"VLOOKUP(Table1[[#This Row],[Maand (getal)]],Lijst!A:B,2,FALSE)","v":"dec"},{"$f":"IFERROR(IF(ISBLANK('Zoeken in Database'!$D$3),\"x\",IF(SEARCH('Zoeken in Database'!$D$3,Concerten!A160,1),\"x\",\"\")),\"\")","v":"x"},{"$f":"IFERROR(IF(ISBLANK('Zoeken in Database'!$D$4),\"x\",IF(SEARCH('Zoeken in Database'!$D$4,Concerten!B160,1),\"x\",\"\")),\"\")","v":"x"},{"$f":"IFERROR(IF(ISBLANK('Zoeken in Database'!$D$5),\"x\",IF(SEARCH('Zoeken in Database'!$D$5,Concerten!C160,1),\"x\",\"\")),\"\")","v":"x"},{"$f":"IFERROR(IF(ISBLANK('Zoeken in Database'!$D$6),\"x\",IF(SEARCH('Zoeken in Database'!$D$6,Concerten!G160,1),\"x\",\"\")),\"\")","v":"x"},{"$f":"IF(AND(D160>='Zoeken in Database'!$A$7,'Zoeken in Database'!$A$8>=D160),\"x\",\"\")","v":"x"}]
["One In A Million","O13","Tilburg","2002-12-19",null,null,"Voorprogramma",12,2002,{"$f":"VLOOKUP(Table1[[#This Row],[Maand (getal)]],Lijst!A:B,2,FALSE)","v":"dec"},{"$f":"IFERROR(IF(ISBLANK('Zoeken in Database'!$D$3),\"x\",IF(SEARCH('Zoeken in Database'!$D$3,Concerten!A161,1),\"x\",\"\")),\"\")","v":"x"},{"$f":"IFERROR(IF(ISBLANK('Zoeken in Database'!$D$4),\"x\",IF(SEARCH('Zoeken in Database'!$D$4,Concerten!B161,1),\"x\",\"\")),\"\")","v":"x"},{"$f":"IFERROR(IF(ISBLANK('Zoeken in Database'!$D$5),\"x\",IF(SEARCH('Zoeken in Database'!$D$5,Concerten!C161,1),\"x\",\"\")),\"\")","v":"x"},{"$f":"IFERROR(IF(ISBLANK('Zoeken in Database'!$D$6),\"x\",IF(SEARCH('Zoeken in Database'!$D$6,Concerten!G161,1),\"x\",\"\")),\"\")","v":"x"},{"$f":"IF(AND(D161>='Zoeken in Database'!$A$7,'Zoeken in Database'!$A$8>=D161),\"x\",\"\")","v":"x"}]
["Counting Crows","Heineken Music Hall","Amsterdam","2003-02-04","01. Hysml\n02. Richard manuel is dead\n03. Mr. Jones\n04. Perfect blue buildings\n05. St. Robinson\n06. American girls (a song about a dick, adam said)\n07. Rain king (great thunder road alt.)\n08. Long december\n09. Anna begins\n10. Big yelllow taxi\n11. New frontier\n12. Catapult\n13. Speedway\n14. Miami\n15. Murder of one\n----------------------\n16. Hard candy\n17. Goodnight elizabeth (it's not allright Alt.)\n18. Hanging' around\n--------------------\n19. Holiday in spain\n",null,"Hoofdprogramma",2,2003,{"$f":"VLOOKUP(Table1[[#This Row],[Maand (getal)]],Lijst!A:B,2,FALSE)","v":"feb"},{"$f":"IFERROR(IF(ISBLANK('Zoeken in Database'!$D$3),\"x\",IF(SEARCH('Zoeken in Database'!$D$3,Concerten!A162,1),\"x\",\"\")),\"\")","v":"x"},{"$f":"IFERROR(IF(ISBLANK('Zoeken in Database'!$D$4),\"x\",IF(SEARCH('Zoeken in Database'!$D$4,Concerten!B162,1),\"x\",\"\")),\"\")","v":"x"},{"$f":"IFERROR(IF(ISBLANK('Zoeken in Database'!$D$5),\"x\",IF(SEARCH('Zoeken in Database'!$D$5,Concerten!C162,1),\"x\",\"\")),\"\")","v":"x"},{"$f":"IFERROR(IF(ISBLANK('Zoeken in Database'!$D$6),\"x\",IF(SEARCH('Zoeken in Database'!$D$6,Concerten!G162,1),\"x\",\"\")),\"\")","v":"x"},{"$f":"IF(AND(D162>='Zoeken in Database'!$A$7,'Zoeken in Database'!$A$8>=D162),\"x\",\"\")","v":"x"}]
["Daryll-Ann","Heineken Music Hall","Amsterdam","2003-02-04",null,null,"Voorprogramma",2,2003,{"$f":"VLOOKUP(Table1[[#This Row],[Maand (getal)]],Lijst!A:B,2,FALSE)","v":"feb"},{"$f":"IFERROR(IF(ISBLANK('Zoeken in Database'!$D$3),\"x\",IF(SEARCH('Zoeken in Database'!$D$3,Concerten!A163,1),\"x\",\"\")),\"\")","v":"x"},{"$f":"IFERROR(IF(ISBLANK('Zoeken in Database'!$D$4),\"x\",IF(SEARCH('Zoeken in Database'!$D$4,Concerten!B163,1),\"x\",\"\")),\"\")","v":"x"},{"$f":"IFERROR(IF(ISBLANK('Zoeken in Database'!$D$5),\"x\",IF(SEARCH('Zoeken in Database'!$D$5,Concerten!C163,1),\"x\",\"\")),\"\")","v":"x"},{"$f":"IFERROR(IF(ISBLANK('Zoeken in Database'!$D$6),\"x\",IF(SEARCH('Zoeken in Database'!$D$6,Concerten!G163,1),\"x\",\"\")),\"\")","v":"x"},{"$f":"IF(AND(D163>='Zoeken in Database'!$A$7,'Zoeken in Database'!$A$8>=D163),\"x\",\"\")","v":"x"}]
["Echoboy","Doornroosje","Nijmegen","2003-03-27",null,null,"Voorprogramma",3,2003,{"$f":"VLOOKUP(Table1[[#This Row],[Maand (getal)]],Lijst!A:B,2,FALSE)","v":"mrt"},{"$f":"IFERROR(IF(ISBLANK('Zoeken in Database'!$D$3),\"x\",IF(SEARCH('Zoeken in Database'!$D$3,Concerten!A164,1),\"x\",\"\")),\"\")","v":"x"},{"$f":"IFERROR(IF(ISBLANK('Zoeken in Database'!$D$4),\"x\",IF(SEARCH('Zoeken in Database'!$D$4,Concerten!B164,1),\"x\",\"\")),\"\")","v":"x"},{"$f":"IFERROR(IF(ISBLANK('Zoeken in Database'!$D$5),\"x\",IF(SEARCH('Zoeken in Database'!$D$5,Concerten!C164,1),\"x\",\"\")),\"\")","v":"x"},{"$f":"IFERROR(IF(ISBLANK('Zoeken in Database'!$D$6),\"x\",IF(SEARCH('Zoeken in Database'!$D$6,Concerten!G164,1),\"x\",\"\")),\"\")","v":"x"},{"$f":"IF(AND(D164>='Zoeken in Database'!$A$7,'Zoeken in Database'!$A$8>=D164),\"x\",\"\")","v":"x"}]
["Nada Surf","Doornroosje","Nijmegen","2003-03-27",null,null,"Hoofdprogramma",3,2003,{"$f":"VLOOKUP(Table1[[#This Row],[Maand (getal)]],Lijst!A:B,2,FALSE)","v":"mrt"},{"$f":"IFERROR(IF(ISBLANK('Zoeken in Database'!$D$3),\"x\",IF(SEARCH('Zoeken in Database'!$D$3,Concerten!A165,1),\"x\",\"\")),\"\")","v":"x"},{"$f":"IFERROR(IF(ISBLANK('Zoeken in Database'!$D$4),\"x\",IF(SEARCH('Zoeken in Database'!$D$4,Concerten!B165,1),\"x\",\"\")),\"\")","v":"x"},{"$f":"IFERROR(IF(ISBLANK('Zoeken in Database'!$D$5),\"x\",IF(SEARCH('Zoeken in Database'!$D$5,Concerten!C165,1),\"x\",\"\")),\"\")","v":"x"},{"$f":"IFERROR(IF(ISBLANK('Zoeken in Database'!$D$6),\"x\",IF(SEARCH('Zoeken in Database'!$D$6,Concerten!G165,1),\"x\",\"\")),\"\")","v":"x"},{"$f":"IF(AND(D165>='Zoeken in Database'!$A$7,'Zoeken in Database'!$A$8>=D165),\"x\",\"\")","v":"x"}]
["Racoon","Merleyn","Nijmegen","2003-03-29","01. BYS\n02. Shoot\n03. Atunes\n04. Hilar\n05. Rem\n06. Genius\n07. part\n08. Lat\n09. D.nons\n10. Us\n11. HCT\n12. If You D\n13. Luka\n14. Hallellujah\n15. B Days\n16. Telephone\n17. G. Bar\n18. Video\n\n","Acoustic Tour","Hoofdprogramma",3,2003,{"$f":"VLOOKUP(Table1[[#This Row],[Maand (getal)]],Lijst!A:B,2,FALSE)","v":"mrt"},{"$f":"IFERROR(IF(ISBLANK('Zoeken in Database'!$D$3),\"x\",IF(SEARCH('Zoeken in Database'!$D$3,Concerten!A166,1),\"x\",\"\")),\"\")","v":"x"},{"$f":"IFERROR(IF(ISBLANK('Zoeken in Database'!$D$4),\"x\",IF(SEARCH('Zoeken in Database'!$D$4,Concerten!B166,1),\"x\",\"\")),\"\")","v":"x"},{"$f":"IFERROR(IF(ISBLANK('Zoeken in Database'!$D$5),\"x\",IF(SEARCH('Zoeken in Database'!$D$5,Concerten!C166,1),\"x\",\"\")),\"\")","v":"x"},{"$f":"IFERROR(IF(ISBLANK('Zoeken in Database'!$D$6),\"x\",IF(SEARCH('Zoeken in Database'!$D$6,Concerten!G166,1),\"x\",\"\")),\"\")","v":"x"},{"$f":"IF(AND(D166>='Zoeken in Database'!$A$7,'Zoeken in Database'!$A$8>=D166),\"x\",\"\")","v":"x"}]
["Das Pop","Doornroosje","Nijmegen","2003-04-13","01. all wrong\n02. the one\n03. never there\n04. telephone love\n05. feverman\n06. love = fair\n07. we live again\n08. another world\n09. little boy\n10. turn\n11. feelgood factors\n12. forever\n13. You\n----\n14. the love program\n15. human thing\n---\n16. abracadabra\n\n",null,"Hoofdprogramma",4,2003,{"$f":"VLOOKUP(Table1[[#This Row],[Maand (getal)]],Lijst!A:B,2,FALSE)","v":"apr"},{"$f":"IFERROR(IF(ISBLANK('Zoeken in Database'!$D$3),\"x\",IF(SEARCH('Zoeken in Database'!$D$3,Concerten!A167,1),\"x\",\"\")),\"\")","v":"x"},{"$f":"IFERROR(IF(ISBLANK('Zoeken in Database'!$D$4),\"x\",IF(SEARCH('Zoeken in Database'!$D$4,Concerten!B167,1),\"x\",\"\")),\"\")","v":"x"},{"$f":"IFERROR(IF(ISBLANK('Zoeken in Database'!$D$5),\"x\",IF(SEARCH('Zoeken in Database'!$D$5,Concerten!C167,1),\"x\",\"\")),\"\")","v":"x"},{"$f":"IFERROR(IF(ISBLANK('Zoeken in Database'!$D$6),\"x\",IF(SEARCH('Zoeken in Database'!$D$6,Concerten!G167,1),\"x\",\"\")),\"\")","v":"x"},{"$f":"IF(AND(D167>='Zoeken in Database'!$A$7,'Zoeken in Database'!$A$8>=D167),\"x\",\"\")","v":"x"}]
["Thou","Doornroosje","Nijmegen","2003-04-13","01. Elvis Or Betty Boop\n02. Lovely Joe\n03. Yeah! Yeah!\n04. Kickin’\n05. Moods\n06. Slow Down\n07. Sorry\n08. Speakers\n09. Dance Floor\n10. Up To Me\n11. Go Away\n12. Special Sundays\n\n",null,"Voorprogramma",4,2003,{"$f":"VLOOKUP(Table1[[#This Row],[Maand (getal)]],Lijst!A:B,2,FALSE)","v":"apr"},{"$f":"IFERROR(IF(ISBLANK('Zoeken in Database'!$D$3),\"x\",IF(SEARCH('Zoeken in Database'!$D$3,Concerten!A168,1),\"x\",\"\")),\"\")","v":"x"},{"$f":"IFERROR(IF(ISBLANK('Zoeken in Database'!$D$4),\"x\",IF(SEARCH('Zoeken in Database'!$D$4,Concerten!B168,1),\"x\",\"\")),\"\")","v":"x"},{"$f":"IFERROR(IF(ISBLANK('Zoeken in Database'!$D$5),\"x\",IF(SEARCH('Zoeken in Database'!$D$5,Concerten!C168,1),\"x\",\"\")),\"\")","v":"x"},{"$f":"IFERROR(IF(ISBLANK('Zoeken in Database'!$D$6),\"x\",IF(SEARCH('Zoeken in Database'!$D$6,Concerten!G168,1),\"x\",\"\")),\"\")","v":"x"},{"$f":"IF(AND(D168>='Zoeken in Database'!$A$7,'Zoeken in Database'!$A$8>=D168),\"x\",\"\")","v":"x"}]
["4 Fridges","Box","Boxmeer","2003-04-19",null,null,"Voorprogramma",4,2003,{"$f":"VLOOKUP(Table1[[#This Row],[Maand (getal)]],Lijst!A:B,2,FALSE)","v":"apr"},{"$f":"IFERROR(IF(ISBLANK('Zoeken in Database'!$D$3),\"x\",IF(SEARCH('Zoeken in Database'!$D$3,Concerten!A169,1),\"x\",\"\")),\"\")","v":"x"},{"$f":"IFERROR(IF(ISBLANK('Zoeken in Database'!$D$4),\"x\",IF(SEARCH('Zoeken in Database'!$D$4,Concerten!B169,1),\"x\",\"\")),\"\")","v":"x"},{"$f":"IFERROR(IF(ISBLANK('Zoeken in Database'!$D$5),\"x\",IF(SEARCH('Zoeken in Database'!$D$5,Concerten!C169,1),\"x\",\"\")),\"\")","v":"x"},{"$f":"IFERROR(IF(ISBLANK('Zoeken in Database'!$D$6),\"x\",IF(SEARCH('Zoeken in Database'!$D$6,Concerten!G169,1),\"x\",\"\")),\"\")","v":"x"},{"$f":"IF(AND(D169>='Zoeken in Database'!$A$7,'Zoeken in Database'!$A$8>=D169),\"x\",\"\")","v":"x"}]
["Belvedere","Box","Boxmeer","2003-04-19",null,null,"Hoofdprogramma",4,2003,{"$f":"VLOOKUP(Table1[[#This Row],[Maand (getal)]],Lijst!A:B,2,FALSE)","v":"apr"},{"$f":"IFERROR(IF(ISBLANK('Zoeken in Database'!$D$3),\"x\",IF(SEARCH('Zoeken in Database'!$D$3,Concerten!A170,1),\"x\",\"\")),\"\")","v":"x"},{"$f":"IFERROR(IF(ISBLANK('Zoeken in Database'!$D$4),\"x\",IF(SEARCH('Zoeken in Database'!$D$4,Concerten!B170,1),\"x\",\"\")),\"\")","v":"x"},{"$f":"IFERROR(IF(ISBLANK('Zoeken in Database'!$D$5),\"x\",IF(SEARCH('Zoeken in Database'!$D$5,Concerten!C170,1),\"x\",\"\")),\"\")","v":"x"},{"$f":"IFERROR(IF(ISBLANK('Zoeken in Database'!$D$6),\"x\",IF(SEARCH('Zoeken in Database'!$D$6,Concerten!G170,1),\"x\",\"\")),\"\")","v":"x"},{"$f":"IF(AND(D170>='Zoeken in Database'!$A$7,'Zoeken in Database'!$A$8>=D170),\"x\",\"\")","v":"x"}]
["Dependent","Box","Boxmeer","2003-04-19",null,null,"Voorprogramma",4,2003,{"$f":"VLOOKUP(Table1[[#This Row],[Maand (getal)]],Lijst!A:B,2,FALSE)","v":"apr"},{"$f":"IFERROR(IF(ISBLANK('Zoeken in Database'!$D$3),\"x\",IF(SEARCH('Zoeken in Database'!$D$3,Concerten!A171,1),\"x\",\"\")),\"\")","v":"x"},{"$f":"IFERROR(IF(ISBLANK('Zoeken in Database'!$D$4),\"x\",IF(SEARCH('Zoeken in Database'!$D$4,Concerten!B171,1),\"x\",\"\")),\"\")","v":"x"},{"$f":"IFERROR(IF(ISBLANK('Zoeken in Database'!$D$5),\"x\",IF(SEARCH('Zoeken in Database'!$D$5,Concerten!C171,1),\"x\",\"\")),\"\")","v":"x"},{"$f":"IFERROR(IF(ISBLANK('Zoeken in Database'!$D$6),\"x\",IF(SEARCH('Zoeken in Database'!$D$6,Concerten!G171,1),\"x\",\"\")),\"\")","v":"x"},{"$f":"IF(AND(D171>='Zoeken in Database'!$A$7,'Zoeken in Database'!$A$8>=D171),\"x\",\"\")","v":"x"}]
["Of No Avail","Box","Boxmeer","2003-04-19",null,null,"Voorprogramma",4,2003,{"$f":"VLOOKUP(Table1[[#This Row],[Maand (getal)]],Lijst!A:B,2,FALSE)","v":"apr"},{"$f":"IFERROR(IF(ISBLANK('Zoeken in Database'!$D$3),\"x\",IF(SEARCH('Zoeken in Database'!$D$3,Concerten!A172,1),\"x\",\"\")),\"\")","v":"x"},{"$f":"IFERROR(IF(ISBLANK('Zoeken in Database'!$D$4),\"x\",IF(SEARCH('Zoeken in Database'!$D$4,Concerten!B172,1),\"x\",\"\")),\"\")","v":"x"},{"$f":"IFERROR(IF(ISBLANK('Zoeken in Database'!$D$5),\"x\",IF(SEARCH('Zoeken in Database'!$D$5,Concerten!C172,1),\"x\",\"\")),\"\")","v":"x"},{"$f":"IFERROR(IF(ISBLANK('Zoeken in Database'!$D$6),\"x\",IF(SEARCH('Zoeken in Database'!$D$6,Concerten!G172,1),\"x\",\"\")),\"\")","v":"x"},{"$f":"IF(AND(D172>='Zoeken in Database'!$A$7,'Zoeken in Database'!$A$8>=D172),\"x\",\"\")","v":"x"}]
["Rowwen Heze","Lindefeesten 2003","Sambeek","2003-04-25",null,null,"Festivaloptreden",4,2003,{"$f":"VLOOKUP(Table1[[#This Row],[Maand (getal)]],Lijst!A:B,2,FALSE)","v":"apr"},{"$f":"IFERROR(IF(ISBLANK('Zoeken in Database'!$D$3),\"x\",IF(SEARCH('Zoeken in Database'!$D$3,Concerten!A173,1),\"x\",\"\")),\"\")","v":"x"},{"$f":"IFERROR(IF(ISBLANK('Zoeken in Database'!$D$4),\"x\",IF(SEARCH('Zoeken in Database'!$D$4,Concerten!B173,1),\"x\",\"\")),\"\")","v":"x"},{"$f":"IFERROR(IF(ISBLANK('Zoeken in Database'!$D$5),\"x\",IF(SEARCH('Zoeken in Database'!$D$5,Concerten!C173,1),\"x\",\"\")),\"\")","v":"x"},{"$f":"IFERROR(IF(ISBLANK('Zoeken in Database'!$D$6),\"x\",IF(SEARCH('Zoeken in Database'!$D$6,Concerten!G173,1),\"x\",\"\")),\"\")","v":"x"},{"$f":"IF(AND(D173>='Zoeken in Database'!$A$7,'Zoeken in Database'!$A$8>=D173),\"x\",\"\")","v":"x"}]
["Peter Dolving Band","De Groene Engel","Oss","2003-04-29",null,null,"Voorprogramma",4,2003,{"$f":"VLOOKUP(Table1[[#This Row],[Maand (getal)]],Lijst!A:B,2,FALSE)","v":"apr"},{"$f":"IFERROR(IF(ISBLANK('Zoeken in Database'!$D$3),\"x\",IF(SEARCH('Zoeken in Database'!$D$3,Concerten!A174,1),\"x\",\"\")),\"\")","v":"x"},{"$f":"IFERROR(IF(ISBLANK('Zoeken in Database'!$D$4),\"x\",IF(SEARCH('Zoeken in Database'!$D$4,Concerten!B174,1),\"x\",\"\")),\"\")","v":"x"},{"$f":"IFERROR(IF(ISBLANK('Zoeken in Database'!$D$5),\"x\",IF(SEARCH('Zoeken in Database'!$D$5,Concerten!C174,1),\"x\",\"\")),\"\")","v":"x"},{"$f":"IFERROR(IF(ISBLANK('Zoeken in Database'!$D$6),\"x\",IF(SEARCH('Zoeken in Database'!$D$6,Concerten!G174,1),\"x\",\"\")),\"\")","v":"x"},{"$f":"IF(AND(D174>='Zoeken in Database'!$A$7,'Zoeken in Database'!$A$8>=D174),\"x\",\"\")","v":"x"}]
["Slobberbone","De Groene Engel","Oss","2003-04-29","01. Springfield\n02. Butchers\n03. lumberlung\n04. stupid words\n05. engine joe\n06. billy pritchart\n07. that is all\n08. sister beams\n09. find the out\n10. dunk you\n11. damned\n12. barrelchested\n13. to love somebody\n14. downtown\n15. Placemat\n---\n16. Waning or Josephine? Pinball\n\n",null,"Hoofdprogramma",4,2003,{"$f":"VLOOKUP(Table1[[#This Row],[Maand (getal)]],Lijst!A:B,2,FALSE)","v":"apr"},{"$f":"IFERROR(IF(ISBLANK('Zoeken in Database'!$D$3),\"x\",IF(SEARCH('Zoeken in Database'!$D$3,Concerten!A175,1),\"x\",\"\")),\"\")","v":"x"},{"$f":"IFERROR(IF(ISBLANK('Zoeken in Database'!$D$4),\"x\",IF(SEARCH('Zoeken in Database'!$D$4,Concerten!B175,1),\"x\",\"\")),\"\")","v":"x"},{"$f":"IFERROR(IF(ISBLANK('Zoeken in Database'!$D$5),\"x\",IF(SEARCH('Zoeken in Database'!$D$5,Concerten!C175,1),\"x\",\"\")),\"\")","v":"x"},{"$f":"IFERROR(IF(ISBLANK('Zoeken in Database'!$D$6),\"x\",IF(SEARCH('Zoeken in Database'!$D$6,Concerten!G175,1),\"x\",\"\")),\"\")","v":"x"},{"$f":"IF(AND(D175>='Zoeken in Database'!$A$7,'Zoeken in Database'!$A$8>=D175),\"x\",\"\")","v":"x"}]
["De Sjonnies","Koninginnedag Arnhem 2003","Arnhem","2003-04-30",null,null,"Festivaloptreden",4,2003,{"$f":"VLOOKUP(Table1[[#This Row],[Maand (getal)]],Lijst!A:B,2,FALSE)","v":"apr"},{"$f":"IFERROR(IF(ISBLANK('Zoeken in Database'!$D$3),\"x\",IF(SEARCH('Zoeken in Database'!$D$3,Concerten!A176,1),\"x\",\"\")),\"\")","v":"x"},{"$f":"IFERROR(IF(ISBLANK('Zoeken in Database'!$D$4),\"x\",IF(SEARCH('Zoeken in Database'!$D$4,Concerten!B176,1),\"x\",\"\")),\"\")","v":"x"},{"$f":"IFERROR(IF(ISBLANK('Zoeken in Database'!$D$5),\"x\",IF(SEARCH('Zoeken in Database'!$D$5,Concerten!C176,1),\"x\",\"\")),\"\")","v":"x"},{"$f":"IFERROR(IF(ISBLANK('Zoeken in Database'!$D$6),\"x\",IF(SEARCH('Zoeken in Database'!$D$6,Concerten!G176,1),\"x\",\"\")),\"\")","v":"x"},{"$f":"IF(AND(D176>='Zoeken in Database'!$A$7,'Zoeken in Database'!$A$8>=D176),\"x\",\"\")","v":"x"}]
["Kempes","W2","Den Bosch","2003-05-24",null,null,"Voorprogramma",5,2003,{"$f":"VLOOKUP(Table1[[#This Row],[Maand (getal)]],Lijst!A:B,2,FALSE)","v":"mei"},{"$f":"IFERROR(IF(ISBLANK('Zoeken in Database'!$D$3),\"x\",IF(SEARCH('Zoeken in Database'!$D$3,Concerten!A177,1),\"x\",\"\")),\"\")","v":"x"},{"$f":"IFERROR(IF(ISBLANK('Zoeken in Database'!$D$4),\"x\",IF(SEARCH('Zoeken in Database'!$D$4,Concerten!B177,1),\"x\",\"\")),\"\")","v":"x"},{"$f":"IFERROR(IF(ISBLANK('Zoeken in Database'!$D$5),\"x\",IF(SEARCH('Zoeken in Database'!$D$5,Concerten!C177,1),\"x\",\"\")),\"\")","v":"x"},{"$f":"IFERROR(IF(ISBLANK('Zoeken in Database'!$D$6),\"x\",IF(SEARCH('Zoeken in Database'!$D$6,Concerten!G177,1),\"x\",\"\")),\"\")","v":"x"},{"$f":"IF(AND(D177>='Zoeken in Database'!$A$7,'Zoeken in Database'!$A$8>=D177),\"x\",\"\")","v":"x"}]
["Stillettos, The","W2","Den Bosch","2003-05-24",null,null,"Voorprogramma",5,2003,{"$f":"VLOOKUP(Table1[[#This Row],[Maand (getal)]],Lijst!A:B,2,FALSE)","v":"mei"},{"$f":"IFERROR(IF(ISBLANK('Zoeken in Database'!$D$3),\"x\",IF(SEARCH('Zoeken in Database'!$D$3,Concerten!A178,1),\"x\",\"\")),\"\")","v":"x"},{"$f":"IFERROR(IF(ISBLANK('Zoeken in Database'!$D$4),\"x\",IF(SEARCH('Zoeken in Database'!$D$4,Concerten!B178,1),\"x\",\"\")),\"\")","v":"x"},{"$f":"IFERROR(IF(ISBLANK('Zoeken in Database'!$D$5),\"x\",IF(SEARCH('Zoeken in Database'!$D$5,Concerten!C178,1),\"x\",\"\")),\"\")","v":"x"},{"$f":"IFERROR(IF(ISBLANK('Zoeken in Database'!$D$6),\"x\",IF(SEARCH('Zoeken in Database'!$D$6,Concerten!G178,1),\"x\",\"\")),\"\")","v":"x"},{"$f":"IF(AND(D178>='Zoeken in Database'!$A$7,'Zoeken in Database'!$A$8>=D178),\"x\",\"\")","v":"x"}]
["Sweatmaster","W2","Den Bosch","2003-05-24",null,null,"Hoofdprogramma",5,2003,{"$f":"VLOOKUP(Table1[[#This Row],[Maand (getal)]],Lijst!A:B,2,FALSE)","v":"mei"},{"$f":"IFERROR(IF(ISBLANK('Zoeken in Database'!$D$3),\"x\",IF(SEARCH('Zoeken in Database'!$D$3,Concerten!A179,1),\"x\",\"\")),\"\")","v":"x"},{"$f":"IFERROR(IF(ISBLANK('Zoeken in Database'!$D$4),\"x\",IF(SEARCH('Zoeken in Database'!$D$4,Concerten!B179,1),\"x\",\"\")),\"\")","v":"x"},{"$f":"IFERROR(IF(ISBLANK('Zoeken in Database'!$D$5),\"x\",IF(SEARCH('Zoeken in Database'!$D$5,Concerten!C179,1),\"x\",\"\")),\"\")","v":"x"},{"$f":"IFERROR(IF(ISBLANK('Zoeken in Database'!$D$6),\"x\",IF(SEARCH('Zoeken in Database'!$D$6,Concerten!G179,1),\"x\",\"\")),\"\")","v":"x"},{"$f":"IF(AND(D179>='Zoeken in Database'!$A$7,'Zoeken in Database'!$A$8>=D179),\"x\",\"\")","v":"x"}]
["3 Musketiers","Nieuwe Luxor Theater","Rotterdam","2003-06-01",null,"Balkon I Rechts Rij: 6 Stoel: 37","Theater",6,2003,{"$f":"VLOOKUP(Table1[[#This Row],[Maand (getal)]],Lijst!A:B,2,FALSE)","v":"jun"},{"$f":"IFERROR(IF(ISBLANK('Zoeken in Database'!$D$3),\"x\",IF(SEARCH('Zoeken in Database'!$D$3,Concerten!A180,1),\"x\",\"\")),\"\")","v":"x"},{"$f":"IFERROR(IF(ISBLANK('Zoeken in Database'!$D$4),\"x\",IF(SEARCH('Zoeken in Database'!$D$4,Concerten!B180,1),\"x\",\"\")),\"\")","v":"x"},{"$f":"IFERROR(IF(ISBLANK('Zoeken in Database'!$D$5),\"x\",IF(SEARCH('Zoeken in Database'!$D$5,Concerten!C180,1),\"x\",\"\")),\"\")","v":"x"},{"$f":"IFERROR(IF(ISBLANK('Zoeken in Database'!$D$6),\"x\",IF(SEARCH('Zoeken in Database'!$D$6,Concerten!G180,1),\"x\",\"\")),\"\")","v":"x"},{"$f":"IF(AND(D180>='Zoeken in Database'!$A$7,'Zoeken in Database'!$A$8>=D180),\"x\",\"\")","v":"x"}]
["Bon Jovi","Amsterdam Arena","Amsterdam","2003-06-03","01. Bounce\n02. You give love a bad name\n03. Wild in the streets\n04. I believe\n05. Livin' on a prayer\n06. Everyday\n07. Undivided\n08. Keep the faith ~ sympathy for the devil\n09. Wanted dead or alive\n10. In these arms\n11. It's my life\n12. Misunderstood\n13. Runaway\n14. Joey\n15. I'll be there for you\n16. Blaze of glory\n17. Hook me up\n18. Born to be my baby\n19. I'll sleep when i'm dead\n20. Rockin' all over the world\n21. Raise your hands\n---------------\n22. Captain crash & the beauty queen from mars\n23. Just older\n24. Bad medicine\n25. Shout\n\n","Bounce-Tour","Hoofdprogramma",6,2003,{"$f":"VLOOKUP(Table1[[#This Row],[Maand (getal)]],Lijst!A:B,2,FALSE)","v":"jun"},{"$f":"IFERROR(IF(ISBLANK('Zoeken in Database'!$D$3),\"x\",IF(SEARCH('Zoeken in Database'!$D$3,Concerten!A181,1),\"x\",\"\")),\"\")","v":"x"},{"$f":"IFERROR(IF(ISBLANK('Zoeken in Database'!$D$4),\"x\",IF(SEARCH('Zoeken in Database'!$D$4,Concerten!B181,1),\"x\",\"\")),\"\")","v":"x"},{"$f":"IFERROR(IF(ISBLANK('Zoeken in Database'!$D$5),\"x\",IF(SEARCH('Zoeken in Database'!$D$5,Concerten!C181,1),\"x\",\"\")),\"\")","v":"x"},{"$f":"IFERROR(IF(ISBLANK('Zoeken in Database'!$D$6),\"x\",IF(SEARCH('Zoeken in Database'!$D$6,Concerten!G181,1),\"x\",\"\")),\"\")","v":"x"},{"$f":"IF(AND(D181>='Zoeken in Database'!$A$7,'Zoeken in Database'!$A$8>=D181),\"x\",\"\")","v":"x"}]
["Krezip","Amsterdam Arena","Amsterdam","2003-06-03",null,null,"Voorprogramma",6,2003,{"$f":"VLOOKUP(Table1[[#This Row],[Maand (getal)]],Lijst!A:B,2,FALSE)","v":"jun"},{"$f":"IFERROR(IF(ISBLANK('Zoeken in Database'!$D$3),\"x\",IF(SEARCH('Zoeken in Database'!$D$3,Concerten!A182,1),\"x\",\"\")),\"\")","v":"x"},{"$f":"IFERROR(IF(ISBLANK('Zoeken in Database'!$D$4),\"x\",IF(SEARCH('Zoeken in Database'!$D$4,Concerten!B182,1),\"x\",\"\")),\"\")","v":"x"},{"$f":"IFERROR(IF(ISBLANK('Zoeken in Database'!$D$5),\"x\",IF(SEARCH('Zoeken in Database'!$D$5,Concerten!C182,1),\"x\",\"\")),\"\")","v":"x"},{"$f":"IFERROR(IF(ISBLANK('Zoeken in Database'!$D$6),\"x\",IF(SEARCH('Zoeken in Database'!$D$6,Concerten!G182,1),\"x\",\"\")),\"\")","v":"x"},{"$f":"IF(AND(D182>='Zoeken in Database'!$A$7,'Zoeken in Database'!$A$8>=D182),\"x\",\"\")","v":"x"}]
["Junior Senior","Pinkpop 2003","Landgraaf","2003-06-07",null,"Noordpodium","Festivaloptreden",6,2003,{"$f":"VLOOKUP(Table1[[#This Row],[Maand (getal)]],Lijst!A:B,2,FALSE)","v":"jun"},{"$f":"IFERROR(IF(ISBLANK('Zoeken in Database'!$D$3),\"x\",IF(SEARCH('Zoeken in Database'!$D$3,Concerten!A183,1),\"x\",\"\")),\"\")","v":"x"},{"$f":"IFERROR(IF(ISBLANK('Zoeken in Database'!$D$4),\"x\",IF(SEARCH('Zoeken in Database'!$D$4,Concerten!B183,1),\"x\",\"\")),\"\")","v":"x"},{"$f":"IFERROR(IF(ISBLANK('Zoeken in Database'!$D$5),\"x\",IF(SEARCH('Zoeken in Database'!$D$5,Concerten!C183,1),\"x\",\"\")),\"\")","v":"x"},{"$f":"IFERROR(IF(ISBLANK('Zoeken in Database'!$D$6),\"x\",IF(SEARCH('Zoeken in Database'!$D$6,Concerten!G183,1),\"x\",\"\")),\"\")","v":"x"},{"$f":"IF(AND(D183>='Zoeken in Database'!$A$7,'Zoeken in Database'!$A$8>=D183),\"x\",\"\")","v":"x"}]
["McRae, Tom","Pinkpop 2003","Landgraaf","2003-06-07",null,"3FM Tent","Festivaloptreden",6,2003,{"$f":"VLOOKUP(Table1[[#This Row],[Maand (getal)]],Lijst!A:B,2,FALSE)","v":"jun"},{"$f":"IFERROR(IF(ISBLANK('Zoeken in Database'!$D$3),\"x\",IF(SEARCH('Zoeken in Database'!$D$3,Concerten!A184,1),\"x\",\"\")),\"\")","v":"x"},{"$f":"IFERROR(IF(ISBLANK('Zoeken in Database'!$D$4),\"x\",IF(SEARCH('Zoeken in Database'!$D$4,Concerten!B184,1),\"x\",\"\")),\"\")","v":"x"},{"$f":"IFERROR(IF(ISBLANK('Zoeken in Database'!$D$5),\"x\",IF(SEARCH('Zoeken in Database'!$D$5,Concerten!C184,1),\"x\",\"\")),\"\")","v":"x"},{"$f":"IFERROR(IF(ISBLANK('Zoeken in Database'!$D$6),\"x\",IF(SEARCH('Zoeken in Database'!$D$6,Concerten!G184,1),\"x\",\"\")),\"\")","v":"x"},{"$f":"IF(AND(D184>='Zoeken in Database'!$A$7,'Zoeken in Database'!$A$8>=D184),\"x\",\"\")","v":"x"}]
["Moby","Pinkpop 2003","Landgraaf","2003-06-07",null,"Zuidpodium","Festivaloptreden",6,2003,{"$f":"VLOOKUP(Table1[[#This Row],[Maand (getal)]],Lijst!A:B,2,FALSE)","v":"jun"},{"$f":"IFERROR(IF(ISBLANK('Zoeken in Database'!$D$3),\"x\",IF(SEARCH('Zoeken in Database'!$D$3,Concerten!A185,1),\"x\",\"\")),\"\")","v":"x"},{"$f":"IFERROR(IF(ISBLANK('Zoeken in Database'!$D$4),\"x\",IF(SEARCH('Zoeken in Database'!$D$4,Concerten!B185,1),\"x\",\"\")),\"\")","v":"x"},{"$f":"IFERROR(IF(ISBLANK('Zoeken in Database'!$D$5),\"x\",IF(SEARCH('Zoeken in Database'!$D$5,Concerten!C185,1),\"x\",\"\")),\"\")","v":"x"},{"$f":"IFERROR(IF(ISBLANK('Zoeken in Database'!$D$6),\"x\",IF(SEARCH('Zoeken in Database'!$D$6,Concerten!G185,1),\"x\",\"\")),\"\")","v":"x"},{"$f":"IF(AND(D185>='Zoeken in Database'!$A$7,'Zoeken in Database'!$A$8>=D185),\"x\",\"\")","v":"x"}]
["Skin","Pinkpop 2003","Landgraaf","2003-06-07",null,"3FM Tent","Festivaloptreden",6,2003,{"$f":"VLOOKUP(Table1[[#This Row],[Maand (getal)]],Lijst!A:B,2,FALSE)","v":"jun"},{"$f":"IFERROR(IF(ISBLANK('Zoeken in Database'!$D$3),\"x\",IF(SEARCH('Zoeken in Database'!$D$3,Concerten!A186,1),\"x\",\"\")),\"\")","v":"x"},{"$f":"IFERROR(IF(ISBLANK('Zoeken in Database'!$D$4),\"x\",IF(SEARCH('Zoeken in Database'!$D$4,Concerten!B186,1),\"x\",\"\")),\"\")","v":"x"},{"$f":"IFERROR(IF(ISBLANK('Zoeken in Database'!$D$5),\"x\",IF(SEARCH('Zoeken in Database'!$D$5,Concerten!C186,1),\"x\",\"\")),\"\")","v":"x"},{"$f":"IFERROR(IF(ISBLANK('Zoeken in Database'!$D$6),\"x\",IF(SEARCH('Zoeken in Database'!$D$6,Concerten!G186,1),\"x\",\"\")),\"\")","v":"x"},{"$f":"IF(AND(D186>='Zoeken in Database'!$A$7,'Zoeken in Database'!$A$8>=D186),\"x\",\"\")","v":"x"}]
["Counting Crows","Pinkpop 2003","Landgraaf","2003-06-08","01 rain king \n02 hard candy\n03 rm is dead\n04 mr jones\n05 omaha\n06 american girls\n07 goodnight la\n08 long december\n09 big yellow taxi\n10 miami\n11 murder of one\n12 hanginaround\n13 goodnigh elisabeth (california dreaming/ it's allright alts)\n\n","Noordpodium","Festivaloptreden",6,2003,{"$f":"VLOOKUP(Table1[[#This Row],[Maand (getal)]],Lijst!A:B,2,FALSE)","v":"jun"},{"$f":"IFERROR(IF(ISBLANK('Zoeken in Database'!$D$3),\"x\",IF(SEARCH('Zoeken in Database'!$D$3,Concerten!A187,1),\"x\",\"\")),\"\")","v":"x"},{"$f":"IFERROR(IF(ISBLANK('Zoeken in Database'!$D$4),\"x\",IF(SEARCH('Zoeken in Database'!$D$4,Concerten!B187,1),\"x\",\"\")),\"\")","v":"x"},{"$f":"IFERROR(IF(ISBLANK('Zoeken in Database'!$D$5),\"x\",IF(SEARCH('Zoeken in Database'!$D$5,Concerten!C187,1),\"x\",\"\")),\"\")","v":"x"},{"$f":"IFERROR(IF(ISBLANK('Zoeken in Database'!$D$6),\"x\",IF(SEARCH('Zoeken in Database'!$D$6,Concerten!G187,1),\"x\",\"\")),\"\")","v":"x"},{"$f":"IF(AND(D187>='Zoeken in Database'!$A$7,'Zoeken in Database'!$A$8>=D187),\"x\",\"\")","v":"x"}]
["Dandy Warhols, The","Pinkpop 2003","Landgraaf","2003-06-08",null,"Noordpodium","Festivaloptreden",6,2003,{"$f":"VLOOKUP(Table1[[#This Row],[Maand (getal)]],Lijst!A:B,2,FALSE)","v":"jun"},{"$f":"IFERROR(IF(ISBLANK('Zoeken in Database'!$D$3),\"x\",IF(SEARCH('Zoeken in Database'!$D$3,Concerten!A188,1),\"x\",\"\")),\"\")","v":"x"},{"$f":"IFERROR(IF(ISBLANK('Zoeken in Database'!$D$4),\"x\",IF(SEARCH('Zoeken in Database'!$D$4,Concerten!B188,1),\"x\",\"\")),\"\")","v":"x"},{"$f":"IFERROR(IF(ISBLANK('Zoeken in Database'!$D$5),\"x\",IF(SEARCH('Zoeken in Database'!$D$5,Concerten!C188,1),\"x\",\"\")),\"\")","v":"x"},{"$f":"IFERROR(IF(ISBLANK('Zoeken in Database'!$D$6),\"x\",IF(SEARCH('Zoeken in Database'!$D$6,Concerten!G188,1),\"x\",\"\")),\"\")","v":"x"},{"$f":"IF(AND(D188>='Zoeken in Database'!$A$7,'Zoeken in Database'!$A$8>=D188),\"x\",\"\")","v":"x"}]
["Eighties Matchbox B-Line Disaster, The","Pinkpop 2003","Landgraaf","2003-06-08",null,"3FM Tent","Festivaloptreden",6,2003,{"$f":"VLOOKUP(Table1[[#This Row],[Maand (getal)]],Lijst!A:B,2,FALSE)","v":"jun"},{"$f":"IFERROR(IF(ISBLANK('Zoeken in Database'!$D$3),\"x\",IF(SEARCH('Zoeken in Database'!$D$3,Concerten!A189,1),\"x\",\"\")),\"\")","v":"x"},{"$f":"IFERROR(IF(ISBLANK('Zoeken in Database'!$D$4),\"x\",IF(SEARCH('Zoeken in Database'!$D$4,Concerten!B189,1),\"x\",\"\")),\"\")","v":"x"},{"$f":"IFERROR(IF(ISBLANK('Zoeken in Database'!$D$5),\"x\",IF(SEARCH('Zoeken in Database'!$D$5,Concerten!C189,1),\"x\",\"\")),\"\")","v":"x"},{"$f":"IFERROR(IF(ISBLANK('Zoeken in Database'!$D$6),\"x\",IF(SEARCH('Zoeken in Database'!$D$6,Concerten!G189,1),\"x\",\"\")),\"\")","v":"x"},{"$f":"IF(AND(D189>='Zoeken in Database'!$A$7,'Zoeken in Database'!$A$8>=D189),\"x\",\"\")","v":"x"}]
["Flogging Molly","Pinkpop 2003","Landgraaf","2003-06-08",null,"Noordpodium","Festivaloptreden",6,2003,{"$f":"VLOOKUP(Table1[[#This Row],[Maand (getal)]],Lijst!A:B,2,FALSE)","v":"jun"},{"$f":"IFERROR(IF(ISBLANK('Zoeken in Database'!$D$3),\"x\",IF(SEARCH('Zoeken in Database'!$D$3,Concerten!A190,1),\"x\",\"\")),\"\")","v":"x"},{"$f":"IFERROR(IF(ISBLANK('Zoeken in Database'!$D$4),\"x\",IF(SEARCH('Zoeken in Database'!$D$4,Concerten!B190,1),\"x\",\"\")),\"\")","v":"x"},{"$f":"IFERROR(IF(ISBLANK('Zoeken in Database'!$D$5),\"x\",IF(SEARCH('Zoeken in Database'!$D$5,Concerten!C190,1),\"x\",\"\")),\"\")","v":"x"},{"$f":"IFERROR(IF(ISBLANK('Zoeken in Database'!$D$6),\"x\",IF(SEARCH('Zoeken in Database'!$D$6,Concerten!G190,1),\"x\",\"\")),\"\")","v":"x"},{"$f":"IF(AND(D190>='Zoeken in Database'!$A$7,'Zoeken in Database'!$A$8>=D190),\"x\",\"\")","v":"x"}]
["Audioslave","Pinkpop 2003","Landgraaf","2003-06-09",null,"Noordpodium","Festivaloptreden",6,2003,{"$f":"VLOOKUP(Table1[[#This Row],[Maand (getal)]],Lijst!A:B,2,FALSE)","v":"jun"},{"$f":"IFERROR(IF(ISBLANK('Zoeken in Database'!$D$3),\"x\",IF(SEARCH('Zoeken in Database'!$D$3,Concerten!A191,1),\"x\",\"\")),\"\")","v":"x"},{"$f":"IFERROR(IF(ISBLANK('Zoeken in Database'!$D$4),\"x\",IF(SEARCH('Zoeken in Database'!$D$4,Concerten!B191,1),\"x\",\"\")),\"\")","v":"x"},{"$f":"IFERROR(IF(ISBLANK('Zoeken in Database'!$D$5),\"x\",IF(SEARCH('Zoeken in Database'!$D$5,Concerten!C191,1),\"x\",\"\")),\"\")","v":"x"},{"$f":"IFERROR(IF(ISBLANK('Zoeken in Database'!$D$6),\"x\",IF(SEARCH('Zoeken in Database'!$D$6,Concerten!G191,1),\"x\",\"\")),\"\")","v":"x"},{"$f":"IF(AND(D191>='Zoeken in Database'!$A$7,'Zoeken in Database'!$A$8>=D191),\"x\",\"\")","v":"x"}]
["Burke, Solomon","Pinkpop 2003","Landgraaf","2003-06-09",null,"Noordpodium","Festivaloptreden",6,2003,{"$f":"VLOOKUP(Table1[[#This Row],[Maand (getal)]],Lijst!A:B,2,FALSE)","v":"jun"},{"$f":"IFERROR(IF(ISBLANK('Zoeken in Database'!$D$3),\"x\",IF(SEARCH('Zoeken in Database'!$D$3,Concerten!A192,1),\"x\",\"\")),\"\")","v":"x"},{"$f":"IFERROR(IF(ISBLANK('Zoeken in Database'!$D$4),\"x\",IF(SEARCH('Zoeken in Database'!$D$4,Concerten!B192,1),\"x\",\"\")),\"\")","v":"x"},{"$f":"IFERROR(IF(ISBLANK('Zoeken in Database'!$D$5),\"x\",IF(SEARCH('Zoeken in Database'!$D$5,Concerten!C192,1),\"x\",\"\")),\"\")","v":"x"},{"$f":"IFERROR(IF(ISBLANK('Zoeken in Database'!$D$6),\"x\",IF(SEARCH('Zoeken in Database'!$D$6,Concerten!G192,1),\"x\",\"\")),\"\")","v":"x"},{"$f":"IF(AND(D192>='Zoeken in Database'!$A$7,'Zoeken in Database'!$A$8>=D192),\"x\",\"\")","v":"x"}]
["Junkie XL","Pinkpop 2003","Landgraaf","2003-06-09",null,"Noordpodium","Festivaloptreden",6,2003,{"$f":"VLOOKUP(Table1[[#This Row],[Maand (getal)]],Lijst!A:B,2,FALSE)","v":"jun"},{"$f":"IFERROR(IF(ISBLANK('Zoeken in Database'!$D$3),\"x\",IF(SEARCH('Zoeken in Database'!$D$3,Concerten!A193,1),\"x\",\"\")),\"\")","v":"x"},{"$f":"IFERROR(IF(ISBLANK('Zoeken in Database'!$D$4),\"x\",IF(SEARCH('Zoeken in Database'!$D$4,Concerten!B193,1),\"x\",\"\")),\"\")","v":"x"},{"$f":"IFERROR(IF(ISBLANK('Zoeken in Database'!$D$5),\"x\",IF(SEARCH('Zoeken in Database'!$D$5,Concerten!C193,1),\"x\",\"\")),\"\")","v":"x"},{"$f":"IFERROR(IF(ISBLANK('Zoeken in Database'!$D$6),\"x\",IF(SEARCH('Zoeken in Database'!$D$6,Concerten!G193,1),\"x\",\"\")),\"\")","v":"x"},{"$f":"IF(AND(D193>='Zoeken in Database'!$A$7,'Zoeken in Database'!$A$8>=D193),\"x\",\"\")","v":"x"}]
["Lange, Ilse De","Pinkpop 2003","Landgraaf","2003-06-09",null,"Noordpodium","Festivaloptreden",6,2003,{"$f":"VLOOKUP(Table1[[#This Row],[Maand (getal)]],Lijst!A:B,2,FALSE)","v":"jun"},{"$f":"IFERROR(IF(ISBLANK('Zoeken in Database'!$D$3),\"x\",IF(SEARCH('Zoeken in Database'!$D$3,Concerten!A194,1),\"x\",\"\")),\"\")","v":"x"},{"$f":"IFERROR(IF(ISBLANK('Zoeken in Database'!$D$4),\"x\",IF(SEARCH('Zoeken in Database'!$D$4,Concerten!B194,1),\"x\",\"\")),\"\")","v":"x"},{"$f":"IFERROR(IF(ISBLANK('Zoeken in Database'!$D$5),\"x\",IF(SEARCH('Zoeken in Database'!$D$5,Concerten!C194,1),\"x\",\"\")),\"\")","v":"x"},{"$f":"IFERROR(IF(ISBLANK('Zoeken in Database'!$D$6),\"x\",IF(SEARCH('Zoeken in Database'!$D$6,Concerten!G194,1),\"x\",\"\")),\"\")","v":"x"},{"$f":"IF(AND(D194>='Zoeken in Database'!$A$7,'Zoeken in Database'!$A$8>=D194),\"x\",\"\")","v":"x"}]
["Queens Of The Stone-Age","Pinkpop 2003","Landgraaf","2003-06-09",null,"Zuidpodium","Festivaloptreden",{"$f":"IF(ISBLANK(D195),\"\",MONTH(D195))","v":6},{"$f":"IF(ISBLANK(D195),\"\",YEAR(D195))","v":2003},{"$f":"VLOOKUP(Table1[[#This Row],[Maand (getal)]],Lijst!A:B,2,FALSE)","v":"jun"},{"$f":"IFERROR(IF(ISBLANK('Zoeken in Database'!$D$3),\"x\",IF(SEARCH('Zoeken in Database'!$D$3,Concerten!A195,1),\"x\",\"\")),\"\")","v":"x"},{"$f":"IFERROR(IF(ISBLANK('Zoeken in Database'!$D$4),\"x\",IF(SEARCH('Zoeken in Database'!$D$4,Concerten!B195,1),\"x\",\"\")),\"\")","v":"x"},{"$f":"IFERROR(IF(ISBLANK('Zoeken in Database'!$D$5),\"x\",IF(SEARCH('Zoeken in Database'!$D$5,Concerten!C195,1),\"x\",\"\")),\"\")","v":"x"},{"$f":"IFERROR(IF(ISBLANK('Zoeken in Database'!$D$6),\"x\",IF(SEARCH('Zoeken in Database'!$D$6,Concerten!G195,1),\"x\",\"\")),\"\")","v":"x"},{"$f":"IF(AND(D195>='Zoeken in Database'!$A$7,'Zoeken in Database'!$A$8>=D195),\"x\",\"\")","v":"x"}]
["Zwan","Pinkpop 2003","Landgraaf","2003-06-09",null,"Noordpodium","Festivaloptreden",6,2003,{"$f":"VLOOKUP(Table1[[#This Row],[Maand (getal)]],Lijst!A:B,2,FALSE)","v":"jun"},{"$f":"IFERROR(IF(ISBLANK('Zoeken in Database'!$D$3),\"x\",IF(SEARCH('Zoeken in Database'!$D$3,Concerten!A196,1),\"x\",\"\")),\"\")","v":"x"},{"$f":"IFERROR(IF(ISBLANK('Zoeken in Database'!$D$4),\"x\",IF(SEARCH('Zoeken in Database'!$D$4,Concerten!B196,1),\"x\",\"\")),\"\")","v":"x"},{"$f":"IFERROR(IF(ISBLANK('Zoeken in Database'!$D$5),\"x\",IF(SEARCH('Zoeken in Database'!$D$5,Concerten!C196,1),\"x\",\"\")),\"\")","v":"x"},{"$f":"IFERROR(IF(ISBLANK('Zoeken in Database'!$D$6),\"x\",IF(SEARCH('Zoeken in Database'!$D$6,Concerten!G196,1),\"x\",\"\")),\"\")","v":"x"},{"$f":"IF(AND(D196>='Zoeken in Database'!$A$7,'Zoeken in Database'!$A$8>=D196),\"x\",\"\")","v":"x"}]
["4 Fridges","Op De Toffel 2003","Vierlingsbeek","2003-06-22",null,"Hoofdpodium","Festivaloptreden",6,2003,{"$f":"VLOOKUP(Table1[[#This Row],[Maand (getal)]],Lijst!A:B,2,FALSE)","v":"jun"},{"$f":"IFERROR(IF(ISBLANK('Zoeken in Database'!$D$3),\"x\",IF(SEARCH('Zoeken in Database'!$D$3,Concerten!A197,1),\"x\",\"\")),\"\")","v":"x"},{"$f":"IFERROR(IF(ISBLANK('Zoeken in Database'!$D$4),\"x\",IF(SEARCH('Zoeken in Database'!$D$4,Concerten!B197,1),\"x\",\"\")),\"\")","v":"x"},{"$f":"IFERROR(IF(ISBLANK('Zoeken in Database'!$D$5),\"x\",IF(SEARCH('Zoeken in Database'!$D$5,Concerten!C197,1),\"x\",\"\")),\"\")","v":"x"},{"$f":"IFERROR(IF(ISBLANK('Zoeken in Database'!$D$6),\"x\",IF(SEARCH('Zoeken in Database'!$D$6,Concerten!G197,1),\"x\",\"\")),\"\")","v":"x"},{"$f":"IF(AND(D197>='Zoeken in Database'!$A$7,'Zoeken in Database'!$A$8>=D197),\"x\",\"\")","v":"x"}]
["Beef","Op De Toffel 2003","Vierlingsbeek","2003-06-22",null,"Hoofdpodium","Festivaloptreden",6,2003,{"$f":"VLOOKUP(Table1[[#This Row],[Maand (getal)]],Lijst!A:B,2,FALSE)","v":"jun"},{"$f":"IFERROR(IF(ISBLANK('Zoeken in Database'!$D$3),\"x\",IF(SEARCH('Zoeken in Database'!$D$3,Concerten!A198,1),\"x\",\"\")),\"\")","v":"x"},{"$f":"IFERROR(IF(ISBLANK('Zoeken in Database'!$D$4),\"x\",IF(SEARCH('Zoeken in Database'!$D$4,Concerten!B198,1),\"x\",\"\")),\"\")","v":"x"},{"$f":"IFERROR(IF(ISBLANK('Zoeken in Database'!$D$5),\"x\",IF(SEARCH('Zoeken in Database'!$D$5,Concerten!C198,1),\"x\",\"\")),\"\")","v":"x"},{"$f":"IFERROR(IF(ISBLANK('Zoeken in Database'!$D$6),\"x\",IF(SEARCH('Zoeken in Database'!$D$6,Concerten!G198,1),\"x\",\"\")),\"\")","v":"x"},{"$f":"IF(AND(D198>='Zoeken in Database'!$A$7,'Zoeken in Database'!$A$8>=D198),\"x\",\"\")","v":"x"}]
["Soundsurfer","Op De Toffel 2003","Vierlingsbeek","2003-06-22",null,"Hoofdpodium","Festivaloptreden",6,2003,{"$f":"VLOOKUP(Table1[[#This Row],[Maand (getal)]],Lijst!A:B,2,FALSE)","v":"jun"},{"$f":"IFERROR(IF(ISBLANK('Zoeken in Database'!$D$3),\"x\",IF(SEARCH('Zoeken in Database'!$D$3,Concerten!A199,1),\"x\",\"\")),\"\")","v":"x"},{"$f":"IFERROR(IF(ISBLANK('Zoeken in Database'!$D$4),\"x\",IF(SEARCH('Zoeken in Database'!$D$4,Concerten!B199,1),\"x\",\"\")),\"\")","v":"x"},{"$f":"IFERROR(IF(ISBLANK('Zoeken in Database'!$D$5),\"x\",IF(SEARCH('Zoeken in Database'!$D$5,Concerten!C199,1),\"x\",\"\")),\"\")","v":"x"},{"$f":"IFERROR(IF(ISBLANK('Zoeken in Database'!$D$6),\"x\",IF(SEARCH('Zoeken in Database'!$D$6,Concerten!G199,1),\"x\",\"\")),\"\")","v":"x"},{"$f":"IF(AND(D199>='Zoeken in Database'!$A$7,'Zoeken in Database'!$A$8>=D199),\"x\",\"\")","v":"x"}]
["Stuurbaard Bakkebaard","Op De Toffel 2003","Vierlingsbeek","2003-06-22",null,"Tent","Festivaloptreden",6,2003,{"$f":"VLOOKUP(Table1[[#This Row],[Maand (getal)]],Lijst!A:B,2,FALSE)","v":"jun"},{"$f":"IFERROR(IF(ISBLANK('Zoeken in Database'!$D$3),\"x\",IF(SEARCH('Zoeken in Database'!$D$3,Concerten!A200,1),\"x\",\"\")),\"\")","v":"x"},{"$f":"IFERROR(IF(ISBLANK('Zoeken in Database'!$D$4),\"x\",IF(SEARCH('Zoeken in Database'!$D$4,Concerten!B200,1),\"x\",\"\")),\"\")","v":"x"},{"$f":"IFERROR(IF(ISBLANK('Zoeken in Database'!$D$5),\"x\",IF(SEARCH('Zoeken in Database'!$D$5,Concerten!C200,1),\"x\",\"\")),\"\")","v":"x"},{"$f":"IFERROR(IF(ISBLANK('Zoeken in Database'!$D$6),\"x\",IF(SEARCH('Zoeken in Database'!$D$6,Concerten!G200,1),\"x\",\"\")),\"\")","v":"x"},{"$f":"IF(AND(D200>='Zoeken in Database'!$A$7,'Zoeken in Database'!$A$8>=D200),\"x\",\"\")","v":"x"}]
["Radiohead","Rock Werchter 2003","Werchter","2003-06-26","01. There there\n02. 2+2=5\n03. Morning bell\n04. Lucky\n05. Talk show host\n06. Kid a\n07. National anthem\n08. The gloaming\n09. Where i end and you begin\n10. Sail to the moon\n11. Fake plastic trees\n12. Just\n13. Go to sleep\n14. I might be wrong\n15. Paranoid android\n16. Idioteque\n17. Everything in it's right place\n18. Exit (music for a film)\n19. Sit down stand up\n20. Pyramid song\n21. Karma police\n\n","Hoofdpodium","Festivaloptreden",6,2003,{"$f":"VLOOKUP(Table1[[#This Row],[Maand (getal)]],Lijst!A:B,2,FALSE)","v":"jun"},{"$f":"IFERROR(IF(ISBLANK('Zoeken in Database'!$D$3),\"x\",IF(SEARCH('Zoeken in Database'!$D$3,Concerten!A201,1),\"x\",\"\")),\"\")","v":"x"},{"$f":"IFERROR(IF(ISBLANK('Zoeken in Database'!$D$4),\"x\",IF(SEARCH('Zoeken in Database'!$D$4,Concerten!B201,1),\"x\",\"\")),\"\")","v":"x"},{"$f":"IFERROR(IF(ISBLANK('Zoeken in Database'!$D$5),\"x\",IF(SEARCH('Zoeken in Database'!$D$5,Concerten!C201,1),\"x\",\"\")),\"\")","v":"x"},{"$f":"IFERROR(IF(ISBLANK('Zoeken in Database'!$D$6),\"x\",IF(SEARCH('Zoeken in Database'!$D$6,Concerten!G201,1),\"x\",\"\")),\"\")","v":"x"},{"$f":"IF(AND(D201>='Zoeken in Database'!$A$7,'Zoeken in Database'!$A$8>=D201),\"x\",\"\")","v":"x"}]
["Feeder","Rock Werchter 2003","Werchter","2003-06-27","01. We can't rewind\n02. Come back around\n03. Just the way i'm feeling\n04. Forget about tomorrow\n05. Comfort in sound\n06. High\n07. Turn\n08. Buck rogers\n09. My perfect day\n10. Descend\n\n","Hoofdpodium","Festivaloptreden",6,2003,{"$f":"VLOOKUP(Table1[[#This Row],[Maand (getal)]],Lijst!A:B,2,FALSE)","v":"jun"},{"$f":"IFERROR(IF(ISBLANK('Zoeken in Database'!$D$3),\"x\",IF(SEARCH('Zoeken in Database'!$D$3,Concerten!A202,1),\"x\",\"\")),\"\")","v":"x"},{"$f":"IFERROR(IF(ISBLANK('Zoeken in Database'!$D$4),\"x\",IF(SEARCH('Zoeken in Database'!$D$4,Concerten!B202,1),\"x\",\"\")),\"\")","v":"x"},{"$f":"IFERROR(IF(ISBLANK('Zoeken in Database'!$D$5),\"x\",IF(SEARCH('Zoeken in Database'!$D$5,Concerten!C202,1),\"x\",\"\")),\"\")","v":"x"},{"$f":"IFERROR(IF(ISBLANK('Zoeken in Database'!$D$6),\"x\",IF(SEARCH('Zoeken in Database'!$D$6,Concerten!G202,1),\"x\",\"\")),\"\")","v":"x"},{"$f":"IF(AND(D202>='Zoeken in Database'!$A$7,'Zoeken in Database'!$A$8>=D202),\"x\",\"\")","v":"x"}]
["Morgan Heritage","Rock Werchter 2003","Werchter","2003-06-27","01. Don't haffi dread\n02. Live up\n03. Liberation\n04. What we need is love\n05. The truth\n06. Nice up u medi\n07. Falling race\n08. Jump around\n09. Reggae bring back love\n10. Everything is still everything\n\n","Hoofdpodium","Festivaloptreden",6,2003,{"$f":"VLOOKUP(Table1[[#This Row],[Maand (getal)]],Lijst!A:B,2,FALSE)","v":"jun"},{"$f":"IFERROR(IF(ISBLANK('Zoeken in Database'!$D$3),\"x\",IF(SEARCH('Zoeken in Database'!$D$3,Concerten!A203,1),\"x\",\"\")),\"\")","v":"x"},{"$f":"IFERROR(IF(ISBLANK('Zoeken in Database'!$D$4),\"x\",IF(SEARCH('Zoeken in Database'!$D$4,Concerten!B203,1),\"x\",\"\")),\"\")","v":"x"},{"$f":"IFERROR(IF(ISBLANK('Zoeken in Database'!$D$5),\"x\",IF(SEARCH('Zoeken in Database'!$D$5,Concerten!C203,1),\"x\",\"\")),\"\")","v":"x"},{"$f":"IFERROR(IF(ISBLANK('Zoeken in Database'!$D$6),\"x\",IF(SEARCH('Zoeken in Database'!$D$6,Concerten!G203,1),\"x\",\"\")),\"\")","v":"x"},{"$f":"IF(AND(D203>='Zoeken in Database'!$A$7,'Zoeken in Database'!$A$8>=D203),\"x\",\"\")","v":"x"}]
["Polyphonic Spree, The ","Rock Werchter 2003","Werchter","2003-06-27","01. Opener in c \n02. Sun \n03. 2000 places \n04. Light and day \n05. Best part \n06. Hanging around \n07. Soldier girl \n08. King\n\n","Hoofdpodium","Festivaloptreden",6,2003,{"$f":"VLOOKUP(Table1[[#This Row],[Maand (getal)]],Lijst!A:B,2,FALSE)","v":"jun"},{"$f":"IFERROR(IF(ISBLANK('Zoeken in Database'!$D$3),\"x\",IF(SEARCH('Zoeken in Database'!$D$3,Concerten!A204,1),\"x\",\"\")),\"\")","v":"x"},{"$f":"IFERROR(IF(ISBLANK('Zoeken in Database'!$D$4),\"x\",IF(SEARCH('Zoeken in Database'!$D$4,Concerten!B204,1),\"x\",\"\")),\"\")","v":"x"},{"$f":"IFERROR(IF(ISBLANK('Zoeken in Database'!$D$5),\"x\",IF(SEARCH('Zoeken in Database'!$D$5,Concerten!C204,1),\"x\",\"\")),\"\")","v":"x"},{"$f":"IFERROR(IF(ISBLANK('Zoeken in Database'!$D$6),\"x\",IF(SEARCH('Zoeken in Database'!$D$6,Concerten!G204,1),\"x\",\"\")),\"\")","v":"x"},{"$f":"IF(AND(D204>='Zoeken in Database'!$A$7,'Zoeken in Database'!$A$8>=D204),\"x\",\"\")","v":"x"}]
["Roots, The","Rock Werchter 2003","Werchter","2003-06-27","01. Thought at work\n02. Next movement\n03. Quills\n04. Proceed\n05. Love of my life\n06. Panic\n07. Water\n08. Break you off\n09. The seed\n10. You got me\n\n","Hoofdpodium","Festivaloptreden",6,2003,{"$f":"VLOOKUP(Table1[[#This Row],[Maand (getal)]],Lijst!A:B,2,FALSE)","v":"jun"},{"$f":"IFERROR(IF(ISBLANK('Zoeken in Database'!$D$3),\"x\",IF(SEARCH('Zoeken in Database'!$D$3,Concerten!A205,1),\"x\",\"\")),\"\")","v":"x"},{"$f":"IFERROR(IF(ISBLANK('Zoeken in Database'!$D$4),\"x\",IF(SEARCH('Zoeken in Database'!$D$4,Concerten!B205,1),\"x\",\"\")),\"\")","v":"x"},{"$f":"IFERROR(IF(ISBLANK('Zoeken in Database'!$D$5),\"x\",IF(SEARCH('Zoeken in Database'!$D$5,Concerten!C205,1),\"x\",\"\")),\"\")","v":"x"},{"$f":"IFERROR(IF(ISBLANK('Zoeken in Database'!$D$6),\"x\",IF(SEARCH('Zoeken in Database'!$D$6,Concerten!G205,1),\"x\",\"\")),\"\")","v":"x"},{"$f":"IF(AND(D205>='Zoeken in Database'!$A$7,'Zoeken in Database'!$A$8>=D205),\"x\",\"\")","v":"x"}]
["Anouk","Rock Werchter 2003","Werchter","2003-06-28",null,"Hoofdpodium","Festivaloptreden",6,2003,{"$f":"VLOOKUP(Table1[[#This Row],[Maand (getal)]],Lijst!A:B,2,FALSE)","v":"jun"},{"$f":"IFERROR(IF(ISBLANK('Zoeken in Database'!$D$3),\"x\",IF(SEARCH('Zoeken in Database'!$D$3,Concerten!A206,1),\"x\",\"\")),\"\")","v":"x"},{"$f":"IFERROR(IF(ISBLANK('Zoeken in Database'!$D$4),\"x\",IF(SEARCH('Zoeken in Database'!$D$4,Concerten!B206,1),\"x\",\"\")),\"\")","v":"x"},{"$f":"IFERROR(IF(ISBLANK('Zoeken in Database'!$D$5),\"x\",IF(SEARCH('Zoeken in Database'!$D$5,Concerten!C206,1),\"x\",\"\")),\"\")","v":"x"},{"$f":"IFERROR(IF(ISBLANK('Zoeken in Database'!$D$6),\"x\",IF(SEARCH('Zoeken in Database'!$D$6,Concerten!G206,1),\"x\",\"\")),\"\")","v":"x"},{"$f":"IF(AND(D206>='Zoeken in Database'!$A$7,'Zoeken in Database'!$A$8>=D206),\"x\",\"\")","v":"x"}]
["Arno","Rock Werchter 2003","Werchter","2003-06-28",null,"Hoofdpodium","Festivaloptreden",6,2003,{"$f":"VLOOKUP(Table1[[#This Row],[Maand (getal)]],Lijst!A:B,2,FALSE)","v":"jun"},{"$f":"IFERROR(IF(ISBLANK('Zoeken in Database'!$D$3),\"x\",IF(SEARCH('Zoeken in Database'!$D$3,Concerten!A207,1),\"x\",\"\")),\"\")","v":"x"},{"$f":"IFERROR(IF(ISBLANK('Zoeken in Database'!$D$4),\"x\",IF(SEARCH('Zoeken in Database'!$D$4,Concerten!B207,1),\"x\",\"\")),\"\")","v":"x"},{"$f":"IFERROR(IF(ISBLANK('Zoeken in Database'!$D$5),\"x\",IF(SEARCH('Zoeken in Database'!$D$5,Concerten!C207,1),\"x\",\"\")),\"\")","v":"x"},{"$f":"IFERROR(IF(ISBLANK('Zoeken in Database'!$D$6),\"x\",IF(SEARCH('Zoeken in Database'!$D$6,Concerten!G207,1),\"x\",\"\")),\"\")","v":"x"},{"$f":"IF(AND(D207>='Zoeken in Database'!$A$7,'Zoeken in Database'!$A$8>=D207),\"x\",\"\")","v":"x"}]
["Hof Van Commerce, 't ","Rock Werchter 2003","Werchter","2003-06-28","01. Bus ommegank\n02. Zonder niet\n03. Kom mor ip\n04. Dikkenekke\n05. Kust noa kust noa kust\n06. Zeg het vwort\n07. Sloat up min gat\n08. Domestik en levrancier\n09. Allo concurrentie\n10. Punk of yo\n11. Izzegem\n12. Zonder totetrekkerie\n\n","Hoofdpodium","Festivaloptreden",6,2003,{"$f":"VLOOKUP(Table1[[#This Row],[Maand (getal)]],Lijst!A:B,2,FALSE)","v":"jun"},{"$f":"IFERROR(IF(ISBLANK('Zoeken in Database'!$D$3),\"x\",IF(SEARCH('Zoeken in Database'!$D$3,Concerten!A208,1),\"x\",\"\")),\"\")","v":"x"},{"$f":"IFERROR(IF(ISBLANK('Zoeken in Database'!$D$4),\"x\",IF(SEARCH('Zoeken in Database'!$D$4,Concerten!B208,1),\"x\",\"\")),\"\")","v":"x"},{"$f":"IFERROR(IF(ISBLANK('Zoeken in Database'!$D$5),\"x\",IF(SEARCH('Zoeken in Database'!$D$5,Concerten!C208,1),\"x\",\"\")),\"\")","v":"x"},{"$f":"IFERROR(IF(ISBLANK('Zoeken in Database'!$D$6),\"x\",IF(SEARCH('Zoeken in Database'!$D$6,Concerten!G208,1),\"x\",\"\")),\"\")","v":"x"},{"$f":"IF(AND(D208>='Zoeken in Database'!$A$7,'Zoeken in Database'!$A$8>=D208),\"x\",\"\")","v":"x"}]
["Krezip","Rock Werchter 2003","Werchter","2003-06-28","01. More than this\n02. Mine\n03. Won't cry\n04. All unsaid\n05. For sure\n06. Gentle\n07. In her sun\n08. Take it baby\n09. I would stay\n10. You can say\n11. Give my life\n\n","Hoofdpodium","Festivaloptreden",6,2003,{"$f":"VLOOKUP(Table1[[#This Row],[Maand (getal)]],Lijst!A:B,2,FALSE)","v":"jun"},{"$f":"IFERROR(IF(ISBLANK('Zoeken in Database'!$D$3),\"x\",IF(SEARCH('Zoeken in Database'!$D$3,Concerten!A209,1),\"x\",\"\")),\"\")","v":"x"},{"$f":"IFERROR(IF(ISBLANK('Zoeken in Database'!$D$4),\"x\",IF(SEARCH('Zoeken in Database'!$D$4,Concerten!B209,1),\"x\",\"\")),\"\")","v":"x"},{"$f":"IFERROR(IF(ISBLANK('Zoeken in Database'!$D$5),\"x\",IF(SEARCH('Zoeken in Database'!$D$5,Concerten!C209,1),\"x\",\"\")),\"\")","v":"x"},{"$f":"IFERROR(IF(ISBLANK('Zoeken in Database'!$D$6),\"x\",IF(SEARCH('Zoeken in Database'!$D$6,Concerten!G209,1),\"x\",\"\")),\"\")","v":"x"},{"$f":"IF(AND(D209>='Zoeken in Database'!$A$7,'Zoeken in Database'!$A$8>=D209),\"x\",\"\")","v":"x"}]
["Metallica","Rock Werchter 2003","Werchter","2003-06-28","01. Battery\n02. Master Of Puppets\n03. Harvester Of Sorrow\n04. Welcome Home \n05. For Whom The Bell Tolls\n06. Frantic\n07. Sad But True\n08. St. Anger\n09. No Remorse\n10. Seek and Destroy\n11. Blackened\n12. Ride The Lightning\n13. Nothing Else Matters\n14. Creeping Death\n15. One\n16. Enter Sandman\n\n","Hoofdpodium","Festivaloptreden",6,2003,{"$f":"VLOOKUP(Table1[[#This Row],[Maand (getal)]],Lijst!A:B,2,FALSE)","v":"jun"},{"$f":"IFERROR(IF(ISBLANK('Zoeken in Database'!$D$3),\"x\",IF(SEARCH('Zoeken in Database'!$D$3,Concerten!A210,1),\"x\",\"\")),\"\")","v":"x"},{"$f":"IFERROR(IF(ISBLANK('Zoeken in Database'!$D$4),\"x\",IF(SEARCH('Zoeken in Database'!$D$4,Concerten!B210,1),\"x\",\"\")),\"\")","v":"x"},{"$f":"IFERROR(IF(ISBLANK('Zoeken in Database'!$D$5),\"x\",IF(SEARCH('Zoeken in Database'!$D$5,Concerten!C210,1),\"x\",\"\")),\"\")","v":"x"},{"$f":"IFERROR(IF(ISBLANK('Zoeken in Database'!$D$6),\"x\",IF(SEARCH('Zoeken in Database'!$D$6,Concerten!G210,1),\"x\",\"\")),\"\")","v":"x"},{"$f":"IF(AND(D210>='Zoeken in Database'!$A$7,'Zoeken in Database'!$A$8>=D210),\"x\",\"\")","v":"x"}]
["Millionaire","Rock Werchter 2003","Werchter","2003-06-28",null,"Hoofdpodium","Festivaloptreden",6,2003,{"$f":"VLOOKUP(Table1[[#This Row],[Maand (getal)]],Lijst!A:B,2,FALSE)","v":"jun"},{"$f":"IFERROR(IF(ISBLANK('Zoeken in Database'!$D$3),\"x\",IF(SEARCH('Zoeken in Database'!$D$3,Concerten!A211,1),\"x\",\"\")),\"\")","v":"x"},{"$f":"IFERROR(IF(ISBLANK('Zoeken in Database'!$D$4),\"x\",IF(SEARCH('Zoeken in Database'!$D$4,Concerten!B211,1),\"x\",\"\")),\"\")","v":"x"},{"$f":"IFERROR(IF(ISBLANK('Zoeken in Database'!$D$5),\"x\",IF(SEARCH('Zoeken in Database'!$D$5,Concerten!C211,1),\"x\",\"\")),\"\")","v":"x"},{"$f":"IFERROR(IF(ISBLANK('Zoeken in Database'!$D$6),\"x\",IF(SEARCH('Zoeken in Database'!$D$6,Concerten!G211,1),\"x\",\"\")),\"\")","v":"x"},{"$f":"IF(AND(D211>='Zoeken in Database'!$A$7,'Zoeken in Database'!$A$8>=D211),\"x\",\"\")","v":"x"}]
["Queens Of The Stone-Age","Rock Werchter 2003","Werchter","2003-06-28",null,"Hoofdpodium","Festivaloptreden",6,2003,{"$f":"VLOOKUP(Table1[[#This Row],[Maand (getal)]],Lijst!A:B,2,FALSE)","v":"jun"},{"$f":"IFERROR(IF(ISBLANK('Zoeken in Database'!$D$3),\"x\",IF(SEARCH('Zoeken in Database'!$D$3,Concerten!A212,1),\"x\",\"\")),\"\")","v":"x"},{"$f":"IFERROR(IF(ISBLANK('Zoeken in Database'!$D$4),\"x\",IF(SEARCH('Zoeken in Database'!$D$4,Concerten!B212,1),\"x\",\"\")),\"\")","v":"x"},{"$f":"IFERROR(IF(ISBLANK('Zoeken in Database'!$D$5),\"x\",IF(SEARCH('Zoeken in Database'!$D$5,Concerten!C212,1),\"x\",\"\")),\"\")","v":"x"},{"$f":"IFERROR(IF(ISBLANK('Zoeken in Database'!$D$6),\"x\",IF(SEARCH('Zoeken in Database'!$D$6,Concerten!G212,1),\"x\",\"\")),\"\")","v":"x"},{"$f":"IF(AND(D212>='Zoeken in Database'!$A$7,'Zoeken in Database'!$A$8>=D212),\"x\",\"\")","v":"x"}]
["Stone Sour","Rock Werchter 2003","Werchter","2003-06-28",null,"Hoofdpodium","Festivaloptreden",6,2003,{"$f":"VLOOKUP(Table1[[#This Row],[Maand (getal)]],Lijst!A:B,2,FALSE)","v":"jun"},{"$f":"IFERROR(IF(ISBLANK('Zoeken in Database'!$D$3),\"x\",IF(SEARCH('Zoeken in Database'!$D$3,Concerten!A213,1),\"x\",\"\")),\"\")","v":"x"},{"$f":"IFERROR(IF(ISBLANK('Zoeken in Database'!$D$4),\"x\",IF(SEARCH('Zoeken in Database'!$D$4,Concerten!B213,1),\"x\",\"\")),\"\")","v":"x"},{"$f":"IFERROR(IF(ISBLANK('Zoeken in Database'!$D$5),\"x\",IF(SEARCH('Zoeken in Database'!$D$5,Concerten!C213,1),\"x\",\"\")),\"\")","v":"x"},{"$f":"IFERROR(IF(ISBLANK('Zoeken in Database'!$D$6),\"x\",IF(SEARCH('Zoeken in Database'!$D$6,Concerten!G213,1),\"x\",\"\")),\"\")","v":"x"},{"$f":"IF(AND(D213>='Zoeken in Database'!$A$7,'Zoeken in Database'!$A$8>=D213),\"x\",\"\")","v":"x"}]
["Xzibit","Rock Werchter 2003","Werchter","2003-06-28","01. Intro\n02. Front 2 back\n03. Pimp shit\n04. Symphony\n05. Invisible & kron\n06. Nike shit\n07. Double time\n08. What yo see\n09. Papparazzi\n10. DNA\n11. Losin yo mind\n12. Squeeze\n13. LA times\n14. Spit shine\n15. Get yo walk\n16. Next episode\n17. Insert\n18. Bitch please\n19. Alkoholic\n20. What's the difference\n21. Multiply\n22. X\n\n","Hoofdpodium","Festivaloptreden",6,2003,{"$f":"VLOOKUP(Table1[[#This Row],[Maand (getal)]],Lijst!A:B,2,FALSE)","v":"jun"},{"$f":"IFERROR(IF(ISBLANK('Zoeken in Database'!$D$3),\"x\",IF(SEARCH('Zoeken in Database'!$D$3,Concerten!A214,1),\"x\",\"\")),\"\")","v":"x"},{"$f":"IFERROR(IF(ISBLANK('Zoeken in Database'!$D$4),\"x\",IF(SEARCH('Zoeken in Database'!$D$4,Concerten!B214,1),\"x\",\"\")),\"\")","v":"x"},{"$f":"IFERROR(IF(ISBLANK('Zoeken in Database'!$D$5),\"x\",IF(SEARCH('Zoeken in Database'!$D$5,Concerten!C214,1),\"x\",\"\")),\"\")","v":"x"},{"$f":"IFERROR(IF(ISBLANK('Zoeken in Database'!$D$6),\"x\",IF(SEARCH('Zoeken in Database'!$D$6,Concerten!G214,1),\"x\",\"\")),\"\")","v":"x"},{"$f":"IF(AND(D214>='Zoeken in Database'!$A$7,'Zoeken in Database'!$A$8>=D214),\"x\",\"\")","v":"x"}]
["Cardigans","Rock Werchter 2003","Werchter","2003-06-29","01. The road\n02. Explode\n03. You're the storm\n04. Live and learn\n05. Erase & rewind\n06. Feathers & down\n07. Lovefool\n08. Been it\n09. A good horse\n10. For what it's worth\n11. Communication\n12. Hangin around\n13. My favourite game\n\n","Hoofdpodium","Festivaloptreden",6,2003,{"$f":"VLOOKUP(Table1[[#This Row],[Maand (getal)]],Lijst!A:B,2,FALSE)","v":"jun"},{"$f":"IFERROR(IF(ISBLANK('Zoeken in Database'!$D$3),\"x\",IF(SEARCH('Zoeken in Database'!$D$3,Concerten!A215,1),\"x\",\"\")),\"\")","v":"x"},{"$f":"IFERROR(IF(ISBLANK('Zoeken in Database'!$D$4),\"x\",IF(SEARCH('Zoeken in Database'!$D$4,Concerten!B215,1),\"x\",\"\")),\"\")","v":"x"},{"$f":"IFERROR(IF(ISBLANK('Zoeken in Database'!$D$5),\"x\",IF(SEARCH('Zoeken in Database'!$D$5,Concerten!C215,1),\"x\",\"\")),\"\")","v":"x"},{"$f":"IFERROR(IF(ISBLANK('Zoeken in Database'!$D$6),\"x\",IF(SEARCH('Zoeken in Database'!$D$6,Concerten!G215,1),\"x\",\"\")),\"\")","v":"x"},{"$f":"IF(AND(D215>='Zoeken in Database'!$A$7,'Zoeken in Database'!$A$8>=D215),\"x\",\"\")","v":"x"}]
["Coldplay","Rock Werchter 2003","Werchter","2003-06-29","01. Politik\n02. Don't panic\n03. Rush of blood\n04. One I love\n05. Trouble\n06. God put a smile\n07. Everything's not lost\n08. The world turned\n09. Yellow\n10. The scientist\n11. Clocks\n12. In my place\n13. Amsterdam\n\n","Hoofdpodium","Festivaloptreden",6,2003,{"$f":"VLOOKUP(Table1[[#This Row],[Maand (getal)]],Lijst!A:B,2,FALSE)","v":"jun"},{"$f":"IFERROR(IF(ISBLANK('Zoeken in Database'!$D$3),\"x\",IF(SEARCH('Zoeken in Database'!$D$3,Concerten!A216,1),\"x\",\"\")),\"\")","v":"x"},{"$f":"IFERROR(IF(ISBLANK('Zoeken in Database'!$D$4),\"x\",IF(SEARCH('Zoeken in Database'!$D$4,Concerten!B216,1),\"x\",\"\")),\"\")","v":"x"},{"$f":"IFERROR(IF(ISBLANK('Zoeken in Database'!$D$5),\"x\",IF(SEARCH('Zoeken in Database'!$D$5,Concerten!C216,1),\"x\",\"\")),\"\")","v":"x"},{"$f":"IFERROR(IF(ISBLANK('Zoeken in Database'!$D$6),\"x\",IF(SEARCH('Zoeken in Database'!$D$6,Concerten!G216,1),\"x\",\"\")),\"\")","v":"x"},{"$f":"IF(AND(D216>='Zoeken in Database'!$A$7,'Zoeken in Database'!$A$8>=D216),\"x\",\"\")","v":"x"}]
["Counting Crows","Rock Werchter 2003","Werchter","2003-06-29","01. Rain king\n02. Hard candy\n03. If i could give all my love - or - richard manuel is dead\n04. Mister jones\n05. Four white stallions\n06. Have you seen me lately\n07. American girls\n08. Hanging around\n09. A long december\n10. Big yellow taxi\n11. Miami\n12. A murder of one\n\n","Hoofdpodium","Festivaloptreden",6,2003,{"$f":"VLOOKUP(Table1[[#This Row],[Maand (getal)]],Lijst!A:B,2,FALSE)","v":"jun"},{"$f":"IFERROR(IF(ISBLANK('Zoeken in Database'!$D$3),\"x\",IF(SEARCH('Zoeken in Database'!$D$3,Concerten!A217,1),\"x\",\"\")),\"\")","v":"x"},{"$f":"IFERROR(IF(ISBLANK('Zoeken in Database'!$D$4),\"x\",IF(SEARCH('Zoeken in Database'!$D$4,Concerten!B217,1),\"x\",\"\")),\"\")","v":"x"},{"$f":"IFERROR(IF(ISBLANK('Zoeken in Database'!$D$5),\"x\",IF(SEARCH('Zoeken in Database'!$D$5,Concerten!C217,1),\"x\",\"\")),\"\")","v":"x"},{"$f":"IFERROR(IF(ISBLANK('Zoeken in Database'!$D$6),\"x\",IF(SEARCH('Zoeken in Database'!$D$6,Concerten!G217,1),\"x\",\"\")),\"\")","v":"x"},{"$f":"IF(AND(D217>='Zoeken in Database'!$A$7,'Zoeken in Database'!$A$8>=D217),\"x\",\"\")","v":"x"}]
["Cypress Hill","Rock Werchter 2003","Werchter","2003-06-29","01. We ain't goin' out\n02. Hand on the pump\n03. Real Estate\n04. Pigs\n05. Cock the hammer\n06. I wanna get high\n07. Stoned is the way\n08. Hits from the bong\n09. Dr Greenthumb\n10. Killa man\n11. Insane in the brain\n12. Rock superstar\n\n","Hoofdpodium","Festivaloptreden",6,2003,{"$f":"VLOOKUP(Table1[[#This Row],[Maand (getal)]],Lijst!A:B,2,FALSE)","v":"jun"},{"$f":"IFERROR(IF(ISBLANK('Zoeken in Database'!$D$3),\"x\",IF(SEARCH('Zoeken in Database'!$D$3,Concerten!A218,1),\"x\",\"\")),\"\")","v":"x"},{"$f":"IFERROR(IF(ISBLANK('Zoeken in Database'!$D$4),\"x\",IF(SEARCH('Zoeken in Database'!$D$4,Concerten!B218,1),\"x\",\"\")),\"\")","v":"x"},{"$f":"IFERROR(IF(ISBLANK('Zoeken in Database'!$D$5),\"x\",IF(SEARCH('Zoeken in Database'!$D$5,Concerten!C218,1),\"x\",\"\")),\"\")","v":"x"},{"$f":"IFERROR(IF(ISBLANK('Zoeken in Database'!$D$6),\"x\",IF(SEARCH('Zoeken in Database'!$D$6,Concerten!G218,1),\"x\",\"\")),\"\")","v":"x"},{"$f":"IF(AND(D218>='Zoeken in Database'!$A$7,'Zoeken in Database'!$A$8>=D218),\"x\",\"\")","v":"x"}]
["Das Pop","Rock Werchter 2003","Werchter","2003-06-29","01. The one\n02. The love program\n03. Telephone love\n04. Electronica for lovers\n05. We live again\n06. Turn\n07. Forever\n08. You\n09. Abracadabra\n\n","Hoofdpodium","Festivaloptreden",6,2003,{"$f":"VLOOKUP(Table1[[#This Row],[Maand (getal)]],Lijst!A:B,2,FALSE)","v":"jun"},{"$f":"IFERROR(IF(ISBLANK('Zoeken in Database'!$D$3),\"x\",IF(SEARCH('Zoeken in Database'!$D$3,Concerten!A219,1),\"x\",\"\")),\"\")","v":"x"},{"$f":"IFERROR(IF(ISBLANK('Zoeken in Database'!$D$4),\"x\",IF(SEARCH('Zoeken in Database'!$D$4,Concerten!B219,1),\"x\",\"\")),\"\")","v":"x"},{"$f":"IFERROR(IF(ISBLANK('Zoeken in Database'!$D$5),\"x\",IF(SEARCH('Zoeken in Database'!$D$5,Concerten!C219,1),\"x\",\"\")),\"\")","v":"x"},{"$f":"IFERROR(IF(ISBLANK('Zoeken in Database'!$D$6),\"x\",IF(SEARCH('Zoeken in Database'!$D$6,Concerten!G219,1),\"x\",\"\")),\"\")","v":"x"},{"$f":"IF(AND(D219>='Zoeken in Database'!$A$7,'Zoeken in Database'!$A$8>=D219),\"x\",\"\")","v":"x"}]
["De La Soul","Rock Werchter 2003","Werchter","2003-06-29","01. Amphitheatre\n02. Buddy\n03. Plug tunin?\n04. *\n05. Stakes is high\n06. Then ya city\n07. Saturdays\n08. Me myself and I\n09. Eye know\n10. Cooh\n11. All good\n12. I see y'all\n13. Say no go\n14. Porrige\n15. Ego trippin'\n\n","Hoofdpodium","Festivaloptreden",6,2003,{"$f":"VLOOKUP(Table1[[#This Row],[Maand (getal)]],Lijst!A:B,2,FALSE)","v":"jun"},{"$f":"IFERROR(IF(ISBLANK('Zoeken in Database'!$D$3),\"x\",IF(SEARCH('Zoeken in Database'!$D$3,Concerten!A220,1),\"x\",\"\")),\"\")","v":"x"},{"$f":"IFERROR(IF(ISBLANK('Zoeken in Database'!$D$4),\"x\",IF(SEARCH('Zoeken in Database'!$D$4,Concerten!B220,1),\"x\",\"\")),\"\")","v":"x"},{"$f":"IFERROR(IF(ISBLANK('Zoeken in Database'!$D$5),\"x\",IF(SEARCH('Zoeken in Database'!$D$5,Concerten!C220,1),\"x\",\"\")),\"\")","v":"x"},{"$f":"IFERROR(IF(ISBLANK('Zoeken in Database'!$D$6),\"x\",IF(SEARCH('Zoeken in Database'!$D$6,Concerten!G220,1),\"x\",\"\")),\"\")","v":"x"},{"$f":"IF(AND(D220>='Zoeken in Database'!$A$7,'Zoeken in Database'!$A$8>=D220),\"x\",\"\")","v":"x"}]
["Stereophonics","Rock Werchter 2003","Werchter","2003-06-29","01. Mr. Writer\n02. Bartender\n03. Nothing precious\n04. Madame Helga\n05. Since I told you\n06. High as the ceiling\n07. Have a nice day\n08. Just looking\n09. Maybe tomorrow\n10. I'm alright\n11. Help me\n\n","Hoofdpodium","Festivaloptreden",6,2003,{"$f":"VLOOKUP(Table1[[#This Row],[Maand (getal)]],Lijst!A:B,2,FALSE)","v":"jun"},{"$f":"IFERROR(IF(ISBLANK('Zoeken in Database'!$D$3),\"x\",IF(SEARCH('Zoeken in Database'!$D$3,Concerten!A221,1),\"x\",\"\")),\"\")","v":"x"},{"$f":"IFERROR(IF(ISBLANK('Zoeken in Database'!$D$4),\"x\",IF(SEARCH('Zoeken in Database'!$D$4,Concerten!B221,1),\"x\",\"\")),\"\")","v":"x"},{"$f":"IFERROR(IF(ISBLANK('Zoeken in Database'!$D$5),\"x\",IF(SEARCH('Zoeken in Database'!$D$5,Concerten!C221,1),\"x\",\"\")),\"\")","v":"x"},{"$f":"IFERROR(IF(ISBLANK('Zoeken in Database'!$D$6),\"x\",IF(SEARCH('Zoeken in Database'!$D$6,Concerten!G221,1),\"x\",\"\")),\"\")","v":"x"},{"$f":"IF(AND(D221>='Zoeken in Database'!$A$7,'Zoeken in Database'!$A$8>=D221),\"x\",\"\")","v":"x"}]
["Supergrass","Rock Werchter 2003","Werchter","2003-06-29",null,"Hoofdpodium","Festivaloptreden",6,2003,{"$f":"VLOOKUP(Table1[[#This Row],[Maand (getal)]],Lijst!A:B,2,FALSE)","v":"jun"},{"$f":"IFERROR(IF(ISBLANK('Zoeken in Database'!$D$3),\"x\",IF(SEARCH('Zoeken in Database'!$D$3,Concerten!A222,1),\"x\",\"\")),\"\")","v":"x"},{"$f":"IFERROR(IF(ISBLANK('Zoeken in Database'!$D$4),\"x\",IF(SEARCH('Zoeken in Database'!$D$4,Concerten!B222,1),\"x\",\"\")),\"\")","v":"x"},{"$f":"IFERROR(IF(ISBLANK('Zoeken in Database'!$D$5),\"x\",IF(SEARCH('Zoeken in Database'!$D$5,Concerten!C222,1),\"x\",\"\")),\"\")","v":"x"},{"$f":"IFERROR(IF(ISBLANK('Zoeken in Database'!$D$6),\"x\",IF(SEARCH('Zoeken in Database'!$D$6,Concerten!G222,1),\"x\",\"\")),\"\")","v":"x"},{"$f":"IF(AND(D222>='Zoeken in Database'!$A$7,'Zoeken in Database'!$A$8>=D222),\"x\",\"\")","v":"x"}]
["Sweatmaster","Valkhof Affaire 2003","Nijmegen","2003-07-12","01. Get It\n02. Precious\n03. Too Much Love\n04. Short Note\n05. Hold It!\n06. Last To Know\n07. Uus\n08. Wanna See It Done\n09. Pixies\n10. People\n11. Demon\n12. Well Connected\n13. Baby Woodrose\n14. Nothing To Do But Win\n15. Tonight\n16. Misfits\n\n","Kelfkensbos","Festivaloptreden",7,2003,{"$f":"VLOOKUP(Table1[[#This Row],[Maand (getal)]],Lijst!A:B,2,FALSE)","v":"jul"},{"$f":"IFERROR(IF(ISBLANK('Zoeken in Database'!$D$3),\"x\",IF(SEARCH('Zoeken in Database'!$D$3,Concerten!A223,1),\"x\",\"\")),\"\")","v":"x"},{"$f":"IFERROR(IF(ISBLANK('Zoeken in Database'!$D$4),\"x\",IF(SEARCH('Zoeken in Database'!$D$4,Concerten!B223,1),\"x\",\"\")),\"\")","v":"x"},{"$f":"IFERROR(IF(ISBLANK('Zoeken in Database'!$D$5),\"x\",IF(SEARCH('Zoeken in Database'!$D$5,Concerten!C223,1),\"x\",\"\")),\"\")","v":"x"},{"$f":"IFERROR(IF(ISBLANK('Zoeken in Database'!$D$6),\"x\",IF(SEARCH('Zoeken in Database'!$D$6,Concerten!G223,1),\"x\",\"\")),\"\")","v":"x"},{"$f":"IF(AND(D223>='Zoeken in Database'!$A$7,'Zoeken in Database'!$A$8>=D223),\"x\",\"\")","v":"x"}]
["Osbourne, Kelly","Amsterdam Arena","Amsterdam","2003-07-17",null,null,"Voorprogramma",7,2003,{"$f":"VLOOKUP(Table1[[#This Row],[Maand (getal)]],Lijst!A:B,2,FALSE)","v":"jul"},{"$f":"IFERROR(IF(ISBLANK('Zoeken in Database'!$D$3),\"x\",IF(SEARCH('Zoeken in Database'!$D$3,Concerten!A224,1),\"x\",\"\")),\"\")","v":"x"},{"$f":"IFERROR(IF(ISBLANK('Zoeken in Database'!$D$4),\"x\",IF(SEARCH('Zoeken in Database'!$D$4,Concerten!B224,1),\"x\",\"\")),\"\")","v":"x"},{"$f":"IFERROR(IF(ISBLANK('Zoeken in Database'!$D$5),\"x\",IF(SEARCH('Zoeken in Database'!$D$5,Concerten!C224,1),\"x\",\"\")),\"\")","v":"x"},{"$f":"IFERROR(IF(ISBLANK('Zoeken in Database'!$D$6),\"x\",IF(SEARCH('Zoeken in Database'!$D$6,Concerten!G224,1),\"x\",\"\")),\"\")","v":"x"},{"$f":"IF(AND(D224>='Zoeken in Database'!$A$7,'Zoeken in Database'!$A$8>=D224),\"x\",\"\")","v":"x"}]
["Skin","Amsterdam Arena","Amsterdam","2003-07-17",null,null,"Voorprogramma",7,2003,{"$f":"VLOOKUP(Table1[[#This Row],[Maand (getal)]],Lijst!A:B,2,FALSE)","v":"jul"},{"$f":"IFERROR(IF(ISBLANK('Zoeken in Database'!$D$3),\"x\",IF(SEARCH('Zoeken in Database'!$D$3,Concerten!A225,1),\"x\",\"\")),\"\")","v":"x"},{"$f":"IFERROR(IF(ISBLANK('Zoeken in Database'!$D$4),\"x\",IF(SEARCH('Zoeken in Database'!$D$4,Concerten!B225,1),\"x\",\"\")),\"\")","v":"x"},{"$f":"IFERROR(IF(ISBLANK('Zoeken in Database'!$D$5),\"x\",IF(SEARCH('Zoeken in Database'!$D$5,Concerten!C225,1),\"x\",\"\")),\"\")","v":"x"},{"$f":"IFERROR(IF(ISBLANK('Zoeken in Database'!$D$6),\"x\",IF(SEARCH('Zoeken in Database'!$D$6,Concerten!G225,1),\"x\",\"\")),\"\")","v":"x"},{"$f":"IF(AND(D225>='Zoeken in Database'!$A$7,'Zoeken in Database'!$A$8>=D225),\"x\",\"\")","v":"x"}]
["Williams, Robbie","Amsterdam Arena","Amsterdam","2003-07-17",null,"Escapology-tour","Hoofdprogramma",7,2003,{"$f":"VLOOKUP(Table1[[#This Row],[Maand (getal)]],Lijst!A:B,2,FALSE)","v":"jul"},{"$f":"IFERROR(IF(ISBLANK('Zoeken in Database'!$D$3),\"x\",IF(SEARCH('Zoeken in Database'!$D$3,Concerten!A226,1),\"x\",\"\")),\"\")","v":"x"},{"$f":"IFERROR(IF(ISBLANK('Zoeken in Database'!$D$4),\"x\",IF(SEARCH('Zoeken in Database'!$D$4,Concerten!B226,1),\"x\",\"\")),\"\")","v":"x"},{"$f":"IFERROR(IF(ISBLANK('Zoeken in Database'!$D$5),\"x\",IF(SEARCH('Zoeken in Database'!$D$5,Concerten!C226,1),\"x\",\"\")),\"\")","v":"x"},{"$f":"IFERROR(IF(ISBLANK('Zoeken in Database'!$D$6),\"x\",IF(SEARCH('Zoeken in Database'!$D$6,Concerten!G226,1),\"x\",\"\")),\"\")","v":"x"},{"$f":"IF(AND(D226>='Zoeken in Database'!$A$7,'Zoeken in Database'!$A$8>=D226),\"x\",\"\")","v":"x"}]
["Bright Eyes","Paradiso","Amsterdam","2003-08-08","01. A Spindle, A Darkness... \n02. Method Acting\n03. I Will Be Grateful For This Day...\n04. Lover I Don't Have To Love\n05. Old Soul Song\n06. Poison Oak\n07. The City Has Sex\n08. Soon You Will Be Leaving Your Man\n09. Bowl Of Oranges\n10. First Day Of My Life\n11. Neely O'Hara\n12. I'm Wide Awake, It's Morning (Road To Joy)\n13. You Will...\n14. One Foot In Front Of The Other\n15. June On The West Coast\n\n",null,"Hoofdprogramma",8,2003,{"$f":"VLOOKUP(Table1[[#This Row],[Maand (getal)]],Lijst!A:B,2,FALSE)","v":"aug"},{"$f":"IFERROR(IF(ISBLANK('Zoeken in Database'!$D$3),\"x\",IF(SEARCH('Zoeken in Database'!$D$3,Concerten!A227,1),\"x\",\"\")),\"\")","v":"x"},{"$f":"IFERROR(IF(ISBLANK('Zoeken in Database'!$D$4),\"x\",IF(SEARCH('Zoeken in Database'!$D$4,Concerten!B227,1),\"x\",\"\")),\"\")","v":"x"},{"$f":"IFERROR(IF(ISBLANK('Zoeken in Database'!$D$5),\"x\",IF(SEARCH('Zoeken in Database'!$D$5,Concerten!C227,1),\"x\",\"\")),\"\")","v":"x"},{"$f":"IFERROR(IF(ISBLANK('Zoeken in Database'!$D$6),\"x\",IF(SEARCH('Zoeken in Database'!$D$6,Concerten!G227,1),\"x\",\"\")),\"\")","v":"x"},{"$f":"IF(AND(D227>='Zoeken in Database'!$A$7,'Zoeken in Database'!$A$8>=D227),\"x\",\"\")","v":"x"}]
["Coral, The","Lowlands 2003","Biddinghuizen","2003-08-29","01. Spanish Main\n02. Bill McCai\n03. Calendars & Clocks\n04. Follow The Sun\n05. Simon Diamond\n06. I Remember When\n07. Don’t Think You’re \n08. Dreaming Of You\n09. Sorrow Or The Song\n10. Skeleton Key\n11. Secret Kiss\n12. Goodbye\n\n","India","Festivaloptreden",8,2003,{"$f":"VLOOKUP(Table1[[#This Row],[Maand (getal)]],Lijst!A:B,2,FALSE)","v":"aug"},{"$f":"IFERROR(IF(ISBLANK('Zoeken in Database'!$D$3),\"x\",IF(SEARCH('Zoeken in Database'!$D$3,Concerten!A228,1),\"x\",\"\")),\"\")","v":"x"},{"$f":"IFERROR(IF(ISBLANK('Zoeken in Database'!$D$4),\"x\",IF(SEARCH('Zoeken in Database'!$D$4,Concerten!B228,1),\"x\",\"\")),\"\")","v":"x"},{"$f":"IFERROR(IF(ISBLANK('Zoeken in Database'!$D$5),\"x\",IF(SEARCH('Zoeken in Database'!$D$5,Concerten!C228,1),\"x\",\"\")),\"\")","v":"x"},{"$f":"IFERROR(IF(ISBLANK('Zoeken in Database'!$D$6),\"x\",IF(SEARCH('Zoeken in Database'!$D$6,Concerten!G228,1),\"x\",\"\")),\"\")","v":"x"},{"$f":"IF(AND(D228>='Zoeken in Database'!$A$7,'Zoeken in Database'!$A$8>=D228),\"x\",\"\")","v":"x"}]
["Eels","Lowlands 2003","Biddinghuizen","2003-08-29","01. Mr. E's Beautiful Blues\n02. I’m A Loser\n03. Sixteen Tons\n04. Packing Blankets\n05. Saturday Morning\n06. Dirty Girl\n07. My Beloved Monster\n08. 3 Speed\n09. Numbered Days\n10. Souljacker Pt. I\n11. Agony\n12. Dog Faced Boy\n13. Novocaine For The Soul\n14. I Like Birds\n15. Last Stop: This Town\n16. Love Of The Loveless\n-------------------------------------\n17. All In A Day’s Work\n18. La Grange\n\n","Golf","Festivaloptreden",8,2003,{"$f":"VLOOKUP(Table1[[#This Row],[Maand (getal)]],Lijst!A:B,2,FALSE)","v":"aug"},{"$f":"IFERROR(IF(ISBLANK('Zoeken in Database'!$D$3),\"x\",IF(SEARCH('Zoeken in Database'!$D$3,Concerten!A229,1),\"x\",\"\")),\"\")","v":"x"},{"$f":"IFERROR(IF(ISBLANK('Zoeken in Database'!$D$4),\"x\",IF(SEARCH('Zoeken in Database'!$D$4,Concerten!B229,1),\"x\",\"\")),\"\")","v":"x"},{"$f":"IFERROR(IF(ISBLANK('Zoeken in Database'!$D$5),\"x\",IF(SEARCH('Zoeken in Database'!$D$5,Concerten!C229,1),\"x\",\"\")),\"\")","v":"x"},{"$f":"IFERROR(IF(ISBLANK('Zoeken in Database'!$D$6),\"x\",IF(SEARCH('Zoeken in Database'!$D$6,Concerten!G229,1),\"x\",\"\")),\"\")","v":"x"},{"$f":"IF(AND(D229>='Zoeken in Database'!$A$7,'Zoeken in Database'!$A$8>=D229),\"x\",\"\")","v":"x"}]
["Kaizers Orchestra","Lowlands 2003","Biddinghuizen","2003-08-29","01. Ompa Til Du Dor\n02. Bon Fra Helvete\n03. Hevnervals\n04. Container\n05. Veterans Klage\n06. Sigoynerblod\n07. Bak Et Halleluja\n08. Kontroll Pa Kontinentet\n09. Mann Mot Mann\n10. Salt & Pepper\n11. De Involverte\n12. 170\n13. Resistansen\n\n","India","Festivaloptreden",8,2003,{"$f":"VLOOKUP(Table1[[#This Row],[Maand (getal)]],Lijst!A:B,2,FALSE)","v":"aug"},{"$f":"IFERROR(IF(ISBLANK('Zoeken in Database'!$D$3),\"x\",IF(SEARCH('Zoeken in Database'!$D$3,Concerten!A230,1),\"x\",\"\")),\"\")","v":"x"},{"$f":"IFERROR(IF(ISBLANK('Zoeken in Database'!$D$4),\"x\",IF(SEARCH('Zoeken in Database'!$D$4,Concerten!B230,1),\"x\",\"\")),\"\")","v":"x"},{"$f":"IFERROR(IF(ISBLANK('Zoeken in Database'!$D$5),\"x\",IF(SEARCH('Zoeken in Database'!$D$5,Concerten!C230,1),\"x\",\"\")),\"\")","v":"x"},{"$f":"IFERROR(IF(ISBLANK('Zoeken in Database'!$D$6),\"x\",IF(SEARCH('Zoeken in Database'!$D$6,Concerten!G230,1),\"x\",\"\")),\"\")","v":"x"},{"$f":"IF(AND(D230>='Zoeken in Database'!$A$7,'Zoeken in Database'!$A$8>=D230),\"x\",\"\")","v":"x"}]
["Sparta","Lowlands 2003","Biddinghuizen","2003-08-29",null,"India","Festivaloptreden",8,2003,{"$f":"VLOOKUP(Table1[[#This Row],[Maand (getal)]],Lijst!A:B,2,FALSE)","v":"aug"},{"$f":"IFERROR(IF(ISBLANK('Zoeken in Database'!$D$3),\"x\",IF(SEARCH('Zoeken in Database'!$D$3,Concerten!A231,1),\"x\",\"\")),\"\")","v":"x"},{"$f":"IFERROR(IF(ISBLANK('Zoeken in Database'!$D$4),\"x\",IF(SEARCH('Zoeken in Database'!$D$4,Concerten!B231,1),\"x\",\"\")),\"\")","v":"x"},{"$f":"IFERROR(IF(ISBLANK('Zoeken in Database'!$D$5),\"x\",IF(SEARCH('Zoeken in Database'!$D$5,Concerten!C231,1),\"x\",\"\")),\"\")","v":"x"},{"$f":"IFERROR(IF(ISBLANK('Zoeken in Database'!$D$6),\"x\",IF(SEARCH('Zoeken in Database'!$D$6,Concerten!G231,1),\"x\",\"\")),\"\")","v":"x"},{"$f":"IF(AND(D231>='Zoeken in Database'!$A$7,'Zoeken in Database'!$A$8>=D231),\"x\",\"\")","v":"x"}]
["Beck","Lowlands 2003","Biddinghuizen","2003-08-30",null,"Alpha","Festivaloptreden",8,2003,{"$f":"VLOOKUP(Table1[[#This Row],[Maand (getal)]],Lijst!A:B,2,FALSE)","v":"aug"},{"$f":"IFERROR(IF(ISBLANK('Zoeken in Database'!$D$3),\"x\",IF(SEARCH('Zoeken in Database'!$D$3,Concerten!A232,1),\"x\",\"\")),\"\")","v":"x"},{"$f":"IFERROR(IF(ISBLANK('Zoeken in Database'!$D$4),\"x\",IF(SEARCH('Zoeken in Database'!$D$4,Concerten!B232,1),\"x\",\"\")),\"\")","v":"x"},{"$f":"IFERROR(IF(ISBLANK('Zoeken in Database'!$D$5),\"x\",IF(SEARCH('Zoeken in Database'!$D$5,Concerten!C232,1),\"x\",\"\")),\"\")","v":"x"},{"$f":"IFERROR(IF(ISBLANK('Zoeken in Database'!$D$6),\"x\",IF(SEARCH('Zoeken in Database'!$D$6,Concerten!G232,1),\"x\",\"\")),\"\")","v":"x"},{"$f":"IF(AND(D232>='Zoeken in Database'!$A$7,'Zoeken in Database'!$A$8>=D232),\"x\",\"\")","v":"x"}]
["Kills, The ","Lowlands 2003","Biddinghuizen","2003-08-30",null,"Higher Ground","Festivaloptreden",8,2003,{"$f":"VLOOKUP(Table1[[#This Row],[Maand (getal)]],Lijst!A:B,2,FALSE)","v":"aug"},{"$f":"IFERROR(IF(ISBLANK('Zoeken in Database'!$D$3),\"x\",IF(SEARCH('Zoeken in Database'!$D$3,Concerten!A233,1),\"x\",\"\")),\"\")","v":"x"},{"$f":"IFERROR(IF(ISBLANK('Zoeken in Database'!$D$4),\"x\",IF(SEARCH('Zoeken in Database'!$D$4,Concerten!B233,1),\"x\",\"\")),\"\")","v":"x"},{"$f":"IFERROR(IF(ISBLANK('Zoeken in Database'!$D$5),\"x\",IF(SEARCH('Zoeken in Database'!$D$5,Concerten!C233,1),\"x\",\"\")),\"\")","v":"x"},{"$f":"IFERROR(IF(ISBLANK('Zoeken in Database'!$D$6),\"x\",IF(SEARCH('Zoeken in Database'!$D$6,Concerten!G233,1),\"x\",\"\")),\"\")","v":"x"},{"$f":"IF(AND(D233>='Zoeken in Database'!$A$7,'Zoeken in Database'!$A$8>=D233),\"x\",\"\")","v":"x"}]
["Polyphonic Spree, The ","Lowlands 2003","Biddinghuizen","2003-08-30","01. Hanging Around\n02. Sun\n03. Best Part\n04. 2000 Places\n05. Light And Day\n06. Soldier\n07. King\n\n","Golf","Festivaloptreden",8,2003,{"$f":"VLOOKUP(Table1[[#This Row],[Maand (getal)]],Lijst!A:B,2,FALSE)","v":"aug"},{"$f":"IFERROR(IF(ISBLANK('Zoeken in Database'!$D$3),\"x\",IF(SEARCH('Zoeken in Database'!$D$3,Concerten!A234,1),\"x\",\"\")),\"\")","v":"x"},{"$f":"IFERROR(IF(ISBLANK('Zoeken in Database'!$D$4),\"x\",IF(SEARCH('Zoeken in Database'!$D$4,Concerten!B234,1),\"x\",\"\")),\"\")","v":"x"},{"$f":"IFERROR(IF(ISBLANK('Zoeken in Database'!$D$5),\"x\",IF(SEARCH('Zoeken in Database'!$D$5,Concerten!C234,1),\"x\",\"\")),\"\")","v":"x"},{"$f":"IFERROR(IF(ISBLANK('Zoeken in Database'!$D$6),\"x\",IF(SEARCH('Zoeken in Database'!$D$6,Concerten!G234,1),\"x\",\"\")),\"\")","v":"x"},{"$f":"IF(AND(D234>='Zoeken in Database'!$A$7,'Zoeken in Database'!$A$8>=D234),\"x\",\"\")","v":"x"}]
["Stereophonics","Lowlands 2003","Biddinghuizen","2003-08-30",null,"Alpha","Festivaloptreden",8,2003,{"$f":"VLOOKUP(Table1[[#This Row],[Maand (getal)]],Lijst!A:B,2,FALSE)","v":"aug"},{"$f":"IFERROR(IF(ISBLANK('Zoeken in Database'!$D$3),\"x\",IF(SEARCH('Zoeken in Database'!$D$3,Concerten!A235,1),\"x\",\"\")),\"\")","v":"x"},{"$f":"IFERROR(IF(ISBLANK('Zoeken in Database'!$D$4),\"x\",IF(SEARCH('Zoeken in Database'!$D$4,Concerten!B235,1),\"x\",\"\")),\"\")","v":"x"},{"$f":"IFERROR(IF(ISBLANK('Zoeken in Database'!$D$5),\"x\",IF(SEARCH('Zoeken in Database'!$D$5,Concerten!C235,1),\"x\",\"\")),\"\")","v":"x"},{"$f":"IFERROR(IF(ISBLANK('Zoeken in Database'!$D$6),\"x\",IF(SEARCH('Zoeken in Database'!$D$6,Concerten!G235,1),\"x\",\"\")),\"\")","v":"x"},{"$f":"IF(AND(D235>='Zoeken in Database'!$A$7,'Zoeken in Database'!$A$8>=D235),\"x\",\"\")","v":"x"}]
["Admiral Freebee","Lowlands 2003","Biddinghuizen","2003-08-31",null,"Golf","Festivaloptreden",8,2003,{"$f":"VLOOKUP(Table1[[#This Row],[Maand (getal)]],Lijst!A:B,2,FALSE)","v":"aug"},{"$f":"IFERROR(IF(ISBLANK('Zoeken in Database'!$D$3),\"x\",IF(SEARCH('Zoeken in Database'!$D$3,Concerten!A236,1),\"x\",\"\")),\"\")","v":"x"},{"$f":"IFERROR(IF(ISBLANK('Zoeken in Database'!$D$4),\"x\",IF(SEARCH('Zoeken in Database'!$D$4,Concerten!B236,1),\"x\",\"\")),\"\")","v":"x"},{"$f":"IFERROR(IF(ISBLANK('Zoeken in Database'!$D$5),\"x\",IF(SEARCH('Zoeken in Database'!$D$5,Concerten!C236,1),\"x\",\"\")),\"\")","v":"x"},{"$f":"IFERROR(IF(ISBLANK('Zoeken in Database'!$D$6),\"x\",IF(SEARCH('Zoeken in Database'!$D$6,Concerten!G236,1),\"x\",\"\")),\"\")","v":"x"},{"$f":"IF(AND(D236>='Zoeken in Database'!$A$7,'Zoeken in Database'!$A$8>=D236),\"x\",\"\")","v":"x"}]
["Datsuns, The","Lowlands 2003","Biddinghuizen","2003-08-31",null,"Golf","Festivaloptreden",8,2003,{"$f":"VLOOKUP(Table1[[#This Row],[Maand (getal)]],Lijst!A:B,2,FALSE)","v":"aug"},{"$f":"IFERROR(IF(ISBLANK('Zoeken in Database'!$D$3),\"x\",IF(SEARCH('Zoeken in Database'!$D$3,Concerten!A237,1),\"x\",\"\")),\"\")","v":"x"},{"$f":"IFERROR(IF(ISBLANK('Zoeken in Database'!$D$4),\"x\",IF(SEARCH('Zoeken in Database'!$D$4,Concerten!B237,1),\"x\",\"\")),\"\")","v":"x"},{"$f":"IFERROR(IF(ISBLANK('Zoeken in Database'!$D$5),\"x\",IF(SEARCH('Zoeken in Database'!$D$5,Concerten!C237,1),\"x\",\"\")),\"\")","v":"x"},{"$f":"IFERROR(IF(ISBLANK('Zoeken in Database'!$D$6),\"x\",IF(SEARCH('Zoeken in Database'!$D$6,Concerten!G237,1),\"x\",\"\")),\"\")","v":"x"},{"$f":"IF(AND(D237>='Zoeken in Database'!$A$7,'Zoeken in Database'!$A$8>=D237),\"x\",\"\")","v":"x"}]
["Hot Hot Heat","Lowlands 2003","Biddinghuizen","2003-08-31",null,"Dommelsch","Festivaloptreden",8,2003,{"$f":"VLOOKUP(Table1[[#This Row],[Maand (getal)]],Lijst!A:B,2,FALSE)","v":"aug"},{"$f":"IFERROR(IF(ISBLANK('Zoeken in Database'!$D$3),\"x\",IF(SEARCH('Zoeken in Database'!$D$3,Concerten!A238,1),\"x\",\"\")),\"\")","v":"x"},{"$f":"IFERROR(IF(ISBLANK('Zoeken in Database'!$D$4),\"x\",IF(SEARCH('Zoeken in Database'!$D$4,Concerten!B238,1),\"x\",\"\")),\"\")","v":"x"},{"$f":"IFERROR(IF(ISBLANK('Zoeken in Database'!$D$5),\"x\",IF(SEARCH('Zoeken in Database'!$D$5,Concerten!C238,1),\"x\",\"\")),\"\")","v":"x"},{"$f":"IFERROR(IF(ISBLANK('Zoeken in Database'!$D$6),\"x\",IF(SEARCH('Zoeken in Database'!$D$6,Concerten!G238,1),\"x\",\"\")),\"\")","v":"x"},{"$f":"IF(AND(D238>='Zoeken in Database'!$A$7,'Zoeken in Database'!$A$8>=D238),\"x\",\"\")","v":"x"}]
["Mando Diao","Lowlands 2003","Biddinghuizen","2003-08-31",null,"India","Festivaloptreden",8,2003,{"$f":"VLOOKUP(Table1[[#This Row],[Maand (getal)]],Lijst!A:B,2,FALSE)","v":"aug"},{"$f":"IFERROR(IF(ISBLANK('Zoeken in Database'!$D$3),\"x\",IF(SEARCH('Zoeken in Database'!$D$3,Concerten!A239,1),\"x\",\"\")),\"\")","v":"x"},{"$f":"IFERROR(IF(ISBLANK('Zoeken in Database'!$D$4),\"x\",IF(SEARCH('Zoeken in Database'!$D$4,Concerten!B239,1),\"x\",\"\")),\"\")","v":"x"},{"$f":"IFERROR(IF(ISBLANK('Zoeken in Database'!$D$5),\"x\",IF(SEARCH('Zoeken in Database'!$D$5,Concerten!C239,1),\"x\",\"\")),\"\")","v":"x"},{"$f":"IFERROR(IF(ISBLANK('Zoeken in Database'!$D$6),\"x\",IF(SEARCH('Zoeken in Database'!$D$6,Concerten!G239,1),\"x\",\"\")),\"\")","v":"x"},{"$f":"IF(AND(D239>='Zoeken in Database'!$A$7,'Zoeken in Database'!$A$8>=D239),\"x\",\"\")","v":"x"}]
["Sum 41","Lowlands 2003","Biddinghuizen","2003-08-31",null,"Dommelsch","Festivaloptreden",8,2003,{"$f":"VLOOKUP(Table1[[#This Row],[Maand (getal)]],Lijst!A:B,2,FALSE)","v":"aug"},{"$f":"IFERROR(IF(ISBLANK('Zoeken in Database'!$D$3),\"x\",IF(SEARCH('Zoeken in Database'!$D$3,Concerten!A240,1),\"x\",\"\")),\"\")","v":"x"},{"$f":"IFERROR(IF(ISBLANK('Zoeken in Database'!$D$4),\"x\",IF(SEARCH('Zoeken in Database'!$D$4,Concerten!B240,1),\"x\",\"\")),\"\")","v":"x"},{"$f":"IFERROR(IF(ISBLANK('Zoeken in Database'!$D$5),\"x\",IF(SEARCH('Zoeken in Database'!$D$5,Concerten!C240,1),\"x\",\"\")),\"\")","v":"x"},{"$f":"IFERROR(IF(ISBLANK('Zoeken in Database'!$D$6),\"x\",IF(SEARCH('Zoeken in Database'!$D$6,Concerten!G240,1),\"x\",\"\")),\"\")","v":"x"},{"$f":"IF(AND(D240>='Zoeken in Database'!$A$7,'Zoeken in Database'!$A$8>=D240),\"x\",\"\")","v":"x"}]
["Burke, Solomon","O13","Tilburg","2003-09-08",null,null,"Hoofdprogramma",9,2003,{"$f":"VLOOKUP(Table1[[#This Row],[Maand (getal)]],Lijst!A:B,2,FALSE)","v":"sep"},{"$f":"IFERROR(IF(ISBLANK('Zoeken in Database'!$D$3),\"x\",IF(SEARCH('Zoeken in Database'!$D$3,Concerten!A241,1),\"x\",\"\")),\"\")","v":"x"},{"$f":"IFERROR(IF(ISBLANK('Zoeken in Database'!$D$4),\"x\",IF(SEARCH('Zoeken in Database'!$D$4,Concerten!B241,1),\"x\",\"\")),\"\")","v":"x"},{"$f":"IFERROR(IF(ISBLANK('Zoeken in Database'!$D$5),\"x\",IF(SEARCH('Zoeken in Database'!$D$5,Concerten!C241,1),\"x\",\"\")),\"\")","v":"x"},{"$f":"IFERROR(IF(ISBLANK('Zoeken in Database'!$D$6),\"x\",IF(SEARCH('Zoeken in Database'!$D$6,Concerten!G241,1),\"x\",\"\")),\"\")","v":"x"},{"$f":"IF(AND(D241>='Zoeken in Database'!$A$7,'Zoeken in Database'!$A$8>=D241),\"x\",\"\")","v":"x"}]
["Mark B. And His Counterweight","O13","Tilburg","2003-09-08",null,null,"Voorprogramma",9,2003,{"$f":"VLOOKUP(Table1[[#This Row],[Maand (getal)]],Lijst!A:B,2,FALSE)","v":"sep"},{"$f":"IFERROR(IF(ISBLANK('Zoeken in Database'!$D$3),\"x\",IF(SEARCH('Zoeken in Database'!$D$3,Concerten!A242,1),\"x\",\"\")),\"\")","v":"x"},{"$f":"IFERROR(IF(ISBLANK('Zoeken in Database'!$D$4),\"x\",IF(SEARCH('Zoeken in Database'!$D$4,Concerten!B242,1),\"x\",\"\")),\"\")","v":"x"},{"$f":"IFERROR(IF(ISBLANK('Zoeken in Database'!$D$5),\"x\",IF(SEARCH('Zoeken in Database'!$D$5,Concerten!C242,1),\"x\",\"\")),\"\")","v":"x"},{"$f":"IFERROR(IF(ISBLANK('Zoeken in Database'!$D$6),\"x\",IF(SEARCH('Zoeken in Database'!$D$6,Concerten!G242,1),\"x\",\"\")),\"\")","v":"x"},{"$f":"IF(AND(D242>='Zoeken in Database'!$A$7,'Zoeken in Database'!$A$8>=D242),\"x\",\"\")","v":"x"}]
["Rice, Damien","Tivoli De Helling","Utrecht","2003-10-26","niet op de juiste volgorde:\n\nSleep Don't Weep\nRootless Tree\nWoman Like a Man\nOlder Chests\nCannonball\nColdwater\nEskimo Friend\nChildish\nAmie\nBlowers Daughter\nPrague\n---------------\nVolcano (solo)\nDelicate",null,"Hoofdprogramma",10,2003,{"$f":"VLOOKUP(Table1[[#This Row],[Maand (getal)]],Lijst!A:B,2,FALSE)","v":"okt"},{"$f":"IFERROR(IF(ISBLANK('Zoeken in Database'!$D$3),\"x\",IF(SEARCH('Zoeken in Database'!$D$3,Concerten!A243,1),\"x\",\"\")),\"\")","v":"x"},{"$f":"IFERROR(IF(ISBLANK('Zoeken in Database'!$D$4),\"x\",IF(SEARCH('Zoeken in Database'!$D$4,Concerten!B243,1),\"x\",\"\")),\"\")","v":"x"},{"$f":"IFERROR(IF(ISBLANK('Zoeken in Database'!$D$5),\"x\",IF(SEARCH('Zoeken in Database'!$D$5,Concerten!C243,1),\"x\",\"\")),\"\")","v":"x"},{"$f":"IFERROR(IF(ISBLANK('Zoeken in Database'!$D$6),\"x\",IF(SEARCH('Zoeken in Database'!$D$6,Concerten!G243,1),\"x\",\"\")),\"\")","v":"x"},{"$f":"IF(AND(D243>='Zoeken in Database'!$A$7,'Zoeken in Database'!$A$8>=D243),\"x\",\"\")","v":"x"}]
["Shearer, Josh","Tivoli De Helling","Utrecht","2003-10-26",null,null,"Voorprogramma",10,2003,{"$f":"VLOOKUP(Table1[[#This Row],[Maand (getal)]],Lijst!A:B,2,FALSE)","v":"okt"},{"$f":"IFERROR(IF(ISBLANK('Zoeken in Database'!$D$3),\"x\",IF(SEARCH('Zoeken in Database'!$D$3,Concerten!A244,1),\"x\",\"\")),\"\")","v":"x"},{"$f":"IFERROR(IF(ISBLANK('Zoeken in Database'!$D$4),\"x\",IF(SEARCH('Zoeken in Database'!$D$4,Concerten!B244,1),\"x\",\"\")),\"\")","v":"x"},{"$f":"IFERROR(IF(ISBLANK('Zoeken in Database'!$D$5),\"x\",IF(SEARCH('Zoeken in Database'!$D$5,Concerten!C244,1),\"x\",\"\")),\"\")","v":"x"},{"$f":"IFERROR(IF(ISBLANK('Zoeken in Database'!$D$6),\"x\",IF(SEARCH('Zoeken in Database'!$D$6,Concerten!G244,1),\"x\",\"\")),\"\")","v":"x"},{"$f":"IF(AND(D244>='Zoeken in Database'!$A$7,'Zoeken in Database'!$A$8>=D244),\"x\",\"\")","v":"x"}]
["Danko Jones","Tivoli Oudegracht","Utrecht","2003-10-29","01. Dance\n02. Way To My Heart\n03. Living IN The City\n04. Samuel Sin\n05. Sex Change Shake\n06. Forget My Name\n07. Play The Blues\n08. I Want You\n09. Heartbreak’s A Blessing\n10. Bounce\n11. Never Again\n12. Soul ON Ice\n13. Sound Of Love\n14. Lovercall\n15. We Sweat Blood\n---------\n16. The Cross\n17. Cadillac\n18. Mountain\n\n",null,"Hoofdprogramma",10,2003,{"$f":"VLOOKUP(Table1[[#This Row],[Maand (getal)]],Lijst!A:B,2,FALSE)","v":"okt"},{"$f":"IFERROR(IF(ISBLANK('Zoeken in Database'!$D$3),\"x\",IF(SEARCH('Zoeken in Database'!$D$3,Concerten!A245,1),\"x\",\"\")),\"\")","v":"x"},{"$f":"IFERROR(IF(ISBLANK('Zoeken in Database'!$D$4),\"x\",IF(SEARCH('Zoeken in Database'!$D$4,Concerten!B245,1),\"x\",\"\")),\"\")","v":"x"},{"$f":"IFERROR(IF(ISBLANK('Zoeken in Database'!$D$5),\"x\",IF(SEARCH('Zoeken in Database'!$D$5,Concerten!C245,1),\"x\",\"\")),\"\")","v":"x"},{"$f":"IFERROR(IF(ISBLANK('Zoeken in Database'!$D$6),\"x\",IF(SEARCH('Zoeken in Database'!$D$6,Concerten!G245,1),\"x\",\"\")),\"\")","v":"x"},{"$f":"IF(AND(D245>='Zoeken in Database'!$A$7,'Zoeken in Database'!$A$8>=D245),\"x\",\"\")","v":"x"}]
["Tacker","Tivoli Oudegracht","Utrecht","2003-10-29",null,null,"Voorprogramma",10,2003,{"$f":"VLOOKUP(Table1[[#This Row],[Maand (getal)]],Lijst!A:B,2,FALSE)","v":"okt"},{"$f":"IFERROR(IF(ISBLANK('Zoeken in Database'!$D$3),\"x\",IF(SEARCH('Zoeken in Database'!$D$3,Concerten!A246,1),\"x\",\"\")),\"\")","v":"x"},{"$f":"IFERROR(IF(ISBLANK('Zoeken in Database'!$D$4),\"x\",IF(SEARCH('Zoeken in Database'!$D$4,Concerten!B246,1),\"x\",\"\")),\"\")","v":"x"},{"$f":"IFERROR(IF(ISBLANK('Zoeken in Database'!$D$5),\"x\",IF(SEARCH('Zoeken in Database'!$D$5,Concerten!C246,1),\"x\",\"\")),\"\")","v":"x"},{"$f":"IFERROR(IF(ISBLANK('Zoeken in Database'!$D$6),\"x\",IF(SEARCH('Zoeken in Database'!$D$6,Concerten!G246,1),\"x\",\"\")),\"\")","v":"x"},{"$f":"IF(AND(D246>='Zoeken in Database'!$A$7,'Zoeken in Database'!$A$8>=D246),\"x\",\"\")","v":"x"}]
["Asian Dub Foundation","Gelredome","Arnhem","2003-11-19",null,null,"Voorprogramma",11,2003,{"$f":"VLOOKUP(Table1[[#This Row],[Maand (getal)]],Lijst!A:B,2,FALSE)","v":"nov"},{"$f":"IFERROR(IF(ISBLANK('Zoeken in Database'!$D$3),\"x\",IF(SEARCH('Zoeken in Database'!$D$3,Concerten!A247,1),\"x\",\"\")),\"\")","v":"x"},{"$f":"IFERROR(IF(ISBLANK('Zoeken in Database'!$D$4),\"x\",IF(SEARCH('Zoeken in Database'!$D$4,Concerten!B247,1),\"x\",\"\")),\"\")","v":"x"},{"$f":"IFERROR(IF(ISBLANK('Zoeken in Database'!$D$5),\"x\",IF(SEARCH('Zoeken in Database'!$D$5,Concerten!C247,1),\"x\",\"\")),\"\")","v":"x"},{"$f":"IFERROR(IF(ISBLANK('Zoeken in Database'!$D$6),\"x\",IF(SEARCH('Zoeken in Database'!$D$6,Concerten!G247,1),\"x\",\"\")),\"\")","v":"x"},{"$f":"IF(AND(D247>='Zoeken in Database'!$A$7,'Zoeken in Database'!$A$8>=D247),\"x\",\"\")","v":"x"}]
["Radiohead","Gelredome","Arnhem","2003-11-19","01 there there\n02 2+2=5 \n03 lucky\n04 myxomatosis\n05 where i end and you begin \n06 backdrifts \n07 fake plastic trees\n08 paranoid android\n09 i will\n10 i might be wrong\n11 climbing up the walls\n12 my iron lung\n13 sit down. stand up\n14 scatterbrain\n15 national anthem\n16 exit music\n17 idioteque\n-----------\n18 the gloaming \n19 go to sleep\n20 the bends\n21 street spirit\n-----------\n22 we suck young blood\n23 karma police\n24 everything in its right place\n\n",null,"Hoofdprogramma",11,2003,{"$f":"VLOOKUP(Table1[[#This Row],[Maand (getal)]],Lijst!A:B,2,FALSE)","v":"nov"},{"$f":"IFERROR(IF(ISBLANK('Zoeken in Database'!$D$3),\"x\",IF(SEARCH('Zoeken in Database'!$D$3,Concerten!A248,1),\"x\",\"\")),\"\")","v":"x"},{"$f":"IFERROR(IF(ISBLANK('Zoeken in Database'!$D$4),\"x\",IF(SEARCH('Zoeken in Database'!$D$4,Concerten!B248,1),\"x\",\"\")),\"\")","v":"x"},{"$f":"IFERROR(IF(ISBLANK('Zoeken in Database'!$D$5),\"x\",IF(SEARCH('Zoeken in Database'!$D$5,Concerten!C248,1),\"x\",\"\")),\"\")","v":"x"},{"$f":"IFERROR(IF(ISBLANK('Zoeken in Database'!$D$6),\"x\",IF(SEARCH('Zoeken in Database'!$D$6,Concerten!G248,1),\"x\",\"\")),\"\")","v":"x"},{"$f":"IF(AND(D248>='Zoeken in Database'!$A$7,'Zoeken in Database'!$A$8>=D248),\"x\",\"\")","v":"x"}]
["Julia P.","Tivoli Oudegracht","Utrecht","2003-11-21",null,null,"Voorprogramma",11,2003,{"$f":"VLOOKUP(Table1[[#This Row],[Maand (getal)]],Lijst!A:B,2,FALSE)","v":"nov"},{"$f":"IFERROR(IF(ISBLANK('Zoeken in Database'!$D$3),\"x\",IF(SEARCH('Zoeken in Database'!$D$3,Concerten!A249,1),\"x\",\"\")),\"\")","v":"x"},{"$f":"IFERROR(IF(ISBLANK('Zoeken in Database'!$D$4),\"x\",IF(SEARCH('Zoeken in Database'!$D$4,Concerten!B249,1),\"x\",\"\")),\"\")","v":"x"},{"$f":"IFERROR(IF(ISBLANK('Zoeken in Database'!$D$5),\"x\",IF(SEARCH('Zoeken in Database'!$D$5,Concerten!C249,1),\"x\",\"\")),\"\")","v":"x"},{"$f":"IFERROR(IF(ISBLANK('Zoeken in Database'!$D$6),\"x\",IF(SEARCH('Zoeken in Database'!$D$6,Concerten!G249,1),\"x\",\"\")),\"\")","v":"x"},{"$f":"IF(AND(D249>='Zoeken in Database'!$A$7,'Zoeken in Database'!$A$8>=D249),\"x\",\"\")","v":"x"}]
["Thrills, The","Tivoli Oudegracht","Utrecht","2003-11-21",null,null,"Hoofdprogramma",11,2003,{"$f":"VLOOKUP(Table1[[#This Row],[Maand (getal)]],Lijst!A:B,2,FALSE)","v":"nov"},{"$f":"IFERROR(IF(ISBLANK('Zoeken in Database'!$D$3),\"x\",IF(SEARCH('Zoeken in Database'!$D$3,Concerten!A250,1),\"x\",\"\")),\"\")","v":"x"},{"$f":"IFERROR(IF(ISBLANK('Zoeken in Database'!$D$4),\"x\",IF(SEARCH('Zoeken in Database'!$D$4,Concerten!B250,1),\"x\",\"\")),\"\")","v":"x"},{"$f":"IFERROR(IF(ISBLANK('Zoeken in Database'!$D$5),\"x\",IF(SEARCH('Zoeken in Database'!$D$5,Concerten!C250,1),\"x\",\"\")),\"\")","v":"x"},{"$f":"IFERROR(IF(ISBLANK('Zoeken in Database'!$D$6),\"x\",IF(SEARCH('Zoeken in Database'!$D$6,Concerten!G250,1),\"x\",\"\")),\"\")","v":"x"},{"$f":"IF(AND(D250>='Zoeken in Database'!$A$7,'Zoeken in Database'!$A$8>=D250),\"x\",\"\")","v":"x"}]
["Har Mar Superstar","Heineken Music Hall","Amsterdam","2003-12-12",null,null,"Voorprogramma",12,2003,{"$f":"VLOOKUP(Table1[[#This Row],[Maand (getal)]],Lijst!A:B,2,FALSE)","v":"dec"},{"$f":"IFERROR(IF(ISBLANK('Zoeken in Database'!$D$3),\"x\",IF(SEARCH('Zoeken in Database'!$D$3,Concerten!A251,1),\"x\",\"\")),\"\")","v":"x"},{"$f":"IFERROR(IF(ISBLANK('Zoeken in Database'!$D$4),\"x\",IF(SEARCH('Zoeken in Database'!$D$4,Concerten!B251,1),\"x\",\"\")),\"\")","v":"x"},{"$f":"IFERROR(IF(ISBLANK('Zoeken in Database'!$D$5),\"x\",IF(SEARCH('Zoeken in Database'!$D$5,Concerten!C251,1),\"x\",\"\")),\"\")","v":"x"},{"$f":"IFERROR(IF(ISBLANK('Zoeken in Database'!$D$6),\"x\",IF(SEARCH('Zoeken in Database'!$D$6,Concerten!G251,1),\"x\",\"\")),\"\")","v":"x"},{"$f":"IF(AND(D251>='Zoeken in Database'!$A$7,'Zoeken in Database'!$A$8>=D251),\"x\",\"\")","v":"x"}]
["Strokes, The","Heineken Music Hall","Amsterdam","2003-12-12",null,null,"Hoofdprogramma",12,2003,{"$f":"VLOOKUP(Table1[[#This Row],[Maand (getal)]],Lijst!A:B,2,FALSE)","v":"dec"},{"$f":"IFERROR(IF(ISBLANK('Zoeken in Database'!$D$3),\"x\",IF(SEARCH('Zoeken in Database'!$D$3,Concerten!A252,1),\"x\",\"\")),\"\")","v":"x"},{"$f":"IFERROR(IF(ISBLANK('Zoeken in Database'!$D$4),\"x\",IF(SEARCH('Zoeken in Database'!$D$4,Concerten!B252,1),\"x\",\"\")),\"\")","v":"x"},{"$f":"IFERROR(IF(ISBLANK('Zoeken in Database'!$D$5),\"x\",IF(SEARCH('Zoeken in Database'!$D$5,Concerten!C252,1),\"x\",\"\")),\"\")","v":"x"},{"$f":"IFERROR(IF(ISBLANK('Zoeken in Database'!$D$6),\"x\",IF(SEARCH('Zoeken in Database'!$D$6,Concerten!G252,1),\"x\",\"\")),\"\")","v":"x"},{"$f":"IF(AND(D252>='Zoeken in Database'!$A$7,'Zoeken in Database'!$A$8>=D252),\"x\",\"\")","v":"x"}]
["Hart, Beth","Paradiso","Amsterdam","2004-01-15",null,null,"Hoofdprogramma",1,2004,{"$f":"VLOOKUP(Table1[[#This Row],[Maand (getal)]],Lijst!A:B,2,FALSE)","v":"jan"},{"$f":"IFERROR(IF(ISBLANK('Zoeken in Database'!$D$3),\"x\",IF(SEARCH('Zoeken in Database'!$D$3,Concerten!A253,1),\"x\",\"\")),\"\")","v":"x"},{"$f":"IFERROR(IF(ISBLANK('Zoeken in Database'!$D$4),\"x\",IF(SEARCH('Zoeken in Database'!$D$4,Concerten!B253,1),\"x\",\"\")),\"\")","v":"x"},{"$f":"IFERROR(IF(ISBLANK('Zoeken in Database'!$D$5),\"x\",IF(SEARCH('Zoeken in Database'!$D$5,Concerten!C253,1),\"x\",\"\")),\"\")","v":"x"},{"$f":"IFERROR(IF(ISBLANK('Zoeken in Database'!$D$6),\"x\",IF(SEARCH('Zoeken in Database'!$D$6,Concerten!G253,1),\"x\",\"\")),\"\")","v":"x"},{"$f":"IF(AND(D253>='Zoeken in Database'!$A$7,'Zoeken in Database'!$A$8>=D253),\"x\",\"\")","v":"x"}]
["Christensen, Tim","Paradiso","Amsterdam","2004-01-28","01. Time Is The Space Between Us\n02. Jump The Gun\n03. Isolation Here I Come\n04. Secrets On Parade\n05. Close The Door\n06. Don’t Leave Me But Leave Me Alone\n07. Surfing The Surface\n08. Lost And Found\n09. Love Is A Matter Of...\n10. Whispering At The Top Of My Lungs\n11. Lets Face It\n12. Get The Fuck Out Of My Mind\n13. Screaming At The Top Of My Lungs\n14. Caterpillar\n---\n15. Love Is A Loosers\n16. Right Next\n17. 21st Century High\n\n","Bovenzaal","Hoofdprogramma",1,2004,{"$f":"VLOOKUP(Table1[[#This Row],[Maand (getal)]],Lijst!A:B,2,FALSE)","v":"jan"},{"$f":"IFERROR(IF(ISBLANK('Zoeken in Database'!$D$3),\"x\",IF(SEARCH('Zoeken in Database'!$D$3,Concerten!A254,1),\"x\",\"\")),\"\")","v":"x"},{"$f":"IFERROR(IF(ISBLANK('Zoeken in Database'!$D$4),\"x\",IF(SEARCH('Zoeken in Database'!$D$4,Concerten!B254,1),\"x\",\"\")),\"\")","v":"x"},{"$f":"IFERROR(IF(ISBLANK('Zoeken in Database'!$D$5),\"x\",IF(SEARCH('Zoeken in Database'!$D$5,Concerten!C254,1),\"x\",\"\")),\"\")","v":"x"},{"$f":"IFERROR(IF(ISBLANK('Zoeken in Database'!$D$6),\"x\",IF(SEARCH('Zoeken in Database'!$D$6,Concerten!G254,1),\"x\",\"\")),\"\")","v":"x"},{"$f":"IF(AND(D254>='Zoeken in Database'!$A$7,'Zoeken in Database'!$A$8>=D254),\"x\",\"\")","v":"x"}]
["Green, Adam","Ekko","Utrecht","2004-02-10","01. Chubby Princess\n02. Blue Birds\n03. The Prince’s Bed\n04. Salty Candy\n05. Crackhouse Blues\n06. Emily\n07. Hard To Be A Girl\n08. Gemstones\n09. Dance With Me\n10. Bunnyranch\n11. Carolina\n12. I Wanna Die\n13. Friends Of Mine\n14. Broken Joystick\n15. Jessica\n16. Her Father & Her\n17. Baby’s Gonna Die\n\n",null,"Hoofdprogramma",2,2004,{"$f":"VLOOKUP(Table1[[#This Row],[Maand (getal)]],Lijst!A:B,2,FALSE)","v":"feb"},{"$f":"IFERROR(IF(ISBLANK('Zoeken in Database'!$D$3),\"x\",IF(SEARCH('Zoeken in Database'!$D$3,Concerten!A255,1),\"x\",\"\")),\"\")","v":"x"},{"$f":"IFERROR(IF(ISBLANK('Zoeken in Database'!$D$4),\"x\",IF(SEARCH('Zoeken in Database'!$D$4,Concerten!B255,1),\"x\",\"\")),\"\")","v":"x"},{"$f":"IFERROR(IF(ISBLANK('Zoeken in Database'!$D$5),\"x\",IF(SEARCH('Zoeken in Database'!$D$5,Concerten!C255,1),\"x\",\"\")),\"\")","v":"x"},{"$f":"IFERROR(IF(ISBLANK('Zoeken in Database'!$D$6),\"x\",IF(SEARCH('Zoeken in Database'!$D$6,Concerten!G255,1),\"x\",\"\")),\"\")","v":"x"},{"$f":"IF(AND(D255>='Zoeken in Database'!$A$7,'Zoeken in Database'!$A$8>=D255),\"x\",\"\")","v":"x"}]
["Lewis, Jeffrey","Ekko","Utrecht","2004-02-10",null,null,"Voorprogramma",2,2004,{"$f":"VLOOKUP(Table1[[#This Row],[Maand (getal)]],Lijst!A:B,2,FALSE)","v":"feb"},{"$f":"IFERROR(IF(ISBLANK('Zoeken in Database'!$D$3),\"x\",IF(SEARCH('Zoeken in Database'!$D$3,Concerten!A256,1),\"x\",\"\")),\"\")","v":"x"},{"$f":"IFERROR(IF(ISBLANK('Zoeken in Database'!$D$4),\"x\",IF(SEARCH('Zoeken in Database'!$D$4,Concerten!B256,1),\"x\",\"\")),\"\")","v":"x"},{"$f":"IFERROR(IF(ISBLANK('Zoeken in Database'!$D$5),\"x\",IF(SEARCH('Zoeken in Database'!$D$5,Concerten!C256,1),\"x\",\"\")),\"\")","v":"x"},{"$f":"IFERROR(IF(ISBLANK('Zoeken in Database'!$D$6),\"x\",IF(SEARCH('Zoeken in Database'!$D$6,Concerten!G256,1),\"x\",\"\")),\"\")","v":"x"},{"$f":"IF(AND(D256>='Zoeken in Database'!$A$7,'Zoeken in Database'!$A$8>=D256),\"x\",\"\")","v":"x"}]
["Pretty Girls Make Graves","Ekko","Utrecht","2004-02-19",null,null,"Hoofdprogramma",2,2004,{"$f":"VLOOKUP(Table1[[#This Row],[Maand (getal)]],Lijst!A:B,2,FALSE)","v":"feb"},{"$f":"IFERROR(IF(ISBLANK('Zoeken in Database'!$D$3),\"x\",IF(SEARCH('Zoeken in Database'!$D$3,Concerten!A257,1),\"x\",\"\")),\"\")","v":"x"},{"$f":"IFERROR(IF(ISBLANK('Zoeken in Database'!$D$4),\"x\",IF(SEARCH('Zoeken in Database'!$D$4,Concerten!B257,1),\"x\",\"\")),\"\")","v":"x"},{"$f":"IFERROR(IF(ISBLANK('Zoeken in Database'!$D$5),\"x\",IF(SEARCH('Zoeken in Database'!$D$5,Concerten!C257,1),\"x\",\"\")),\"\")","v":"x"},{"$f":"IFERROR(IF(ISBLANK('Zoeken in Database'!$D$6),\"x\",IF(SEARCH('Zoeken in Database'!$D$6,Concerten!G257,1),\"x\",\"\")),\"\")","v":"x"},{"$f":"IF(AND(D257>='Zoeken in Database'!$A$7,'Zoeken in Database'!$A$8>=D257),\"x\",\"\")","v":"x"}]
["Seedling","Ekko","Utrecht","2004-02-19",null,null,"Voorprogramma",2,2004,{"$f":"VLOOKUP(Table1[[#This Row],[Maand (getal)]],Lijst!A:B,2,FALSE)","v":"feb"},{"$f":"IFERROR(IF(ISBLANK('Zoeken in Database'!$D$3),\"x\",IF(SEARCH('Zoeken in Database'!$D$3,Concerten!A258,1),\"x\",\"\")),\"\")","v":"x"},{"$f":"IFERROR(IF(ISBLANK('Zoeken in Database'!$D$4),\"x\",IF(SEARCH('Zoeken in Database'!$D$4,Concerten!B258,1),\"x\",\"\")),\"\")","v":"x"},{"$f":"IFERROR(IF(ISBLANK('Zoeken in Database'!$D$5),\"x\",IF(SEARCH('Zoeken in Database'!$D$5,Concerten!C258,1),\"x\",\"\")),\"\")","v":"x"},{"$f":"IFERROR(IF(ISBLANK('Zoeken in Database'!$D$6),\"x\",IF(SEARCH('Zoeken in Database'!$D$6,Concerten!G258,1),\"x\",\"\")),\"\")","v":"x"},{"$f":"IF(AND(D258>='Zoeken in Database'!$A$7,'Zoeken in Database'!$A$8>=D258),\"x\",\"\")","v":"x"}]
["Rice, Damien","Paradiso","Amsterdam","2004-02-25","01. Grey Room\n02. Volcano \n03. the Blowers Daughter\n04. Rootless Tree* \n05. Woman like a Man \n06. Tongue \n07. Older chests ^\n08. the I'll be somewhere listening !\n09. Amie \n10. Prague\n11. Eskimo\n12. I remember\n13. Seven Nation Army @\n14. Cold Water $\n15. Cannonball\n16. Delicate\n17. Cheers' Darlin %\n\n* = Previously Untitled Song, Damien calls it \"Rootless Tree\" for the first known time.\n^ = Damien forgets the lyrics several times so he has to start over a few times\n! = Irish Traditional Song\n@ = White Stripes Cover performed by Vyvienne on cello and vocals and Lisa on drums\n$ = Version with unknown Lyrics in the Intro\n% = Damien did a sort of Cabaret act together with Lisa during this song,\n    that's why the audience reacts with laughter\n\n",null,"Hoofdprogramma",{"$f":"IF(ISBLANK(D259),\"\",MONTH(D259))","v":2},{"$f":"IF(ISBLANK(D259),\"\",YEAR(D259))","v":2004},{"$f":"VLOOKUP(Table1[[#This Row],[Maand (getal)]],Lijst!A:B,2,FALSE)","v":"feb"},{"$f":"IFERROR(IF(ISBLANK('Zoeken in Database'!$D$3),\"x\",IF(SEARCH('Zoeken in Database'!$D$3,Concerten!A259,1),\"x\",\"\")),\"\")","v":"x"},{"$f":"IFERROR(IF(ISBLANK('Zoeken in Database'!$D$4),\"x\",IF(SEARCH('Zoeken in Database'!$D$4,Concerten!B259,1),\"x\",\"\")),\"\")","v":"x"},{"$f":"IFERROR(IF(ISBLANK('Zoeken in Database'!$D$5),\"x\",IF(SEARCH('Zoeken in Database'!$D$5,Concerten!C259,1),\"x\",\"\")),\"\")","v":"x"},{"$f":"IFERROR(IF(ISBLANK('Zoeken in Database'!$D$6),\"x\",IF(SEARCH('Zoeken in Database'!$D$6,Concerten!G259,1),\"x\",\"\")),\"\")","v":"x"},{"$f":"IF(AND(D259>='Zoeken in Database'!$A$7,'Zoeken in Database'!$A$8>=D259),\"x\",\"\")","v":"x"}]
["Ritter, Josh","Paradiso","Amsterdam","2004-02-25",null,null,"Voorprogramma",2,2004,{"$f":"VLOOKUP(Table1[[#This Row],[Maand (getal)]],Lijst!A:B,2,FALSE)","v":"feb"},{"$f":"IFERROR(IF(ISBLANK('Zoeken in Database'!$D$3),\"x\",IF(SEARCH('Zoeken in Database'!$D$3,Concerten!A260,1),\"x\",\"\")),\"\")","v":"x"},{"$f":"IFERROR(IF(ISBLANK('Zoeken in Database'!$D$4),\"x\",IF(SEARCH('Zoeken in Database'!$D$4,Concerten!B260,1),\"x\",\"\")),\"\")","v":"x"},{"$f":"IFERROR(IF(ISBLANK('Zoeken in Database'!$D$5),\"x\",IF(SEARCH('Zoeken in Database'!$D$5,Concerten!C260,1),\"x\",\"\")),\"\")","v":"x"},{"$f":"IFERROR(IF(ISBLANK('Zoeken in Database'!$D$6),\"x\",IF(SEARCH('Zoeken in Database'!$D$6,Concerten!G260,1),\"x\",\"\")),\"\")","v":"x"},{"$f":"IF(AND(D260>='Zoeken in Database'!$A$7,'Zoeken in Database'!$A$8>=D260),\"x\",\"\")","v":"x"}]
["Jules, Gary","Paradiso","Amsterdam","2004-02-28","01. The Crossing\n02. Overground\n03. Broke window\n04. DTLA\n05. Nothing\n06. No Poetry\n07. Princess\n08. Pills\n09. Ghosts\n10. Umbillical Town\n11. I Shall Be Released\n12. Mad World\n---\n13. Barstool\n14. Little Greenie\n","Bovenzaal","Hoofdprogramma",2,2004,{"$f":"VLOOKUP(Table1[[#This Row],[Maand (getal)]],Lijst!A:B,2,FALSE)","v":"feb"},{"$f":"IFERROR(IF(ISBLANK('Zoeken in Database'!$D$3),\"x\",IF(SEARCH('Zoeken in Database'!$D$3,Concerten!A261,1),\"x\",\"\")),\"\")","v":"x"},{"$f":"IFERROR(IF(ISBLANK('Zoeken in Database'!$D$4),\"x\",IF(SEARCH('Zoeken in Database'!$D$4,Concerten!B261,1),\"x\",\"\")),\"\")","v":"x"},{"$f":"IFERROR(IF(ISBLANK('Zoeken in Database'!$D$5),\"x\",IF(SEARCH('Zoeken in Database'!$D$5,Concerten!C261,1),\"x\",\"\")),\"\")","v":"x"},{"$f":"IFERROR(IF(ISBLANK('Zoeken in Database'!$D$6),\"x\",IF(SEARCH('Zoeken in Database'!$D$6,Concerten!G261,1),\"x\",\"\")),\"\")","v":"x"},{"$f":"IF(AND(D261>='Zoeken in Database'!$A$7,'Zoeken in Database'!$A$8>=D261),\"x\",\"\")","v":"x"}]
["69 Charger","Ekko","Utrecht","2004-03-01",null,null,"Voorprogramma",3,2004,{"$f":"VLOOKUP(Table1[[#This Row],[Maand (getal)]],Lijst!A:B,2,FALSE)","v":"mrt"},{"$f":"IFERROR(IF(ISBLANK('Zoeken in Database'!$D$3),\"x\",IF(SEARCH('Zoeken in Database'!$D$3,Concerten!A262,1),\"x\",\"\")),\"\")","v":"x"},{"$f":"IFERROR(IF(ISBLANK('Zoeken in Database'!$D$4),\"x\",IF(SEARCH('Zoeken in Database'!$D$4,Concerten!B262,1),\"x\",\"\")),\"\")","v":"x"},{"$f":"IFERROR(IF(ISBLANK('Zoeken in Database'!$D$5),\"x\",IF(SEARCH('Zoeken in Database'!$D$5,Concerten!C262,1),\"x\",\"\")),\"\")","v":"x"},{"$f":"IFERROR(IF(ISBLANK('Zoeken in Database'!$D$6),\"x\",IF(SEARCH('Zoeken in Database'!$D$6,Concerten!G262,1),\"x\",\"\")),\"\")","v":"x"},{"$f":"IF(AND(D262>='Zoeken in Database'!$A$7,'Zoeken in Database'!$A$8>=D262),\"x\",\"\")","v":"x"}]
["Riverboat Gamblers, The","Ekko","Utrecht","2004-03-01",null,null,"Hoofdprogramma",3,2004,{"$f":"VLOOKUP(Table1[[#This Row],[Maand (getal)]],Lijst!A:B,2,FALSE)","v":"mrt"},{"$f":"IFERROR(IF(ISBLANK('Zoeken in Database'!$D$3),\"x\",IF(SEARCH('Zoeken in Database'!$D$3,Concerten!A263,1),\"x\",\"\")),\"\")","v":"x"},{"$f":"IFERROR(IF(ISBLANK('Zoeken in Database'!$D$4),\"x\",IF(SEARCH('Zoeken in Database'!$D$4,Concerten!B263,1),\"x\",\"\")),\"\")","v":"x"},{"$f":"IFERROR(IF(ISBLANK('Zoeken in Database'!$D$5),\"x\",IF(SEARCH('Zoeken in Database'!$D$5,Concerten!C263,1),\"x\",\"\")),\"\")","v":"x"},{"$f":"IFERROR(IF(ISBLANK('Zoeken in Database'!$D$6),\"x\",IF(SEARCH('Zoeken in Database'!$D$6,Concerten!G263,1),\"x\",\"\")),\"\")","v":"x"},{"$f":"IF(AND(D263>='Zoeken in Database'!$A$7,'Zoeken in Database'!$A$8>=D263),\"x\",\"\")","v":"x"}]
["Death Cab For Cutie","Ekko","Utrecht","2004-03-02","01. We Have The Facts And We're Voting Yes \n02. A Movie Script Ending \n03. Why You'd Want To Live Here \n04. The New Year \n05. Title and Registration \n06. Photobooth \n07. Expo '86 \n08. Lightness \n09. For What Reason \n10. Company Calls \n11. Company Calls Epilogue \n12. We Looked Like Giants \n13. The Sound Of Settling \n14. Tiny Vessels \n15. Transatlanticism \n---------\n16. We Laugh Indoors \n17. Blacking Out The Friction > Girls Just Wanna Have Fun [Cyndi Lauper] (tease)\n\n",null,"Hoofdprogramma",3,2004,{"$f":"VLOOKUP(Table1[[#This Row],[Maand (getal)]],Lijst!A:B,2,FALSE)","v":"mrt"},{"$f":"IFERROR(IF(ISBLANK('Zoeken in Database'!$D$3),\"x\",IF(SEARCH('Zoeken in Database'!$D$3,Concerten!A264,1),\"x\",\"\")),\"\")","v":"x"},{"$f":"IFERROR(IF(ISBLANK('Zoeken in Database'!$D$4),\"x\",IF(SEARCH('Zoeken in Database'!$D$4,Concerten!B264,1),\"x\",\"\")),\"\")","v":"x"},{"$f":"IFERROR(IF(ISBLANK('Zoeken in Database'!$D$5),\"x\",IF(SEARCH('Zoeken in Database'!$D$5,Concerten!C264,1),\"x\",\"\")),\"\")","v":"x"},{"$f":"IFERROR(IF(ISBLANK('Zoeken in Database'!$D$6),\"x\",IF(SEARCH('Zoeken in Database'!$D$6,Concerten!G264,1),\"x\",\"\")),\"\")","v":"x"},{"$f":"IF(AND(D264>='Zoeken in Database'!$A$7,'Zoeken in Database'!$A$8>=D264),\"x\",\"\")","v":"x"}]
["Fiery Furnaces","Ekko","Utrecht","2004-03-08",null,"Dubbelconcert","Hoofdprogramma",3,2004,{"$f":"VLOOKUP(Table1[[#This Row],[Maand (getal)]],Lijst!A:B,2,FALSE)","v":"mrt"},{"$f":"IFERROR(IF(ISBLANK('Zoeken in Database'!$D$3),\"x\",IF(SEARCH('Zoeken in Database'!$D$3,Concerten!A265,1),\"x\",\"\")),\"\")","v":"x"},{"$f":"IFERROR(IF(ISBLANK('Zoeken in Database'!$D$4),\"x\",IF(SEARCH('Zoeken in Database'!$D$4,Concerten!B265,1),\"x\",\"\")),\"\")","v":"x"},{"$f":"IFERROR(IF(ISBLANK('Zoeken in Database'!$D$5),\"x\",IF(SEARCH('Zoeken in Database'!$D$5,Concerten!C265,1),\"x\",\"\")),\"\")","v":"x"},{"$f":"IFERROR(IF(ISBLANK('Zoeken in Database'!$D$6),\"x\",IF(SEARCH('Zoeken in Database'!$D$6,Concerten!G265,1),\"x\",\"\")),\"\")","v":"x"},{"$f":"IF(AND(D265>='Zoeken in Database'!$A$7,'Zoeken in Database'!$A$8>=D265),\"x\",\"\")","v":"x"}]
["Veils, The","Ekko","Utrecht","2004-03-08",null,"Dubbelconcert","Hoofdprogramma",3,2004,{"$f":"VLOOKUP(Table1[[#This Row],[Maand (getal)]],Lijst!A:B,2,FALSE)","v":"mrt"},{"$f":"IFERROR(IF(ISBLANK('Zoeken in Database'!$D$3),\"x\",IF(SEARCH('Zoeken in Database'!$D$3,Concerten!A266,1),\"x\",\"\")),\"\")","v":"x"},{"$f":"IFERROR(IF(ISBLANK('Zoeken in Database'!$D$4),\"x\",IF(SEARCH('Zoeken in Database'!$D$4,Concerten!B266,1),\"x\",\"\")),\"\")","v":"x"},{"$f":"IFERROR(IF(ISBLANK('Zoeken in Database'!$D$5),\"x\",IF(SEARCH('Zoeken in Database'!$D$5,Concerten!C266,1),\"x\",\"\")),\"\")","v":"x"},{"$f":"IFERROR(IF(ISBLANK('Zoeken in Database'!$D$6),\"x\",IF(SEARCH('Zoeken in Database'!$D$6,Concerten!G266,1),\"x\",\"\")),\"\")","v":"x"},{"$f":"IF(AND(D266>='Zoeken in Database'!$A$7,'Zoeken in Database'!$A$8>=D266),\"x\",\"\")","v":"x"}]
["Gem","Tivoli De Helling","Utrecht","2004-03-10",null,null,"Voorprogramma",3,2004,{"$f":"VLOOKUP(Table1[[#This Row],[Maand (getal)]],Lijst!A:B,2,FALSE)","v":"mrt"},{"$f":"IFERROR(IF(ISBLANK('Zoeken in Database'!$D$3),\"x\",IF(SEARCH('Zoeken in Database'!$D$3,Concerten!A267,1),\"x\",\"\")),\"\")","v":"x"},{"$f":"IFERROR(IF(ISBLANK('Zoeken in Database'!$D$4),\"x\",IF(SEARCH('Zoeken in Database'!$D$4,Concerten!B267,1),\"x\",\"\")),\"\")","v":"x"},{"$f":"IFERROR(IF(ISBLANK('Zoeken in Database'!$D$5),\"x\",IF(SEARCH('Zoeken in Database'!$D$5,Concerten!C267,1),\"x\",\"\")),\"\")","v":"x"},{"$f":"IFERROR(IF(ISBLANK('Zoeken in Database'!$D$6),\"x\",IF(SEARCH('Zoeken in Database'!$D$6,Concerten!G267,1),\"x\",\"\")),\"\")","v":"x"},{"$f":"IF(AND(D267>='Zoeken in Database'!$A$7,'Zoeken in Database'!$A$8>=D267),\"x\",\"\")","v":"x"}]
["Mando Diao","Tivoli De Helling","Utrecht","2004-03-10",null,null,"Hoofdprogramma",3,2004,{"$f":"VLOOKUP(Table1[[#This Row],[Maand (getal)]],Lijst!A:B,2,FALSE)","v":"mrt"},{"$f":"IFERROR(IF(ISBLANK('Zoeken in Database'!$D$3),\"x\",IF(SEARCH('Zoeken in Database'!$D$3,Concerten!A268,1),\"x\",\"\")),\"\")","v":"x"},{"$f":"IFERROR(IF(ISBLANK('Zoeken in Database'!$D$4),\"x\",IF(SEARCH('Zoeken in Database'!$D$4,Concerten!B268,1),\"x\",\"\")),\"\")","v":"x"},{"$f":"IFERROR(IF(ISBLANK('Zoeken in Database'!$D$5),\"x\",IF(SEARCH('Zoeken in Database'!$D$5,Concerten!C268,1),\"x\",\"\")),\"\")","v":"x"},{"$f":"IFERROR(IF(ISBLANK('Zoeken in Database'!$D$6),\"x\",IF(SEARCH('Zoeken in Database'!$D$6,Concerten!G268,1),\"x\",\"\")),\"\")","v":"x"},{"$f":"IF(AND(D268>='Zoeken in Database'!$A$7,'Zoeken in Database'!$A$8>=D268),\"x\",\"\")","v":"x"}]
["Christensen, Tim","Ekko","Utrecht","2004-03-11","01. Jump the Gun\n02. Isolation Here I Come\n03. Secrets On Parade\n04. 21st Century High\n05. Close The Door\n06. Don’t Leave Me But Leave Me Alone\n07. Suring The Surface\n08. Lost And Found\n09. Love Is A Matter Of...\n10. Whispering At The Top Of My Lungs\n11. Lets Face It\n12. Get The Fuck Out Of My Mind\n13. Screaming At The Top Of My Lungs\n14. Caterpillar\n-----\n15. Love Is A Losers Game\n16. Right Next To The Right One\n17. Time Is The Space Between Us\n\n",null,"Hoofdprogramma",3,2004,{"$f":"VLOOKUP(Table1[[#This Row],[Maand (getal)]],Lijst!A:B,2,FALSE)","v":"mrt"},{"$f":"IFERROR(IF(ISBLANK('Zoeken in Database'!$D$3),\"x\",IF(SEARCH('Zoeken in Database'!$D$3,Concerten!A269,1),\"x\",\"\")),\"\")","v":"x"},{"$f":"IFERROR(IF(ISBLANK('Zoeken in Database'!$D$4),\"x\",IF(SEARCH('Zoeken in Database'!$D$4,Concerten!B269,1),\"x\",\"\")),\"\")","v":"x"},{"$f":"IFERROR(IF(ISBLANK('Zoeken in Database'!$D$5),\"x\",IF(SEARCH('Zoeken in Database'!$D$5,Concerten!C269,1),\"x\",\"\")),\"\")","v":"x"},{"$f":"IFERROR(IF(ISBLANK('Zoeken in Database'!$D$6),\"x\",IF(SEARCH('Zoeken in Database'!$D$6,Concerten!G269,1),\"x\",\"\")),\"\")","v":"x"},{"$f":"IF(AND(D269>='Zoeken in Database'!$A$7,'Zoeken in Database'!$A$8>=D269),\"x\",\"\")","v":"x"}]
["British Sea Power","Paradiso","Amsterdam","2004-04-03","01. Something Wicked\n02. Remember Me\n03. Bass Rock\n04. Fear Of Drowning\n05. Apologies\n06. Spirit Of St. Louis\n07. Carrion\n08. Lately\n","Tombola 3 + 4","Festivaloptreden",4,2004,{"$f":"VLOOKUP(Table1[[#This Row],[Maand (getal)]],Lijst!A:B,2,FALSE)","v":"apr"},{"$f":"IFERROR(IF(ISBLANK('Zoeken in Database'!$D$3),\"x\",IF(SEARCH('Zoeken in Database'!$D$3,Concerten!A270,1),\"x\",\"\")),\"\")","v":"x"},{"$f":"IFERROR(IF(ISBLANK('Zoeken in Database'!$D$4),\"x\",IF(SEARCH('Zoeken in Database'!$D$4,Concerten!B270,1),\"x\",\"\")),\"\")","v":"x"},{"$f":"IFERROR(IF(ISBLANK('Zoeken in Database'!$D$5),\"x\",IF(SEARCH('Zoeken in Database'!$D$5,Concerten!C270,1),\"x\",\"\")),\"\")","v":"x"},{"$f":"IFERROR(IF(ISBLANK('Zoeken in Database'!$D$6),\"x\",IF(SEARCH('Zoeken in Database'!$D$6,Concerten!G270,1),\"x\",\"\")),\"\")","v":"x"},{"$f":"IF(AND(D270>='Zoeken in Database'!$A$7,'Zoeken in Database'!$A$8>=D270),\"x\",\"\")","v":"x"}]
["Broken Family Band, The","Paradiso","Amsterdam","2004-04-03",null,"Tombola 3 + 4","Festivaloptreden",4,2004,{"$f":"VLOOKUP(Table1[[#This Row],[Maand (getal)]],Lijst!A:B,2,FALSE)","v":"apr"},{"$f":"IFERROR(IF(ISBLANK('Zoeken in Database'!$D$3),\"x\",IF(SEARCH('Zoeken in Database'!$D$3,Concerten!A271,1),\"x\",\"\")),\"\")","v":"x"},{"$f":"IFERROR(IF(ISBLANK('Zoeken in Database'!$D$4),\"x\",IF(SEARCH('Zoeken in Database'!$D$4,Concerten!B271,1),\"x\",\"\")),\"\")","v":"x"},{"$f":"IFERROR(IF(ISBLANK('Zoeken in Database'!$D$5),\"x\",IF(SEARCH('Zoeken in Database'!$D$5,Concerten!C271,1),\"x\",\"\")),\"\")","v":"x"},{"$f":"IFERROR(IF(ISBLANK('Zoeken in Database'!$D$6),\"x\",IF(SEARCH('Zoeken in Database'!$D$6,Concerten!G271,1),\"x\",\"\")),\"\")","v":"x"},{"$f":"IF(AND(D271>='Zoeken in Database'!$A$7,'Zoeken in Database'!$A$8>=D271),\"x\",\"\")","v":"x"}]
["Shins, The","Paradiso","Amsterdam","2004-04-03","01. Pressed\n02. Kissing\n03. Horse\n04. Inform\n05. IxI\n06. Bullets\n07. Simon\n08. Onion\n09. Celibate\n10. Slang\n11. Gone\n12. Pilgrim\n13. So Says I\n\n","Tombola 3 + 4","Festivaloptreden",4,2004,{"$f":"VLOOKUP(Table1[[#This Row],[Maand (getal)]],Lijst!A:B,2,FALSE)","v":"apr"},{"$f":"IFERROR(IF(ISBLANK('Zoeken in Database'!$D$3),\"x\",IF(SEARCH('Zoeken in Database'!$D$3,Concerten!A272,1),\"x\",\"\")),\"\")","v":"x"},{"$f":"IFERROR(IF(ISBLANK('Zoeken in Database'!$D$4),\"x\",IF(SEARCH('Zoeken in Database'!$D$4,Concerten!B272,1),\"x\",\"\")),\"\")","v":"x"},{"$f":"IFERROR(IF(ISBLANK('Zoeken in Database'!$D$5),\"x\",IF(SEARCH('Zoeken in Database'!$D$5,Concerten!C272,1),\"x\",\"\")),\"\")","v":"x"},{"$f":"IFERROR(IF(ISBLANK('Zoeken in Database'!$D$6),\"x\",IF(SEARCH('Zoeken in Database'!$D$6,Concerten!G272,1),\"x\",\"\")),\"\")","v":"x"},{"$f":"IF(AND(D272>='Zoeken in Database'!$A$7,'Zoeken in Database'!$A$8>=D272),\"x\",\"\")","v":"x"}]
["Kaizers Orchestra","Doornroosje","Nijmegen","2004-04-04",null,null,"Hoofdprogramma",4,2004,{"$f":"VLOOKUP(Table1[[#This Row],[Maand (getal)]],Lijst!A:B,2,FALSE)","v":"apr"},{"$f":"IFERROR(IF(ISBLANK('Zoeken in Database'!$D$3),\"x\",IF(SEARCH('Zoeken in Database'!$D$3,Concerten!A273,1),\"x\",\"\")),\"\")","v":"x"},{"$f":"IFERROR(IF(ISBLANK('Zoeken in Database'!$D$4),\"x\",IF(SEARCH('Zoeken in Database'!$D$4,Concerten!B273,1),\"x\",\"\")),\"\")","v":"x"},{"$f":"IFERROR(IF(ISBLANK('Zoeken in Database'!$D$5),\"x\",IF(SEARCH('Zoeken in Database'!$D$5,Concerten!C273,1),\"x\",\"\")),\"\")","v":"x"},{"$f":"IFERROR(IF(ISBLANK('Zoeken in Database'!$D$6),\"x\",IF(SEARCH('Zoeken in Database'!$D$6,Concerten!G273,1),\"x\",\"\")),\"\")","v":"x"},{"$f":"IF(AND(D273>='Zoeken in Database'!$A$7,'Zoeken in Database'!$A$8>=D273),\"x\",\"\")","v":"x"}]
["Stuurbaard Bakkebaard","Doornroosje","Nijmegen","2004-04-04",null,null,"Voorprogramma",4,2004,{"$f":"VLOOKUP(Table1[[#This Row],[Maand (getal)]],Lijst!A:B,2,FALSE)","v":"apr"},{"$f":"IFERROR(IF(ISBLANK('Zoeken in Database'!$D$3),\"x\",IF(SEARCH('Zoeken in Database'!$D$3,Concerten!A274,1),\"x\",\"\")),\"\")","v":"x"},{"$f":"IFERROR(IF(ISBLANK('Zoeken in Database'!$D$4),\"x\",IF(SEARCH('Zoeken in Database'!$D$4,Concerten!B274,1),\"x\",\"\")),\"\")","v":"x"},{"$f":"IFERROR(IF(ISBLANK('Zoeken in Database'!$D$5),\"x\",IF(SEARCH('Zoeken in Database'!$D$5,Concerten!C274,1),\"x\",\"\")),\"\")","v":"x"},{"$f":"IFERROR(IF(ISBLANK('Zoeken in Database'!$D$6),\"x\",IF(SEARCH('Zoeken in Database'!$D$6,Concerten!G274,1),\"x\",\"\")),\"\")","v":"x"},{"$f":"IF(AND(D274>='Zoeken in Database'!$A$7,'Zoeken in Database'!$A$8>=D274),\"x\",\"\")","v":"x"}]
["Jules, Gary","Paradiso","Amsterdam","2004-04-05","01. The Crossing\n02. Overground\n03. Broke window\n04. DTLA\n05. Nothing\n06. No Poetry\n07. Princess\n08. Pills\n09. Ghosts\n10. Umbillical Town\n11. I Shall Be Released\n12. Mad World\n---\n13. Barstool\n14. Little Greenie\n",null,"Hoofdprogramma",4,2004,{"$f":"VLOOKUP(Table1[[#This Row],[Maand (getal)]],Lijst!A:B,2,FALSE)","v":"apr"},{"$f":"IFERROR(IF(ISBLANK('Zoeken in Database'!$D$3),\"x\",IF(SEARCH('Zoeken in Database'!$D$3,Concerten!A275,1),\"x\",\"\")),\"\")","v":"x"},{"$f":"IFERROR(IF(ISBLANK('Zoeken in Database'!$D$4),\"x\",IF(SEARCH('Zoeken in Database'!$D$4,Concerten!B275,1),\"x\",\"\")),\"\")","v":"x"},{"$f":"IFERROR(IF(ISBLANK('Zoeken in Database'!$D$5),\"x\",IF(SEARCH('Zoeken in Database'!$D$5,Concerten!C275,1),\"x\",\"\")),\"\")","v":"x"},{"$f":"IFERROR(IF(ISBLANK('Zoeken in Database'!$D$6),\"x\",IF(SEARCH('Zoeken in Database'!$D$6,Concerten!G275,1),\"x\",\"\")),\"\")","v":"x"},{"$f":"IF(AND(D275>='Zoeken in Database'!$A$7,'Zoeken in Database'!$A$8>=D275),\"x\",\"\")","v":"x"}]
["Kowlier, Flip","Paradiso","Amsterdam","2004-04-07",null,"Bovenzaal / Cd Presentatie","Hoofdprogramma",4,2004,{"$f":"VLOOKUP(Table1[[#This Row],[Maand (getal)]],Lijst!A:B,2,FALSE)","v":"apr"},{"$f":"IFERROR(IF(ISBLANK('Zoeken in Database'!$D$3),\"x\",IF(SEARCH('Zoeken in Database'!$D$3,Concerten!A276,1),\"x\",\"\")),\"\")","v":"x"},{"$f":"IFERROR(IF(ISBLANK('Zoeken in Database'!$D$4),\"x\",IF(SEARCH('Zoeken in Database'!$D$4,Concerten!B276,1),\"x\",\"\")),\"\")","v":"x"},{"$f":"IFERROR(IF(ISBLANK('Zoeken in Database'!$D$5),\"x\",IF(SEARCH('Zoeken in Database'!$D$5,Concerten!C276,1),\"x\",\"\")),\"\")","v":"x"},{"$f":"IFERROR(IF(ISBLANK('Zoeken in Database'!$D$6),\"x\",IF(SEARCH('Zoeken in Database'!$D$6,Concerten!G276,1),\"x\",\"\")),\"\")","v":"x"},{"$f":"IF(AND(D276>='Zoeken in Database'!$A$7,'Zoeken in Database'!$A$8>=D276),\"x\",\"\")","v":"x"}]
["Of No Avail","Balloon","Cuijk","2004-05-15",null,"Punk 'Til You Drop","Festivaloptreden",5,2004,{"$f":"VLOOKUP(Table1[[#This Row],[Maand (getal)]],Lijst!A:B,2,FALSE)","v":"mei"},{"$f":"IFERROR(IF(ISBLANK('Zoeken in Database'!$D$3),\"x\",IF(SEARCH('Zoeken in Database'!$D$3,Concerten!A277,1),\"x\",\"\")),\"\")","v":"x"},{"$f":"IFERROR(IF(ISBLANK('Zoeken in Database'!$D$4),\"x\",IF(SEARCH('Zoeken in Database'!$D$4,Concerten!B277,1),\"x\",\"\")),\"\")","v":"x"},{"$f":"IFERROR(IF(ISBLANK('Zoeken in Database'!$D$5),\"x\",IF(SEARCH('Zoeken in Database'!$D$5,Concerten!C277,1),\"x\",\"\")),\"\")","v":"x"},{"$f":"IFERROR(IF(ISBLANK('Zoeken in Database'!$D$6),\"x\",IF(SEARCH('Zoeken in Database'!$D$6,Concerten!G277,1),\"x\",\"\")),\"\")","v":"x"},{"$f":"IF(AND(D277>='Zoeken in Database'!$A$7,'Zoeken in Database'!$A$8>=D277),\"x\",\"\")","v":"x"}]
["Solitus","Balloon","Cuijk","2004-05-15",null,"Punk 'Til You Drop","Festivaloptreden",5,2004,{"$f":"VLOOKUP(Table1[[#This Row],[Maand (getal)]],Lijst!A:B,2,FALSE)","v":"mei"},{"$f":"IFERROR(IF(ISBLANK('Zoeken in Database'!$D$3),\"x\",IF(SEARCH('Zoeken in Database'!$D$3,Concerten!A278,1),\"x\",\"\")),\"\")","v":"x"},{"$f":"IFERROR(IF(ISBLANK('Zoeken in Database'!$D$4),\"x\",IF(SEARCH('Zoeken in Database'!$D$4,Concerten!B278,1),\"x\",\"\")),\"\")","v":"x"},{"$f":"IFERROR(IF(ISBLANK('Zoeken in Database'!$D$5),\"x\",IF(SEARCH('Zoeken in Database'!$D$5,Concerten!C278,1),\"x\",\"\")),\"\")","v":"x"},{"$f":"IFERROR(IF(ISBLANK('Zoeken in Database'!$D$6),\"x\",IF(SEARCH('Zoeken in Database'!$D$6,Concerten!G278,1),\"x\",\"\")),\"\")","v":"x"},{"$f":"IF(AND(D278>='Zoeken in Database'!$A$7,'Zoeken in Database'!$A$8>=D278),\"x\",\"\")","v":"x"}]
["Delays, The","Doornroosje","Nijmegen","2004-05-17",null,null,"Voorprogramma",5,2004,{"$f":"VLOOKUP(Table1[[#This Row],[Maand (getal)]],Lijst!A:B,2,FALSE)","v":"mei"},{"$f":"IFERROR(IF(ISBLANK('Zoeken in Database'!$D$3),\"x\",IF(SEARCH('Zoeken in Database'!$D$3,Concerten!A279,1),\"x\",\"\")),\"\")","v":"x"},{"$f":"IFERROR(IF(ISBLANK('Zoeken in Database'!$D$4),\"x\",IF(SEARCH('Zoeken in Database'!$D$4,Concerten!B279,1),\"x\",\"\")),\"\")","v":"x"},{"$f":"IFERROR(IF(ISBLANK('Zoeken in Database'!$D$5),\"x\",IF(SEARCH('Zoeken in Database'!$D$5,Concerten!C279,1),\"x\",\"\")),\"\")","v":"x"},{"$f":"IFERROR(IF(ISBLANK('Zoeken in Database'!$D$6),\"x\",IF(SEARCH('Zoeken in Database'!$D$6,Concerten!G279,1),\"x\",\"\")),\"\")","v":"x"},{"$f":"IF(AND(D279>='Zoeken in Database'!$A$7,'Zoeken in Database'!$A$8>=D279),\"x\",\"\")","v":"x"}]
["Veils, The","Doornroosje","Nijmegen","2004-05-17",null,null,"Hoofdprogramma",5,2004,{"$f":"VLOOKUP(Table1[[#This Row],[Maand (getal)]],Lijst!A:B,2,FALSE)","v":"mei"},{"$f":"IFERROR(IF(ISBLANK('Zoeken in Database'!$D$3),\"x\",IF(SEARCH('Zoeken in Database'!$D$3,Concerten!A280,1),\"x\",\"\")),\"\")","v":"x"},{"$f":"IFERROR(IF(ISBLANK('Zoeken in Database'!$D$4),\"x\",IF(SEARCH('Zoeken in Database'!$D$4,Concerten!B280,1),\"x\",\"\")),\"\")","v":"x"},{"$f":"IFERROR(IF(ISBLANK('Zoeken in Database'!$D$5),\"x\",IF(SEARCH('Zoeken in Database'!$D$5,Concerten!C280,1),\"x\",\"\")),\"\")","v":"x"},{"$f":"IFERROR(IF(ISBLANK('Zoeken in Database'!$D$6),\"x\",IF(SEARCH('Zoeken in Database'!$D$6,Concerten!G280,1),\"x\",\"\")),\"\")","v":"x"},{"$f":"IF(AND(D280>='Zoeken in Database'!$A$7,'Zoeken in Database'!$A$8>=D280),\"x\",\"\")","v":"x"}]
["Girl Called Eddy, A","Paradiso","Amsterdam","2004-05-27",null,null,"Voorprogramma",5,2004,{"$f":"VLOOKUP(Table1[[#This Row],[Maand (getal)]],Lijst!A:B,2,FALSE)","v":"mei"},{"$f":"IFERROR(IF(ISBLANK('Zoeken in Database'!$D$3),\"x\",IF(SEARCH('Zoeken in Database'!$D$3,Concerten!A281,1),\"x\",\"\")),\"\")","v":"x"},{"$f":"IFERROR(IF(ISBLANK('Zoeken in Database'!$D$4),\"x\",IF(SEARCH('Zoeken in Database'!$D$4,Concerten!B281,1),\"x\",\"\")),\"\")","v":"x"},{"$f":"IFERROR(IF(ISBLANK('Zoeken in Database'!$D$5),\"x\",IF(SEARCH('Zoeken in Database'!$D$5,Concerten!C281,1),\"x\",\"\")),\"\")","v":"x"},{"$f":"IFERROR(IF(ISBLANK('Zoeken in Database'!$D$6),\"x\",IF(SEARCH('Zoeken in Database'!$D$6,Concerten!G281,1),\"x\",\"\")),\"\")","v":"x"},{"$f":"IF(AND(D281>='Zoeken in Database'!$A$7,'Zoeken in Database'!$A$8>=D281),\"x\",\"\")","v":"x"}]
["Ritter, Josh","Paradiso","Amsterdam","2004-05-27","01. Girl (Soft)\n02. Bright Smile (Soft)\n03. Roll On\n04. Jiggs\n05. Harrisburg\n06. Good Days\n07. Easy Way (Soft)\n08. Wings (Soft)\n09. Other Side\n10. Kathleen\n11. Baby\n12. Chelsea/Monster Ballards (Soft)\n13. Man Burning\n14. Snow Is Gone\n----------------------\n15. California/Country Song (Solo/Soft)\n16. Harley Davidson\n",null,"Hoofdprogramma",5,2004,{"$f":"VLOOKUP(Table1[[#This Row],[Maand (getal)]],Lijst!A:B,2,FALSE)","v":"mei"},{"$f":"IFERROR(IF(ISBLANK('Zoeken in Database'!$D$3),\"x\",IF(SEARCH('Zoeken in Database'!$D$3,Concerten!A282,1),\"x\",\"\")),\"\")","v":"x"},{"$f":"IFERROR(IF(ISBLANK('Zoeken in Database'!$D$4),\"x\",IF(SEARCH('Zoeken in Database'!$D$4,Concerten!B282,1),\"x\",\"\")),\"\")","v":"x"},{"$f":"IFERROR(IF(ISBLANK('Zoeken in Database'!$D$5),\"x\",IF(SEARCH('Zoeken in Database'!$D$5,Concerten!C282,1),\"x\",\"\")),\"\")","v":"x"},{"$f":"IFERROR(IF(ISBLANK('Zoeken in Database'!$D$6),\"x\",IF(SEARCH('Zoeken in Database'!$D$6,Concerten!G282,1),\"x\",\"\")),\"\")","v":"x"},{"$f":"IF(AND(D282>='Zoeken in Database'!$A$7,'Zoeken in Database'!$A$8>=D282),\"x\",\"\")","v":"x"}]
["Claire, Bonnie st.","Feest Aan De Rijn 2004","Arnhem","2004-05-30",null,null,"Festivaloptreden",5,2004,{"$f":"VLOOKUP(Table1[[#This Row],[Maand (getal)]],Lijst!A:B,2,FALSE)","v":"mei"},{"$f":"IFERROR(IF(ISBLANK('Zoeken in Database'!$D$3),\"x\",IF(SEARCH('Zoeken in Database'!$D$3,Concerten!A283,1),\"x\",\"\")),\"\")","v":"x"},{"$f":"IFERROR(IF(ISBLANK('Zoeken in Database'!$D$4),\"x\",IF(SEARCH('Zoeken in Database'!$D$4,Concerten!B283,1),\"x\",\"\")),\"\")","v":"x"},{"$f":"IFERROR(IF(ISBLANK('Zoeken in Database'!$D$5),\"x\",IF(SEARCH('Zoeken in Database'!$D$5,Concerten!C283,1),\"x\",\"\")),\"\")","v":"x"},{"$f":"IFERROR(IF(ISBLANK('Zoeken in Database'!$D$6),\"x\",IF(SEARCH('Zoeken in Database'!$D$6,Concerten!G283,1),\"x\",\"\")),\"\")","v":"x"},{"$f":"IF(AND(D283>='Zoeken in Database'!$A$7,'Zoeken in Database'!$A$8>=D283),\"x\",\"\")","v":"x"}]
["Happymaker, The","Feest Aan De Rijn 2004","Arnhem","2004-05-30",null,null,"Festivaloptreden",5,2004,{"$f":"VLOOKUP(Table1[[#This Row],[Maand (getal)]],Lijst!A:B,2,FALSE)","v":"mei"},{"$f":"IFERROR(IF(ISBLANK('Zoeken in Database'!$D$3),\"x\",IF(SEARCH('Zoeken in Database'!$D$3,Concerten!A284,1),\"x\",\"\")),\"\")","v":"x"},{"$f":"IFERROR(IF(ISBLANK('Zoeken in Database'!$D$4),\"x\",IF(SEARCH('Zoeken in Database'!$D$4,Concerten!B284,1),\"x\",\"\")),\"\")","v":"x"},{"$f":"IFERROR(IF(ISBLANK('Zoeken in Database'!$D$5),\"x\",IF(SEARCH('Zoeken in Database'!$D$5,Concerten!C284,1),\"x\",\"\")),\"\")","v":"x"},{"$f":"IFERROR(IF(ISBLANK('Zoeken in Database'!$D$6),\"x\",IF(SEARCH('Zoeken in Database'!$D$6,Concerten!G284,1),\"x\",\"\")),\"\")","v":"x"},{"$f":"IF(AND(D284>='Zoeken in Database'!$A$7,'Zoeken in Database'!$A$8>=D284),\"x\",\"\")","v":"x"}]
["Jovink en de Voederbietels","Feest Aan De Rijn 2004","Arnhem","2004-05-30",null,null,"Festivaloptreden",5,2004,{"$f":"VLOOKUP(Table1[[#This Row],[Maand (getal)]],Lijst!A:B,2,FALSE)","v":"mei"},{"$f":"IFERROR(IF(ISBLANK('Zoeken in Database'!$D$3),\"x\",IF(SEARCH('Zoeken in Database'!$D$3,Concerten!A285,1),\"x\",\"\")),\"\")","v":"x"},{"$f":"IFERROR(IF(ISBLANK('Zoeken in Database'!$D$4),\"x\",IF(SEARCH('Zoeken in Database'!$D$4,Concerten!B285,1),\"x\",\"\")),\"\")","v":"x"},{"$f":"IFERROR(IF(ISBLANK('Zoeken in Database'!$D$5),\"x\",IF(SEARCH('Zoeken in Database'!$D$5,Concerten!C285,1),\"x\",\"\")),\"\")","v":"x"},{"$f":"IFERROR(IF(ISBLANK('Zoeken in Database'!$D$6),\"x\",IF(SEARCH('Zoeken in Database'!$D$6,Concerten!G285,1),\"x\",\"\")),\"\")","v":"x"},{"$f":"IF(AND(D285>='Zoeken in Database'!$A$7,'Zoeken in Database'!$A$8>=D285),\"x\",\"\")","v":"x"}]
["Loco-Loco Disco Show","Feest Aan De Rijn 2004","Arnhem","2004-05-30",null,null,"Festivaloptreden",5,2004,{"$f":"VLOOKUP(Table1[[#This Row],[Maand (getal)]],Lijst!A:B,2,FALSE)","v":"mei"},{"$f":"IFERROR(IF(ISBLANK('Zoeken in Database'!$D$3),\"x\",IF(SEARCH('Zoeken in Database'!$D$3,Concerten!A286,1),\"x\",\"\")),\"\")","v":"x"},{"$f":"IFERROR(IF(ISBLANK('Zoeken in Database'!$D$4),\"x\",IF(SEARCH('Zoeken in Database'!$D$4,Concerten!B286,1),\"x\",\"\")),\"\")","v":"x"},{"$f":"IFERROR(IF(ISBLANK('Zoeken in Database'!$D$5),\"x\",IF(SEARCH('Zoeken in Database'!$D$5,Concerten!C286,1),\"x\",\"\")),\"\")","v":"x"},{"$f":"IFERROR(IF(ISBLANK('Zoeken in Database'!$D$6),\"x\",IF(SEARCH('Zoeken in Database'!$D$6,Concerten!G286,1),\"x\",\"\")),\"\")","v":"x"},{"$f":"IF(AND(D286>='Zoeken in Database'!$A$7,'Zoeken in Database'!$A$8>=D286),\"x\",\"\")","v":"x"}]
["Orgel, Otto","Feest Aan De Rijn 2004","Arnhem","2004-05-30",null,null,"Festivaloptreden",5,2004,{"$f":"VLOOKUP(Table1[[#This Row],[Maand (getal)]],Lijst!A:B,2,FALSE)","v":"mei"},{"$f":"IFERROR(IF(ISBLANK('Zoeken in Database'!$D$3),\"x\",IF(SEARCH('Zoeken in Database'!$D$3,Concerten!A287,1),\"x\",\"\")),\"\")","v":"x"},{"$f":"IFERROR(IF(ISBLANK('Zoeken in Database'!$D$4),\"x\",IF(SEARCH('Zoeken in Database'!$D$4,Concerten!B287,1),\"x\",\"\")),\"\")","v":"x"},{"$f":"IFERROR(IF(ISBLANK('Zoeken in Database'!$D$5),\"x\",IF(SEARCH('Zoeken in Database'!$D$5,Concerten!C287,1),\"x\",\"\")),\"\")","v":"x"},{"$f":"IFERROR(IF(ISBLANK('Zoeken in Database'!$D$6),\"x\",IF(SEARCH('Zoeken in Database'!$D$6,Concerten!G287,1),\"x\",\"\")),\"\")","v":"x"},{"$f":"IF(AND(D287>='Zoeken in Database'!$A$7,'Zoeken in Database'!$A$8>=D287),\"x\",\"\")","v":"x"}]
["Peter Pan Speedrock","Feest Aan De Rijn 2004","Arnhem","2004-05-30",null,null,"Festivaloptreden",5,2004,{"$f":"VLOOKUP(Table1[[#This Row],[Maand (getal)]],Lijst!A:B,2,FALSE)","v":"mei"},{"$f":"IFERROR(IF(ISBLANK('Zoeken in Database'!$D$3),\"x\",IF(SEARCH('Zoeken in Database'!$D$3,Concerten!A288,1),\"x\",\"\")),\"\")","v":"x"},{"$f":"IFERROR(IF(ISBLANK('Zoeken in Database'!$D$4),\"x\",IF(SEARCH('Zoeken in Database'!$D$4,Concerten!B288,1),\"x\",\"\")),\"\")","v":"x"},{"$f":"IFERROR(IF(ISBLANK('Zoeken in Database'!$D$5),\"x\",IF(SEARCH('Zoeken in Database'!$D$5,Concerten!C288,1),\"x\",\"\")),\"\")","v":"x"},{"$f":"IFERROR(IF(ISBLANK('Zoeken in Database'!$D$6),\"x\",IF(SEARCH('Zoeken in Database'!$D$6,Concerten!G288,1),\"x\",\"\")),\"\")","v":"x"},{"$f":"IF(AND(D288>='Zoeken in Database'!$A$7,'Zoeken in Database'!$A$8>=D288),\"x\",\"\")","v":"x"}]
["Shavers, The","Feest Aan De Rijn 2004","Arnhem","2004-05-30",null,null,"Festivaloptreden",5,2004,{"$f":"VLOOKUP(Table1[[#This Row],[Maand (getal)]],Lijst!A:B,2,FALSE)","v":"mei"},{"$f":"IFERROR(IF(ISBLANK('Zoeken in Database'!$D$3),\"x\",IF(SEARCH('Zoeken in Database'!$D$3,Concerten!A289,1),\"x\",\"\")),\"\")","v":"x"},{"$f":"IFERROR(IF(ISBLANK('Zoeken in Database'!$D$4),\"x\",IF(SEARCH('Zoeken in Database'!$D$4,Concerten!B289,1),\"x\",\"\")),\"\")","v":"x"},{"$f":"IFERROR(IF(ISBLANK('Zoeken in Database'!$D$5),\"x\",IF(SEARCH('Zoeken in Database'!$D$5,Concerten!C289,1),\"x\",\"\")),\"\")","v":"x"},{"$f":"IFERROR(IF(ISBLANK('Zoeken in Database'!$D$6),\"x\",IF(SEARCH('Zoeken in Database'!$D$6,Concerten!G289,1),\"x\",\"\")),\"\")","v":"x"},{"$f":"IF(AND(D289>='Zoeken in Database'!$A$7,'Zoeken in Database'!$A$8>=D289),\"x\",\"\")","v":"x"}]
["5678's, The","Ekko","Utrecht","2004-06-02",null,null,"Hoofdprogramma",6,2004,{"$f":"VLOOKUP(Table1[[#This Row],[Maand (getal)]],Lijst!A:B,2,FALSE)","v":"jun"},{"$f":"IFERROR(IF(ISBLANK('Zoeken in Database'!$D$3),\"x\",IF(SEARCH('Zoeken in Database'!$D$3,Concerten!A290,1),\"x\",\"\")),\"\")","v":"x"},{"$f":"IFERROR(IF(ISBLANK('Zoeken in Database'!$D$4),\"x\",IF(SEARCH('Zoeken in Database'!$D$4,Concerten!B290,1),\"x\",\"\")),\"\")","v":"x"},{"$f":"IFERROR(IF(ISBLANK('Zoeken in Database'!$D$5),\"x\",IF(SEARCH('Zoeken in Database'!$D$5,Concerten!C290,1),\"x\",\"\")),\"\")","v":"x"},{"$f":"IFERROR(IF(ISBLANK('Zoeken in Database'!$D$6),\"x\",IF(SEARCH('Zoeken in Database'!$D$6,Concerten!G290,1),\"x\",\"\")),\"\")","v":"x"},{"$f":"IF(AND(D290>='Zoeken in Database'!$A$7,'Zoeken in Database'!$A$8>=D290),\"x\",\"\")","v":"x"}]
["Lullabells, The","Ekko","Utrecht","2004-06-02",null,null,"Voorprogramma",6,2004,{"$f":"VLOOKUP(Table1[[#This Row],[Maand (getal)]],Lijst!A:B,2,FALSE)","v":"jun"},{"$f":"IFERROR(IF(ISBLANK('Zoeken in Database'!$D$3),\"x\",IF(SEARCH('Zoeken in Database'!$D$3,Concerten!A291,1),\"x\",\"\")),\"\")","v":"x"},{"$f":"IFERROR(IF(ISBLANK('Zoeken in Database'!$D$4),\"x\",IF(SEARCH('Zoeken in Database'!$D$4,Concerten!B291,1),\"x\",\"\")),\"\")","v":"x"},{"$f":"IFERROR(IF(ISBLANK('Zoeken in Database'!$D$5),\"x\",IF(SEARCH('Zoeken in Database'!$D$5,Concerten!C291,1),\"x\",\"\")),\"\")","v":"x"},{"$f":"IFERROR(IF(ISBLANK('Zoeken in Database'!$D$6),\"x\",IF(SEARCH('Zoeken in Database'!$D$6,Concerten!G291,1),\"x\",\"\")),\"\")","v":"x"},{"$f":"IF(AND(D291>='Zoeken in Database'!$A$7,'Zoeken in Database'!$A$8>=D291),\"x\",\"\")","v":"x"}]
["Solitus","Take One","Gennep","2004-06-06","01. Picture In My Head\n02. Roy’s Army\n03. Every Single Moment In Life\n04. Trust\n05. Lemon Tree\n06. I See What I Get\n07. Holiday Evening\n08. Never Coming Back\n09. Bikini Girls\n\n","Kick Off Battle","Festivaloptreden",6,2004,{"$f":"VLOOKUP(Table1[[#This Row],[Maand (getal)]],Lijst!A:B,2,FALSE)","v":"jun"},{"$f":"IFERROR(IF(ISBLANK('Zoeken in Database'!$D$3),\"x\",IF(SEARCH('Zoeken in Database'!$D$3,Concerten!A292,1),\"x\",\"\")),\"\")","v":"x"},{"$f":"IFERROR(IF(ISBLANK('Zoeken in Database'!$D$4),\"x\",IF(SEARCH('Zoeken in Database'!$D$4,Concerten!B292,1),\"x\",\"\")),\"\")","v":"x"},{"$f":"IFERROR(IF(ISBLANK('Zoeken in Database'!$D$5),\"x\",IF(SEARCH('Zoeken in Database'!$D$5,Concerten!C292,1),\"x\",\"\")),\"\")","v":"x"},{"$f":"IFERROR(IF(ISBLANK('Zoeken in Database'!$D$6),\"x\",IF(SEARCH('Zoeken in Database'!$D$6,Concerten!G292,1),\"x\",\"\")),\"\")","v":"x"},{"$f":"IF(AND(D292>='Zoeken in Database'!$A$7,'Zoeken in Database'!$A$8>=D292),\"x\",\"\")","v":"x"}]
["Anouk","Plein Zaandam","Zaandam","2004-06-08",null,null,"Hoofdprogramma",6,2004,{"$f":"VLOOKUP(Table1[[#This Row],[Maand (getal)]],Lijst!A:B,2,FALSE)","v":"jun"},{"$f":"IFERROR(IF(ISBLANK('Zoeken in Database'!$D$3),\"x\",IF(SEARCH('Zoeken in Database'!$D$3,Concerten!A293,1),\"x\",\"\")),\"\")","v":"x"},{"$f":"IFERROR(IF(ISBLANK('Zoeken in Database'!$D$4),\"x\",IF(SEARCH('Zoeken in Database'!$D$4,Concerten!B293,1),\"x\",\"\")),\"\")","v":"x"},{"$f":"IFERROR(IF(ISBLANK('Zoeken in Database'!$D$5),\"x\",IF(SEARCH('Zoeken in Database'!$D$5,Concerten!C293,1),\"x\",\"\")),\"\")","v":"x"},{"$f":"IFERROR(IF(ISBLANK('Zoeken in Database'!$D$6),\"x\",IF(SEARCH('Zoeken in Database'!$D$6,Concerten!G293,1),\"x\",\"\")),\"\")","v":"x"},{"$f":"IF(AND(D293>='Zoeken in Database'!$A$7,'Zoeken in Database'!$A$8>=D293),\"x\",\"\")","v":"x"}]
["Hart, Beth","Plein Zaandam","Zaandam","2004-06-08",null,null,"Voorprogramma",6,2004,{"$f":"VLOOKUP(Table1[[#This Row],[Maand (getal)]],Lijst!A:B,2,FALSE)","v":"jun"},{"$f":"IFERROR(IF(ISBLANK('Zoeken in Database'!$D$3),\"x\",IF(SEARCH('Zoeken in Database'!$D$3,Concerten!A294,1),\"x\",\"\")),\"\")","v":"x"},{"$f":"IFERROR(IF(ISBLANK('Zoeken in Database'!$D$4),\"x\",IF(SEARCH('Zoeken in Database'!$D$4,Concerten!B294,1),\"x\",\"\")),\"\")","v":"x"},{"$f":"IFERROR(IF(ISBLANK('Zoeken in Database'!$D$5),\"x\",IF(SEARCH('Zoeken in Database'!$D$5,Concerten!C294,1),\"x\",\"\")),\"\")","v":"x"},{"$f":"IFERROR(IF(ISBLANK('Zoeken in Database'!$D$6),\"x\",IF(SEARCH('Zoeken in Database'!$D$6,Concerten!G294,1),\"x\",\"\")),\"\")","v":"x"},{"$f":"IF(AND(D294>='Zoeken in Database'!$A$7,'Zoeken in Database'!$A$8>=D294),\"x\",\"\")","v":"x"}]
["Apers, The","Op De Toffel 2004","Vierlingsbeek","2004-06-20",null,"Hoofdpodium","Festivaloptreden",6,2004,{"$f":"VLOOKUP(Table1[[#This Row],[Maand (getal)]],Lijst!A:B,2,FALSE)","v":"jun"},{"$f":"IFERROR(IF(ISBLANK('Zoeken in Database'!$D$3),\"x\",IF(SEARCH('Zoeken in Database'!$D$3,Concerten!A295,1),\"x\",\"\")),\"\")","v":"x"},{"$f":"IFERROR(IF(ISBLANK('Zoeken in Database'!$D$4),\"x\",IF(SEARCH('Zoeken in Database'!$D$4,Concerten!B295,1),\"x\",\"\")),\"\")","v":"x"},{"$f":"IFERROR(IF(ISBLANK('Zoeken in Database'!$D$5),\"x\",IF(SEARCH('Zoeken in Database'!$D$5,Concerten!C295,1),\"x\",\"\")),\"\")","v":"x"},{"$f":"IFERROR(IF(ISBLANK('Zoeken in Database'!$D$6),\"x\",IF(SEARCH('Zoeken in Database'!$D$6,Concerten!G295,1),\"x\",\"\")),\"\")","v":"x"},{"$f":"IF(AND(D295>='Zoeken in Database'!$A$7,'Zoeken in Database'!$A$8>=D295),\"x\",\"\")","v":"x"}]
["Gem","Op De Toffel 2004","Vierlingsbeek","2004-06-20","01. Opposite\n02. Summertime\n03. Eyes open wide\n04. Sister’s eyes\n05. Rise & Fall\n06. Can You Wait For It\n07. All We Have Is Now\n08. Secrets\n09. This Is Your Life\n10. Tonight\n11. SOS\n\n","Tent","Festivaloptreden",6,2004,{"$f":"VLOOKUP(Table1[[#This Row],[Maand (getal)]],Lijst!A:B,2,FALSE)","v":"jun"},{"$f":"IFERROR(IF(ISBLANK('Zoeken in Database'!$D$3),\"x\",IF(SEARCH('Zoeken in Database'!$D$3,Concerten!A296,1),\"x\",\"\")),\"\")","v":"x"},{"$f":"IFERROR(IF(ISBLANK('Zoeken in Database'!$D$4),\"x\",IF(SEARCH('Zoeken in Database'!$D$4,Concerten!B296,1),\"x\",\"\")),\"\")","v":"x"},{"$f":"IFERROR(IF(ISBLANK('Zoeken in Database'!$D$5),\"x\",IF(SEARCH('Zoeken in Database'!$D$5,Concerten!C296,1),\"x\",\"\")),\"\")","v":"x"},{"$f":"IFERROR(IF(ISBLANK('Zoeken in Database'!$D$6),\"x\",IF(SEARCH('Zoeken in Database'!$D$6,Concerten!G296,1),\"x\",\"\")),\"\")","v":"x"},{"$f":"IF(AND(D296>='Zoeken in Database'!$A$7,'Zoeken in Database'!$A$8>=D296),\"x\",\"\")","v":"x"}]
["Hulk","Op De Toffel 2004","Vierlingsbeek","2004-06-20",null,"Tent","Festivaloptreden",6,2004,{"$f":"VLOOKUP(Table1[[#This Row],[Maand (getal)]],Lijst!A:B,2,FALSE)","v":"jun"},{"$f":"IFERROR(IF(ISBLANK('Zoeken in Database'!$D$3),\"x\",IF(SEARCH('Zoeken in Database'!$D$3,Concerten!A297,1),\"x\",\"\")),\"\")","v":"x"},{"$f":"IFERROR(IF(ISBLANK('Zoeken in Database'!$D$4),\"x\",IF(SEARCH('Zoeken in Database'!$D$4,Concerten!B297,1),\"x\",\"\")),\"\")","v":"x"},{"$f":"IFERROR(IF(ISBLANK('Zoeken in Database'!$D$5),\"x\",IF(SEARCH('Zoeken in Database'!$D$5,Concerten!C297,1),\"x\",\"\")),\"\")","v":"x"},{"$f":"IFERROR(IF(ISBLANK('Zoeken in Database'!$D$6),\"x\",IF(SEARCH('Zoeken in Database'!$D$6,Concerten!G297,1),\"x\",\"\")),\"\")","v":"x"},{"$f":"IF(AND(D297>='Zoeken in Database'!$A$7,'Zoeken in Database'!$A$8>=D297),\"x\",\"\")","v":"x"}]
["Sheer, The","Op De Toffel 2004","Vierlingsbeek","2004-06-20",null,"Hoofdpodium","Festivaloptreden",6,2004,{"$f":"VLOOKUP(Table1[[#This Row],[Maand (getal)]],Lijst!A:B,2,FALSE)","v":"jun"},{"$f":"IFERROR(IF(ISBLANK('Zoeken in Database'!$D$3),\"x\",IF(SEARCH('Zoeken in Database'!$D$3,Concerten!A298,1),\"x\",\"\")),\"\")","v":"x"},{"$f":"IFERROR(IF(ISBLANK('Zoeken in Database'!$D$4),\"x\",IF(SEARCH('Zoeken in Database'!$D$4,Concerten!B298,1),\"x\",\"\")),\"\")","v":"x"},{"$f":"IFERROR(IF(ISBLANK('Zoeken in Database'!$D$5),\"x\",IF(SEARCH('Zoeken in Database'!$D$5,Concerten!C298,1),\"x\",\"\")),\"\")","v":"x"},{"$f":"IFERROR(IF(ISBLANK('Zoeken in Database'!$D$6),\"x\",IF(SEARCH('Zoeken in Database'!$D$6,Concerten!G298,1),\"x\",\"\")),\"\")","v":"x"},{"$f":"IF(AND(D298>='Zoeken in Database'!$A$7,'Zoeken in Database'!$A$8>=D298),\"x\",\"\")","v":"x"}]
["Third Half","Op De Toffel 2004","Vierlingsbeek","2004-06-20",null,"Hoofdpodium","Festivaloptreden",6,2004,{"$f":"VLOOKUP(Table1[[#This Row],[Maand (getal)]],Lijst!A:B,2,FALSE)","v":"jun"},{"$f":"IFERROR(IF(ISBLANK('Zoeken in Database'!$D$3),\"x\",IF(SEARCH('Zoeken in Database'!$D$3,Concerten!A299,1),\"x\",\"\")),\"\")","v":"x"},{"$f":"IFERROR(IF(ISBLANK('Zoeken in Database'!$D$4),\"x\",IF(SEARCH('Zoeken in Database'!$D$4,Concerten!B299,1),\"x\",\"\")),\"\")","v":"x"},{"$f":"IFERROR(IF(ISBLANK('Zoeken in Database'!$D$5),\"x\",IF(SEARCH('Zoeken in Database'!$D$5,Concerten!C299,1),\"x\",\"\")),\"\")","v":"x"},{"$f":"IFERROR(IF(ISBLANK('Zoeken in Database'!$D$6),\"x\",IF(SEARCH('Zoeken in Database'!$D$6,Concerten!G299,1),\"x\",\"\")),\"\")","v":"x"},{"$f":"IF(AND(D299>='Zoeken in Database'!$A$7,'Zoeken in Database'!$A$8>=D299),\"x\",\"\")","v":"x"}]
["Wealthy Beggar","Op De Toffel 2004","Vierlingsbeek","2004-06-20",null,"Tent","Festivaloptreden",6,2004,{"$f":"VLOOKUP(Table1[[#This Row],[Maand (getal)]],Lijst!A:B,2,FALSE)","v":"jun"},{"$f":"IFERROR(IF(ISBLANK('Zoeken in Database'!$D$3),\"x\",IF(SEARCH('Zoeken in Database'!$D$3,Concerten!A300,1),\"x\",\"\")),\"\")","v":"x"},{"$f":"IFERROR(IF(ISBLANK('Zoeken in Database'!$D$4),\"x\",IF(SEARCH('Zoeken in Database'!$D$4,Concerten!B300,1),\"x\",\"\")),\"\")","v":"x"},{"$f":"IFERROR(IF(ISBLANK('Zoeken in Database'!$D$5),\"x\",IF(SEARCH('Zoeken in Database'!$D$5,Concerten!C300,1),\"x\",\"\")),\"\")","v":"x"},{"$f":"IFERROR(IF(ISBLANK('Zoeken in Database'!$D$6),\"x\",IF(SEARCH('Zoeken in Database'!$D$6,Concerten!G300,1),\"x\",\"\")),\"\")","v":"x"},{"$f":"IF(AND(D300>='Zoeken in Database'!$A$7,'Zoeken in Database'!$A$8>=D300),\"x\",\"\")","v":"x"}]
["Bright Eyes","Melkweg","Amsterdam","2004-06-21","01. Sunrise, Sunset\n02. False Advertising\n03. We Are Nowhere And It's Now\n04. From A Balance Beam\n05. A New Arrangement\n06. Laura Laurent\n07. Haligh Haligh...\n08. Old Soul Song\n09. Lua\n10. Road to Joy (I'm Wide Awake It's Morning) \n11. -break-\n12. Going For The Gold (?)\n13. A Song To Pass The Time\n-------------------\n14. June on the West Coast\n\n","The Max","Hoofdprogramma",6,2004,{"$f":"VLOOKUP(Table1[[#This Row],[Maand (getal)]],Lijst!A:B,2,FALSE)","v":"jun"},{"$f":"IFERROR(IF(ISBLANK('Zoeken in Database'!$D$3),\"x\",IF(SEARCH('Zoeken in Database'!$D$3,Concerten!A301,1),\"x\",\"\")),\"\")","v":"x"},{"$f":"IFERROR(IF(ISBLANK('Zoeken in Database'!$D$4),\"x\",IF(SEARCH('Zoeken in Database'!$D$4,Concerten!B301,1),\"x\",\"\")),\"\")","v":"x"},{"$f":"IFERROR(IF(ISBLANK('Zoeken in Database'!$D$5),\"x\",IF(SEARCH('Zoeken in Database'!$D$5,Concerten!C301,1),\"x\",\"\")),\"\")","v":"x"},{"$f":"IFERROR(IF(ISBLANK('Zoeken in Database'!$D$6),\"x\",IF(SEARCH('Zoeken in Database'!$D$6,Concerten!G301,1),\"x\",\"\")),\"\")","v":"x"},{"$f":"IF(AND(D301>='Zoeken in Database'!$A$7,'Zoeken in Database'!$A$8>=D301),\"x\",\"\")","v":"x"}]
["Pixies, the","Heineken Music Hall","Amsterdam","2004-07-06","01. Gouge away\n02. Debaser\n03. Dead\n04. Crackity\n05. Isla\n06. Weird\n07. Monkey\n08. Heaven \n09. Wave\n10. Where is my mind\n11. Holiday\n12. Nimrod\n13. Vamos\n14. Here comes your man\n15. I bleed\n16. U-mass\n17. Bone machine\n18. Velouria\n19. River\n20. Broken face\n21. Tame\n22. Caribou\n---------\n23. Hey\n24. Gigantic\n\n",null,"Hoofdprogramma",7,2004,{"$f":"VLOOKUP(Table1[[#This Row],[Maand (getal)]],Lijst!A:B,2,FALSE)","v":"jul"},{"$f":"IFERROR(IF(ISBLANK('Zoeken in Database'!$D$3),\"x\",IF(SEARCH('Zoeken in Database'!$D$3,Concerten!A302,1),\"x\",\"\")),\"\")","v":"x"},{"$f":"IFERROR(IF(ISBLANK('Zoeken in Database'!$D$4),\"x\",IF(SEARCH('Zoeken in Database'!$D$4,Concerten!B302,1),\"x\",\"\")),\"\")","v":"x"},{"$f":"IFERROR(IF(ISBLANK('Zoeken in Database'!$D$5),\"x\",IF(SEARCH('Zoeken in Database'!$D$5,Concerten!C302,1),\"x\",\"\")),\"\")","v":"x"},{"$f":"IFERROR(IF(ISBLANK('Zoeken in Database'!$D$6),\"x\",IF(SEARCH('Zoeken in Database'!$D$6,Concerten!G302,1),\"x\",\"\")),\"\")","v":"x"},{"$f":"IF(AND(D302>='Zoeken in Database'!$A$7,'Zoeken in Database'!$A$8>=D302),\"x\",\"\")","v":"x"}]
["Snow Patrol","Heineken Music Hall","Amsterdam","2004-07-06",null,null,"Voorprogramma",7,2004,{"$f":"VLOOKUP(Table1[[#This Row],[Maand (getal)]],Lijst!A:B,2,FALSE)","v":"jul"},{"$f":"IFERROR(IF(ISBLANK('Zoeken in Database'!$D$3),\"x\",IF(SEARCH('Zoeken in Database'!$D$3,Concerten!A303,1),\"x\",\"\")),\"\")","v":"x"},{"$f":"IFERROR(IF(ISBLANK('Zoeken in Database'!$D$4),\"x\",IF(SEARCH('Zoeken in Database'!$D$4,Concerten!B303,1),\"x\",\"\")),\"\")","v":"x"},{"$f":"IFERROR(IF(ISBLANK('Zoeken in Database'!$D$5),\"x\",IF(SEARCH('Zoeken in Database'!$D$5,Concerten!C303,1),\"x\",\"\")),\"\")","v":"x"},{"$f":"IFERROR(IF(ISBLANK('Zoeken in Database'!$D$6),\"x\",IF(SEARCH('Zoeken in Database'!$D$6,Concerten!G303,1),\"x\",\"\")),\"\")","v":"x"},{"$f":"IF(AND(D303>='Zoeken in Database'!$A$7,'Zoeken in Database'!$A$8>=D303),\"x\",\"\")","v":"x"}]
["Wilson, Brian","Congresscentrum","Den Haag","2004-07-14","1. Surfer Girl\n2. Good To My Baby\n3. In My Room\n4. Wendy\n5. Add Some Music To Your Day\n6. Drive-In\n7. And Your Dreams Come True\n8. Sloop John B\n9. Wouldn’t It Be Nice\n10. God Only Knows\n11. Desert Drive\n12. California Girls\n13. Be True To Your School\n14. Gettin' In Over My Head\n15. Soul Searchin'\n16. Dance, Dance, Dance\n17. How Could We Still Be Dancin'\n18. Marcella\n19. Sail On Sailor\nSMILE Set: Part 1: \n20. Our Prayer/Gee\n21. Heroes & Villains\n22. Do You Like Worms\n23. Barnyard (with lyrics)\n24. Old Master Painter \n25. You Are My Sunshine \n26. Cabinessence \nPart 2: \n27. Wonderful\n28. Look\n29. Child Is Father Of The Man \n30. Surf's Up \nPart 3: \n31. I'm In Great Shape\n32. I Wanna Be Around/Workshop\n33. Vegetables\n34. Holiday (with lyrics) \n35. Wind Chimes \n36. Mrs. O'Leary’s Cow/Fire \n37. I Love To Say Da Da (with extra lyrics) \n38. Good Vibrations \nEncore 1:\n39. Do It Again\n40. I Get Around\n41. Help Me, Rhonda\n42. Barbara Ann (Brian on bass)\n43. Surfin’ U.S.A. (Brian on bass)\n44. Fun, Fun, Fun\nEncore 2:\n\n45. Love & Mercy\n\n\n","Brian Wilson presents SMiLE","Hoofdprogramma",7,2004,{"$f":"VLOOKUP(Table1[[#This Row],[Maand (getal)]],Lijst!A:B,2,FALSE)","v":"jul"},{"$f":"IFERROR(IF(ISBLANK('Zoeken in Database'!$D$3),\"x\",IF(SEARCH('Zoeken in Database'!$D$3,Concerten!A304,1),\"x\",\"\")),\"\")","v":"x"},{"$f":"IFERROR(IF(ISBLANK('Zoeken in Database'!$D$4),\"x\",IF(SEARCH('Zoeken in Database'!$D$4,Concerten!B304,1),\"x\",\"\")),\"\")","v":"x"},{"$f":"IFERROR(IF(ISBLANK('Zoeken in Database'!$D$5),\"x\",IF(SEARCH('Zoeken in Database'!$D$5,Concerten!C304,1),\"x\",\"\")),\"\")","v":"x"},{"$f":"IFERROR(IF(ISBLANK('Zoeken in Database'!$D$6),\"x\",IF(SEARCH('Zoeken in Database'!$D$6,Concerten!G304,1),\"x\",\"\")),\"\")","v":"x"},{"$f":"IF(AND(D304>='Zoeken in Database'!$A$7,'Zoeken in Database'!$A$8>=D304),\"x\",\"\")","v":"x"}]
["Colour Of Fire","Lowlands 2004","Biddinghuizen","2004-08-20",null,"India","Festivaloptreden",8,2004,{"$f":"VLOOKUP(Table1[[#This Row],[Maand (getal)]],Lijst!A:B,2,FALSE)","v":"aug"},{"$f":"IFERROR(IF(ISBLANK('Zoeken in Database'!$D$3),\"x\",IF(SEARCH('Zoeken in Database'!$D$3,Concerten!A305,1),\"x\",\"\")),\"\")","v":"x"},{"$f":"IFERROR(IF(ISBLANK('Zoeken in Database'!$D$4),\"x\",IF(SEARCH('Zoeken in Database'!$D$4,Concerten!B305,1),\"x\",\"\")),\"\")","v":"x"},{"$f":"IFERROR(IF(ISBLANK('Zoeken in Database'!$D$5),\"x\",IF(SEARCH('Zoeken in Database'!$D$5,Concerten!C305,1),\"x\",\"\")),\"\")","v":"x"},{"$f":"IFERROR(IF(ISBLANK('Zoeken in Database'!$D$6),\"x\",IF(SEARCH('Zoeken in Database'!$D$6,Concerten!G305,1),\"x\",\"\")),\"\")","v":"x"},{"$f":"IF(AND(D305>='Zoeken in Database'!$A$7,'Zoeken in Database'!$A$8>=D305),\"x\",\"\")","v":"x"}]
["Hives, The","Lowlands 2004","Biddinghuizen","2004-08-20",null,"Alpha","Festivaloptreden",8,2004,{"$f":"VLOOKUP(Table1[[#This Row],[Maand (getal)]],Lijst!A:B,2,FALSE)","v":"aug"},{"$f":"IFERROR(IF(ISBLANK('Zoeken in Database'!$D$3),\"x\",IF(SEARCH('Zoeken in Database'!$D$3,Concerten!A306,1),\"x\",\"\")),\"\")","v":"x"},{"$f":"IFERROR(IF(ISBLANK('Zoeken in Database'!$D$4),\"x\",IF(SEARCH('Zoeken in Database'!$D$4,Concerten!B306,1),\"x\",\"\")),\"\")","v":"x"},{"$f":"IFERROR(IF(ISBLANK('Zoeken in Database'!$D$5),\"x\",IF(SEARCH('Zoeken in Database'!$D$5,Concerten!C306,1),\"x\",\"\")),\"\")","v":"x"},{"$f":"IFERROR(IF(ISBLANK('Zoeken in Database'!$D$6),\"x\",IF(SEARCH('Zoeken in Database'!$D$6,Concerten!G306,1),\"x\",\"\")),\"\")","v":"x"},{"$f":"IF(AND(D306>='Zoeken in Database'!$A$7,'Zoeken in Database'!$A$8>=D306),\"x\",\"\")","v":"x"}]
["Mintzkov Luna","Lowlands 2004","Biddinghuizen","2004-08-20",null,"India","Festivaloptreden",8,2004,{"$f":"VLOOKUP(Table1[[#This Row],[Maand (getal)]],Lijst!A:B,2,FALSE)","v":"aug"},{"$f":"IFERROR(IF(ISBLANK('Zoeken in Database'!$D$3),\"x\",IF(SEARCH('Zoeken in Database'!$D$3,Concerten!A307,1),\"x\",\"\")),\"\")","v":"x"},{"$f":"IFERROR(IF(ISBLANK('Zoeken in Database'!$D$4),\"x\",IF(SEARCH('Zoeken in Database'!$D$4,Concerten!B307,1),\"x\",\"\")),\"\")","v":"x"},{"$f":"IFERROR(IF(ISBLANK('Zoeken in Database'!$D$5),\"x\",IF(SEARCH('Zoeken in Database'!$D$5,Concerten!C307,1),\"x\",\"\")),\"\")","v":"x"},{"$f":"IFERROR(IF(ISBLANK('Zoeken in Database'!$D$6),\"x\",IF(SEARCH('Zoeken in Database'!$D$6,Concerten!G307,1),\"x\",\"\")),\"\")","v":"x"},{"$f":"IF(AND(D307>='Zoeken in Database'!$A$7,'Zoeken in Database'!$A$8>=D307),\"x\",\"\")","v":"x"}]
["N*E*R*D","Lowlands 2004","Biddinghuizen","2004-08-20",null,"Alpha","Festivaloptreden",8,2004,{"$f":"VLOOKUP(Table1[[#This Row],[Maand (getal)]],Lijst!A:B,2,FALSE)","v":"aug"},{"$f":"IFERROR(IF(ISBLANK('Zoeken in Database'!$D$3),\"x\",IF(SEARCH('Zoeken in Database'!$D$3,Concerten!A308,1),\"x\",\"\")),\"\")","v":"x"},{"$f":"IFERROR(IF(ISBLANK('Zoeken in Database'!$D$4),\"x\",IF(SEARCH('Zoeken in Database'!$D$4,Concerten!B308,1),\"x\",\"\")),\"\")","v":"x"},{"$f":"IFERROR(IF(ISBLANK('Zoeken in Database'!$D$5),\"x\",IF(SEARCH('Zoeken in Database'!$D$5,Concerten!C308,1),\"x\",\"\")),\"\")","v":"x"},{"$f":"IFERROR(IF(ISBLANK('Zoeken in Database'!$D$6),\"x\",IF(SEARCH('Zoeken in Database'!$D$6,Concerten!G308,1),\"x\",\"\")),\"\")","v":"x"},{"$f":"IF(AND(D308>='Zoeken in Database'!$A$7,'Zoeken in Database'!$A$8>=D308),\"x\",\"\")","v":"x"}]
["Zutons, The","Lowlands 2004","Biddinghuizen","2004-08-20",null,"Grolsch","Festivaloptreden",8,2004,{"$f":"VLOOKUP(Table1[[#This Row],[Maand (getal)]],Lijst!A:B,2,FALSE)","v":"aug"},{"$f":"IFERROR(IF(ISBLANK('Zoeken in Database'!$D$3),\"x\",IF(SEARCH('Zoeken in Database'!$D$3,Concerten!A309,1),\"x\",\"\")),\"\")","v":"x"},{"$f":"IFERROR(IF(ISBLANK('Zoeken in Database'!$D$4),\"x\",IF(SEARCH('Zoeken in Database'!$D$4,Concerten!B309,1),\"x\",\"\")),\"\")","v":"x"},{"$f":"IFERROR(IF(ISBLANK('Zoeken in Database'!$D$5),\"x\",IF(SEARCH('Zoeken in Database'!$D$5,Concerten!C309,1),\"x\",\"\")),\"\")","v":"x"},{"$f":"IFERROR(IF(ISBLANK('Zoeken in Database'!$D$6),\"x\",IF(SEARCH('Zoeken in Database'!$D$6,Concerten!G309,1),\"x\",\"\")),\"\")","v":"x"},{"$f":"IF(AND(D309>='Zoeken in Database'!$A$7,'Zoeken in Database'!$A$8>=D309),\"x\",\"\")","v":"x"}]
["Bloodhound Gang","Lowlands 2004","Biddinghuizen","2004-08-21",null,"Alpha","Festivaloptreden",8,2004,{"$f":"VLOOKUP(Table1[[#This Row],[Maand (getal)]],Lijst!A:B,2,FALSE)","v":"aug"},{"$f":"IFERROR(IF(ISBLANK('Zoeken in Database'!$D$3),\"x\",IF(SEARCH('Zoeken in Database'!$D$3,Concerten!A310,1),\"x\",\"\")),\"\")","v":"x"},{"$f":"IFERROR(IF(ISBLANK('Zoeken in Database'!$D$4),\"x\",IF(SEARCH('Zoeken in Database'!$D$4,Concerten!B310,1),\"x\",\"\")),\"\")","v":"x"},{"$f":"IFERROR(IF(ISBLANK('Zoeken in Database'!$D$5),\"x\",IF(SEARCH('Zoeken in Database'!$D$5,Concerten!C310,1),\"x\",\"\")),\"\")","v":"x"},{"$f":"IFERROR(IF(ISBLANK('Zoeken in Database'!$D$6),\"x\",IF(SEARCH('Zoeken in Database'!$D$6,Concerten!G310,1),\"x\",\"\")),\"\")","v":"x"},{"$f":"IF(AND(D310>='Zoeken in Database'!$A$7,'Zoeken in Database'!$A$8>=D310),\"x\",\"\")","v":"x"}]
["Chemical Brothers","Lowlands 2004","Biddinghuizen","2004-08-21",null,"Alpha","Festivaloptreden",8,2004,{"$f":"VLOOKUP(Table1[[#This Row],[Maand (getal)]],Lijst!A:B,2,FALSE)","v":"aug"},{"$f":"IFERROR(IF(ISBLANK('Zoeken in Database'!$D$3),\"x\",IF(SEARCH('Zoeken in Database'!$D$3,Concerten!A311,1),\"x\",\"\")),\"\")","v":"x"},{"$f":"IFERROR(IF(ISBLANK('Zoeken in Database'!$D$4),\"x\",IF(SEARCH('Zoeken in Database'!$D$4,Concerten!B311,1),\"x\",\"\")),\"\")","v":"x"},{"$f":"IFERROR(IF(ISBLANK('Zoeken in Database'!$D$5),\"x\",IF(SEARCH('Zoeken in Database'!$D$5,Concerten!C311,1),\"x\",\"\")),\"\")","v":"x"},{"$f":"IFERROR(IF(ISBLANK('Zoeken in Database'!$D$6),\"x\",IF(SEARCH('Zoeken in Database'!$D$6,Concerten!G311,1),\"x\",\"\")),\"\")","v":"x"},{"$f":"IF(AND(D311>='Zoeken in Database'!$A$7,'Zoeken in Database'!$A$8>=D311),\"x\",\"\")","v":"x"}]
["Darkness, The","Lowlands 2004","Biddinghuizen","2004-08-21",null,"Alpha","Festivaloptreden",8,2004,{"$f":"VLOOKUP(Table1[[#This Row],[Maand (getal)]],Lijst!A:B,2,FALSE)","v":"aug"},{"$f":"IFERROR(IF(ISBLANK('Zoeken in Database'!$D$3),\"x\",IF(SEARCH('Zoeken in Database'!$D$3,Concerten!A312,1),\"x\",\"\")),\"\")","v":"x"},{"$f":"IFERROR(IF(ISBLANK('Zoeken in Database'!$D$4),\"x\",IF(SEARCH('Zoeken in Database'!$D$4,Concerten!B312,1),\"x\",\"\")),\"\")","v":"x"},{"$f":"IFERROR(IF(ISBLANK('Zoeken in Database'!$D$5),\"x\",IF(SEARCH('Zoeken in Database'!$D$5,Concerten!C312,1),\"x\",\"\")),\"\")","v":"x"},{"$f":"IFERROR(IF(ISBLANK('Zoeken in Database'!$D$6),\"x\",IF(SEARCH('Zoeken in Database'!$D$6,Concerten!G312,1),\"x\",\"\")),\"\")","v":"x"},{"$f":"IF(AND(D312>='Zoeken in Database'!$A$7,'Zoeken in Database'!$A$8>=D312),\"x\",\"\")","v":"x"}]
["dEUS","Lowlands 2004","Biddinghuizen","2004-08-21",null,"Alpha","Festivaloptreden",8,2004,{"$f":"VLOOKUP(Table1[[#This Row],[Maand (getal)]],Lijst!A:B,2,FALSE)","v":"aug"},{"$f":"IFERROR(IF(ISBLANK('Zoeken in Database'!$D$3),\"x\",IF(SEARCH('Zoeken in Database'!$D$3,Concerten!A313,1),\"x\",\"\")),\"\")","v":"x"},{"$f":"IFERROR(IF(ISBLANK('Zoeken in Database'!$D$4),\"x\",IF(SEARCH('Zoeken in Database'!$D$4,Concerten!B313,1),\"x\",\"\")),\"\")","v":"x"},{"$f":"IFERROR(IF(ISBLANK('Zoeken in Database'!$D$5),\"x\",IF(SEARCH('Zoeken in Database'!$D$5,Concerten!C313,1),\"x\",\"\")),\"\")","v":"x"},{"$f":"IFERROR(IF(ISBLANK('Zoeken in Database'!$D$6),\"x\",IF(SEARCH('Zoeken in Database'!$D$6,Concerten!G313,1),\"x\",\"\")),\"\")","v":"x"},{"$f":"IF(AND(D313>='Zoeken in Database'!$A$7,'Zoeken in Database'!$A$8>=D313),\"x\",\"\")","v":"x"}]
["Dropkick Murphies","Lowlands 2004","Biddinghuizen","2004-08-21",null,"Alpha","Festivaloptreden",8,2004,{"$f":"VLOOKUP(Table1[[#This Row],[Maand (getal)]],Lijst!A:B,2,FALSE)","v":"aug"},{"$f":"IFERROR(IF(ISBLANK('Zoeken in Database'!$D$3),\"x\",IF(SEARCH('Zoeken in Database'!$D$3,Concerten!A314,1),\"x\",\"\")),\"\")","v":"x"},{"$f":"IFERROR(IF(ISBLANK('Zoeken in Database'!$D$4),\"x\",IF(SEARCH('Zoeken in Database'!$D$4,Concerten!B314,1),\"x\",\"\")),\"\")","v":"x"},{"$f":"IFERROR(IF(ISBLANK('Zoeken in Database'!$D$5),\"x\",IF(SEARCH('Zoeken in Database'!$D$5,Concerten!C314,1),\"x\",\"\")),\"\")","v":"x"},{"$f":"IFERROR(IF(ISBLANK('Zoeken in Database'!$D$6),\"x\",IF(SEARCH('Zoeken in Database'!$D$6,Concerten!G314,1),\"x\",\"\")),\"\")","v":"x"},{"$f":"IF(AND(D314>='Zoeken in Database'!$A$7,'Zoeken in Database'!$A$8>=D314),\"x\",\"\")","v":"x"}]
["Velvet Revolver","Lowlands 2004","Biddinghuizen","2004-08-21","Sucker Train Blues \nDo It For The Kids \nHeadspace \nCrackerman (Stone Temple Pilots cover) \nBig Machine \nMr. Brownstone (Guns N' Roses cover) \nSet Me Free \nIt's So Easy (Guns N' Roses cover) \nSex Type Thing (Stone Temple Pilots cover) \nSlither\n","Alpha","Festivaloptreden",8,2004,{"$f":"VLOOKUP(Table1[[#This Row],[Maand (getal)]],Lijst!A:B,2,FALSE)","v":"aug"},{"$f":"IFERROR(IF(ISBLANK('Zoeken in Database'!$D$3),\"x\",IF(SEARCH('Zoeken in Database'!$D$3,Concerten!A315,1),\"x\",\"\")),\"\")","v":"x"},{"$f":"IFERROR(IF(ISBLANK('Zoeken in Database'!$D$4),\"x\",IF(SEARCH('Zoeken in Database'!$D$4,Concerten!B315,1),\"x\",\"\")),\"\")","v":"x"},{"$f":"IFERROR(IF(ISBLANK('Zoeken in Database'!$D$5),\"x\",IF(SEARCH('Zoeken in Database'!$D$5,Concerten!C315,1),\"x\",\"\")),\"\")","v":"x"},{"$f":"IFERROR(IF(ISBLANK('Zoeken in Database'!$D$6),\"x\",IF(SEARCH('Zoeken in Database'!$D$6,Concerten!G315,1),\"x\",\"\")),\"\")","v":"x"},{"$f":"IF(AND(D315>='Zoeken in Database'!$A$7,'Zoeken in Database'!$A$8>=D315),\"x\",\"\")","v":"x"}]
["Blanche","Lowlands 2004","Biddinghuizen","2004-08-22","01. Darlin' Cory\n02. So Long\n03. Banjo/Bop/Bluebird\n04. Trust\n05. Who's To Say\n06. Superstitir\n07. What This Town Needs\n08. Jack On Fire\n09. Someday\n","India","Festivaloptreden",8,2004,{"$f":"VLOOKUP(Table1[[#This Row],[Maand (getal)]],Lijst!A:B,2,FALSE)","v":"aug"},{"$f":"IFERROR(IF(ISBLANK('Zoeken in Database'!$D$3),\"x\",IF(SEARCH('Zoeken in Database'!$D$3,Concerten!A316,1),\"x\",\"\")),\"\")","v":"x"},{"$f":"IFERROR(IF(ISBLANK('Zoeken in Database'!$D$4),\"x\",IF(SEARCH('Zoeken in Database'!$D$4,Concerten!B316,1),\"x\",\"\")),\"\")","v":"x"},{"$f":"IFERROR(IF(ISBLANK('Zoeken in Database'!$D$5),\"x\",IF(SEARCH('Zoeken in Database'!$D$5,Concerten!C316,1),\"x\",\"\")),\"\")","v":"x"},{"$f":"IFERROR(IF(ISBLANK('Zoeken in Database'!$D$6),\"x\",IF(SEARCH('Zoeken in Database'!$D$6,Concerten!G316,1),\"x\",\"\")),\"\")","v":"x"},{"$f":"IF(AND(D316>='Zoeken in Database'!$A$7,'Zoeken in Database'!$A$8>=D316),\"x\",\"\")","v":"x"}]
["Chatrou, Geert","Lowlands 2004","Biddinghuizen","2004-08-22",null,"India","Festivaloptreden",8,2004,{"$f":"VLOOKUP(Table1[[#This Row],[Maand (getal)]],Lijst!A:B,2,FALSE)","v":"aug"},{"$f":"IFERROR(IF(ISBLANK('Zoeken in Database'!$D$3),\"x\",IF(SEARCH('Zoeken in Database'!$D$3,Concerten!A317,1),\"x\",\"\")),\"\")","v":"x"},{"$f":"IFERROR(IF(ISBLANK('Zoeken in Database'!$D$4),\"x\",IF(SEARCH('Zoeken in Database'!$D$4,Concerten!B317,1),\"x\",\"\")),\"\")","v":"x"},{"$f":"IFERROR(IF(ISBLANK('Zoeken in Database'!$D$5),\"x\",IF(SEARCH('Zoeken in Database'!$D$5,Concerten!C317,1),\"x\",\"\")),\"\")","v":"x"},{"$f":"IFERROR(IF(ISBLANK('Zoeken in Database'!$D$6),\"x\",IF(SEARCH('Zoeken in Database'!$D$6,Concerten!G317,1),\"x\",\"\")),\"\")","v":"x"},{"$f":"IF(AND(D317>='Zoeken in Database'!$A$7,'Zoeken in Database'!$A$8>=D317),\"x\",\"\")","v":"x"}]
["Coxon, Graham","Lowlands 2004","Biddinghuizen","2004-08-22",null,"Grolsch","Festivaloptreden",8,2004,{"$f":"VLOOKUP(Table1[[#This Row],[Maand (getal)]],Lijst!A:B,2,FALSE)","v":"aug"},{"$f":"IFERROR(IF(ISBLANK('Zoeken in Database'!$D$3),\"x\",IF(SEARCH('Zoeken in Database'!$D$3,Concerten!A318,1),\"x\",\"\")),\"\")","v":"x"},{"$f":"IFERROR(IF(ISBLANK('Zoeken in Database'!$D$4),\"x\",IF(SEARCH('Zoeken in Database'!$D$4,Concerten!B318,1),\"x\",\"\")),\"\")","v":"x"},{"$f":"IFERROR(IF(ISBLANK('Zoeken in Database'!$D$5),\"x\",IF(SEARCH('Zoeken in Database'!$D$5,Concerten!C318,1),\"x\",\"\")),\"\")","v":"x"},{"$f":"IFERROR(IF(ISBLANK('Zoeken in Database'!$D$6),\"x\",IF(SEARCH('Zoeken in Database'!$D$6,Concerten!G318,1),\"x\",\"\")),\"\")","v":"x"},{"$f":"IF(AND(D318>='Zoeken in Database'!$A$7,'Zoeken in Database'!$A$8>=D318),\"x\",\"\")","v":"x"}]
["Radio 4","Lowlands 2004","Biddinghuizen","2004-08-22",null,"India","Festivaloptreden",8,2004,{"$f":"VLOOKUP(Table1[[#This Row],[Maand (getal)]],Lijst!A:B,2,FALSE)","v":"aug"},{"$f":"IFERROR(IF(ISBLANK('Zoeken in Database'!$D$3),\"x\",IF(SEARCH('Zoeken in Database'!$D$3,Concerten!A319,1),\"x\",\"\")),\"\")","v":"x"},{"$f":"IFERROR(IF(ISBLANK('Zoeken in Database'!$D$4),\"x\",IF(SEARCH('Zoeken in Database'!$D$4,Concerten!B319,1),\"x\",\"\")),\"\")","v":"x"},{"$f":"IFERROR(IF(ISBLANK('Zoeken in Database'!$D$5),\"x\",IF(SEARCH('Zoeken in Database'!$D$5,Concerten!C319,1),\"x\",\"\")),\"\")","v":"x"},{"$f":"IFERROR(IF(ISBLANK('Zoeken in Database'!$D$6),\"x\",IF(SEARCH('Zoeken in Database'!$D$6,Concerten!G319,1),\"x\",\"\")),\"\")","v":"x"},{"$f":"IF(AND(D319>='Zoeken in Database'!$A$7,'Zoeken in Database'!$A$8>=D319),\"x\",\"\")","v":"x"}]
["Soulwax","Lowlands 2004","Biddinghuizen","2004-08-22",null,"Alpha","Festivaloptreden",8,2004,{"$f":"VLOOKUP(Table1[[#This Row],[Maand (getal)]],Lijst!A:B,2,FALSE)","v":"aug"},{"$f":"IFERROR(IF(ISBLANK('Zoeken in Database'!$D$3),\"x\",IF(SEARCH('Zoeken in Database'!$D$3,Concerten!A320,1),\"x\",\"\")),\"\")","v":"x"},{"$f":"IFERROR(IF(ISBLANK('Zoeken in Database'!$D$4),\"x\",IF(SEARCH('Zoeken in Database'!$D$4,Concerten!B320,1),\"x\",\"\")),\"\")","v":"x"},{"$f":"IFERROR(IF(ISBLANK('Zoeken in Database'!$D$5),\"x\",IF(SEARCH('Zoeken in Database'!$D$5,Concerten!C320,1),\"x\",\"\")),\"\")","v":"x"},{"$f":"IFERROR(IF(ISBLANK('Zoeken in Database'!$D$6),\"x\",IF(SEARCH('Zoeken in Database'!$D$6,Concerten!G320,1),\"x\",\"\")),\"\")","v":"x"},{"$f":"IF(AND(D320>='Zoeken in Database'!$A$7,'Zoeken in Database'!$A$8>=D320),\"x\",\"\")","v":"x"}]
["White Stripes, The","Lowlands 2004","Biddinghuizen","2004-08-22",null,"Alpha","Festivaloptreden",8,2004,{"$f":"VLOOKUP(Table1[[#This Row],[Maand (getal)]],Lijst!A:B,2,FALSE)","v":"aug"},{"$f":"IFERROR(IF(ISBLANK('Zoeken in Database'!$D$3),\"x\",IF(SEARCH('Zoeken in Database'!$D$3,Concerten!A321,1),\"x\",\"\")),\"\")","v":"x"},{"$f":"IFERROR(IF(ISBLANK('Zoeken in Database'!$D$4),\"x\",IF(SEARCH('Zoeken in Database'!$D$4,Concerten!B321,1),\"x\",\"\")),\"\")","v":"x"},{"$f":"IFERROR(IF(ISBLANK('Zoeken in Database'!$D$5),\"x\",IF(SEARCH('Zoeken in Database'!$D$5,Concerten!C321,1),\"x\",\"\")),\"\")","v":"x"},{"$f":"IFERROR(IF(ISBLANK('Zoeken in Database'!$D$6),\"x\",IF(SEARCH('Zoeken in Database'!$D$6,Concerten!G321,1),\"x\",\"\")),\"\")","v":"x"},{"$f":"IF(AND(D321>='Zoeken in Database'!$A$7,'Zoeken in Database'!$A$8>=D321),\"x\",\"\")","v":"x"}]
["Gem","Melkweg","Amsterdam","2004-09-21","01. Opposite\n02. Summertime\n03. Turn It On\n04. Rise & Fall\n05. All We Have Is Now\n06. Secrets\n07. High/Low\n08. This Is Your Life\n09. Tonight\n10. S.O.S.","Old Hall","Voorprogramma",9,2004,{"$f":"VLOOKUP(Table1[[#This Row],[Maand (getal)]],Lijst!A:B,2,FALSE)","v":"sep"},{"$f":"IFERROR(IF(ISBLANK('Zoeken in Database'!$D$3),\"x\",IF(SEARCH('Zoeken in Database'!$D$3,Concerten!A322,1),\"x\",\"\")),\"\")","v":"x"},{"$f":"IFERROR(IF(ISBLANK('Zoeken in Database'!$D$4),\"x\",IF(SEARCH('Zoeken in Database'!$D$4,Concerten!B322,1),\"x\",\"\")),\"\")","v":"x"},{"$f":"IFERROR(IF(ISBLANK('Zoeken in Database'!$D$5),\"x\",IF(SEARCH('Zoeken in Database'!$D$5,Concerten!C322,1),\"x\",\"\")),\"\")","v":"x"},{"$f":"IFERROR(IF(ISBLANK('Zoeken in Database'!$D$6),\"x\",IF(SEARCH('Zoeken in Database'!$D$6,Concerten!G322,1),\"x\",\"\")),\"\")","v":"x"},{"$f":"IF(AND(D322>='Zoeken in Database'!$A$7,'Zoeken in Database'!$A$8>=D322),\"x\",\"\")","v":"x"}]
["Jimmy Eat World","Melkweg","Amsterdam","2004-09-21",null,"Old Hall","Hoofdprogramma",{"$f":"IF(ISBLANK(D323),\"\",MONTH(D323))","v":9},{"$f":"IF(ISBLANK(D323),\"\",YEAR(D323))","v":2004},{"$f":"VLOOKUP(Table1[[#This Row],[Maand (getal)]],Lijst!A:B,2,FALSE)","v":"sep"},{"$f":"IFERROR(IF(ISBLANK('Zoeken in Database'!$D$3),\"x\",IF(SEARCH('Zoeken in Database'!$D$3,Concerten!A323,1),\"x\",\"\")),\"\")","v":"x"},{"$f":"IFERROR(IF(ISBLANK('Zoeken in Database'!$D$4),\"x\",IF(SEARCH('Zoeken in Database'!$D$4,Concerten!B323,1),\"x\",\"\")),\"\")","v":"x"},{"$f":"IFERROR(IF(ISBLANK('Zoeken in Database'!$D$5),\"x\",IF(SEARCH('Zoeken in Database'!$D$5,Concerten!C323,1),\"x\",\"\")),\"\")","v":"x"},{"$f":"IFERROR(IF(ISBLANK('Zoeken in Database'!$D$6),\"x\",IF(SEARCH('Zoeken in Database'!$D$6,Concerten!G323,1),\"x\",\"\")),\"\")","v":"x"},{"$f":"IF(AND(D323>='Zoeken in Database'!$A$7,'Zoeken in Database'!$A$8>=D323),\"x\",\"\")","v":"x"}]
["Awaiting Seasons","Balloon","Cuijk","2004-09-25",null,null,"Festivaloptreden",9,2004,{"$f":"VLOOKUP(Table1[[#This Row],[Maand (getal)]],Lijst!A:B,2,FALSE)","v":"sep"},{"$f":"IFERROR(IF(ISBLANK('Zoeken in Database'!$D$3),\"x\",IF(SEARCH('Zoeken in Database'!$D$3,Concerten!A324,1),\"x\",\"\")),\"\")","v":"x"},{"$f":"IFERROR(IF(ISBLANK('Zoeken in Database'!$D$4),\"x\",IF(SEARCH('Zoeken in Database'!$D$4,Concerten!B324,1),\"x\",\"\")),\"\")","v":"x"},{"$f":"IFERROR(IF(ISBLANK('Zoeken in Database'!$D$5),\"x\",IF(SEARCH('Zoeken in Database'!$D$5,Concerten!C324,1),\"x\",\"\")),\"\")","v":"x"},{"$f":"IFERROR(IF(ISBLANK('Zoeken in Database'!$D$6),\"x\",IF(SEARCH('Zoeken in Database'!$D$6,Concerten!G324,1),\"x\",\"\")),\"\")","v":"x"},{"$f":"IF(AND(D324>='Zoeken in Database'!$A$7,'Zoeken in Database'!$A$8>=D324),\"x\",\"\")","v":"x"}]
["Close Second","Balloon","Cuijk","2004-09-25",null,null,"Festivaloptreden",9,2004,{"$f":"VLOOKUP(Table1[[#This Row],[Maand (getal)]],Lijst!A:B,2,FALSE)","v":"sep"},{"$f":"IFERROR(IF(ISBLANK('Zoeken in Database'!$D$3),\"x\",IF(SEARCH('Zoeken in Database'!$D$3,Concerten!A325,1),\"x\",\"\")),\"\")","v":"x"},{"$f":"IFERROR(IF(ISBLANK('Zoeken in Database'!$D$4),\"x\",IF(SEARCH('Zoeken in Database'!$D$4,Concerten!B325,1),\"x\",\"\")),\"\")","v":"x"},{"$f":"IFERROR(IF(ISBLANK('Zoeken in Database'!$D$5),\"x\",IF(SEARCH('Zoeken in Database'!$D$5,Concerten!C325,1),\"x\",\"\")),\"\")","v":"x"},{"$f":"IFERROR(IF(ISBLANK('Zoeken in Database'!$D$6),\"x\",IF(SEARCH('Zoeken in Database'!$D$6,Concerten!G325,1),\"x\",\"\")),\"\")","v":"x"},{"$f":"IF(AND(D325>='Zoeken in Database'!$A$7,'Zoeken in Database'!$A$8>=D325),\"x\",\"\")","v":"x"}]
["Grizzly Twister, The","Balloon","Cuijk","2004-09-25",null,null,"Festivaloptreden",9,2004,{"$f":"VLOOKUP(Table1[[#This Row],[Maand (getal)]],Lijst!A:B,2,FALSE)","v":"sep"},{"$f":"IFERROR(IF(ISBLANK('Zoeken in Database'!$D$3),\"x\",IF(SEARCH('Zoeken in Database'!$D$3,Concerten!A326,1),\"x\",\"\")),\"\")","v":"x"},{"$f":"IFERROR(IF(ISBLANK('Zoeken in Database'!$D$4),\"x\",IF(SEARCH('Zoeken in Database'!$D$4,Concerten!B326,1),\"x\",\"\")),\"\")","v":"x"},{"$f":"IFERROR(IF(ISBLANK('Zoeken in Database'!$D$5),\"x\",IF(SEARCH('Zoeken in Database'!$D$5,Concerten!C326,1),\"x\",\"\")),\"\")","v":"x"},{"$f":"IFERROR(IF(ISBLANK('Zoeken in Database'!$D$6),\"x\",IF(SEARCH('Zoeken in Database'!$D$6,Concerten!G326,1),\"x\",\"\")),\"\")","v":"x"},{"$f":"IF(AND(D326>='Zoeken in Database'!$A$7,'Zoeken in Database'!$A$8>=D326),\"x\",\"\")","v":"x"}]
["Gem","Merleyn","Nijmegen","2004-10-01",null,"Gratis: Pop voor Nop","Hoofdprogramma",10,2004,{"$f":"VLOOKUP(Table1[[#This Row],[Maand (getal)]],Lijst!A:B,2,FALSE)","v":"okt"},{"$f":"IFERROR(IF(ISBLANK('Zoeken in Database'!$D$3),\"x\",IF(SEARCH('Zoeken in Database'!$D$3,Concerten!A327,1),\"x\",\"\")),\"\")","v":"x"},{"$f":"IFERROR(IF(ISBLANK('Zoeken in Database'!$D$4),\"x\",IF(SEARCH('Zoeken in Database'!$D$4,Concerten!B327,1),\"x\",\"\")),\"\")","v":"x"},{"$f":"IFERROR(IF(ISBLANK('Zoeken in Database'!$D$5),\"x\",IF(SEARCH('Zoeken in Database'!$D$5,Concerten!C327,1),\"x\",\"\")),\"\")","v":"x"},{"$f":"IFERROR(IF(ISBLANK('Zoeken in Database'!$D$6),\"x\",IF(SEARCH('Zoeken in Database'!$D$6,Concerten!G327,1),\"x\",\"\")),\"\")","v":"x"},{"$f":"IF(AND(D327>='Zoeken in Database'!$A$7,'Zoeken in Database'!$A$8>=D327),\"x\",\"\")","v":"x"}]
["Malin, Jesse","Melkweg","Amsterdam","2004-10-04","01. Downliner\n02. Wendy\n03. Fineart of Selfdestruction\n04. Hotel Columbia\n05. Violets and Cigarettes\n06. Arrested\n07. Almost Grown\n08. Silver Manhattan\n09. Mona Lisa\n10. Indian Summer\n11. Everybody's Talking At Me (Harry Nillson Cover)\n12. Brooklyn\n13. Block Island\n14. Solitaire\n15. New World Order\n16. Helpless (Neil Young)\n17. Riding On The Subway\n------------------\n18. Basement Home\n19. Death Or Glory (Clash)\n20. Olivers Army (Elvis Costello)\n\n","Old Hall","Hoofdprogramma",10,2004,{"$f":"VLOOKUP(Table1[[#This Row],[Maand (getal)]],Lijst!A:B,2,FALSE)","v":"okt"},{"$f":"IFERROR(IF(ISBLANK('Zoeken in Database'!$D$3),\"x\",IF(SEARCH('Zoeken in Database'!$D$3,Concerten!A328,1),\"x\",\"\")),\"\")","v":"x"},{"$f":"IFERROR(IF(ISBLANK('Zoeken in Database'!$D$4),\"x\",IF(SEARCH('Zoeken in Database'!$D$4,Concerten!B328,1),\"x\",\"\")),\"\")","v":"x"},{"$f":"IFERROR(IF(ISBLANK('Zoeken in Database'!$D$5),\"x\",IF(SEARCH('Zoeken in Database'!$D$5,Concerten!C328,1),\"x\",\"\")),\"\")","v":"x"},{"$f":"IFERROR(IF(ISBLANK('Zoeken in Database'!$D$6),\"x\",IF(SEARCH('Zoeken in Database'!$D$6,Concerten!G328,1),\"x\",\"\")),\"\")","v":"x"},{"$f":"IF(AND(D328>='Zoeken in Database'!$A$7,'Zoeken in Database'!$A$8>=D328),\"x\",\"\")","v":"x"}]
["Reineke, Joe","Melkweg","Amsterdam","2004-10-04",null,"Old Hall","Voorprogramma",10,2004,{"$f":"VLOOKUP(Table1[[#This Row],[Maand (getal)]],Lijst!A:B,2,FALSE)","v":"okt"},{"$f":"IFERROR(IF(ISBLANK('Zoeken in Database'!$D$3),\"x\",IF(SEARCH('Zoeken in Database'!$D$3,Concerten!A329,1),\"x\",\"\")),\"\")","v":"x"},{"$f":"IFERROR(IF(ISBLANK('Zoeken in Database'!$D$4),\"x\",IF(SEARCH('Zoeken in Database'!$D$4,Concerten!B329,1),\"x\",\"\")),\"\")","v":"x"},{"$f":"IFERROR(IF(ISBLANK('Zoeken in Database'!$D$5),\"x\",IF(SEARCH('Zoeken in Database'!$D$5,Concerten!C329,1),\"x\",\"\")),\"\")","v":"x"},{"$f":"IFERROR(IF(ISBLANK('Zoeken in Database'!$D$6),\"x\",IF(SEARCH('Zoeken in Database'!$D$6,Concerten!G329,1),\"x\",\"\")),\"\")","v":"x"},{"$f":"IF(AND(D329>='Zoeken in Database'!$A$7,'Zoeken in Database'!$A$8>=D329),\"x\",\"\")","v":"x"}]
["Stinson, Tommy","Melkweg","Amsterdam","2004-10-04",null,"Old Hall","Voorprogramma",10,2004,{"$f":"VLOOKUP(Table1[[#This Row],[Maand (getal)]],Lijst!A:B,2,FALSE)","v":"okt"},{"$f":"IFERROR(IF(ISBLANK('Zoeken in Database'!$D$3),\"x\",IF(SEARCH('Zoeken in Database'!$D$3,Concerten!A330,1),\"x\",\"\")),\"\")","v":"x"},{"$f":"IFERROR(IF(ISBLANK('Zoeken in Database'!$D$4),\"x\",IF(SEARCH('Zoeken in Database'!$D$4,Concerten!B330,1),\"x\",\"\")),\"\")","v":"x"},{"$f":"IFERROR(IF(ISBLANK('Zoeken in Database'!$D$5),\"x\",IF(SEARCH('Zoeken in Database'!$D$5,Concerten!C330,1),\"x\",\"\")),\"\")","v":"x"},{"$f":"IFERROR(IF(ISBLANK('Zoeken in Database'!$D$6),\"x\",IF(SEARCH('Zoeken in Database'!$D$6,Concerten!G330,1),\"x\",\"\")),\"\")","v":"x"},{"$f":"IF(AND(D330>='Zoeken in Database'!$A$7,'Zoeken in Database'!$A$8>=D330),\"x\",\"\")","v":"x"}]
["Burke, Toby","Melkweg","Amsterdam","2004-10-05",null,"Old Hall","Voorprogramma",10,2004,{"$f":"VLOOKUP(Table1[[#This Row],[Maand (getal)]],Lijst!A:B,2,FALSE)","v":"okt"},{"$f":"IFERROR(IF(ISBLANK('Zoeken in Database'!$D$3),\"x\",IF(SEARCH('Zoeken in Database'!$D$3,Concerten!A331,1),\"x\",\"\")),\"\")","v":"x"},{"$f":"IFERROR(IF(ISBLANK('Zoeken in Database'!$D$4),\"x\",IF(SEARCH('Zoeken in Database'!$D$4,Concerten!B331,1),\"x\",\"\")),\"\")","v":"x"},{"$f":"IFERROR(IF(ISBLANK('Zoeken in Database'!$D$5),\"x\",IF(SEARCH('Zoeken in Database'!$D$5,Concerten!C331,1),\"x\",\"\")),\"\")","v":"x"},{"$f":"IFERROR(IF(ISBLANK('Zoeken in Database'!$D$6),\"x\",IF(SEARCH('Zoeken in Database'!$D$6,Concerten!G331,1),\"x\",\"\")),\"\")","v":"x"},{"$f":"IF(AND(D331>='Zoeken in Database'!$A$7,'Zoeken in Database'!$A$8>=D331),\"x\",\"\")","v":"x"}]
["Hayden","Melkweg","Amsterdam","2004-10-05","01. Dynamite Walls\n02. Robbed Blind\n03. Home By Saturday\n04. All In One Move\n05. My Wife\n06. Killbear\n07. Bass SOng\n08. I Should Have Been Watching You\n09. DOn't Get Down\n10. Sitting On The Dock Of The Bay (Otis Redding)\n11. Between Us To Hold\n12. The Hazards Of Sitting Beneath Palm Trees\n13. We Don't Mind\n14. Woody\n15. Carried Away\n--------------\n16. I'm On Standby (Grandaddy)\n17. Middley Of July\n18. Trees Lounge\n19. Stem\n\n","Old Hall","Hoofdprogramma",10,2004,{"$f":"VLOOKUP(Table1[[#This Row],[Maand (getal)]],Lijst!A:B,2,FALSE)","v":"okt"},{"$f":"IFERROR(IF(ISBLANK('Zoeken in Database'!$D$3),\"x\",IF(SEARCH('Zoeken in Database'!$D$3,Concerten!A332,1),\"x\",\"\")),\"\")","v":"x"},{"$f":"IFERROR(IF(ISBLANK('Zoeken in Database'!$D$4),\"x\",IF(SEARCH('Zoeken in Database'!$D$4,Concerten!B332,1),\"x\",\"\")),\"\")","v":"x"},{"$f":"IFERROR(IF(ISBLANK('Zoeken in Database'!$D$5),\"x\",IF(SEARCH('Zoeken in Database'!$D$5,Concerten!C332,1),\"x\",\"\")),\"\")","v":"x"},{"$f":"IFERROR(IF(ISBLANK('Zoeken in Database'!$D$6),\"x\",IF(SEARCH('Zoeken in Database'!$D$6,Concerten!G332,1),\"x\",\"\")),\"\")","v":"x"},{"$f":"IF(AND(D332>='Zoeken in Database'!$A$7,'Zoeken in Database'!$A$8>=D332),\"x\",\"\")","v":"x"}]
["Bigger Lovers, The","Ekko","Utrecht","2004-10-06",null,null,"Hoofdprogramma",10,2004,{"$f":"VLOOKUP(Table1[[#This Row],[Maand (getal)]],Lijst!A:B,2,FALSE)","v":"okt"},{"$f":"IFERROR(IF(ISBLANK('Zoeken in Database'!$D$3),\"x\",IF(SEARCH('Zoeken in Database'!$D$3,Concerten!A333,1),\"x\",\"\")),\"\")","v":"x"},{"$f":"IFERROR(IF(ISBLANK('Zoeken in Database'!$D$4),\"x\",IF(SEARCH('Zoeken in Database'!$D$4,Concerten!B333,1),\"x\",\"\")),\"\")","v":"x"},{"$f":"IFERROR(IF(ISBLANK('Zoeken in Database'!$D$5),\"x\",IF(SEARCH('Zoeken in Database'!$D$5,Concerten!C333,1),\"x\",\"\")),\"\")","v":"x"},{"$f":"IFERROR(IF(ISBLANK('Zoeken in Database'!$D$6),\"x\",IF(SEARCH('Zoeken in Database'!$D$6,Concerten!G333,1),\"x\",\"\")),\"\")","v":"x"},{"$f":"IF(AND(D333>='Zoeken in Database'!$A$7,'Zoeken in Database'!$A$8>=D333),\"x\",\"\")","v":"x"}]
["Yearlings, The","Ekko","Utrecht","2004-10-06",null,null,"Voorprogramma",10,2004,{"$f":"VLOOKUP(Table1[[#This Row],[Maand (getal)]],Lijst!A:B,2,FALSE)","v":"okt"},{"$f":"IFERROR(IF(ISBLANK('Zoeken in Database'!$D$3),\"x\",IF(SEARCH('Zoeken in Database'!$D$3,Concerten!A334,1),\"x\",\"\")),\"\")","v":"x"},{"$f":"IFERROR(IF(ISBLANK('Zoeken in Database'!$D$4),\"x\",IF(SEARCH('Zoeken in Database'!$D$4,Concerten!B334,1),\"x\",\"\")),\"\")","v":"x"},{"$f":"IFERROR(IF(ISBLANK('Zoeken in Database'!$D$5),\"x\",IF(SEARCH('Zoeken in Database'!$D$5,Concerten!C334,1),\"x\",\"\")),\"\")","v":"x"},{"$f":"IFERROR(IF(ISBLANK('Zoeken in Database'!$D$6),\"x\",IF(SEARCH('Zoeken in Database'!$D$6,Concerten!G334,1),\"x\",\"\")),\"\")","v":"x"},{"$f":"IF(AND(D334>='Zoeken in Database'!$A$7,'Zoeken in Database'!$A$8>=D334),\"x\",\"\")","v":"x"}]
["Burke, Solomon","Paradiso","Amsterdam","2004-10-07",null,null,"Hoofdprogramma",10,2004,{"$f":"VLOOKUP(Table1[[#This Row],[Maand (getal)]],Lijst!A:B,2,FALSE)","v":"okt"},{"$f":"IFERROR(IF(ISBLANK('Zoeken in Database'!$D$3),\"x\",IF(SEARCH('Zoeken in Database'!$D$3,Concerten!A335,1),\"x\",\"\")),\"\")","v":"x"},{"$f":"IFERROR(IF(ISBLANK('Zoeken in Database'!$D$4),\"x\",IF(SEARCH('Zoeken in Database'!$D$4,Concerten!B335,1),\"x\",\"\")),\"\")","v":"x"},{"$f":"IFERROR(IF(ISBLANK('Zoeken in Database'!$D$5),\"x\",IF(SEARCH('Zoeken in Database'!$D$5,Concerten!C335,1),\"x\",\"\")),\"\")","v":"x"},{"$f":"IFERROR(IF(ISBLANK('Zoeken in Database'!$D$6),\"x\",IF(SEARCH('Zoeken in Database'!$D$6,Concerten!G335,1),\"x\",\"\")),\"\")","v":"x"},{"$f":"IF(AND(D335>='Zoeken in Database'!$A$7,'Zoeken in Database'!$A$8>=D335),\"x\",\"\")","v":"x"}]
["CDOASS","Paradiso","Amsterdam","2004-10-15",null,null,"Voorprogramma",10,2004,{"$f":"VLOOKUP(Table1[[#This Row],[Maand (getal)]],Lijst!A:B,2,FALSE)","v":"okt"},{"$f":"IFERROR(IF(ISBLANK('Zoeken in Database'!$D$3),\"x\",IF(SEARCH('Zoeken in Database'!$D$3,Concerten!A336,1),\"x\",\"\")),\"\")","v":"x"},{"$f":"IFERROR(IF(ISBLANK('Zoeken in Database'!$D$4),\"x\",IF(SEARCH('Zoeken in Database'!$D$4,Concerten!B336,1),\"x\",\"\")),\"\")","v":"x"},{"$f":"IFERROR(IF(ISBLANK('Zoeken in Database'!$D$5),\"x\",IF(SEARCH('Zoeken in Database'!$D$5,Concerten!C336,1),\"x\",\"\")),\"\")","v":"x"},{"$f":"IFERROR(IF(ISBLANK('Zoeken in Database'!$D$6),\"x\",IF(SEARCH('Zoeken in Database'!$D$6,Concerten!G336,1),\"x\",\"\")),\"\")","v":"x"},{"$f":"IF(AND(D336>='Zoeken in Database'!$A$7,'Zoeken in Database'!$A$8>=D336),\"x\",\"\")","v":"x"}]
["Hives, The","Paradiso","Amsterdam","2004-10-15","01 abra cadaver\n02 antidote\n03 missing link\n04 main offender\n05 state control\n06 walk idiot walk\n07 outsmarted\n08 a little more \n09 die allright \n10 declare guerre nuclaire\n11 no pun intented\n12 hate  to say i told you so\n13 dead quote olympics\n14 supply and demand\n15 diabolic scheme\n16 2 timing touch and broken bones\n17 b is for brutus\n18 aka idiot\n",null,"Hoofdprogramma",10,2004,{"$f":"VLOOKUP(Table1[[#This Row],[Maand (getal)]],Lijst!A:B,2,FALSE)","v":"okt"},{"$f":"IFERROR(IF(ISBLANK('Zoeken in Database'!$D$3),\"x\",IF(SEARCH('Zoeken in Database'!$D$3,Concerten!A337,1),\"x\",\"\")),\"\")","v":"x"},{"$f":"IFERROR(IF(ISBLANK('Zoeken in Database'!$D$4),\"x\",IF(SEARCH('Zoeken in Database'!$D$4,Concerten!B337,1),\"x\",\"\")),\"\")","v":"x"},{"$f":"IFERROR(IF(ISBLANK('Zoeken in Database'!$D$5),\"x\",IF(SEARCH('Zoeken in Database'!$D$5,Concerten!C337,1),\"x\",\"\")),\"\")","v":"x"},{"$f":"IFERROR(IF(ISBLANK('Zoeken in Database'!$D$6),\"x\",IF(SEARCH('Zoeken in Database'!$D$6,Concerten!G337,1),\"x\",\"\")),\"\")","v":"x"},{"$f":"IF(AND(D337>='Zoeken in Database'!$A$7,'Zoeken in Database'!$A$8>=D337),\"x\",\"\")","v":"x"}]
["Polyphonic Spree, The ","Tivoli Oudegracht","Utrecht","2004-10-25","01. Harp\n02. amazed\n03. sun\n04. hold\n05. 2000\n06. Flute/Soldier\n07. Suitcase\n08. One Man\n09. Drum/King\n--------------------\n10. Heavy\n11. Light/Evan Hisey\n12. Uptight\n",null,"Hoofdprogramma",10,2004,{"$f":"VLOOKUP(Table1[[#This Row],[Maand (getal)]],Lijst!A:B,2,FALSE)","v":"okt"},{"$f":"IFERROR(IF(ISBLANK('Zoeken in Database'!$D$3),\"x\",IF(SEARCH('Zoeken in Database'!$D$3,Concerten!A338,1),\"x\",\"\")),\"\")","v":"x"},{"$f":"IFERROR(IF(ISBLANK('Zoeken in Database'!$D$4),\"x\",IF(SEARCH('Zoeken in Database'!$D$4,Concerten!B338,1),\"x\",\"\")),\"\")","v":"x"},{"$f":"IFERROR(IF(ISBLANK('Zoeken in Database'!$D$5),\"x\",IF(SEARCH('Zoeken in Database'!$D$5,Concerten!C338,1),\"x\",\"\")),\"\")","v":"x"},{"$f":"IFERROR(IF(ISBLANK('Zoeken in Database'!$D$6),\"x\",IF(SEARCH('Zoeken in Database'!$D$6,Concerten!G338,1),\"x\",\"\")),\"\")","v":"x"},{"$f":"IF(AND(D338>='Zoeken in Database'!$A$7,'Zoeken in Database'!$A$8>=D338),\"x\",\"\")","v":"x"}]
["Blue Grass Boogiemen","Doornroosje","Nijmegen","2004-10-31",null,null,"Voorprogramma",10,2004,{"$f":"VLOOKUP(Table1[[#This Row],[Maand (getal)]],Lijst!A:B,2,FALSE)","v":"okt"},{"$f":"IFERROR(IF(ISBLANK('Zoeken in Database'!$D$3),\"x\",IF(SEARCH('Zoeken in Database'!$D$3,Concerten!A339,1),\"x\",\"\")),\"\")","v":"x"},{"$f":"IFERROR(IF(ISBLANK('Zoeken in Database'!$D$4),\"x\",IF(SEARCH('Zoeken in Database'!$D$4,Concerten!B339,1),\"x\",\"\")),\"\")","v":"x"},{"$f":"IFERROR(IF(ISBLANK('Zoeken in Database'!$D$5),\"x\",IF(SEARCH('Zoeken in Database'!$D$5,Concerten!C339,1),\"x\",\"\")),\"\")","v":"x"},{"$f":"IFERROR(IF(ISBLANK('Zoeken in Database'!$D$6),\"x\",IF(SEARCH('Zoeken in Database'!$D$6,Concerten!G339,1),\"x\",\"\")),\"\")","v":"x"},{"$f":"IF(AND(D339>='Zoeken in Database'!$A$7,'Zoeken in Database'!$A$8>=D339),\"x\",\"\")","v":"x"}]
["Hackensaw Boys, The","Doornroosje","Nijmegen","2004-10-31",null,null,"Hoofdprogramma",10,2004,{"$f":"VLOOKUP(Table1[[#This Row],[Maand (getal)]],Lijst!A:B,2,FALSE)","v":"okt"},{"$f":"IFERROR(IF(ISBLANK('Zoeken in Database'!$D$3),\"x\",IF(SEARCH('Zoeken in Database'!$D$3,Concerten!A340,1),\"x\",\"\")),\"\")","v":"x"},{"$f":"IFERROR(IF(ISBLANK('Zoeken in Database'!$D$4),\"x\",IF(SEARCH('Zoeken in Database'!$D$4,Concerten!B340,1),\"x\",\"\")),\"\")","v":"x"},{"$f":"IFERROR(IF(ISBLANK('Zoeken in Database'!$D$5),\"x\",IF(SEARCH('Zoeken in Database'!$D$5,Concerten!C340,1),\"x\",\"\")),\"\")","v":"x"},{"$f":"IFERROR(IF(ISBLANK('Zoeken in Database'!$D$6),\"x\",IF(SEARCH('Zoeken in Database'!$D$6,Concerten!G340,1),\"x\",\"\")),\"\")","v":"x"},{"$f":"IF(AND(D340>='Zoeken in Database'!$A$7,'Zoeken in Database'!$A$8>=D340),\"x\",\"\")","v":"x"}]
["Cake","Paradiso","Amsterdam","2004-11-03",null,null,"Hoofdprogramma",11,2004,{"$f":"VLOOKUP(Table1[[#This Row],[Maand (getal)]],Lijst!A:B,2,FALSE)","v":"nov"},{"$f":"IFERROR(IF(ISBLANK('Zoeken in Database'!$D$3),\"x\",IF(SEARCH('Zoeken in Database'!$D$3,Concerten!A341,1),\"x\",\"\")),\"\")","v":"x"},{"$f":"IFERROR(IF(ISBLANK('Zoeken in Database'!$D$4),\"x\",IF(SEARCH('Zoeken in Database'!$D$4,Concerten!B341,1),\"x\",\"\")),\"\")","v":"x"},{"$f":"IFERROR(IF(ISBLANK('Zoeken in Database'!$D$5),\"x\",IF(SEARCH('Zoeken in Database'!$D$5,Concerten!C341,1),\"x\",\"\")),\"\")","v":"x"},{"$f":"IFERROR(IF(ISBLANK('Zoeken in Database'!$D$6),\"x\",IF(SEARCH('Zoeken in Database'!$D$6,Concerten!G341,1),\"x\",\"\")),\"\")","v":"x"},{"$f":"IF(AND(D341>='Zoeken in Database'!$A$7,'Zoeken in Database'!$A$8>=D341),\"x\",\"\")","v":"x"}]
["Decemberists, The","Paradiso","Amsterdam","2004-11-03",null,null,"Voorprogramma",11,2004,{"$f":"VLOOKUP(Table1[[#This Row],[Maand (getal)]],Lijst!A:B,2,FALSE)","v":"nov"},{"$f":"IFERROR(IF(ISBLANK('Zoeken in Database'!$D$3),\"x\",IF(SEARCH('Zoeken in Database'!$D$3,Concerten!A342,1),\"x\",\"\")),\"\")","v":"x"},{"$f":"IFERROR(IF(ISBLANK('Zoeken in Database'!$D$4),\"x\",IF(SEARCH('Zoeken in Database'!$D$4,Concerten!B342,1),\"x\",\"\")),\"\")","v":"x"},{"$f":"IFERROR(IF(ISBLANK('Zoeken in Database'!$D$5),\"x\",IF(SEARCH('Zoeken in Database'!$D$5,Concerten!C342,1),\"x\",\"\")),\"\")","v":"x"},{"$f":"IFERROR(IF(ISBLANK('Zoeken in Database'!$D$6),\"x\",IF(SEARCH('Zoeken in Database'!$D$6,Concerten!G342,1),\"x\",\"\")),\"\")","v":"x"},{"$f":"IF(AND(D342>='Zoeken in Database'!$A$7,'Zoeken in Database'!$A$8>=D342),\"x\",\"\")","v":"x"}]
["Hackensaw Boys, The","Concerto","Amsterdam","2004-11-10",null,"gratis: Instore","Hoofdprogramma",11,2004,{"$f":"VLOOKUP(Table1[[#This Row],[Maand (getal)]],Lijst!A:B,2,FALSE)","v":"nov"},{"$f":"IFERROR(IF(ISBLANK('Zoeken in Database'!$D$3),\"x\",IF(SEARCH('Zoeken in Database'!$D$3,Concerten!A343,1),\"x\",\"\")),\"\")","v":"x"},{"$f":"IFERROR(IF(ISBLANK('Zoeken in Database'!$D$4),\"x\",IF(SEARCH('Zoeken in Database'!$D$4,Concerten!B343,1),\"x\",\"\")),\"\")","v":"x"},{"$f":"IFERROR(IF(ISBLANK('Zoeken in Database'!$D$5),\"x\",IF(SEARCH('Zoeken in Database'!$D$5,Concerten!C343,1),\"x\",\"\")),\"\")","v":"x"},{"$f":"IFERROR(IF(ISBLANK('Zoeken in Database'!$D$6),\"x\",IF(SEARCH('Zoeken in Database'!$D$6,Concerten!G343,1),\"x\",\"\")),\"\")","v":"x"},{"$f":"IF(AND(D343>='Zoeken in Database'!$A$7,'Zoeken in Database'!$A$8>=D343),\"x\",\"\")","v":"x"}]
["Soulwax","Paradiso","Amsterdam","2004-11-10","01. E-Talking\n02. Any Minute Now\n03. YYY/NNN\n04. Conversation Intercom\n05. Miserable Girl\n06. Krack\n07. Much Against Everyone's Advice\n08. Please Don't Be Yourself\n09. Compute\n10. Dance 2 Slow\n11. Too Many DJ's\n------\n12. The Truth Is Boring\n13. NY Excuse\n------\n14. METALCOVER\n",null,"Hoofdprogramma",11,2004,{"$f":"VLOOKUP(Table1[[#This Row],[Maand (getal)]],Lijst!A:B,2,FALSE)","v":"nov"},{"$f":"IFERROR(IF(ISBLANK('Zoeken in Database'!$D$3),\"x\",IF(SEARCH('Zoeken in Database'!$D$3,Concerten!A344,1),\"x\",\"\")),\"\")","v":"x"},{"$f":"IFERROR(IF(ISBLANK('Zoeken in Database'!$D$4),\"x\",IF(SEARCH('Zoeken in Database'!$D$4,Concerten!B344,1),\"x\",\"\")),\"\")","v":"x"},{"$f":"IFERROR(IF(ISBLANK('Zoeken in Database'!$D$5),\"x\",IF(SEARCH('Zoeken in Database'!$D$5,Concerten!C344,1),\"x\",\"\")),\"\")","v":"x"},{"$f":"IFERROR(IF(ISBLANK('Zoeken in Database'!$D$6),\"x\",IF(SEARCH('Zoeken in Database'!$D$6,Concerten!G344,1),\"x\",\"\")),\"\")","v":"x"},{"$f":"IF(AND(D344>='Zoeken in Database'!$A$7,'Zoeken in Database'!$A$8>=D344),\"x\",\"\")","v":"x"}]
["McRae, Tom","Melkweg","Amsterdam","2004-11-11","01. You Only Disappear (trio) \n02. Karaoke Soul \n03. How The West Was Won \n04. Dose Me Up \n05. Humminbird \n06. Sao Paulo Rain \n07. Walking 2 Hawaii (trio) \n08. A&B Song \n09. Border Song \n10. t Ain't You (trio) \n11. Streetlight \n12. Silent Boulevard \n13. Language Of Fools \n***** \n14. Bloodless (solo) \n15. Boy With The Bubblegun\n\n","The Max","Hoofdprogramma",11,2004,{"$f":"VLOOKUP(Table1[[#This Row],[Maand (getal)]],Lijst!A:B,2,FALSE)","v":"nov"},{"$f":"IFERROR(IF(ISBLANK('Zoeken in Database'!$D$3),\"x\",IF(SEARCH('Zoeken in Database'!$D$3,Concerten!A345,1),\"x\",\"\")),\"\")","v":"x"},{"$f":"IFERROR(IF(ISBLANK('Zoeken in Database'!$D$4),\"x\",IF(SEARCH('Zoeken in Database'!$D$4,Concerten!B345,1),\"x\",\"\")),\"\")","v":"x"},{"$f":"IFERROR(IF(ISBLANK('Zoeken in Database'!$D$5),\"x\",IF(SEARCH('Zoeken in Database'!$D$5,Concerten!C345,1),\"x\",\"\")),\"\")","v":"x"},{"$f":"IFERROR(IF(ISBLANK('Zoeken in Database'!$D$6),\"x\",IF(SEARCH('Zoeken in Database'!$D$6,Concerten!G345,1),\"x\",\"\")),\"\")","v":"x"},{"$f":"IF(AND(D345>='Zoeken in Database'!$A$7,'Zoeken in Database'!$A$8>=D345),\"x\",\"\")","v":"x"}]
["Reynolds, Steve","Melkweg","Amsterdam","2004-11-11",null,"The Max","Voorprogramma",11,2004,{"$f":"VLOOKUP(Table1[[#This Row],[Maand (getal)]],Lijst!A:B,2,FALSE)","v":"nov"},{"$f":"IFERROR(IF(ISBLANK('Zoeken in Database'!$D$3),\"x\",IF(SEARCH('Zoeken in Database'!$D$3,Concerten!A346,1),\"x\",\"\")),\"\")","v":"x"},{"$f":"IFERROR(IF(ISBLANK('Zoeken in Database'!$D$4),\"x\",IF(SEARCH('Zoeken in Database'!$D$4,Concerten!B346,1),\"x\",\"\")),\"\")","v":"x"},{"$f":"IFERROR(IF(ISBLANK('Zoeken in Database'!$D$5),\"x\",IF(SEARCH('Zoeken in Database'!$D$5,Concerten!C346,1),\"x\",\"\")),\"\")","v":"x"},{"$f":"IFERROR(IF(ISBLANK('Zoeken in Database'!$D$6),\"x\",IF(SEARCH('Zoeken in Database'!$D$6,Concerten!G346,1),\"x\",\"\")),\"\")","v":"x"},{"$f":"IF(AND(D346>='Zoeken in Database'!$A$7,'Zoeken in Database'!$A$8>=D346),\"x\",\"\")","v":"x"}]
["Dolorean","Merleyn","Nijmegen","2004-11-13","Solo:\n\n01. Idanha\n02. To Destruction\n03. Put You To Sleep\n\nBand:\n\n04. Traded For Fire\n05. So You're A Touring Band Now\n06. Holding On\n07. Violence In The Snowy Fields\n08. Jenny Place Your Bets Now\n09. Hannibal, Ma\n10. In The Fall\n11. Razor Love (Neil Young)\n12. Danube\n13. The Search\n---------\n14. The Light Behind My Head\n",null,"Hoofdprogramma",11,2004,{"$f":"VLOOKUP(Table1[[#This Row],[Maand (getal)]],Lijst!A:B,2,FALSE)","v":"nov"},{"$f":"IFERROR(IF(ISBLANK('Zoeken in Database'!$D$3),\"x\",IF(SEARCH('Zoeken in Database'!$D$3,Concerten!A347,1),\"x\",\"\")),\"\")","v":"x"},{"$f":"IFERROR(IF(ISBLANK('Zoeken in Database'!$D$4),\"x\",IF(SEARCH('Zoeken in Database'!$D$4,Concerten!B347,1),\"x\",\"\")),\"\")","v":"x"},{"$f":"IFERROR(IF(ISBLANK('Zoeken in Database'!$D$5),\"x\",IF(SEARCH('Zoeken in Database'!$D$5,Concerten!C347,1),\"x\",\"\")),\"\")","v":"x"},{"$f":"IFERROR(IF(ISBLANK('Zoeken in Database'!$D$6),\"x\",IF(SEARCH('Zoeken in Database'!$D$6,Concerten!G347,1),\"x\",\"\")),\"\")","v":"x"},{"$f":"IF(AND(D347>='Zoeken in Database'!$A$7,'Zoeken in Database'!$A$8>=D347),\"x\",\"\")","v":"x"}]
["Colour Of Fire","Melkweg","Amsterdam","2004-11-18",null,"Old Hall","Hoofdprogramma",11,2004,{"$f":"VLOOKUP(Table1[[#This Row],[Maand (getal)]],Lijst!A:B,2,FALSE)","v":"nov"},{"$f":"IFERROR(IF(ISBLANK('Zoeken in Database'!$D$3),\"x\",IF(SEARCH('Zoeken in Database'!$D$3,Concerten!A348,1),\"x\",\"\")),\"\")","v":"x"},{"$f":"IFERROR(IF(ISBLANK('Zoeken in Database'!$D$4),\"x\",IF(SEARCH('Zoeken in Database'!$D$4,Concerten!B348,1),\"x\",\"\")),\"\")","v":"x"},{"$f":"IFERROR(IF(ISBLANK('Zoeken in Database'!$D$5),\"x\",IF(SEARCH('Zoeken in Database'!$D$5,Concerten!C348,1),\"x\",\"\")),\"\")","v":"x"},{"$f":"IFERROR(IF(ISBLANK('Zoeken in Database'!$D$6),\"x\",IF(SEARCH('Zoeken in Database'!$D$6,Concerten!G348,1),\"x\",\"\")),\"\")","v":"x"},{"$f":"IF(AND(D348>='Zoeken in Database'!$A$7,'Zoeken in Database'!$A$8>=D348),\"x\",\"\")","v":"x"}]
["Skip The Rush","Melkweg","Amsterdam","2004-11-18",null,"Old Hall","Voorprogramma",11,2004,{"$f":"VLOOKUP(Table1[[#This Row],[Maand (getal)]],Lijst!A:B,2,FALSE)","v":"nov"},{"$f":"IFERROR(IF(ISBLANK('Zoeken in Database'!$D$3),\"x\",IF(SEARCH('Zoeken in Database'!$D$3,Concerten!A349,1),\"x\",\"\")),\"\")","v":"x"},{"$f":"IFERROR(IF(ISBLANK('Zoeken in Database'!$D$4),\"x\",IF(SEARCH('Zoeken in Database'!$D$4,Concerten!B349,1),\"x\",\"\")),\"\")","v":"x"},{"$f":"IFERROR(IF(ISBLANK('Zoeken in Database'!$D$5),\"x\",IF(SEARCH('Zoeken in Database'!$D$5,Concerten!C349,1),\"x\",\"\")),\"\")","v":"x"},{"$f":"IFERROR(IF(ISBLANK('Zoeken in Database'!$D$6),\"x\",IF(SEARCH('Zoeken in Database'!$D$6,Concerten!G349,1),\"x\",\"\")),\"\")","v":"x"},{"$f":"IF(AND(D349>='Zoeken in Database'!$A$7,'Zoeken in Database'!$A$8>=D349),\"x\",\"\")","v":"x"}]
["Carp","Ekko","Utrecht","2004-11-19",null,null,"Voorprogramma",11,2004,{"$f":"VLOOKUP(Table1[[#This Row],[Maand (getal)]],Lijst!A:B,2,FALSE)","v":"nov"},{"$f":"IFERROR(IF(ISBLANK('Zoeken in Database'!$D$3),\"x\",IF(SEARCH('Zoeken in Database'!$D$3,Concerten!A350,1),\"x\",\"\")),\"\")","v":"x"},{"$f":"IFERROR(IF(ISBLANK('Zoeken in Database'!$D$4),\"x\",IF(SEARCH('Zoeken in Database'!$D$4,Concerten!B350,1),\"x\",\"\")),\"\")","v":"x"},{"$f":"IFERROR(IF(ISBLANK('Zoeken in Database'!$D$5),\"x\",IF(SEARCH('Zoeken in Database'!$D$5,Concerten!C350,1),\"x\",\"\")),\"\")","v":"x"},{"$f":"IFERROR(IF(ISBLANK('Zoeken in Database'!$D$6),\"x\",IF(SEARCH('Zoeken in Database'!$D$6,Concerten!G350,1),\"x\",\"\")),\"\")","v":"x"},{"$f":"IF(AND(D350>='Zoeken in Database'!$A$7,'Zoeken in Database'!$A$8>=D350),\"x\",\"\")","v":"x"}]
["Colour Of Fire","Ekko","Utrecht","2004-11-19",null,null,"Hoofdprogramma",11,2004,{"$f":"VLOOKUP(Table1[[#This Row],[Maand (getal)]],Lijst!A:B,2,FALSE)","v":"nov"},{"$f":"IFERROR(IF(ISBLANK('Zoeken in Database'!$D$3),\"x\",IF(SEARCH('Zoeken in Database'!$D$3,Concerten!A351,1),\"x\",\"\")),\"\")","v":"x"},{"$f":"IFERROR(IF(ISBLANK('Zoeken in Database'!$D$4),\"x\",IF(SEARCH('Zoeken in Database'!$D$4,Concerten!B351,1),\"x\",\"\")),\"\")","v":"x"},{"$f":"IFERROR(IF(ISBLANK('Zoeken in Database'!$D$5),\"x\",IF(SEARCH('Zoeken in Database'!$D$5,Concerten!C351,1),\"x\",\"\")),\"\")","v":"x"},{"$f":"IFERROR(IF(ISBLANK('Zoeken in Database'!$D$6),\"x\",IF(SEARCH('Zoeken in Database'!$D$6,Concerten!G351,1),\"x\",\"\")),\"\")","v":"x"},{"$f":"IF(AND(D351>='Zoeken in Database'!$A$7,'Zoeken in Database'!$A$8>=D351),\"x\",\"\")","v":"x"}]
["Cave, Nick","Heineken Music Hall","Amsterdam","2004-11-23","01. Abattoir Blues \n02. Messiah Ward \n03. Hiding All Away \n04. Carry Me \n05. Nature Boy \n06. Easy Money \n07. Supernaturally \n08. Babe, You Turn Me On \n09. Breathless \n10. Get Ready For Love \n11. O Children \n12. There She Goes, My Beautiful World \n----------\n13. Red Right Hand \n14. Deanna \n15. The Weeping Song \n16. God Is In The House \n17. City of Refuge \n18. Stagger Lee \n----------\n19. The Mercy Seat \n\n",null,"Hoofdprogramma",11,2004,{"$f":"VLOOKUP(Table1[[#This Row],[Maand (getal)]],Lijst!A:B,2,FALSE)","v":"nov"},{"$f":"IFERROR(IF(ISBLANK('Zoeken in Database'!$D$3),\"x\",IF(SEARCH('Zoeken in Database'!$D$3,Concerten!A352,1),\"x\",\"\")),\"\")","v":"x"},{"$f":"IFERROR(IF(ISBLANK('Zoeken in Database'!$D$4),\"x\",IF(SEARCH('Zoeken in Database'!$D$4,Concerten!B352,1),\"x\",\"\")),\"\")","v":"x"},{"$f":"IFERROR(IF(ISBLANK('Zoeken in Database'!$D$5),\"x\",IF(SEARCH('Zoeken in Database'!$D$5,Concerten!C352,1),\"x\",\"\")),\"\")","v":"x"},{"$f":"IFERROR(IF(ISBLANK('Zoeken in Database'!$D$6),\"x\",IF(SEARCH('Zoeken in Database'!$D$6,Concerten!G352,1),\"x\",\"\")),\"\")","v":"x"},{"$f":"IF(AND(D352>='Zoeken in Database'!$A$7,'Zoeken in Database'!$A$8>=D352),\"x\",\"\")","v":"x"}]
["Mercury Rev","Heineken Music Hall","Amsterdam","2004-11-23",null,null,"Voorprogramma",11,2004,{"$f":"VLOOKUP(Table1[[#This Row],[Maand (getal)]],Lijst!A:B,2,FALSE)","v":"nov"},{"$f":"IFERROR(IF(ISBLANK('Zoeken in Database'!$D$3),\"x\",IF(SEARCH('Zoeken in Database'!$D$3,Concerten!A353,1),\"x\",\"\")),\"\")","v":"x"},{"$f":"IFERROR(IF(ISBLANK('Zoeken in Database'!$D$4),\"x\",IF(SEARCH('Zoeken in Database'!$D$4,Concerten!B353,1),\"x\",\"\")),\"\")","v":"x"},{"$f":"IFERROR(IF(ISBLANK('Zoeken in Database'!$D$5),\"x\",IF(SEARCH('Zoeken in Database'!$D$5,Concerten!C353,1),\"x\",\"\")),\"\")","v":"x"},{"$f":"IFERROR(IF(ISBLANK('Zoeken in Database'!$D$6),\"x\",IF(SEARCH('Zoeken in Database'!$D$6,Concerten!G353,1),\"x\",\"\")),\"\")","v":"x"},{"$f":"IF(AND(D353>='Zoeken in Database'!$A$7,'Zoeken in Database'!$A$8>=D353),\"x\",\"\")","v":"x"}]
["Harcourt, Ed","Melkweg","Amsterdam","2004-12-01","01. Something To Live For\n02. The Storm Is Coming\n03. Born In The 70s\n04. Let Love Not Weigh Me Down\n05. Kids\n06. Ghost Writer\n07. Jetsetter\n08. Strangers\n09. She Fell Into My Arms\n10. Black Dress\n11. God Protect Your Soul\n12. Misguided\n13. Trap Door\n14. Heart Of Darkness\n15. Wind Through The Trees\n16. ... Blessed (Solo)\n17. Undertaker Strut (duet)\n18. The Muxic Box\n19. Loneliness\n20. He's Building A Swamp\n--------\n21. This One's for You \n22. Fireflies take flight\n23. Apple of my Eye\n","Old Hall","Hoofdprogramma",12,2004,{"$f":"VLOOKUP(Table1[[#This Row],[Maand (getal)]],Lijst!A:B,2,FALSE)","v":"dec"},{"$f":"IFERROR(IF(ISBLANK('Zoeken in Database'!$D$3),\"x\",IF(SEARCH('Zoeken in Database'!$D$3,Concerten!A354,1),\"x\",\"\")),\"\")","v":"x"},{"$f":"IFERROR(IF(ISBLANK('Zoeken in Database'!$D$4),\"x\",IF(SEARCH('Zoeken in Database'!$D$4,Concerten!B354,1),\"x\",\"\")),\"\")","v":"x"},{"$f":"IFERROR(IF(ISBLANK('Zoeken in Database'!$D$5),\"x\",IF(SEARCH('Zoeken in Database'!$D$5,Concerten!C354,1),\"x\",\"\")),\"\")","v":"x"},{"$f":"IFERROR(IF(ISBLANK('Zoeken in Database'!$D$6),\"x\",IF(SEARCH('Zoeken in Database'!$D$6,Concerten!G354,1),\"x\",\"\")),\"\")","v":"x"},{"$f":"IF(AND(D354>='Zoeken in Database'!$A$7,'Zoeken in Database'!$A$8>=D354),\"x\",\"\")","v":"x"}]
["Poe, David","Melkweg","Amsterdam","2004-12-01",null,"Old Hall","Voorprogramma",12,2004,{"$f":"VLOOKUP(Table1[[#This Row],[Maand (getal)]],Lijst!A:B,2,FALSE)","v":"dec"},{"$f":"IFERROR(IF(ISBLANK('Zoeken in Database'!$D$3),\"x\",IF(SEARCH('Zoeken in Database'!$D$3,Concerten!A355,1),\"x\",\"\")),\"\")","v":"x"},{"$f":"IFERROR(IF(ISBLANK('Zoeken in Database'!$D$4),\"x\",IF(SEARCH('Zoeken in Database'!$D$4,Concerten!B355,1),\"x\",\"\")),\"\")","v":"x"},{"$f":"IFERROR(IF(ISBLANK('Zoeken in Database'!$D$5),\"x\",IF(SEARCH('Zoeken in Database'!$D$5,Concerten!C355,1),\"x\",\"\")),\"\")","v":"x"},{"$f":"IFERROR(IF(ISBLANK('Zoeken in Database'!$D$6),\"x\",IF(SEARCH('Zoeken in Database'!$D$6,Concerten!G355,1),\"x\",\"\")),\"\")","v":"x"},{"$f":"IF(AND(D355>='Zoeken in Database'!$A$7,'Zoeken in Database'!$A$8>=D355),\"x\",\"\")","v":"x"}]
["Lebbis En Jansen","Stadsschouwburg Utrecht","Utrecht","2004-12-14",null,"Oudejaars 2004","Theater",12,2004,{"$f":"VLOOKUP(Table1[[#This Row],[Maand (getal)]],Lijst!A:B,2,FALSE)","v":"dec"},{"$f":"IFERROR(IF(ISBLANK('Zoeken in Database'!$D$3),\"x\",IF(SEARCH('Zoeken in Database'!$D$3,Concerten!A356,1),\"x\",\"\")),\"\")","v":"x"},{"$f":"IFERROR(IF(ISBLANK('Zoeken in Database'!$D$4),\"x\",IF(SEARCH('Zoeken in Database'!$D$4,Concerten!B356,1),\"x\",\"\")),\"\")","v":"x"},{"$f":"IFERROR(IF(ISBLANK('Zoeken in Database'!$D$5),\"x\",IF(SEARCH('Zoeken in Database'!$D$5,Concerten!C356,1),\"x\",\"\")),\"\")","v":"x"},{"$f":"IFERROR(IF(ISBLANK('Zoeken in Database'!$D$6),\"x\",IF(SEARCH('Zoeken in Database'!$D$6,Concerten!G356,1),\"x\",\"\")),\"\")","v":"x"},{"$f":"IF(AND(D356>='Zoeken in Database'!$A$7,'Zoeken in Database'!$A$8>=D356),\"x\",\"\")","v":"x"}]
["Green Day","Heineken Music Hall","Amsterdam","2005-01-12","01. American Idiot\n02. Jesus Of Suburbia\n03. Holiday\n04. Are We The Waiting?\n05. St. Jimmy\n06. Longview\n07. Hitchin' A Ride\n08. Brainstew\n09. Jaded\n10. Knowledge\n11. Basketcase\n12. She\n13. King For A Day\n14. Wake Me Up\n15. Minority\n-------------------\n16. Boulevard Of Broken Dreams\n17. When I Come Around\n18. We Are The Champions\n---------------------\n19. Time Of Your Life\n",null,"Hoofdprogramma",1,2005,{"$f":"VLOOKUP(Table1[[#This Row],[Maand (getal)]],Lijst!A:B,2,FALSE)","v":"jan"},{"$f":"IFERROR(IF(ISBLANK('Zoeken in Database'!$D$3),\"x\",IF(SEARCH('Zoeken in Database'!$D$3,Concerten!A357,1),\"x\",\"\")),\"\")","v":"x"},{"$f":"IFERROR(IF(ISBLANK('Zoeken in Database'!$D$4),\"x\",IF(SEARCH('Zoeken in Database'!$D$4,Concerten!B357,1),\"x\",\"\")),\"\")","v":"x"},{"$f":"IFERROR(IF(ISBLANK('Zoeken in Database'!$D$5),\"x\",IF(SEARCH('Zoeken in Database'!$D$5,Concerten!C357,1),\"x\",\"\")),\"\")","v":"x"},{"$f":"IFERROR(IF(ISBLANK('Zoeken in Database'!$D$6),\"x\",IF(SEARCH('Zoeken in Database'!$D$6,Concerten!G357,1),\"x\",\"\")),\"\")","v":"x"},{"$f":"IF(AND(D357>='Zoeken in Database'!$A$7,'Zoeken in Database'!$A$8>=D357),\"x\",\"\")","v":"x"}]
["New Found Glory","Heineken Music Hall","Amsterdam","2005-01-12","01. Truth of My Youth*\n02. Understatement*\n03. Better Off Dead*\n04. Failure's Not Flattering*\n05. This Disaster*\n06. Something I Call Personality*\n07. Hit or Miss*\n08. Head On Collision*\n09. My Friends Over You*\n10. Intro*\n11. All Downhill From Here*\n\n*w/James Dewees - keyboards\n\n",null,"Voorprogramma",1,2005,{"$f":"VLOOKUP(Table1[[#This Row],[Maand (getal)]],Lijst!A:B,2,FALSE)","v":"jan"},{"$f":"IFERROR(IF(ISBLANK('Zoeken in Database'!$D$3),\"x\",IF(SEARCH('Zoeken in Database'!$D$3,Concerten!A358,1),\"x\",\"\")),\"\")","v":"x"},{"$f":"IFERROR(IF(ISBLANK('Zoeken in Database'!$D$4),\"x\",IF(SEARCH('Zoeken in Database'!$D$4,Concerten!B358,1),\"x\",\"\")),\"\")","v":"x"},{"$f":"IFERROR(IF(ISBLANK('Zoeken in Database'!$D$5),\"x\",IF(SEARCH('Zoeken in Database'!$D$5,Concerten!C358,1),\"x\",\"\")),\"\")","v":"x"},{"$f":"IFERROR(IF(ISBLANK('Zoeken in Database'!$D$6),\"x\",IF(SEARCH('Zoeken in Database'!$D$6,Concerten!G358,1),\"x\",\"\")),\"\")","v":"x"},{"$f":"IF(AND(D358>='Zoeken in Database'!$A$7,'Zoeken in Database'!$A$8>=D358),\"x\",\"\")","v":"x"}]
["Myer, Jochem","Schouwburg Cuijk","Cuijk","2005-01-19",null,"Yeee-Haaa!","Theater",1,2005,{"$f":"VLOOKUP(Table1[[#This Row],[Maand (getal)]],Lijst!A:B,2,FALSE)","v":"jan"},{"$f":"IFERROR(IF(ISBLANK('Zoeken in Database'!$D$3),\"x\",IF(SEARCH('Zoeken in Database'!$D$3,Concerten!A359,1),\"x\",\"\")),\"\")","v":"x"},{"$f":"IFERROR(IF(ISBLANK('Zoeken in Database'!$D$4),\"x\",IF(SEARCH('Zoeken in Database'!$D$4,Concerten!B359,1),\"x\",\"\")),\"\")","v":"x"},{"$f":"IFERROR(IF(ISBLANK('Zoeken in Database'!$D$5),\"x\",IF(SEARCH('Zoeken in Database'!$D$5,Concerten!C359,1),\"x\",\"\")),\"\")","v":"x"},{"$f":"IFERROR(IF(ISBLANK('Zoeken in Database'!$D$6),\"x\",IF(SEARCH('Zoeken in Database'!$D$6,Concerten!G359,1),\"x\",\"\")),\"\")","v":"x"},{"$f":"IF(AND(D359>='Zoeken in Database'!$A$7,'Zoeken in Database'!$A$8>=D359),\"x\",\"\")","v":"x"}]
["Costello, Elvis","MC Vredenburg","Utrecht","2005-01-24","01. Blue Chair \n02. Tear Off Your Own Head (It's A Doll Revolution) \n03. Waiting For The End Of The World \n04. Beyond Belief \n05. Radio Radio \n06. Button My Lip \n07. Country Darkness \n08. Brilliant Mistake \n09. Psycho \n10. (I Don't Want To Go To) Chelsea \n11. Good Year For The Roses \n12. Clubland Null \n13. Dust 2… \n14. Alison/Suspicious Minds \n15. Either Side Of The Same Town \n16. Blame It On Cain \n17. High Fidelity \n18. Uncomplicated \n19. ----------------------------------------\n20. The Delivery Man \n21. Monkey To Man \n22. Hidden Charms \n23. Needle Time \n24. Nothing Clings Like Ivy \n25. Pump It Up \n26. Love That Burns \n27. ----------------------------------------\n28. (What's So Funny 'Bout) Peace, Love And Understanding? \n29. I Want You \n30. There's A Story In Your Voice \n31. Oliver's Army \n32. The Scarlet Tide\n","& The Imposters","Hoofdprogramma",1,2005,{"$f":"VLOOKUP(Table1[[#This Row],[Maand (getal)]],Lijst!A:B,2,FALSE)","v":"jan"},{"$f":"IFERROR(IF(ISBLANK('Zoeken in Database'!$D$3),\"x\",IF(SEARCH('Zoeken in Database'!$D$3,Concerten!A360,1),\"x\",\"\")),\"\")","v":"x"},{"$f":"IFERROR(IF(ISBLANK('Zoeken in Database'!$D$4),\"x\",IF(SEARCH('Zoeken in Database'!$D$4,Concerten!B360,1),\"x\",\"\")),\"\")","v":"x"},{"$f":"IFERROR(IF(ISBLANK('Zoeken in Database'!$D$5),\"x\",IF(SEARCH('Zoeken in Database'!$D$5,Concerten!C360,1),\"x\",\"\")),\"\")","v":"x"},{"$f":"IFERROR(IF(ISBLANK('Zoeken in Database'!$D$6),\"x\",IF(SEARCH('Zoeken in Database'!$D$6,Concerten!G360,1),\"x\",\"\")),\"\")","v":"x"},{"$f":"IF(AND(D360>='Zoeken in Database'!$A$7,'Zoeken in Database'!$A$8>=D360),\"x\",\"\")","v":"x"}]
["Lekman, Jens","Paradiso","Amsterdam","2005-01-27",null,"Bovenzaal","Voorprogramma",1,2005,{"$f":"VLOOKUP(Table1[[#This Row],[Maand (getal)]],Lijst!A:B,2,FALSE)","v":"jan"},{"$f":"IFERROR(IF(ISBLANK('Zoeken in Database'!$D$3),\"x\",IF(SEARCH('Zoeken in Database'!$D$3,Concerten!A361,1),\"x\",\"\")),\"\")","v":"x"},{"$f":"IFERROR(IF(ISBLANK('Zoeken in Database'!$D$4),\"x\",IF(SEARCH('Zoeken in Database'!$D$4,Concerten!B361,1),\"x\",\"\")),\"\")","v":"x"},{"$f":"IFERROR(IF(ISBLANK('Zoeken in Database'!$D$5),\"x\",IF(SEARCH('Zoeken in Database'!$D$5,Concerten!C361,1),\"x\",\"\")),\"\")","v":"x"},{"$f":"IFERROR(IF(ISBLANK('Zoeken in Database'!$D$6),\"x\",IF(SEARCH('Zoeken in Database'!$D$6,Concerten!G361,1),\"x\",\"\")),\"\")","v":"x"},{"$f":"IF(AND(D361>='Zoeken in Database'!$A$7,'Zoeken in Database'!$A$8>=D361),\"x\",\"\")","v":"x"}]
["Rhys, Gruff","Paradiso","Amsterdam","2005-01-27",null,"Bovenzaal","Hoofdprogramma",1,2005,{"$f":"VLOOKUP(Table1[[#This Row],[Maand (getal)]],Lijst!A:B,2,FALSE)","v":"jan"},{"$f":"IFERROR(IF(ISBLANK('Zoeken in Database'!$D$3),\"x\",IF(SEARCH('Zoeken in Database'!$D$3,Concerten!A362,1),\"x\",\"\")),\"\")","v":"x"},{"$f":"IFERROR(IF(ISBLANK('Zoeken in Database'!$D$4),\"x\",IF(SEARCH('Zoeken in Database'!$D$4,Concerten!B362,1),\"x\",\"\")),\"\")","v":"x"},{"$f":"IFERROR(IF(ISBLANK('Zoeken in Database'!$D$5),\"x\",IF(SEARCH('Zoeken in Database'!$D$5,Concerten!C362,1),\"x\",\"\")),\"\")","v":"x"},{"$f":"IFERROR(IF(ISBLANK('Zoeken in Database'!$D$6),\"x\",IF(SEARCH('Zoeken in Database'!$D$6,Concerten!G362,1),\"x\",\"\")),\"\")","v":"x"},{"$f":"IF(AND(D362>='Zoeken in Database'!$A$7,'Zoeken in Database'!$A$8>=D362),\"x\",\"\")","v":"x"}]
["Voicst ","Merleyn","Nijmegen","2005-02-12",null,null,"Hoofdprogramma",2,2005,{"$f":"VLOOKUP(Table1[[#This Row],[Maand (getal)]],Lijst!A:B,2,FALSE)","v":"feb"},{"$f":"IFERROR(IF(ISBLANK('Zoeken in Database'!$D$3),\"x\",IF(SEARCH('Zoeken in Database'!$D$3,Concerten!A363,1),\"x\",\"\")),\"\")","v":"x"},{"$f":"IFERROR(IF(ISBLANK('Zoeken in Database'!$D$4),\"x\",IF(SEARCH('Zoeken in Database'!$D$4,Concerten!B363,1),\"x\",\"\")),\"\")","v":"x"},{"$f":"IFERROR(IF(ISBLANK('Zoeken in Database'!$D$5),\"x\",IF(SEARCH('Zoeken in Database'!$D$5,Concerten!C363,1),\"x\",\"\")),\"\")","v":"x"},{"$f":"IFERROR(IF(ISBLANK('Zoeken in Database'!$D$6),\"x\",IF(SEARCH('Zoeken in Database'!$D$6,Concerten!G363,1),\"x\",\"\")),\"\")","v":"x"},{"$f":"IF(AND(D363>='Zoeken in Database'!$A$7,'Zoeken in Database'!$A$8>=D363),\"x\",\"\")","v":"x"}]
["Ambulance LTD","Doornroosje","Nijmegen","2005-02-14",null,null,"Voorprogramma",2,2005,{"$f":"VLOOKUP(Table1[[#This Row],[Maand (getal)]],Lijst!A:B,2,FALSE)","v":"feb"},{"$f":"IFERROR(IF(ISBLANK('Zoeken in Database'!$D$3),\"x\",IF(SEARCH('Zoeken in Database'!$D$3,Concerten!A364,1),\"x\",\"\")),\"\")","v":"x"},{"$f":"IFERROR(IF(ISBLANK('Zoeken in Database'!$D$4),\"x\",IF(SEARCH('Zoeken in Database'!$D$4,Concerten!B364,1),\"x\",\"\")),\"\")","v":"x"},{"$f":"IFERROR(IF(ISBLANK('Zoeken in Database'!$D$5),\"x\",IF(SEARCH('Zoeken in Database'!$D$5,Concerten!C364,1),\"x\",\"\")),\"\")","v":"x"},{"$f":"IFERROR(IF(ISBLANK('Zoeken in Database'!$D$6),\"x\",IF(SEARCH('Zoeken in Database'!$D$6,Concerten!G364,1),\"x\",\"\")),\"\")","v":"x"},{"$f":"IF(AND(D364>='Zoeken in Database'!$A$7,'Zoeken in Database'!$A$8>=D364),\"x\",\"\")","v":"x"}]
["Dears, The","Doornroosje","Nijmegen","2005-02-14",null,null,"Hoofdprogramma",2,2005,{"$f":"VLOOKUP(Table1[[#This Row],[Maand (getal)]],Lijst!A:B,2,FALSE)","v":"feb"},{"$f":"IFERROR(IF(ISBLANK('Zoeken in Database'!$D$3),\"x\",IF(SEARCH('Zoeken in Database'!$D$3,Concerten!A365,1),\"x\",\"\")),\"\")","v":"x"},{"$f":"IFERROR(IF(ISBLANK('Zoeken in Database'!$D$4),\"x\",IF(SEARCH('Zoeken in Database'!$D$4,Concerten!B365,1),\"x\",\"\")),\"\")","v":"x"},{"$f":"IFERROR(IF(ISBLANK('Zoeken in Database'!$D$5),\"x\",IF(SEARCH('Zoeken in Database'!$D$5,Concerten!C365,1),\"x\",\"\")),\"\")","v":"x"},{"$f":"IFERROR(IF(ISBLANK('Zoeken in Database'!$D$6),\"x\",IF(SEARCH('Zoeken in Database'!$D$6,Concerten!G365,1),\"x\",\"\")),\"\")","v":"x"},{"$f":"IF(AND(D365>='Zoeken in Database'!$A$7,'Zoeken in Database'!$A$8>=D365),\"x\",\"\")","v":"x"}]
["Spinvis","Ekko","Utrecht","2005-02-25",null,"Try Out: Lotus Europa","Hoofdprogramma",2,2005,{"$f":"VLOOKUP(Table1[[#This Row],[Maand (getal)]],Lijst!A:B,2,FALSE)","v":"feb"},{"$f":"IFERROR(IF(ISBLANK('Zoeken in Database'!$D$3),\"x\",IF(SEARCH('Zoeken in Database'!$D$3,Concerten!A366,1),\"x\",\"\")),\"\")","v":"x"},{"$f":"IFERROR(IF(ISBLANK('Zoeken in Database'!$D$4),\"x\",IF(SEARCH('Zoeken in Database'!$D$4,Concerten!B366,1),\"x\",\"\")),\"\")","v":"x"},{"$f":"IFERROR(IF(ISBLANK('Zoeken in Database'!$D$5),\"x\",IF(SEARCH('Zoeken in Database'!$D$5,Concerten!C366,1),\"x\",\"\")),\"\")","v":"x"},{"$f":"IFERROR(IF(ISBLANK('Zoeken in Database'!$D$6),\"x\",IF(SEARCH('Zoeken in Database'!$D$6,Concerten!G366,1),\"x\",\"\")),\"\")","v":"x"},{"$f":"IF(AND(D366>='Zoeken in Database'!$A$7,'Zoeken in Database'!$A$8>=D366),\"x\",\"\")","v":"x"}]
["Acda en de Munnik","Stadsschouwburg Nijmegen","Nijmegen","2005-03-11",null,"Ren Lenny Ren","Theater",3,2005,{"$f":"VLOOKUP(Table1[[#This Row],[Maand (getal)]],Lijst!A:B,2,FALSE)","v":"mrt"},{"$f":"IFERROR(IF(ISBLANK('Zoeken in Database'!$D$3),\"x\",IF(SEARCH('Zoeken in Database'!$D$3,Concerten!A367,1),\"x\",\"\")),\"\")","v":"x"},{"$f":"IFERROR(IF(ISBLANK('Zoeken in Database'!$D$4),\"x\",IF(SEARCH('Zoeken in Database'!$D$4,Concerten!B367,1),\"x\",\"\")),\"\")","v":"x"},{"$f":"IFERROR(IF(ISBLANK('Zoeken in Database'!$D$5),\"x\",IF(SEARCH('Zoeken in Database'!$D$5,Concerten!C367,1),\"x\",\"\")),\"\")","v":"x"},{"$f":"IFERROR(IF(ISBLANK('Zoeken in Database'!$D$6),\"x\",IF(SEARCH('Zoeken in Database'!$D$6,Concerten!G367,1),\"x\",\"\")),\"\")","v":"x"},{"$f":"IF(AND(D367>='Zoeken in Database'!$A$7,'Zoeken in Database'!$A$8>=D367),\"x\",\"\")","v":"x"}]
["Solitus","Box","Boxmeer","2005-03-19",null,"bandConnection fest 6","Festivaloptreden",3,2005,{"$f":"VLOOKUP(Table1[[#This Row],[Maand (getal)]],Lijst!A:B,2,FALSE)","v":"mrt"},{"$f":"IFERROR(IF(ISBLANK('Zoeken in Database'!$D$3),\"x\",IF(SEARCH('Zoeken in Database'!$D$3,Concerten!A368,1),\"x\",\"\")),\"\")","v":"x"},{"$f":"IFERROR(IF(ISBLANK('Zoeken in Database'!$D$4),\"x\",IF(SEARCH('Zoeken in Database'!$D$4,Concerten!B368,1),\"x\",\"\")),\"\")","v":"x"},{"$f":"IFERROR(IF(ISBLANK('Zoeken in Database'!$D$5),\"x\",IF(SEARCH('Zoeken in Database'!$D$5,Concerten!C368,1),\"x\",\"\")),\"\")","v":"x"},{"$f":"IFERROR(IF(ISBLANK('Zoeken in Database'!$D$6),\"x\",IF(SEARCH('Zoeken in Database'!$D$6,Concerten!G368,1),\"x\",\"\")),\"\")","v":"x"},{"$f":"IF(AND(D368>='Zoeken in Database'!$A$7,'Zoeken in Database'!$A$8>=D368),\"x\",\"\")","v":"x"}]
["2nd Place Driver","Doornroosje","Nijmegen","2005-03-31",null,null,"Voorprogramma",3,2005,{"$f":"VLOOKUP(Table1[[#This Row],[Maand (getal)]],Lijst!A:B,2,FALSE)","v":"mrt"},{"$f":"IFERROR(IF(ISBLANK('Zoeken in Database'!$D$3),\"x\",IF(SEARCH('Zoeken in Database'!$D$3,Concerten!A369,1),\"x\",\"\")),\"\")","v":"x"},{"$f":"IFERROR(IF(ISBLANK('Zoeken in Database'!$D$4),\"x\",IF(SEARCH('Zoeken in Database'!$D$4,Concerten!B369,1),\"x\",\"\")),\"\")","v":"x"},{"$f":"IFERROR(IF(ISBLANK('Zoeken in Database'!$D$5),\"x\",IF(SEARCH('Zoeken in Database'!$D$5,Concerten!C369,1),\"x\",\"\")),\"\")","v":"x"},{"$f":"IFERROR(IF(ISBLANK('Zoeken in Database'!$D$6),\"x\",IF(SEARCH('Zoeken in Database'!$D$6,Concerten!G369,1),\"x\",\"\")),\"\")","v":"x"},{"$f":"IF(AND(D369>='Zoeken in Database'!$A$7,'Zoeken in Database'!$A$8>=D369),\"x\",\"\")","v":"x"}]
["Racoon","Doornroosje","Nijmegen","2005-03-31","01. Hilarious\n02. Kingsize\n03. Autumn Tunes\n04. Smoothly\n05. Laugh About It\n06. Hero's In Town\n07. Feel Like Flying\n08. Happy Family\n09. Love You More\n10. World Without Worries\n11. If You Know What I Mean\n12. Walk Away\n13. Lose Another Day\n14. Eric's Bar\n15. Icecream Time\n16 Blue Days\n------------\n17. Rapid Eye Movement\n18. Video Killed The Radiostar\n",null,"Hoofdprogramma",3,2005,{"$f":"VLOOKUP(Table1[[#This Row],[Maand (getal)]],Lijst!A:B,2,FALSE)","v":"mrt"},{"$f":"IFERROR(IF(ISBLANK('Zoeken in Database'!$D$3),\"x\",IF(SEARCH('Zoeken in Database'!$D$3,Concerten!A370,1),\"x\",\"\")),\"\")","v":"x"},{"$f":"IFERROR(IF(ISBLANK('Zoeken in Database'!$D$4),\"x\",IF(SEARCH('Zoeken in Database'!$D$4,Concerten!B370,1),\"x\",\"\")),\"\")","v":"x"},{"$f":"IFERROR(IF(ISBLANK('Zoeken in Database'!$D$5),\"x\",IF(SEARCH('Zoeken in Database'!$D$5,Concerten!C370,1),\"x\",\"\")),\"\")","v":"x"},{"$f":"IFERROR(IF(ISBLANK('Zoeken in Database'!$D$6),\"x\",IF(SEARCH('Zoeken in Database'!$D$6,Concerten!G370,1),\"x\",\"\")),\"\")","v":"x"},{"$f":"IF(AND(D370>='Zoeken in Database'!$A$7,'Zoeken in Database'!$A$8>=D370),\"x\",\"\")","v":"x"}]
["Schausch","Zalloon","Nijmegen","2005-04-19",null,"Nebo popronde, voorronde 3","Festivaloptreden",4,2005,{"$f":"VLOOKUP(Table1[[#This Row],[Maand (getal)]],Lijst!A:B,2,FALSE)","v":"apr"},{"$f":"IFERROR(IF(ISBLANK('Zoeken in Database'!$D$3),\"x\",IF(SEARCH('Zoeken in Database'!$D$3,Concerten!A371,1),\"x\",\"\")),\"\")","v":"x"},{"$f":"IFERROR(IF(ISBLANK('Zoeken in Database'!$D$4),\"x\",IF(SEARCH('Zoeken in Database'!$D$4,Concerten!B371,1),\"x\",\"\")),\"\")","v":"x"},{"$f":"IFERROR(IF(ISBLANK('Zoeken in Database'!$D$5),\"x\",IF(SEARCH('Zoeken in Database'!$D$5,Concerten!C371,1),\"x\",\"\")),\"\")","v":"x"},{"$f":"IFERROR(IF(ISBLANK('Zoeken in Database'!$D$6),\"x\",IF(SEARCH('Zoeken in Database'!$D$6,Concerten!G371,1),\"x\",\"\")),\"\")","v":"x"},{"$f":"IF(AND(D371>='Zoeken in Database'!$A$7,'Zoeken in Database'!$A$8>=D371),\"x\",\"\")","v":"x"}]
["Solitus","Zalloon","Nijmegen","2005-04-19",null,"Nebo popronde, voorronde 3","Festivaloptreden",4,2005,{"$f":"VLOOKUP(Table1[[#This Row],[Maand (getal)]],Lijst!A:B,2,FALSE)","v":"apr"},{"$f":"IFERROR(IF(ISBLANK('Zoeken in Database'!$D$3),\"x\",IF(SEARCH('Zoeken in Database'!$D$3,Concerten!A372,1),\"x\",\"\")),\"\")","v":"x"},{"$f":"IFERROR(IF(ISBLANK('Zoeken in Database'!$D$4),\"x\",IF(SEARCH('Zoeken in Database'!$D$4,Concerten!B372,1),\"x\",\"\")),\"\")","v":"x"},{"$f":"IFERROR(IF(ISBLANK('Zoeken in Database'!$D$5),\"x\",IF(SEARCH('Zoeken in Database'!$D$5,Concerten!C372,1),\"x\",\"\")),\"\")","v":"x"},{"$f":"IFERROR(IF(ISBLANK('Zoeken in Database'!$D$6),\"x\",IF(SEARCH('Zoeken in Database'!$D$6,Concerten!G372,1),\"x\",\"\")),\"\")","v":"x"},{"$f":"IF(AND(D372>='Zoeken in Database'!$A$7,'Zoeken in Database'!$A$8>=D372),\"x\",\"\")","v":"x"}]
["Ottesen, Janove","Doornroosje","Nijmegen","2005-04-21",null,null,"Hoofdprogramma",4,2005,{"$f":"VLOOKUP(Table1[[#This Row],[Maand (getal)]],Lijst!A:B,2,FALSE)","v":"apr"},{"$f":"IFERROR(IF(ISBLANK('Zoeken in Database'!$D$3),\"x\",IF(SEARCH('Zoeken in Database'!$D$3,Concerten!A373,1),\"x\",\"\")),\"\")","v":"x"},{"$f":"IFERROR(IF(ISBLANK('Zoeken in Database'!$D$4),\"x\",IF(SEARCH('Zoeken in Database'!$D$4,Concerten!B373,1),\"x\",\"\")),\"\")","v":"x"},{"$f":"IFERROR(IF(ISBLANK('Zoeken in Database'!$D$5),\"x\",IF(SEARCH('Zoeken in Database'!$D$5,Concerten!C373,1),\"x\",\"\")),\"\")","v":"x"},{"$f":"IFERROR(IF(ISBLANK('Zoeken in Database'!$D$6),\"x\",IF(SEARCH('Zoeken in Database'!$D$6,Concerten!G373,1),\"x\",\"\")),\"\")","v":"x"},{"$f":"IF(AND(D373>='Zoeken in Database'!$A$7,'Zoeken in Database'!$A$8>=D373),\"x\",\"\")","v":"x"}]
["Real Ones, The","Doornroosje","Nijmegen","2005-04-21",null,null,"Voorprogramma",4,2005,{"$f":"VLOOKUP(Table1[[#This Row],[Maand (getal)]],Lijst!A:B,2,FALSE)","v":"apr"},{"$f":"IFERROR(IF(ISBLANK('Zoeken in Database'!$D$3),\"x\",IF(SEARCH('Zoeken in Database'!$D$3,Concerten!A374,1),\"x\",\"\")),\"\")","v":"x"},{"$f":"IFERROR(IF(ISBLANK('Zoeken in Database'!$D$4),\"x\",IF(SEARCH('Zoeken in Database'!$D$4,Concerten!B374,1),\"x\",\"\")),\"\")","v":"x"},{"$f":"IFERROR(IF(ISBLANK('Zoeken in Database'!$D$5),\"x\",IF(SEARCH('Zoeken in Database'!$D$5,Concerten!C374,1),\"x\",\"\")),\"\")","v":"x"},{"$f":"IFERROR(IF(ISBLANK('Zoeken in Database'!$D$6),\"x\",IF(SEARCH('Zoeken in Database'!$D$6,Concerten!G374,1),\"x\",\"\")),\"\")","v":"x"},{"$f":"IF(AND(D374>='Zoeken in Database'!$A$7,'Zoeken in Database'!$A$8>=D374),\"x\",\"\")","v":"x"}]
["Black Bud","Paradiso","Amsterdam","2005-04-30",null,"London Calling 2005 Bovenzaal","Festivaloptreden",4,2005,{"$f":"VLOOKUP(Table1[[#This Row],[Maand (getal)]],Lijst!A:B,2,FALSE)","v":"apr"},{"$f":"IFERROR(IF(ISBLANK('Zoeken in Database'!$D$3),\"x\",IF(SEARCH('Zoeken in Database'!$D$3,Concerten!A375,1),\"x\",\"\")),\"\")","v":"x"},{"$f":"IFERROR(IF(ISBLANK('Zoeken in Database'!$D$4),\"x\",IF(SEARCH('Zoeken in Database'!$D$4,Concerten!B375,1),\"x\",\"\")),\"\")","v":"x"},{"$f":"IFERROR(IF(ISBLANK('Zoeken in Database'!$D$5),\"x\",IF(SEARCH('Zoeken in Database'!$D$5,Concerten!C375,1),\"x\",\"\")),\"\")","v":"x"},{"$f":"IFERROR(IF(ISBLANK('Zoeken in Database'!$D$6),\"x\",IF(SEARCH('Zoeken in Database'!$D$6,Concerten!G375,1),\"x\",\"\")),\"\")","v":"x"},{"$f":"IF(AND(D375>='Zoeken in Database'!$A$7,'Zoeken in Database'!$A$8>=D375),\"x\",\"\")","v":"x"}]
["Chalets, The","Paradiso","Amsterdam","2005-04-30",null,"London Calling 2005 Buitenpodium","Festivaloptreden",4,2005,{"$f":"VLOOKUP(Table1[[#This Row],[Maand (getal)]],Lijst!A:B,2,FALSE)","v":"apr"},{"$f":"IFERROR(IF(ISBLANK('Zoeken in Database'!$D$3),\"x\",IF(SEARCH('Zoeken in Database'!$D$3,Concerten!A376,1),\"x\",\"\")),\"\")","v":"x"},{"$f":"IFERROR(IF(ISBLANK('Zoeken in Database'!$D$4),\"x\",IF(SEARCH('Zoeken in Database'!$D$4,Concerten!B376,1),\"x\",\"\")),\"\")","v":"x"},{"$f":"IFERROR(IF(ISBLANK('Zoeken in Database'!$D$5),\"x\",IF(SEARCH('Zoeken in Database'!$D$5,Concerten!C376,1),\"x\",\"\")),\"\")","v":"x"},{"$f":"IFERROR(IF(ISBLANK('Zoeken in Database'!$D$6),\"x\",IF(SEARCH('Zoeken in Database'!$D$6,Concerten!G376,1),\"x\",\"\")),\"\")","v":"x"},{"$f":"IF(AND(D376>='Zoeken in Database'!$A$7,'Zoeken in Database'!$A$8>=D376),\"x\",\"\")","v":"x"}]
["Cribs, The","Paradiso","Amsterdam","2005-04-30",null,"London Calling 2005 Buitenpodium","Festivaloptreden",4,2005,{"$f":"VLOOKUP(Table1[[#This Row],[Maand (getal)]],Lijst!A:B,2,FALSE)","v":"apr"},{"$f":"IFERROR(IF(ISBLANK('Zoeken in Database'!$D$3),\"x\",IF(SEARCH('Zoeken in Database'!$D$3,Concerten!A377,1),\"x\",\"\")),\"\")","v":"x"},{"$f":"IFERROR(IF(ISBLANK('Zoeken in Database'!$D$4),\"x\",IF(SEARCH('Zoeken in Database'!$D$4,Concerten!B377,1),\"x\",\"\")),\"\")","v":"x"},{"$f":"IFERROR(IF(ISBLANK('Zoeken in Database'!$D$5),\"x\",IF(SEARCH('Zoeken in Database'!$D$5,Concerten!C377,1),\"x\",\"\")),\"\")","v":"x"},{"$f":"IFERROR(IF(ISBLANK('Zoeken in Database'!$D$6),\"x\",IF(SEARCH('Zoeken in Database'!$D$6,Concerten!G377,1),\"x\",\"\")),\"\")","v":"x"},{"$f":"IF(AND(D377>='Zoeken in Database'!$A$7,'Zoeken in Database'!$A$8>=D377),\"x\",\"\")","v":"x"}]
["Do Me Bad Things","Paradiso","Amsterdam","2005-04-30",null,"London Calling 2005 Buitenpodium","Festivaloptreden",4,2005,{"$f":"VLOOKUP(Table1[[#This Row],[Maand (getal)]],Lijst!A:B,2,FALSE)","v":"apr"},{"$f":"IFERROR(IF(ISBLANK('Zoeken in Database'!$D$3),\"x\",IF(SEARCH('Zoeken in Database'!$D$3,Concerten!A378,1),\"x\",\"\")),\"\")","v":"x"},{"$f":"IFERROR(IF(ISBLANK('Zoeken in Database'!$D$4),\"x\",IF(SEARCH('Zoeken in Database'!$D$4,Concerten!B378,1),\"x\",\"\")),\"\")","v":"x"},{"$f":"IFERROR(IF(ISBLANK('Zoeken in Database'!$D$5),\"x\",IF(SEARCH('Zoeken in Database'!$D$5,Concerten!C378,1),\"x\",\"\")),\"\")","v":"x"},{"$f":"IFERROR(IF(ISBLANK('Zoeken in Database'!$D$6),\"x\",IF(SEARCH('Zoeken in Database'!$D$6,Concerten!G378,1),\"x\",\"\")),\"\")","v":"x"},{"$f":"IF(AND(D378>='Zoeken in Database'!$A$7,'Zoeken in Database'!$A$8>=D378),\"x\",\"\")","v":"x"}]
["Eastern Lane","Paradiso","Amsterdam","2005-04-30",null,"London Calling 2005 Buitenpodium","Festivaloptreden",4,2005,{"$f":"VLOOKUP(Table1[[#This Row],[Maand (getal)]],Lijst!A:B,2,FALSE)","v":"apr"},{"$f":"IFERROR(IF(ISBLANK('Zoeken in Database'!$D$3),\"x\",IF(SEARCH('Zoeken in Database'!$D$3,Concerten!A379,1),\"x\",\"\")),\"\")","v":"x"},{"$f":"IFERROR(IF(ISBLANK('Zoeken in Database'!$D$4),\"x\",IF(SEARCH('Zoeken in Database'!$D$4,Concerten!B379,1),\"x\",\"\")),\"\")","v":"x"},{"$f":"IFERROR(IF(ISBLANK('Zoeken in Database'!$D$5),\"x\",IF(SEARCH('Zoeken in Database'!$D$5,Concerten!C379,1),\"x\",\"\")),\"\")","v":"x"},{"$f":"IFERROR(IF(ISBLANK('Zoeken in Database'!$D$6),\"x\",IF(SEARCH('Zoeken in Database'!$D$6,Concerten!G379,1),\"x\",\"\")),\"\")","v":"x"},{"$f":"IF(AND(D379>='Zoeken in Database'!$A$7,'Zoeken in Database'!$A$8>=D379),\"x\",\"\")","v":"x"}]
["Help She Can't Swim","Paradiso","Amsterdam","2005-04-30",null,"London Calling 2005 Buitenpodium","Festivaloptreden",4,2005,{"$f":"VLOOKUP(Table1[[#This Row],[Maand (getal)]],Lijst!A:B,2,FALSE)","v":"apr"},{"$f":"IFERROR(IF(ISBLANK('Zoeken in Database'!$D$3),\"x\",IF(SEARCH('Zoeken in Database'!$D$3,Concerten!A380,1),\"x\",\"\")),\"\")","v":"x"},{"$f":"IFERROR(IF(ISBLANK('Zoeken in Database'!$D$4),\"x\",IF(SEARCH('Zoeken in Database'!$D$4,Concerten!B380,1),\"x\",\"\")),\"\")","v":"x"},{"$f":"IFERROR(IF(ISBLANK('Zoeken in Database'!$D$5),\"x\",IF(SEARCH('Zoeken in Database'!$D$5,Concerten!C380,1),\"x\",\"\")),\"\")","v":"x"},{"$f":"IFERROR(IF(ISBLANK('Zoeken in Database'!$D$6),\"x\",IF(SEARCH('Zoeken in Database'!$D$6,Concerten!G380,1),\"x\",\"\")),\"\")","v":"x"},{"$f":"IF(AND(D380>='Zoeken in Database'!$A$7,'Zoeken in Database'!$A$8>=D380),\"x\",\"\")","v":"x"}]
["Help She Can't Swim","Paradiso","Amsterdam","2005-04-30",null,"London Calling 2005 Bovenzaal","Festivaloptreden",4,2005,{"$f":"VLOOKUP(Table1[[#This Row],[Maand (getal)]],Lijst!A:B,2,FALSE)","v":"apr"},{"$f":"IFERROR(IF(ISBLANK('Zoeken in Database'!$D$3),\"x\",IF(SEARCH('Zoeken in Database'!$D$3,Concerten!A381,1),\"x\",\"\")),\"\")","v":"x"},{"$f":"IFERROR(IF(ISBLANK('Zoeken in Database'!$D$4),\"x\",IF(SEARCH('Zoeken in Database'!$D$4,Concerten!B381,1),\"x\",\"\")),\"\")","v":"x"},{"$f":"IFERROR(IF(ISBLANK('Zoeken in Database'!$D$5),\"x\",IF(SEARCH('Zoeken in Database'!$D$5,Concerten!C381,1),\"x\",\"\")),\"\")","v":"x"},{"$f":"IFERROR(IF(ISBLANK('Zoeken in Database'!$D$6),\"x\",IF(SEARCH('Zoeken in Database'!$D$6,Concerten!G381,1),\"x\",\"\")),\"\")","v":"x"},{"$f":"IF(AND(D381>='Zoeken in Database'!$A$7,'Zoeken in Database'!$A$8>=D381),\"x\",\"\")","v":"x"}]
["New Rhodes","Paradiso","Amsterdam","2005-04-30",null,"London Calling 2005 Buitenpodium","Festivaloptreden",4,2005,{"$f":"VLOOKUP(Table1[[#This Row],[Maand (getal)]],Lijst!A:B,2,FALSE)","v":"apr"},{"$f":"IFERROR(IF(ISBLANK('Zoeken in Database'!$D$3),\"x\",IF(SEARCH('Zoeken in Database'!$D$3,Concerten!A382,1),\"x\",\"\")),\"\")","v":"x"},{"$f":"IFERROR(IF(ISBLANK('Zoeken in Database'!$D$4),\"x\",IF(SEARCH('Zoeken in Database'!$D$4,Concerten!B382,1),\"x\",\"\")),\"\")","v":"x"},{"$f":"IFERROR(IF(ISBLANK('Zoeken in Database'!$D$5),\"x\",IF(SEARCH('Zoeken in Database'!$D$5,Concerten!C382,1),\"x\",\"\")),\"\")","v":"x"},{"$f":"IFERROR(IF(ISBLANK('Zoeken in Database'!$D$6),\"x\",IF(SEARCH('Zoeken in Database'!$D$6,Concerten!G382,1),\"x\",\"\")),\"\")","v":"x"},{"$f":"IF(AND(D382>='Zoeken in Database'!$A$7,'Zoeken in Database'!$A$8>=D382),\"x\",\"\")","v":"x"}]
["Tunng","Paradiso","Amsterdam","2005-04-30",null,"London Calling 2005 Grote Zaal","Festivaloptreden",4,2005,{"$f":"VLOOKUP(Table1[[#This Row],[Maand (getal)]],Lijst!A:B,2,FALSE)","v":"apr"},{"$f":"IFERROR(IF(ISBLANK('Zoeken in Database'!$D$3),\"x\",IF(SEARCH('Zoeken in Database'!$D$3,Concerten!A383,1),\"x\",\"\")),\"\")","v":"x"},{"$f":"IFERROR(IF(ISBLANK('Zoeken in Database'!$D$4),\"x\",IF(SEARCH('Zoeken in Database'!$D$4,Concerten!B383,1),\"x\",\"\")),\"\")","v":"x"},{"$f":"IFERROR(IF(ISBLANK('Zoeken in Database'!$D$5),\"x\",IF(SEARCH('Zoeken in Database'!$D$5,Concerten!C383,1),\"x\",\"\")),\"\")","v":"x"},{"$f":"IFERROR(IF(ISBLANK('Zoeken in Database'!$D$6),\"x\",IF(SEARCH('Zoeken in Database'!$D$6,Concerten!G383,1),\"x\",\"\")),\"\")","v":"x"},{"$f":"IF(AND(D383>='Zoeken in Database'!$A$7,'Zoeken in Database'!$A$8>=D383),\"x\",\"\")","v":"x"}]
["Vek, Tom","Paradiso","Amsterdam","2005-04-30",null,"London Calling 2005 Bovenzaal","Festivaloptreden",4,2005,{"$f":"VLOOKUP(Table1[[#This Row],[Maand (getal)]],Lijst!A:B,2,FALSE)","v":"apr"},{"$f":"IFERROR(IF(ISBLANK('Zoeken in Database'!$D$3),\"x\",IF(SEARCH('Zoeken in Database'!$D$3,Concerten!A384,1),\"x\",\"\")),\"\")","v":"x"},{"$f":"IFERROR(IF(ISBLANK('Zoeken in Database'!$D$4),\"x\",IF(SEARCH('Zoeken in Database'!$D$4,Concerten!B384,1),\"x\",\"\")),\"\")","v":"x"},{"$f":"IFERROR(IF(ISBLANK('Zoeken in Database'!$D$5),\"x\",IF(SEARCH('Zoeken in Database'!$D$5,Concerten!C384,1),\"x\",\"\")),\"\")","v":"x"},{"$f":"IFERROR(IF(ISBLANK('Zoeken in Database'!$D$6),\"x\",IF(SEARCH('Zoeken in Database'!$D$6,Concerten!G384,1),\"x\",\"\")),\"\")","v":"x"},{"$f":"IF(AND(D384>='Zoeken in Database'!$A$7,'Zoeken in Database'!$A$8>=D384),\"x\",\"\")","v":"x"}]
["Colour Of Fire","Doornroosje","Nijmegen","2005-05-03",null,null,"Hoofdprogramma",5,2005,{"$f":"VLOOKUP(Table1[[#This Row],[Maand (getal)]],Lijst!A:B,2,FALSE)","v":"mei"},{"$f":"IFERROR(IF(ISBLANK('Zoeken in Database'!$D$3),\"x\",IF(SEARCH('Zoeken in Database'!$D$3,Concerten!A385,1),\"x\",\"\")),\"\")","v":"x"},{"$f":"IFERROR(IF(ISBLANK('Zoeken in Database'!$D$4),\"x\",IF(SEARCH('Zoeken in Database'!$D$4,Concerten!B385,1),\"x\",\"\")),\"\")","v":"x"},{"$f":"IFERROR(IF(ISBLANK('Zoeken in Database'!$D$5),\"x\",IF(SEARCH('Zoeken in Database'!$D$5,Concerten!C385,1),\"x\",\"\")),\"\")","v":"x"},{"$f":"IFERROR(IF(ISBLANK('Zoeken in Database'!$D$6),\"x\",IF(SEARCH('Zoeken in Database'!$D$6,Concerten!G385,1),\"x\",\"\")),\"\")","v":"x"},{"$f":"IF(AND(D385>='Zoeken in Database'!$A$7,'Zoeken in Database'!$A$8>=D385),\"x\",\"\")","v":"x"}]
["Skip The Rush","Doornroosje","Nijmegen","2005-05-03",null,null,"Voorprogramma",5,2005,{"$f":"VLOOKUP(Table1[[#This Row],[Maand (getal)]],Lijst!A:B,2,FALSE)","v":"mei"},{"$f":"IFERROR(IF(ISBLANK('Zoeken in Database'!$D$3),\"x\",IF(SEARCH('Zoeken in Database'!$D$3,Concerten!A386,1),\"x\",\"\")),\"\")","v":"x"},{"$f":"IFERROR(IF(ISBLANK('Zoeken in Database'!$D$4),\"x\",IF(SEARCH('Zoeken in Database'!$D$4,Concerten!B386,1),\"x\",\"\")),\"\")","v":"x"},{"$f":"IFERROR(IF(ISBLANK('Zoeken in Database'!$D$5),\"x\",IF(SEARCH('Zoeken in Database'!$D$5,Concerten!C386,1),\"x\",\"\")),\"\")","v":"x"},{"$f":"IFERROR(IF(ISBLANK('Zoeken in Database'!$D$6),\"x\",IF(SEARCH('Zoeken in Database'!$D$6,Concerten!G386,1),\"x\",\"\")),\"\")","v":"x"},{"$f":"IF(AND(D386>='Zoeken in Database'!$A$7,'Zoeken in Database'!$A$8>=D386),\"x\",\"\")","v":"x"}]
["Eels","MC Vredenburg","Utrecht","2005-05-30","Going To Your Funeral Pt.2\nDust Of Ages\nIn The Yard, Behind the Church \nBride Of Theme From Blinking Lights \nFrom Which I Came/ A Magic World \nSon of a Bitch \nBlinking Lights (For Me) \nDirty Girl \nMy Beloved Monster \nThe Only Thing I Care About \nBus Stop Boxer \nPretty Ballerina \nI Like Birds \nI Need Some Sleep \nWooden Nickels\nRailroad Man \nTrouble With Dreams \nPoor Side Of Town \nDaisies Of The Galaxy \nI'm Going to Stop Pretending I Didn't Break Your Heart \nDead of Winter \nDog-Faced Boy \nLosing Streak \nThe Stars Shine in the Sky Tonight \nSouljacker Pt.2\n-------------------------------------\nHey Man (Now You're Really Living) \nFlyswatter \n-------------------------------------\nGrace Kelly Blues \nThings the Grandchildren Should Know (incl. Theme From Blinking Lights)\n-------------------------------------\nIt's A Motherfucker\n3 Speed\nLivin' Life\n-------------------------------------\nI Could Never Take the Place of Your Man\n\n","Eels With Strings","Hoofdprogramma",{"$f":"IF(ISBLANK(D387),\"\",MONTH(D387))","v":5},{"$f":"IF(ISBLANK(D387),\"\",YEAR(D387))","v":2005},{"$f":"VLOOKUP(Table1[[#This Row],[Maand (getal)]],Lijst!A:B,2,FALSE)","v":"mei"},{"$f":"IFERROR(IF(ISBLANK('Zoeken in Database'!$D$3),\"x\",IF(SEARCH('Zoeken in Database'!$D$3,Concerten!A387,1),\"x\",\"\")),\"\")","v":"x"},{"$f":"IFERROR(IF(ISBLANK('Zoeken in Database'!$D$4),\"x\",IF(SEARCH('Zoeken in Database'!$D$4,Concerten!B387,1),\"x\",\"\")),\"\")","v":"x"},{"$f":"IFERROR(IF(ISBLANK('Zoeken in Database'!$D$5),\"x\",IF(SEARCH('Zoeken in Database'!$D$5,Concerten!C387,1),\"x\",\"\")),\"\")","v":"x"},{"$f":"IFERROR(IF(ISBLANK('Zoeken in Database'!$D$6),\"x\",IF(SEARCH('Zoeken in Database'!$D$6,Concerten!G387,1),\"x\",\"\")),\"\")","v":"x"},{"$f":"IF(AND(D387>='Zoeken in Database'!$A$7,'Zoeken in Database'!$A$8>=D387),\"x\",\"\")","v":"x"}]
["Di-Rect","Feest Aan De Rijn 2005","Arnhem","2005-06-05",null,null,"Festivaloptreden",6,2005,{"$f":"VLOOKUP(Table1[[#This Row],[Maand (getal)]],Lijst!A:B,2,FALSE)","v":"jun"},{"$f":"IFERROR(IF(ISBLANK('Zoeken in Database'!$D$3),\"x\",IF(SEARCH('Zoeken in Database'!$D$3,Concerten!A388,1),\"x\",\"\")),\"\")","v":"x"},{"$f":"IFERROR(IF(ISBLANK('Zoeken in Database'!$D$4),\"x\",IF(SEARCH('Zoeken in Database'!$D$4,Concerten!B388,1),\"x\",\"\")),\"\")","v":"x"},{"$f":"IFERROR(IF(ISBLANK('Zoeken in Database'!$D$5),\"x\",IF(SEARCH('Zoeken in Database'!$D$5,Concerten!C388,1),\"x\",\"\")),\"\")","v":"x"},{"$f":"IFERROR(IF(ISBLANK('Zoeken in Database'!$D$6),\"x\",IF(SEARCH('Zoeken in Database'!$D$6,Concerten!G388,1),\"x\",\"\")),\"\")","v":"x"},{"$f":"IF(AND(D388>='Zoeken in Database'!$A$7,'Zoeken in Database'!$A$8>=D388),\"x\",\"\")","v":"x"}]
["Enge Buren","Feest Aan De Rijn 2005","Arnhem","2005-06-05",null,null,"Festivaloptreden",6,2005,{"$f":"VLOOKUP(Table1[[#This Row],[Maand (getal)]],Lijst!A:B,2,FALSE)","v":"jun"},{"$f":"IFERROR(IF(ISBLANK('Zoeken in Database'!$D$3),\"x\",IF(SEARCH('Zoeken in Database'!$D$3,Concerten!A389,1),\"x\",\"\")),\"\")","v":"x"},{"$f":"IFERROR(IF(ISBLANK('Zoeken in Database'!$D$4),\"x\",IF(SEARCH('Zoeken in Database'!$D$4,Concerten!B389,1),\"x\",\"\")),\"\")","v":"x"},{"$f":"IFERROR(IF(ISBLANK('Zoeken in Database'!$D$5),\"x\",IF(SEARCH('Zoeken in Database'!$D$5,Concerten!C389,1),\"x\",\"\")),\"\")","v":"x"},{"$f":"IFERROR(IF(ISBLANK('Zoeken in Database'!$D$6),\"x\",IF(SEARCH('Zoeken in Database'!$D$6,Concerten!G389,1),\"x\",\"\")),\"\")","v":"x"},{"$f":"IF(AND(D389>='Zoeken in Database'!$A$7,'Zoeken in Database'!$A$8>=D389),\"x\",\"\")","v":"x"}]
["Meeuwis, Guus","Feest Aan De Rijn 2005","Arnhem","2005-06-05",null,null,"Festivaloptreden",6,2005,{"$f":"VLOOKUP(Table1[[#This Row],[Maand (getal)]],Lijst!A:B,2,FALSE)","v":"jun"},{"$f":"IFERROR(IF(ISBLANK('Zoeken in Database'!$D$3),\"x\",IF(SEARCH('Zoeken in Database'!$D$3,Concerten!A390,1),\"x\",\"\")),\"\")","v":"x"},{"$f":"IFERROR(IF(ISBLANK('Zoeken in Database'!$D$4),\"x\",IF(SEARCH('Zoeken in Database'!$D$4,Concerten!B390,1),\"x\",\"\")),\"\")","v":"x"},{"$f":"IFERROR(IF(ISBLANK('Zoeken in Database'!$D$5),\"x\",IF(SEARCH('Zoeken in Database'!$D$5,Concerten!C390,1),\"x\",\"\")),\"\")","v":"x"},{"$f":"IFERROR(IF(ISBLANK('Zoeken in Database'!$D$6),\"x\",IF(SEARCH('Zoeken in Database'!$D$6,Concerten!G390,1),\"x\",\"\")),\"\")","v":"x"},{"$f":"IF(AND(D390>='Zoeken in Database'!$A$7,'Zoeken in Database'!$A$8>=D390),\"x\",\"\")","v":"x"}]
["Zingende Fresia's, De","Feest Aan De Rijn 2005","Arnhem","2005-06-05",null,null,"Festivaloptreden",6,2005,{"$f":"VLOOKUP(Table1[[#This Row],[Maand (getal)]],Lijst!A:B,2,FALSE)","v":"jun"},{"$f":"IFERROR(IF(ISBLANK('Zoeken in Database'!$D$3),\"x\",IF(SEARCH('Zoeken in Database'!$D$3,Concerten!A391,1),\"x\",\"\")),\"\")","v":"x"},{"$f":"IFERROR(IF(ISBLANK('Zoeken in Database'!$D$4),\"x\",IF(SEARCH('Zoeken in Database'!$D$4,Concerten!B391,1),\"x\",\"\")),\"\")","v":"x"},{"$f":"IFERROR(IF(ISBLANK('Zoeken in Database'!$D$5),\"x\",IF(SEARCH('Zoeken in Database'!$D$5,Concerten!C391,1),\"x\",\"\")),\"\")","v":"x"},{"$f":"IFERROR(IF(ISBLANK('Zoeken in Database'!$D$6),\"x\",IF(SEARCH('Zoeken in Database'!$D$6,Concerten!G391,1),\"x\",\"\")),\"\")","v":"x"},{"$f":"IF(AND(D391>='Zoeken in Database'!$A$7,'Zoeken in Database'!$A$8>=D391),\"x\",\"\")","v":"x"}]
["Solitus","Grotestraat","Cuijk","2005-06-12",null,"Cuijk Collision","Hoofdprogramma",6,2005,{"$f":"VLOOKUP(Table1[[#This Row],[Maand (getal)]],Lijst!A:B,2,FALSE)","v":"jun"},{"$f":"IFERROR(IF(ISBLANK('Zoeken in Database'!$D$3),\"x\",IF(SEARCH('Zoeken in Database'!$D$3,Concerten!A392,1),\"x\",\"\")),\"\")","v":"x"},{"$f":"IFERROR(IF(ISBLANK('Zoeken in Database'!$D$4),\"x\",IF(SEARCH('Zoeken in Database'!$D$4,Concerten!B392,1),\"x\",\"\")),\"\")","v":"x"},{"$f":"IFERROR(IF(ISBLANK('Zoeken in Database'!$D$5),\"x\",IF(SEARCH('Zoeken in Database'!$D$5,Concerten!C392,1),\"x\",\"\")),\"\")","v":"x"},{"$f":"IFERROR(IF(ISBLANK('Zoeken in Database'!$D$6),\"x\",IF(SEARCH('Zoeken in Database'!$D$6,Concerten!G392,1),\"x\",\"\")),\"\")","v":"x"},{"$f":"IF(AND(D392>='Zoeken in Database'!$A$7,'Zoeken in Database'!$A$8>=D392),\"x\",\"\")","v":"x"}]
["Blues Brother Castro","Op De Toffel 2005","Vierlingsbeek","2005-06-19",null,"Andere Podium","Festivaloptreden",6,2005,{"$f":"VLOOKUP(Table1[[#This Row],[Maand (getal)]],Lijst!A:B,2,FALSE)","v":"jun"},{"$f":"IFERROR(IF(ISBLANK('Zoeken in Database'!$D$3),\"x\",IF(SEARCH('Zoeken in Database'!$D$3,Concerten!A393,1),\"x\",\"\")),\"\")","v":"x"},{"$f":"IFERROR(IF(ISBLANK('Zoeken in Database'!$D$4),\"x\",IF(SEARCH('Zoeken in Database'!$D$4,Concerten!B393,1),\"x\",\"\")),\"\")","v":"x"},{"$f":"IFERROR(IF(ISBLANK('Zoeken in Database'!$D$5),\"x\",IF(SEARCH('Zoeken in Database'!$D$5,Concerten!C393,1),\"x\",\"\")),\"\")","v":"x"},{"$f":"IFERROR(IF(ISBLANK('Zoeken in Database'!$D$6),\"x\",IF(SEARCH('Zoeken in Database'!$D$6,Concerten!G393,1),\"x\",\"\")),\"\")","v":"x"},{"$f":"IF(AND(D393>='Zoeken in Database'!$A$7,'Zoeken in Database'!$A$8>=D393),\"x\",\"\")","v":"x"}]
["Face Tomorrow","Op De Toffel 2005","Vierlingsbeek","2005-06-19",null,"Hoofdpodium","Festivaloptreden",6,2005,{"$f":"VLOOKUP(Table1[[#This Row],[Maand (getal)]],Lijst!A:B,2,FALSE)","v":"jun"},{"$f":"IFERROR(IF(ISBLANK('Zoeken in Database'!$D$3),\"x\",IF(SEARCH('Zoeken in Database'!$D$3,Concerten!A394,1),\"x\",\"\")),\"\")","v":"x"},{"$f":"IFERROR(IF(ISBLANK('Zoeken in Database'!$D$4),\"x\",IF(SEARCH('Zoeken in Database'!$D$4,Concerten!B394,1),\"x\",\"\")),\"\")","v":"x"},{"$f":"IFERROR(IF(ISBLANK('Zoeken in Database'!$D$5),\"x\",IF(SEARCH('Zoeken in Database'!$D$5,Concerten!C394,1),\"x\",\"\")),\"\")","v":"x"},{"$f":"IFERROR(IF(ISBLANK('Zoeken in Database'!$D$6),\"x\",IF(SEARCH('Zoeken in Database'!$D$6,Concerten!G394,1),\"x\",\"\")),\"\")","v":"x"},{"$f":"IF(AND(D394>='Zoeken in Database'!$A$7,'Zoeken in Database'!$A$8>=D394),\"x\",\"\")","v":"x"}]
["Janez Detd","Op De Toffel 2005","Vierlingsbeek","2005-06-19",null,"Hoofdpodium","Festivaloptreden",6,2005,{"$f":"VLOOKUP(Table1[[#This Row],[Maand (getal)]],Lijst!A:B,2,FALSE)","v":"jun"},{"$f":"IFERROR(IF(ISBLANK('Zoeken in Database'!$D$3),\"x\",IF(SEARCH('Zoeken in Database'!$D$3,Concerten!A395,1),\"x\",\"\")),\"\")","v":"x"},{"$f":"IFERROR(IF(ISBLANK('Zoeken in Database'!$D$4),\"x\",IF(SEARCH('Zoeken in Database'!$D$4,Concerten!B395,1),\"x\",\"\")),\"\")","v":"x"},{"$f":"IFERROR(IF(ISBLANK('Zoeken in Database'!$D$5),\"x\",IF(SEARCH('Zoeken in Database'!$D$5,Concerten!C395,1),\"x\",\"\")),\"\")","v":"x"},{"$f":"IFERROR(IF(ISBLANK('Zoeken in Database'!$D$6),\"x\",IF(SEARCH('Zoeken in Database'!$D$6,Concerten!G395,1),\"x\",\"\")),\"\")","v":"x"},{"$f":"IF(AND(D395>='Zoeken in Database'!$A$7,'Zoeken in Database'!$A$8>=D395),\"x\",\"\")","v":"x"}]
["Racoon","Op De Toffel 2005","Vierlingsbeek","2005-06-19",null,"Hoofdpodium","Festivaloptreden",6,2005,{"$f":"VLOOKUP(Table1[[#This Row],[Maand (getal)]],Lijst!A:B,2,FALSE)","v":"jun"},{"$f":"IFERROR(IF(ISBLANK('Zoeken in Database'!$D$3),\"x\",IF(SEARCH('Zoeken in Database'!$D$3,Concerten!A396,1),\"x\",\"\")),\"\")","v":"x"},{"$f":"IFERROR(IF(ISBLANK('Zoeken in Database'!$D$4),\"x\",IF(SEARCH('Zoeken in Database'!$D$4,Concerten!B396,1),\"x\",\"\")),\"\")","v":"x"},{"$f":"IFERROR(IF(ISBLANK('Zoeken in Database'!$D$5),\"x\",IF(SEARCH('Zoeken in Database'!$D$5,Concerten!C396,1),\"x\",\"\")),\"\")","v":"x"},{"$f":"IFERROR(IF(ISBLANK('Zoeken in Database'!$D$6),\"x\",IF(SEARCH('Zoeken in Database'!$D$6,Concerten!G396,1),\"x\",\"\")),\"\")","v":"x"},{"$f":"IF(AND(D396>='Zoeken in Database'!$A$7,'Zoeken in Database'!$A$8>=D396),\"x\",\"\")","v":"x"}]
["Rude Rich And The High Notes","Op De Toffel 2005","Vierlingsbeek","2005-06-19",null,"Hoofdpodium","Festivaloptreden",6,2005,{"$f":"VLOOKUP(Table1[[#This Row],[Maand (getal)]],Lijst!A:B,2,FALSE)","v":"jun"},{"$f":"IFERROR(IF(ISBLANK('Zoeken in Database'!$D$3),\"x\",IF(SEARCH('Zoeken in Database'!$D$3,Concerten!A397,1),\"x\",\"\")),\"\")","v":"x"},{"$f":"IFERROR(IF(ISBLANK('Zoeken in Database'!$D$4),\"x\",IF(SEARCH('Zoeken in Database'!$D$4,Concerten!B397,1),\"x\",\"\")),\"\")","v":"x"},{"$f":"IFERROR(IF(ISBLANK('Zoeken in Database'!$D$5),\"x\",IF(SEARCH('Zoeken in Database'!$D$5,Concerten!C397,1),\"x\",\"\")),\"\")","v":"x"},{"$f":"IFERROR(IF(ISBLANK('Zoeken in Database'!$D$6),\"x\",IF(SEARCH('Zoeken in Database'!$D$6,Concerten!G397,1),\"x\",\"\")),\"\")","v":"x"},{"$f":"IF(AND(D397>='Zoeken in Database'!$A$7,'Zoeken in Database'!$A$8>=D397),\"x\",\"\")","v":"x"}]
["Voicst ","Op De Toffel 2005","Vierlingsbeek","2005-06-19",null,"Andere Podium","Festivaloptreden",6,2005,{"$f":"VLOOKUP(Table1[[#This Row],[Maand (getal)]],Lijst!A:B,2,FALSE)","v":"jun"},{"$f":"IFERROR(IF(ISBLANK('Zoeken in Database'!$D$3),\"x\",IF(SEARCH('Zoeken in Database'!$D$3,Concerten!A398,1),\"x\",\"\")),\"\")","v":"x"},{"$f":"IFERROR(IF(ISBLANK('Zoeken in Database'!$D$4),\"x\",IF(SEARCH('Zoeken in Database'!$D$4,Concerten!B398,1),\"x\",\"\")),\"\")","v":"x"},{"$f":"IFERROR(IF(ISBLANK('Zoeken in Database'!$D$5),\"x\",IF(SEARCH('Zoeken in Database'!$D$5,Concerten!C398,1),\"x\",\"\")),\"\")","v":"x"},{"$f":"IFERROR(IF(ISBLANK('Zoeken in Database'!$D$6),\"x\",IF(SEARCH('Zoeken in Database'!$D$6,Concerten!G398,1),\"x\",\"\")),\"\")","v":"x"},{"$f":"IF(AND(D398>='Zoeken in Database'!$A$7,'Zoeken in Database'!$A$8>=D398),\"x\",\"\")","v":"x"}]
["Bravery, The","Rock Werchter 2005","Werchter","2005-06-30","Rites Of Spring \nOut of time \nSwollen Summer \nGive in \nTyrant \nHonest Mistake \nNo Brakes \nThe Black Cat (An Cat Dubh) (U2) \nRing song \nUnconditional \nFearless\n","Hoofdpodium","Festivaloptreden",6,2005,{"$f":"VLOOKUP(Table1[[#This Row],[Maand (getal)]],Lijst!A:B,2,FALSE)","v":"jun"},{"$f":"IFERROR(IF(ISBLANK('Zoeken in Database'!$D$3),\"x\",IF(SEARCH('Zoeken in Database'!$D$3,Concerten!A399,1),\"x\",\"\")),\"\")","v":"x"},{"$f":"IFERROR(IF(ISBLANK('Zoeken in Database'!$D$4),\"x\",IF(SEARCH('Zoeken in Database'!$D$4,Concerten!B399,1),\"x\",\"\")),\"\")","v":"x"},{"$f":"IFERROR(IF(ISBLANK('Zoeken in Database'!$D$5),\"x\",IF(SEARCH('Zoeken in Database'!$D$5,Concerten!C399,1),\"x\",\"\")),\"\")","v":"x"},{"$f":"IFERROR(IF(ISBLANK('Zoeken in Database'!$D$6),\"x\",IF(SEARCH('Zoeken in Database'!$D$6,Concerten!G399,1),\"x\",\"\")),\"\")","v":"x"},{"$f":"IF(AND(D399>='Zoeken in Database'!$A$7,'Zoeken in Database'!$A$8>=D399),\"x\",\"\")","v":"x"}]
["New Order","Rock Werchter 2005","Werchter","2005-06-30","Crystal \nRegret \nLove Vigilantes \nKrafty \nTransmission \nWaiting For The Siren's Call \nYour Silent Face \nBizarre Love Triangle \nTrue Faith \nLove Will Tear Us Apart \nTemptation \nBlue Monday \n","Hoofdpodium","Festivaloptreden",6,2005,{"$f":"VLOOKUP(Table1[[#This Row],[Maand (getal)]],Lijst!A:B,2,FALSE)","v":"jun"},{"$f":"IFERROR(IF(ISBLANK('Zoeken in Database'!$D$3),\"x\",IF(SEARCH('Zoeken in Database'!$D$3,Concerten!A400,1),\"x\",\"\")),\"\")","v":"x"},{"$f":"IFERROR(IF(ISBLANK('Zoeken in Database'!$D$4),\"x\",IF(SEARCH('Zoeken in Database'!$D$4,Concerten!B400,1),\"x\",\"\")),\"\")","v":"x"},{"$f":"IFERROR(IF(ISBLANK('Zoeken in Database'!$D$5),\"x\",IF(SEARCH('Zoeken in Database'!$D$5,Concerten!C400,1),\"x\",\"\")),\"\")","v":"x"},{"$f":"IFERROR(IF(ISBLANK('Zoeken in Database'!$D$6),\"x\",IF(SEARCH('Zoeken in Database'!$D$6,Concerten!G400,1),\"x\",\"\")),\"\")","v":"x"},{"$f":"IF(AND(D400>='Zoeken in Database'!$A$7,'Zoeken in Database'!$A$8>=D400),\"x\",\"\")","v":"x"}]
["Ozark Henry","Rock Werchter 2005","Werchter","2005-06-30","rescue \nocean \nindian summer \ninhaling \njocelyn, it's crazy \nwe ain't sixteen anymore \nintersexual \nsweet instigator \na mes oiseaux \nvespertine \nword up \nat sea \nsun is shining (Bob Marley)\n","Hoofdpodium","Festivaloptreden",6,2005,{"$f":"VLOOKUP(Table1[[#This Row],[Maand (getal)]],Lijst!A:B,2,FALSE)","v":"jun"},{"$f":"IFERROR(IF(ISBLANK('Zoeken in Database'!$D$3),\"x\",IF(SEARCH('Zoeken in Database'!$D$3,Concerten!A401,1),\"x\",\"\")),\"\")","v":"x"},{"$f":"IFERROR(IF(ISBLANK('Zoeken in Database'!$D$4),\"x\",IF(SEARCH('Zoeken in Database'!$D$4,Concerten!B401,1),\"x\",\"\")),\"\")","v":"x"},{"$f":"IFERROR(IF(ISBLANK('Zoeken in Database'!$D$5),\"x\",IF(SEARCH('Zoeken in Database'!$D$5,Concerten!C401,1),\"x\",\"\")),\"\")","v":"x"},{"$f":"IFERROR(IF(ISBLANK('Zoeken in Database'!$D$6),\"x\",IF(SEARCH('Zoeken in Database'!$D$6,Concerten!G401,1),\"x\",\"\")),\"\")","v":"x"},{"$f":"IF(AND(D401>='Zoeken in Database'!$A$7,'Zoeken in Database'!$A$8>=D401),\"x\",\"\")","v":"x"}]
["Snoop Dogg","Rock Werchter 2005","Werchter","2005-06-30",null,"Hoofdpodium","Festivaloptreden",6,2005,{"$f":"VLOOKUP(Table1[[#This Row],[Maand (getal)]],Lijst!A:B,2,FALSE)","v":"jun"},{"$f":"IFERROR(IF(ISBLANK('Zoeken in Database'!$D$3),\"x\",IF(SEARCH('Zoeken in Database'!$D$3,Concerten!A402,1),\"x\",\"\")),\"\")","v":"x"},{"$f":"IFERROR(IF(ISBLANK('Zoeken in Database'!$D$4),\"x\",IF(SEARCH('Zoeken in Database'!$D$4,Concerten!B402,1),\"x\",\"\")),\"\")","v":"x"},{"$f":"IFERROR(IF(ISBLANK('Zoeken in Database'!$D$5),\"x\",IF(SEARCH('Zoeken in Database'!$D$5,Concerten!C402,1),\"x\",\"\")),\"\")","v":"x"},{"$f":"IFERROR(IF(ISBLANK('Zoeken in Database'!$D$6),\"x\",IF(SEARCH('Zoeken in Database'!$D$6,Concerten!G402,1),\"x\",\"\")),\"\")","v":"x"},{"$f":"IF(AND(D402>='Zoeken in Database'!$A$7,'Zoeken in Database'!$A$8>=D402),\"x\",\"\")","v":"x"}]
["Athlete ","Rock Werchter 2005","Werchter","2005-07-01","El Salvador \nBeautiful \nHalf Light \nTourist \nNew Project \nTwenty Four Hours \nYou Got The Style \nYesterday threw everything at me \nWires \nShake Thos Windows\n","Pyramid Marquee","Festivaloptreden",7,2005,{"$f":"VLOOKUP(Table1[[#This Row],[Maand (getal)]],Lijst!A:B,2,FALSE)","v":"jul"},{"$f":"IFERROR(IF(ISBLANK('Zoeken in Database'!$D$3),\"x\",IF(SEARCH('Zoeken in Database'!$D$3,Concerten!A403,1),\"x\",\"\")),\"\")","v":"x"},{"$f":"IFERROR(IF(ISBLANK('Zoeken in Database'!$D$4),\"x\",IF(SEARCH('Zoeken in Database'!$D$4,Concerten!B403,1),\"x\",\"\")),\"\")","v":"x"},{"$f":"IFERROR(IF(ISBLANK('Zoeken in Database'!$D$5),\"x\",IF(SEARCH('Zoeken in Database'!$D$5,Concerten!C403,1),\"x\",\"\")),\"\")","v":"x"},{"$f":"IFERROR(IF(ISBLANK('Zoeken in Database'!$D$6),\"x\",IF(SEARCH('Zoeken in Database'!$D$6,Concerten!G403,1),\"x\",\"\")),\"\")","v":"x"},{"$f":"IF(AND(D403>='Zoeken in Database'!$A$7,'Zoeken in Database'!$A$8>=D403),\"x\",\"\")","v":"x"}]
["Costello, Elvis","Rock Werchter 2005","Werchter","2005-07-01","01. Uncomplicated \n02. Clownstrike \n03. Radio Radio \n04. Country Darkness \n05. Monkey to man \n06. Needle time (fast and slow) \n07. (I Don't Want To Go To) Chelsea \n08. Clubland/ I Feel Pretty \n09. Good Year For The Roses \n10. (What's So Funny 'bout)Peace , Love and Understanding\n11. Oliver's Army \n12. Pump It Up \n----------------------------\n13. Alison/Suspicious Minds \n14. Hurry Down Doomsday \n15. I Want You","& The Imposters / Pyramid Marquee","Festivaloptreden",7,2005,{"$f":"VLOOKUP(Table1[[#This Row],[Maand (getal)]],Lijst!A:B,2,FALSE)","v":"jul"},{"$f":"IFERROR(IF(ISBLANK('Zoeken in Database'!$D$3),\"x\",IF(SEARCH('Zoeken in Database'!$D$3,Concerten!A404,1),\"x\",\"\")),\"\")","v":"x"},{"$f":"IFERROR(IF(ISBLANK('Zoeken in Database'!$D$4),\"x\",IF(SEARCH('Zoeken in Database'!$D$4,Concerten!B404,1),\"x\",\"\")),\"\")","v":"x"},{"$f":"IFERROR(IF(ISBLANK('Zoeken in Database'!$D$5),\"x\",IF(SEARCH('Zoeken in Database'!$D$5,Concerten!C404,1),\"x\",\"\")),\"\")","v":"x"},{"$f":"IFERROR(IF(ISBLANK('Zoeken in Database'!$D$6),\"x\",IF(SEARCH('Zoeken in Database'!$D$6,Concerten!G404,1),\"x\",\"\")),\"\")","v":"x"},{"$f":"IF(AND(D404>='Zoeken in Database'!$A$7,'Zoeken in Database'!$A$8>=D404),\"x\",\"\")","v":"x"}]
["Cullum, Jamie","Rock Werchter 2005","Werchter","2005-07-01","The Wind Cries Mary \nTwenty Something \nLover, You Shouldn't Have Come Over \nFrontin' \nThese Are The Days \nI Get A Kick Out Of You \nPhotograph \nEverlasting Love \nAll At Sea \nHigh & Dry\n","Pyramid Marquee","Festivaloptreden",7,2005,{"$f":"VLOOKUP(Table1[[#This Row],[Maand (getal)]],Lijst!A:B,2,FALSE)","v":"jul"},{"$f":"IFERROR(IF(ISBLANK('Zoeken in Database'!$D$3),\"x\",IF(SEARCH('Zoeken in Database'!$D$3,Concerten!A405,1),\"x\",\"\")),\"\")","v":"x"},{"$f":"IFERROR(IF(ISBLANK('Zoeken in Database'!$D$4),\"x\",IF(SEARCH('Zoeken in Database'!$D$4,Concerten!B405,1),\"x\",\"\")),\"\")","v":"x"},{"$f":"IFERROR(IF(ISBLANK('Zoeken in Database'!$D$5),\"x\",IF(SEARCH('Zoeken in Database'!$D$5,Concerten!C405,1),\"x\",\"\")),\"\")","v":"x"},{"$f":"IFERROR(IF(ISBLANK('Zoeken in Database'!$D$6),\"x\",IF(SEARCH('Zoeken in Database'!$D$6,Concerten!G405,1),\"x\",\"\")),\"\")","v":"x"},{"$f":"IF(AND(D405>='Zoeken in Database'!$A$7,'Zoeken in Database'!$A$8>=D405),\"x\",\"\")","v":"x"}]
["De La Vega","Rock Werchter 2005","Werchter","2005-07-01","Theme \nAspects Of You \nRescue Me \nBeats Me \nBetter Be Divine \nHe Spends His Days \nMissing You \nI Know Who \nSurely \nScream For Ibiza \nSpeedboy \n","Pyramid Marquee","Festivaloptreden",7,2005,{"$f":"VLOOKUP(Table1[[#This Row],[Maand (getal)]],Lijst!A:B,2,FALSE)","v":"jul"},{"$f":"IFERROR(IF(ISBLANK('Zoeken in Database'!$D$3),\"x\",IF(SEARCH('Zoeken in Database'!$D$3,Concerten!A406,1),\"x\",\"\")),\"\")","v":"x"},{"$f":"IFERROR(IF(ISBLANK('Zoeken in Database'!$D$4),\"x\",IF(SEARCH('Zoeken in Database'!$D$4,Concerten!B406,1),\"x\",\"\")),\"\")","v":"x"},{"$f":"IFERROR(IF(ISBLANK('Zoeken in Database'!$D$5),\"x\",IF(SEARCH('Zoeken in Database'!$D$5,Concerten!C406,1),\"x\",\"\")),\"\")","v":"x"},{"$f":"IFERROR(IF(ISBLANK('Zoeken in Database'!$D$6),\"x\",IF(SEARCH('Zoeken in Database'!$D$6,Concerten!G406,1),\"x\",\"\")),\"\")","v":"x"},{"$f":"IF(AND(D406>='Zoeken in Database'!$A$7,'Zoeken in Database'!$A$8>=D406),\"x\",\"\")","v":"x"}]
["Dresden Dolls","Rock Werchter 2005","Werchter","2005-07-01",null,"Pyramid Marquee","Festivaloptreden",7,2005,{"$f":"VLOOKUP(Table1[[#This Row],[Maand (getal)]],Lijst!A:B,2,FALSE)","v":"jul"},{"$f":"IFERROR(IF(ISBLANK('Zoeken in Database'!$D$3),\"x\",IF(SEARCH('Zoeken in Database'!$D$3,Concerten!A407,1),\"x\",\"\")),\"\")","v":"x"},{"$f":"IFERROR(IF(ISBLANK('Zoeken in Database'!$D$4),\"x\",IF(SEARCH('Zoeken in Database'!$D$4,Concerten!B407,1),\"x\",\"\")),\"\")","v":"x"},{"$f":"IFERROR(IF(ISBLANK('Zoeken in Database'!$D$5),\"x\",IF(SEARCH('Zoeken in Database'!$D$5,Concerten!C407,1),\"x\",\"\")),\"\")","v":"x"},{"$f":"IFERROR(IF(ISBLANK('Zoeken in Database'!$D$6),\"x\",IF(SEARCH('Zoeken in Database'!$D$6,Concerten!G407,1),\"x\",\"\")),\"\")","v":"x"},{"$f":"IF(AND(D407>='Zoeken in Database'!$A$7,'Zoeken in Database'!$A$8>=D407),\"x\",\"\")","v":"x"}]
["Kills, The ","Rock Werchter 2005","Werchter","2005-07-01","No Wow \nCat Claw \nDead Road 7 \nI Hate The Way You Love \nI Hate The Way You Love, Part 2 \nThe Good Ones \nKissy Kissy \nPassion Is Accurate \nMurdermile \nFried My Little Brains \nRodeo Town \nFuck The People \nLove Is A Deserter \nDropout Boogie (cover van Captain Beefheart, folks!) \n","Pyramid Marquee","Festivaloptreden",7,2005,{"$f":"VLOOKUP(Table1[[#This Row],[Maand (getal)]],Lijst!A:B,2,FALSE)","v":"jul"},{"$f":"IFERROR(IF(ISBLANK('Zoeken in Database'!$D$3),\"x\",IF(SEARCH('Zoeken in Database'!$D$3,Concerten!A408,1),\"x\",\"\")),\"\")","v":"x"},{"$f":"IFERROR(IF(ISBLANK('Zoeken in Database'!$D$4),\"x\",IF(SEARCH('Zoeken in Database'!$D$4,Concerten!B408,1),\"x\",\"\")),\"\")","v":"x"},{"$f":"IFERROR(IF(ISBLANK('Zoeken in Database'!$D$5),\"x\",IF(SEARCH('Zoeken in Database'!$D$5,Concerten!C408,1),\"x\",\"\")),\"\")","v":"x"},{"$f":"IFERROR(IF(ISBLANK('Zoeken in Database'!$D$6),\"x\",IF(SEARCH('Zoeken in Database'!$D$6,Concerten!G408,1),\"x\",\"\")),\"\")","v":"x"},{"$f":"IF(AND(D408>='Zoeken in Database'!$A$7,'Zoeken in Database'!$A$8>=D408),\"x\",\"\")","v":"x"}]
["Monza","Rock Werchter 2005","Werchter","2005-07-01","Alles Half \nWe Noemen Dat Een Mooie Dag \nDood Aan Alle Meisjes \nHulp Van India \nPanamarenko \nVertrouwd Hart \nAlleen Te Zijn En Hoe Emee Om Te Gaan \nRijkdom \nVan God Los \nAls Techniek Faalt \nEen Soort Van Vrede \nIk Hou Van U \n","Pyramid Marquee","Festivaloptreden",7,2005,{"$f":"VLOOKUP(Table1[[#This Row],[Maand (getal)]],Lijst!A:B,2,FALSE)","v":"jul"},{"$f":"IFERROR(IF(ISBLANK('Zoeken in Database'!$D$3),\"x\",IF(SEARCH('Zoeken in Database'!$D$3,Concerten!A409,1),\"x\",\"\")),\"\")","v":"x"},{"$f":"IFERROR(IF(ISBLANK('Zoeken in Database'!$D$4),\"x\",IF(SEARCH('Zoeken in Database'!$D$4,Concerten!B409,1),\"x\",\"\")),\"\")","v":"x"},{"$f":"IFERROR(IF(ISBLANK('Zoeken in Database'!$D$5),\"x\",IF(SEARCH('Zoeken in Database'!$D$5,Concerten!C409,1),\"x\",\"\")),\"\")","v":"x"},{"$f":"IFERROR(IF(ISBLANK('Zoeken in Database'!$D$6),\"x\",IF(SEARCH('Zoeken in Database'!$D$6,Concerten!G409,1),\"x\",\"\")),\"\")","v":"x"},{"$f":"IF(AND(D409>='Zoeken in Database'!$A$7,'Zoeken in Database'!$A$8>=D409),\"x\",\"\")","v":"x"}]
["Sioen","Rock Werchter 2005","Werchter","2005-07-01","Who You're Driving Mad \nFavourite \nEase Your Mind \nCruisin' \nMi Corazon \nWho Stole My Band? \nToo Good To Be True \nAt A Glance \nIt's You \nCrying \nWild Wild West \nReign \n","Pyramid Marquee","Festivaloptreden",7,2005,{"$f":"VLOOKUP(Table1[[#This Row],[Maand (getal)]],Lijst!A:B,2,FALSE)","v":"jul"},{"$f":"IFERROR(IF(ISBLANK('Zoeken in Database'!$D$3),\"x\",IF(SEARCH('Zoeken in Database'!$D$3,Concerten!A410,1),\"x\",\"\")),\"\")","v":"x"},{"$f":"IFERROR(IF(ISBLANK('Zoeken in Database'!$D$4),\"x\",IF(SEARCH('Zoeken in Database'!$D$4,Concerten!B410,1),\"x\",\"\")),\"\")","v":"x"},{"$f":"IFERROR(IF(ISBLANK('Zoeken in Database'!$D$5),\"x\",IF(SEARCH('Zoeken in Database'!$D$5,Concerten!C410,1),\"x\",\"\")),\"\")","v":"x"},{"$f":"IFERROR(IF(ISBLANK('Zoeken in Database'!$D$6),\"x\",IF(SEARCH('Zoeken in Database'!$D$6,Concerten!G410,1),\"x\",\"\")),\"\")","v":"x"},{"$f":"IF(AND(D410>='Zoeken in Database'!$A$7,'Zoeken in Database'!$A$8>=D410),\"x\",\"\")","v":"x"}]
["Admiral Freebee","Rock Werchter 2005","Werchter","2005-07-02","Ever Present \nOh Darkness \nRecipe \nEinstein Brain \nMurder of the Sun \nMeditarranean Sea \nLucky One \nHope Alone \nRags N Run \nBad Year 4 Rock N Roll \nWorst is yet to Come \n","Pyramid Marquee","Festivaloptreden",7,2005,{"$f":"VLOOKUP(Table1[[#This Row],[Maand (getal)]],Lijst!A:B,2,FALSE)","v":"jul"},{"$f":"IFERROR(IF(ISBLANK('Zoeken in Database'!$D$3),\"x\",IF(SEARCH('Zoeken in Database'!$D$3,Concerten!A411,1),\"x\",\"\")),\"\")","v":"x"},{"$f":"IFERROR(IF(ISBLANK('Zoeken in Database'!$D$4),\"x\",IF(SEARCH('Zoeken in Database'!$D$4,Concerten!B411,1),\"x\",\"\")),\"\")","v":"x"},{"$f":"IFERROR(IF(ISBLANK('Zoeken in Database'!$D$5),\"x\",IF(SEARCH('Zoeken in Database'!$D$5,Concerten!C411,1),\"x\",\"\")),\"\")","v":"x"},{"$f":"IFERROR(IF(ISBLANK('Zoeken in Database'!$D$6),\"x\",IF(SEARCH('Zoeken in Database'!$D$6,Concerten!G411,1),\"x\",\"\")),\"\")","v":"x"},{"$f":"IF(AND(D411>='Zoeken in Database'!$A$7,'Zoeken in Database'!$A$8>=D411),\"x\",\"\")","v":"x"}]
["And You Will Know Us By The Trail Of Dead","Rock Werchter 2005","Werchter","2005-07-02","Ode to Isis \nTotally Natural \nThe Best \nCaterwaul \nA Classic Arts Showcase \nAged Doll \nA Perfect Teenhood \nOunce \n","Pyramid Marquee","Festivaloptreden",7,2005,{"$f":"VLOOKUP(Table1[[#This Row],[Maand (getal)]],Lijst!A:B,2,FALSE)","v":"jul"},{"$f":"IFERROR(IF(ISBLANK('Zoeken in Database'!$D$3),\"x\",IF(SEARCH('Zoeken in Database'!$D$3,Concerten!A412,1),\"x\",\"\")),\"\")","v":"x"},{"$f":"IFERROR(IF(ISBLANK('Zoeken in Database'!$D$4),\"x\",IF(SEARCH('Zoeken in Database'!$D$4,Concerten!B412,1),\"x\",\"\")),\"\")","v":"x"},{"$f":"IFERROR(IF(ISBLANK('Zoeken in Database'!$D$5),\"x\",IF(SEARCH('Zoeken in Database'!$D$5,Concerten!C412,1),\"x\",\"\")),\"\")","v":"x"},{"$f":"IFERROR(IF(ISBLANK('Zoeken in Database'!$D$6),\"x\",IF(SEARCH('Zoeken in Database'!$D$6,Concerten!G412,1),\"x\",\"\")),\"\")","v":"x"},{"$f":"IF(AND(D412>='Zoeken in Database'!$A$7,'Zoeken in Database'!$A$8>=D412),\"x\",\"\")","v":"x"}]
["Audioslave","Rock Werchter 2005","Werchter","2005-07-02",null,"Hoofdpodium","Festivaloptreden",7,2005,{"$f":"VLOOKUP(Table1[[#This Row],[Maand (getal)]],Lijst!A:B,2,FALSE)","v":"jul"},{"$f":"IFERROR(IF(ISBLANK('Zoeken in Database'!$D$3),\"x\",IF(SEARCH('Zoeken in Database'!$D$3,Concerten!A413,1),\"x\",\"\")),\"\")","v":"x"},{"$f":"IFERROR(IF(ISBLANK('Zoeken in Database'!$D$4),\"x\",IF(SEARCH('Zoeken in Database'!$D$4,Concerten!B413,1),\"x\",\"\")),\"\")","v":"x"},{"$f":"IFERROR(IF(ISBLANK('Zoeken in Database'!$D$5),\"x\",IF(SEARCH('Zoeken in Database'!$D$5,Concerten!C413,1),\"x\",\"\")),\"\")","v":"x"},{"$f":"IFERROR(IF(ISBLANK('Zoeken in Database'!$D$6),\"x\",IF(SEARCH('Zoeken in Database'!$D$6,Concerten!G413,1),\"x\",\"\")),\"\")","v":"x"},{"$f":"IF(AND(D413>='Zoeken in Database'!$A$7,'Zoeken in Database'!$A$8>=D413),\"x\",\"\")","v":"x"}]
["Bloc Party","Rock Werchter 2005","Werchter","2005-07-02","Like Eating Glass \nPositive Tension \nBanquet \nBlue Light \nShe's Hearing Voices \nThe Marshals Are Dead \nPrice Of Gas \nThis Modern Love \nLittle Thoughts \nHelicopter \nSo Here We Are \nPioneers ","Pyramid Marquee","Festivaloptreden",7,2005,{"$f":"VLOOKUP(Table1[[#This Row],[Maand (getal)]],Lijst!A:B,2,FALSE)","v":"jul"},{"$f":"IFERROR(IF(ISBLANK('Zoeken in Database'!$D$3),\"x\",IF(SEARCH('Zoeken in Database'!$D$3,Concerten!A414,1),\"x\",\"\")),\"\")","v":"x"},{"$f":"IFERROR(IF(ISBLANK('Zoeken in Database'!$D$4),\"x\",IF(SEARCH('Zoeken in Database'!$D$4,Concerten!B414,1),\"x\",\"\")),\"\")","v":"x"},{"$f":"IFERROR(IF(ISBLANK('Zoeken in Database'!$D$5),\"x\",IF(SEARCH('Zoeken in Database'!$D$5,Concerten!C414,1),\"x\",\"\")),\"\")","v":"x"},{"$f":"IFERROR(IF(ISBLANK('Zoeken in Database'!$D$6),\"x\",IF(SEARCH('Zoeken in Database'!$D$6,Concerten!G414,1),\"x\",\"\")),\"\")","v":"x"},{"$f":"IF(AND(D414>='Zoeken in Database'!$A$7,'Zoeken in Database'!$A$8>=D414),\"x\",\"\")","v":"x"}]
["Dears, The","Rock Werchter 2005","Werchter","2005-07-02",null,"Pyramid Marquee","Festivaloptreden",7,2005,{"$f":"VLOOKUP(Table1[[#This Row],[Maand (getal)]],Lijst!A:B,2,FALSE)","v":"jul"},{"$f":"IFERROR(IF(ISBLANK('Zoeken in Database'!$D$3),\"x\",IF(SEARCH('Zoeken in Database'!$D$3,Concerten!A415,1),\"x\",\"\")),\"\")","v":"x"},{"$f":"IFERROR(IF(ISBLANK('Zoeken in Database'!$D$4),\"x\",IF(SEARCH('Zoeken in Database'!$D$4,Concerten!B415,1),\"x\",\"\")),\"\")","v":"x"},{"$f":"IFERROR(IF(ISBLANK('Zoeken in Database'!$D$5),\"x\",IF(SEARCH('Zoeken in Database'!$D$5,Concerten!C415,1),\"x\",\"\")),\"\")","v":"x"},{"$f":"IFERROR(IF(ISBLANK('Zoeken in Database'!$D$6),\"x\",IF(SEARCH('Zoeken in Database'!$D$6,Concerten!G415,1),\"x\",\"\")),\"\")","v":"x"},{"$f":"IF(AND(D415>='Zoeken in Database'!$A$7,'Zoeken in Database'!$A$8>=D415),\"x\",\"\")","v":"x"}]
["Nine Inch Nails","Rock Werchter 2005","Werchter","2005-07-02","The Frail/ The Wretched \nWish \nMarch of the pigs \nThe line begins to blur \nSomething I can never have \nThe hand that feeds \nWith teeth \nTerrible lie \nBurn \nCloser \nGave up \nHurt \nHead like a hole\n","Hoofdpodium","Festivaloptreden",7,2005,{"$f":"VLOOKUP(Table1[[#This Row],[Maand (getal)]],Lijst!A:B,2,FALSE)","v":"jul"},{"$f":"IFERROR(IF(ISBLANK('Zoeken in Database'!$D$3),\"x\",IF(SEARCH('Zoeken in Database'!$D$3,Concerten!A416,1),\"x\",\"\")),\"\")","v":"x"},{"$f":"IFERROR(IF(ISBLANK('Zoeken in Database'!$D$4),\"x\",IF(SEARCH('Zoeken in Database'!$D$4,Concerten!B416,1),\"x\",\"\")),\"\")","v":"x"},{"$f":"IFERROR(IF(ISBLANK('Zoeken in Database'!$D$5),\"x\",IF(SEARCH('Zoeken in Database'!$D$5,Concerten!C416,1),\"x\",\"\")),\"\")","v":"x"},{"$f":"IFERROR(IF(ISBLANK('Zoeken in Database'!$D$6),\"x\",IF(SEARCH('Zoeken in Database'!$D$6,Concerten!G416,1),\"x\",\"\")),\"\")","v":"x"},{"$f":"IF(AND(D416>='Zoeken in Database'!$A$7,'Zoeken in Database'!$A$8>=D416),\"x\",\"\")","v":"x"}]
["Rammstein","Rock Werchter 2005","Werchter","2005-07-02",null,"Hoofdpodium","Festivaloptreden",7,2005,{"$f":"VLOOKUP(Table1[[#This Row],[Maand (getal)]],Lijst!A:B,2,FALSE)","v":"jul"},{"$f":"IFERROR(IF(ISBLANK('Zoeken in Database'!$D$3),\"x\",IF(SEARCH('Zoeken in Database'!$D$3,Concerten!A417,1),\"x\",\"\")),\"\")","v":"x"},{"$f":"IFERROR(IF(ISBLANK('Zoeken in Database'!$D$4),\"x\",IF(SEARCH('Zoeken in Database'!$D$4,Concerten!B417,1),\"x\",\"\")),\"\")","v":"x"},{"$f":"IFERROR(IF(ISBLANK('Zoeken in Database'!$D$5),\"x\",IF(SEARCH('Zoeken in Database'!$D$5,Concerten!C417,1),\"x\",\"\")),\"\")","v":"x"},{"$f":"IFERROR(IF(ISBLANK('Zoeken in Database'!$D$6),\"x\",IF(SEARCH('Zoeken in Database'!$D$6,Concerten!G417,1),\"x\",\"\")),\"\")","v":"x"},{"$f":"IF(AND(D417>='Zoeken in Database'!$A$7,'Zoeken in Database'!$A$8>=D417),\"x\",\"\")","v":"x"}]
["Rilo Kiley","Rock Werchter 2005","Werchter","2005-07-02","It's a hit \nPortions for \nI never \nPull me in \nExecution \nLov n war \nFrozen lake \nDoes he love","Pyramid Marquee","Festivaloptreden",7,2005,{"$f":"VLOOKUP(Table1[[#This Row],[Maand (getal)]],Lijst!A:B,2,FALSE)","v":"jul"},{"$f":"IFERROR(IF(ISBLANK('Zoeken in Database'!$D$3),\"x\",IF(SEARCH('Zoeken in Database'!$D$3,Concerten!A418,1),\"x\",\"\")),\"\")","v":"x"},{"$f":"IFERROR(IF(ISBLANK('Zoeken in Database'!$D$4),\"x\",IF(SEARCH('Zoeken in Database'!$D$4,Concerten!B418,1),\"x\",\"\")),\"\")","v":"x"},{"$f":"IFERROR(IF(ISBLANK('Zoeken in Database'!$D$5),\"x\",IF(SEARCH('Zoeken in Database'!$D$5,Concerten!C418,1),\"x\",\"\")),\"\")","v":"x"},{"$f":"IFERROR(IF(ISBLANK('Zoeken in Database'!$D$6),\"x\",IF(SEARCH('Zoeken in Database'!$D$6,Concerten!G418,1),\"x\",\"\")),\"\")","v":"x"},{"$f":"IF(AND(D418>='Zoeken in Database'!$A$7,'Zoeken in Database'!$A$8>=D418),\"x\",\"\")","v":"x"}]
["Bettens, Sarah","Rock Werchter 2005","Werchter","2005-07-03","I'm okay \nScream \nFine \nGo \nAlmost Happy \nNot insane \nBelieve \nStuck in the middle with you \nCome over here \nDon't stop \nNot an addict \nToo many happy faces \nStay \nBusy \nDon't let me drag you down \n","Pyramid Marquee","Festivaloptreden",7,2005,{"$f":"VLOOKUP(Table1[[#This Row],[Maand (getal)]],Lijst!A:B,2,FALSE)","v":"jul"},{"$f":"IFERROR(IF(ISBLANK('Zoeken in Database'!$D$3),\"x\",IF(SEARCH('Zoeken in Database'!$D$3,Concerten!A419,1),\"x\",\"\")),\"\")","v":"x"},{"$f":"IFERROR(IF(ISBLANK('Zoeken in Database'!$D$4),\"x\",IF(SEARCH('Zoeken in Database'!$D$4,Concerten!B419,1),\"x\",\"\")),\"\")","v":"x"},{"$f":"IFERROR(IF(ISBLANK('Zoeken in Database'!$D$5),\"x\",IF(SEARCH('Zoeken in Database'!$D$5,Concerten!C419,1),\"x\",\"\")),\"\")","v":"x"},{"$f":"IFERROR(IF(ISBLANK('Zoeken in Database'!$D$6),\"x\",IF(SEARCH('Zoeken in Database'!$D$6,Concerten!G419,1),\"x\",\"\")),\"\")","v":"x"},{"$f":"IF(AND(D419>='Zoeken in Database'!$A$7,'Zoeken in Database'!$A$8>=D419),\"x\",\"\")","v":"x"}]
["Eagles Of Death Metal","Rock Werchter 2005","Werchter","2005-07-03","Bad Dream Mama \nI Came To Make A Bang \nEnglish Girl \n40 Easy \nAlready Dead \nStuck In The Moment \nI Got A Feeling \nMove In The Night \nCherry Cola \nFlames Go Higher \nWhorehoppin \nMiss Alissa \nI Only Want You \nSpeaking In Tongues \n","Pyramid Marquee","Festivaloptreden",7,2005,{"$f":"VLOOKUP(Table1[[#This Row],[Maand (getal)]],Lijst!A:B,2,FALSE)","v":"jul"},{"$f":"IFERROR(IF(ISBLANK('Zoeken in Database'!$D$3),\"x\",IF(SEARCH('Zoeken in Database'!$D$3,Concerten!A420,1),\"x\",\"\")),\"\")","v":"x"},{"$f":"IFERROR(IF(ISBLANK('Zoeken in Database'!$D$4),\"x\",IF(SEARCH('Zoeken in Database'!$D$4,Concerten!B420,1),\"x\",\"\")),\"\")","v":"x"},{"$f":"IFERROR(IF(ISBLANK('Zoeken in Database'!$D$5),\"x\",IF(SEARCH('Zoeken in Database'!$D$5,Concerten!C420,1),\"x\",\"\")),\"\")","v":"x"},{"$f":"IFERROR(IF(ISBLANK('Zoeken in Database'!$D$6),\"x\",IF(SEARCH('Zoeken in Database'!$D$6,Concerten!G420,1),\"x\",\"\")),\"\")","v":"x"},{"$f":"IF(AND(D420>='Zoeken in Database'!$A$7,'Zoeken in Database'!$A$8>=D420),\"x\",\"\")","v":"x"}]
["Foo Fighters","Rock Werchter 2005","Werchter","2005-07-03",null,"Hoofdpodium","Festivaloptreden",7,2005,{"$f":"VLOOKUP(Table1[[#This Row],[Maand (getal)]],Lijst!A:B,2,FALSE)","v":"jul"},{"$f":"IFERROR(IF(ISBLANK('Zoeken in Database'!$D$3),\"x\",IF(SEARCH('Zoeken in Database'!$D$3,Concerten!A421,1),\"x\",\"\")),\"\")","v":"x"},{"$f":"IFERROR(IF(ISBLANK('Zoeken in Database'!$D$4),\"x\",IF(SEARCH('Zoeken in Database'!$D$4,Concerten!B421,1),\"x\",\"\")),\"\")","v":"x"},{"$f":"IFERROR(IF(ISBLANK('Zoeken in Database'!$D$5),\"x\",IF(SEARCH('Zoeken in Database'!$D$5,Concerten!C421,1),\"x\",\"\")),\"\")","v":"x"},{"$f":"IFERROR(IF(ISBLANK('Zoeken in Database'!$D$6),\"x\",IF(SEARCH('Zoeken in Database'!$D$6,Concerten!G421,1),\"x\",\"\")),\"\")","v":"x"},{"$f":"IF(AND(D421>='Zoeken in Database'!$A$7,'Zoeken in Database'!$A$8>=D421),\"x\",\"\")","v":"x"}]
["Helsen, Tom","Rock Werchter 2005","Werchter","2005-07-03","Out of something \nWhen Marvin calls \nSomewhere \nRocket \nSlowly \nLove and a bad chase \nCome pick me up (Ryan Adams) \n8:00 AM \nDon't let them get u down \nGoodbye \nMore than gold ","Pyramid Marquee","Festivaloptreden",7,2005,{"$f":"VLOOKUP(Table1[[#This Row],[Maand (getal)]],Lijst!A:B,2,FALSE)","v":"jul"},{"$f":"IFERROR(IF(ISBLANK('Zoeken in Database'!$D$3),\"x\",IF(SEARCH('Zoeken in Database'!$D$3,Concerten!A422,1),\"x\",\"\")),\"\")","v":"x"},{"$f":"IFERROR(IF(ISBLANK('Zoeken in Database'!$D$4),\"x\",IF(SEARCH('Zoeken in Database'!$D$4,Concerten!B422,1),\"x\",\"\")),\"\")","v":"x"},{"$f":"IFERROR(IF(ISBLANK('Zoeken in Database'!$D$5),\"x\",IF(SEARCH('Zoeken in Database'!$D$5,Concerten!C422,1),\"x\",\"\")),\"\")","v":"x"},{"$f":"IFERROR(IF(ISBLANK('Zoeken in Database'!$D$6),\"x\",IF(SEARCH('Zoeken in Database'!$D$6,Concerten!G422,1),\"x\",\"\")),\"\")","v":"x"},{"$f":"IF(AND(D422>='Zoeken in Database'!$A$7,'Zoeken in Database'!$A$8>=D422),\"x\",\"\")","v":"x"}]
["Queens Of The Stone-Age","Rock Werchter 2005","Werchter","2005-07-03",null,"Hoofdpodium","Festivaloptreden",7,2005,{"$f":"VLOOKUP(Table1[[#This Row],[Maand (getal)]],Lijst!A:B,2,FALSE)","v":"jul"},{"$f":"IFERROR(IF(ISBLANK('Zoeken in Database'!$D$3),\"x\",IF(SEARCH('Zoeken in Database'!$D$3,Concerten!A423,1),\"x\",\"\")),\"\")","v":"x"},{"$f":"IFERROR(IF(ISBLANK('Zoeken in Database'!$D$4),\"x\",IF(SEARCH('Zoeken in Database'!$D$4,Concerten!B423,1),\"x\",\"\")),\"\")","v":"x"},{"$f":"IFERROR(IF(ISBLANK('Zoeken in Database'!$D$5),\"x\",IF(SEARCH('Zoeken in Database'!$D$5,Concerten!C423,1),\"x\",\"\")),\"\")","v":"x"},{"$f":"IFERROR(IF(ISBLANK('Zoeken in Database'!$D$6),\"x\",IF(SEARCH('Zoeken in Database'!$D$6,Concerten!G423,1),\"x\",\"\")),\"\")","v":"x"},{"$f":"IF(AND(D423>='Zoeken in Database'!$A$7,'Zoeken in Database'!$A$8>=D423),\"x\",\"\")","v":"x"}]
["Ashcroft, Richard","Gelredome","Arnhem","2005-07-07",null,null,"Voorprogramma",7,2005,{"$f":"VLOOKUP(Table1[[#This Row],[Maand (getal)]],Lijst!A:B,2,FALSE)","v":"jul"},{"$f":"IFERROR(IF(ISBLANK('Zoeken in Database'!$D$3),\"x\",IF(SEARCH('Zoeken in Database'!$D$3,Concerten!A424,1),\"x\",\"\")),\"\")","v":"x"},{"$f":"IFERROR(IF(ISBLANK('Zoeken in Database'!$D$4),\"x\",IF(SEARCH('Zoeken in Database'!$D$4,Concerten!B424,1),\"x\",\"\")),\"\")","v":"x"},{"$f":"IFERROR(IF(ISBLANK('Zoeken in Database'!$D$5),\"x\",IF(SEARCH('Zoeken in Database'!$D$5,Concerten!C424,1),\"x\",\"\")),\"\")","v":"x"},{"$f":"IFERROR(IF(ISBLANK('Zoeken in Database'!$D$6),\"x\",IF(SEARCH('Zoeken in Database'!$D$6,Concerten!G424,1),\"x\",\"\")),\"\")","v":"x"},{"$f":"IF(AND(D424>='Zoeken in Database'!$A$7,'Zoeken in Database'!$A$8>=D424),\"x\",\"\")","v":"x"}]
["Coldplay","Gelredome","Arnhem","2005-07-07","Square One \nPolitik \nYellow \nGod Put A Smile Upon Your Face \nSpeed Of Sound \nLow \nWarning Sign \nEverything's Not Lost \nWhite Shadows \nThe Scientist \nTil Kingdom Come \nDon't Panic \nClocks \nEncore:\nTalk \nSwallowed in the Sea \nIn My Place \nFix You\n",null,"Hoofdprogramma",7,2005,{"$f":"VLOOKUP(Table1[[#This Row],[Maand (getal)]],Lijst!A:B,2,FALSE)","v":"jul"},{"$f":"IFERROR(IF(ISBLANK('Zoeken in Database'!$D$3),\"x\",IF(SEARCH('Zoeken in Database'!$D$3,Concerten!A425,1),\"x\",\"\")),\"\")","v":"x"},{"$f":"IFERROR(IF(ISBLANK('Zoeken in Database'!$D$4),\"x\",IF(SEARCH('Zoeken in Database'!$D$4,Concerten!B425,1),\"x\",\"\")),\"\")","v":"x"},{"$f":"IFERROR(IF(ISBLANK('Zoeken in Database'!$D$5),\"x\",IF(SEARCH('Zoeken in Database'!$D$5,Concerten!C425,1),\"x\",\"\")),\"\")","v":"x"},{"$f":"IFERROR(IF(ISBLANK('Zoeken in Database'!$D$6),\"x\",IF(SEARCH('Zoeken in Database'!$D$6,Concerten!G425,1),\"x\",\"\")),\"\")","v":"x"},{"$f":"IF(AND(D425>='Zoeken in Database'!$A$7,'Zoeken in Database'!$A$8>=D425),\"x\",\"\")","v":"x"}]
["Vertigo","Gelredome","Arnhem","2005-07-07",null,null,"Voorprogramma",7,2005,{"$f":"VLOOKUP(Table1[[#This Row],[Maand (getal)]],Lijst!A:B,2,FALSE)","v":"jul"},{"$f":"IFERROR(IF(ISBLANK('Zoeken in Database'!$D$3),\"x\",IF(SEARCH('Zoeken in Database'!$D$3,Concerten!A426,1),\"x\",\"\")),\"\")","v":"x"},{"$f":"IFERROR(IF(ISBLANK('Zoeken in Database'!$D$4),\"x\",IF(SEARCH('Zoeken in Database'!$D$4,Concerten!B426,1),\"x\",\"\")),\"\")","v":"x"},{"$f":"IFERROR(IF(ISBLANK('Zoeken in Database'!$D$5),\"x\",IF(SEARCH('Zoeken in Database'!$D$5,Concerten!C426,1),\"x\",\"\")),\"\")","v":"x"},{"$f":"IFERROR(IF(ISBLANK('Zoeken in Database'!$D$6),\"x\",IF(SEARCH('Zoeken in Database'!$D$6,Concerten!G426,1),\"x\",\"\")),\"\")","v":"x"},{"$f":"IF(AND(D426>='Zoeken in Database'!$A$7,'Zoeken in Database'!$A$8>=D426),\"x\",\"\")","v":"x"}]
["Billy, Bonnie \"Prince\"","Doornroosje","Nijmegen","2005-07-08","1. klonk als een cover van TIM ERIKSEN - AM I BORN TO DIE? (OST Cold Mountain)\n(maar niet 100% zeker)\n\n2. My home is the sea\n3. I gave you\n\n4. nieuw nummer \"Birch\", zou ook een cover kunnen zijn (\"It was my intention to be your wife...\")\n\n5. Lift us up\n6. Three questions\n\n7. nieuw nummer \"scream, scream, scream\"(x4))\n\n8. nieuw nummer \"the ocean is blue\"\n\n9. What are you?\n10. You will miss me when I burn\n11. Goat and ram\n12. Beast for thee\n13. Brokedown Palace (Grateful Dead-cover)\n14. Blood embrace\n15. Bed is for sleeping\n-----------------------------\n16. Another day full of dread\n17. Only someone running\n18. \"In my mind\" (David Allan Coe-cover met andere tekst)\n-----------------------------\n19. Wolf among wolves\n-----------------------------\n20. Rudy Foolish\n21. Master and everyone\n",null,"Hoofdprogramma",7,2005,{"$f":"VLOOKUP(Table1[[#This Row],[Maand (getal)]],Lijst!A:B,2,FALSE)","v":"jul"},{"$f":"IFERROR(IF(ISBLANK('Zoeken in Database'!$D$3),\"x\",IF(SEARCH('Zoeken in Database'!$D$3,Concerten!A427,1),\"x\",\"\")),\"\")","v":"x"},{"$f":"IFERROR(IF(ISBLANK('Zoeken in Database'!$D$4),\"x\",IF(SEARCH('Zoeken in Database'!$D$4,Concerten!B427,1),\"x\",\"\")),\"\")","v":"x"},{"$f":"IFERROR(IF(ISBLANK('Zoeken in Database'!$D$5),\"x\",IF(SEARCH('Zoeken in Database'!$D$5,Concerten!C427,1),\"x\",\"\")),\"\")","v":"x"},{"$f":"IFERROR(IF(ISBLANK('Zoeken in Database'!$D$6),\"x\",IF(SEARCH('Zoeken in Database'!$D$6,Concerten!G427,1),\"x\",\"\")),\"\")","v":"x"},{"$f":"IF(AND(D427>='Zoeken in Database'!$A$7,'Zoeken in Database'!$A$8>=D427),\"x\",\"\")","v":"x"}]
["Bright Eyes","Paradiso","Amsterdam","2005-07-12","1. Time Code\n2. Goldmine Gutted\n3. Light Pollution\n4. Ship in a Bottle\n5. Rabbit Hole\n6. Take it Easy\n7. Arc of Time\n8. Neely O'Hara\n9. Hit the Switch\n10. Devil in the Details\n11. Symmetry\n12. First Day\n13. Lover\n14. Easy/Lucky/Free\n","Plays Songs From \"Digital Ash In A Digital Urn\"","Hoofdprogramma",7,2005,{"$f":"VLOOKUP(Table1[[#This Row],[Maand (getal)]],Lijst!A:B,2,FALSE)","v":"jul"},{"$f":"IFERROR(IF(ISBLANK('Zoeken in Database'!$D$3),\"x\",IF(SEARCH('Zoeken in Database'!$D$3,Concerten!A428,1),\"x\",\"\")),\"\")","v":"x"},{"$f":"IFERROR(IF(ISBLANK('Zoeken in Database'!$D$4),\"x\",IF(SEARCH('Zoeken in Database'!$D$4,Concerten!B428,1),\"x\",\"\")),\"\")","v":"x"},{"$f":"IFERROR(IF(ISBLANK('Zoeken in Database'!$D$5),\"x\",IF(SEARCH('Zoeken in Database'!$D$5,Concerten!C428,1),\"x\",\"\")),\"\")","v":"x"},{"$f":"IFERROR(IF(ISBLANK('Zoeken in Database'!$D$6),\"x\",IF(SEARCH('Zoeken in Database'!$D$6,Concerten!G428,1),\"x\",\"\")),\"\")","v":"x"},{"$f":"IF(AND(D428>='Zoeken in Database'!$A$7,'Zoeken in Database'!$A$8>=D428),\"x\",\"\")","v":"x"}]
["Faint, The","Paradiso","Amsterdam","2005-07-12",null,null,"Voorprogramma",7,2005,{"$f":"VLOOKUP(Table1[[#This Row],[Maand (getal)]],Lijst!A:B,2,FALSE)","v":"jul"},{"$f":"IFERROR(IF(ISBLANK('Zoeken in Database'!$D$3),\"x\",IF(SEARCH('Zoeken in Database'!$D$3,Concerten!A429,1),\"x\",\"\")),\"\")","v":"x"},{"$f":"IFERROR(IF(ISBLANK('Zoeken in Database'!$D$4),\"x\",IF(SEARCH('Zoeken in Database'!$D$4,Concerten!B429,1),\"x\",\"\")),\"\")","v":"x"},{"$f":"IFERROR(IF(ISBLANK('Zoeken in Database'!$D$5),\"x\",IF(SEARCH('Zoeken in Database'!$D$5,Concerten!C429,1),\"x\",\"\")),\"\")","v":"x"},{"$f":"IFERROR(IF(ISBLANK('Zoeken in Database'!$D$6),\"x\",IF(SEARCH('Zoeken in Database'!$D$6,Concerten!G429,1),\"x\",\"\")),\"\")","v":"x"},{"$f":"IF(AND(D429>='Zoeken in Database'!$A$7,'Zoeken in Database'!$A$8>=D429),\"x\",\"\")","v":"x"}]
["Jeugd Van Tegenwoordig","Valkhof Affaire 2005","Nijmegen","2005-07-17",null,"Valkhofaffaire","Festivaloptreden",7,2005,{"$f":"VLOOKUP(Table1[[#This Row],[Maand (getal)]],Lijst!A:B,2,FALSE)","v":"jul"},{"$f":"IFERROR(IF(ISBLANK('Zoeken in Database'!$D$3),\"x\",IF(SEARCH('Zoeken in Database'!$D$3,Concerten!A430,1),\"x\",\"\")),\"\")","v":"x"},{"$f":"IFERROR(IF(ISBLANK('Zoeken in Database'!$D$4),\"x\",IF(SEARCH('Zoeken in Database'!$D$4,Concerten!B430,1),\"x\",\"\")),\"\")","v":"x"},{"$f":"IFERROR(IF(ISBLANK('Zoeken in Database'!$D$5),\"x\",IF(SEARCH('Zoeken in Database'!$D$5,Concerten!C430,1),\"x\",\"\")),\"\")","v":"x"},{"$f":"IFERROR(IF(ISBLANK('Zoeken in Database'!$D$6),\"x\",IF(SEARCH('Zoeken in Database'!$D$6,Concerten!G430,1),\"x\",\"\")),\"\")","v":"x"},{"$f":"IF(AND(D430>='Zoeken in Database'!$A$7,'Zoeken in Database'!$A$8>=D430),\"x\",\"\")","v":"x"}]
["Rowwen Heze","Vierdaagsefeesten 2005","Nijmegen","2005-07-17",null,"Waalkade","Festivaloptreden",7,2005,{"$f":"VLOOKUP(Table1[[#This Row],[Maand (getal)]],Lijst!A:B,2,FALSE)","v":"jul"},{"$f":"IFERROR(IF(ISBLANK('Zoeken in Database'!$D$3),\"x\",IF(SEARCH('Zoeken in Database'!$D$3,Concerten!A431,1),\"x\",\"\")),\"\")","v":"x"},{"$f":"IFERROR(IF(ISBLANK('Zoeken in Database'!$D$4),\"x\",IF(SEARCH('Zoeken in Database'!$D$4,Concerten!B431,1),\"x\",\"\")),\"\")","v":"x"},{"$f":"IFERROR(IF(ISBLANK('Zoeken in Database'!$D$5),\"x\",IF(SEARCH('Zoeken in Database'!$D$5,Concerten!C431,1),\"x\",\"\")),\"\")","v":"x"},{"$f":"IFERROR(IF(ISBLANK('Zoeken in Database'!$D$6),\"x\",IF(SEARCH('Zoeken in Database'!$D$6,Concerten!G431,1),\"x\",\"\")),\"\")","v":"x"},{"$f":"IF(AND(D431>='Zoeken in Database'!$A$7,'Zoeken in Database'!$A$8>=D431),\"x\",\"\")","v":"x"}]
["Yes-R","Valkhof Affaire 2005","Nijmegen","2005-07-17",null,"Valkhofaffaire","Festivaloptreden",7,2005,{"$f":"VLOOKUP(Table1[[#This Row],[Maand (getal)]],Lijst!A:B,2,FALSE)","v":"jul"},{"$f":"IFERROR(IF(ISBLANK('Zoeken in Database'!$D$3),\"x\",IF(SEARCH('Zoeken in Database'!$D$3,Concerten!A432,1),\"x\",\"\")),\"\")","v":"x"},{"$f":"IFERROR(IF(ISBLANK('Zoeken in Database'!$D$4),\"x\",IF(SEARCH('Zoeken in Database'!$D$4,Concerten!B432,1),\"x\",\"\")),\"\")","v":"x"},{"$f":"IFERROR(IF(ISBLANK('Zoeken in Database'!$D$5),\"x\",IF(SEARCH('Zoeken in Database'!$D$5,Concerten!C432,1),\"x\",\"\")),\"\")","v":"x"},{"$f":"IFERROR(IF(ISBLANK('Zoeken in Database'!$D$6),\"x\",IF(SEARCH('Zoeken in Database'!$D$6,Concerten!G432,1),\"x\",\"\")),\"\")","v":"x"},{"$f":"IF(AND(D432>='Zoeken in Database'!$A$7,'Zoeken in Database'!$A$8>=D432),\"x\",\"\")","v":"x"}]
["Sjonnies, De","Vierdaagsefeesten 2005","Nijmegen","2005-07-22",null,"Waalkade","Festivaloptreden",7,2005,{"$f":"VLOOKUP(Table1[[#This Row],[Maand (getal)]],Lijst!A:B,2,FALSE)","v":"jul"},{"$f":"IFERROR(IF(ISBLANK('Zoeken in Database'!$D$3),\"x\",IF(SEARCH('Zoeken in Database'!$D$3,Concerten!A433,1),\"x\",\"\")),\"\")","v":"x"},{"$f":"IFERROR(IF(ISBLANK('Zoeken in Database'!$D$4),\"x\",IF(SEARCH('Zoeken in Database'!$D$4,Concerten!B433,1),\"x\",\"\")),\"\")","v":"x"},{"$f":"IFERROR(IF(ISBLANK('Zoeken in Database'!$D$5),\"x\",IF(SEARCH('Zoeken in Database'!$D$5,Concerten!C433,1),\"x\",\"\")),\"\")","v":"x"},{"$f":"IFERROR(IF(ISBLANK('Zoeken in Database'!$D$6),\"x\",IF(SEARCH('Zoeken in Database'!$D$6,Concerten!G433,1),\"x\",\"\")),\"\")","v":"x"},{"$f":"IF(AND(D433>='Zoeken in Database'!$A$7,'Zoeken in Database'!$A$8>=D433),\"x\",\"\")","v":"x"}]
["Billy, Bonnie \"Prince\"","Lowlands 2005","Biddinghuizen","2005-08-19",null,"India","Festivaloptreden",8,2005,{"$f":"VLOOKUP(Table1[[#This Row],[Maand (getal)]],Lijst!A:B,2,FALSE)","v":"aug"},{"$f":"IFERROR(IF(ISBLANK('Zoeken in Database'!$D$3),\"x\",IF(SEARCH('Zoeken in Database'!$D$3,Concerten!A434,1),\"x\",\"\")),\"\")","v":"x"},{"$f":"IFERROR(IF(ISBLANK('Zoeken in Database'!$D$4),\"x\",IF(SEARCH('Zoeken in Database'!$D$4,Concerten!B434,1),\"x\",\"\")),\"\")","v":"x"},{"$f":"IFERROR(IF(ISBLANK('Zoeken in Database'!$D$5),\"x\",IF(SEARCH('Zoeken in Database'!$D$5,Concerten!C434,1),\"x\",\"\")),\"\")","v":"x"},{"$f":"IFERROR(IF(ISBLANK('Zoeken in Database'!$D$6),\"x\",IF(SEARCH('Zoeken in Database'!$D$6,Concerten!G434,1),\"x\",\"\")),\"\")","v":"x"},{"$f":"IF(AND(D434>='Zoeken in Database'!$A$7,'Zoeken in Database'!$A$8>=D434),\"x\",\"\")","v":"x"}]
["Blue Van, The","Lowlands 2005","Biddinghuizen","2005-08-19",null,"Charlie","Festivaloptreden",8,2005,{"$f":"VLOOKUP(Table1[[#This Row],[Maand (getal)]],Lijst!A:B,2,FALSE)","v":"aug"},{"$f":"IFERROR(IF(ISBLANK('Zoeken in Database'!$D$3),\"x\",IF(SEARCH('Zoeken in Database'!$D$3,Concerten!A435,1),\"x\",\"\")),\"\")","v":"x"},{"$f":"IFERROR(IF(ISBLANK('Zoeken in Database'!$D$4),\"x\",IF(SEARCH('Zoeken in Database'!$D$4,Concerten!B435,1),\"x\",\"\")),\"\")","v":"x"},{"$f":"IFERROR(IF(ISBLANK('Zoeken in Database'!$D$5),\"x\",IF(SEARCH('Zoeken in Database'!$D$5,Concerten!C435,1),\"x\",\"\")),\"\")","v":"x"},{"$f":"IFERROR(IF(ISBLANK('Zoeken in Database'!$D$6),\"x\",IF(SEARCH('Zoeken in Database'!$D$6,Concerten!G435,1),\"x\",\"\")),\"\")","v":"x"},{"$f":"IF(AND(D435>='Zoeken in Database'!$A$7,'Zoeken in Database'!$A$8>=D435),\"x\",\"\")","v":"x"}]
["Fort Minor","Lowlands 2005","Biddinghuizen","2005-08-19","Remember The Name \nIt's Goin' Down \nEnth E Nd \nMr. Brown \nFort Minor Medley \nThere They Go \nDolla \nPetrified\n","Bravo","Festivaloptreden",8,2005,{"$f":"VLOOKUP(Table1[[#This Row],[Maand (getal)]],Lijst!A:B,2,FALSE)","v":"aug"},{"$f":"IFERROR(IF(ISBLANK('Zoeken in Database'!$D$3),\"x\",IF(SEARCH('Zoeken in Database'!$D$3,Concerten!A436,1),\"x\",\"\")),\"\")","v":"x"},{"$f":"IFERROR(IF(ISBLANK('Zoeken in Database'!$D$4),\"x\",IF(SEARCH('Zoeken in Database'!$D$4,Concerten!B436,1),\"x\",\"\")),\"\")","v":"x"},{"$f":"IFERROR(IF(ISBLANK('Zoeken in Database'!$D$5),\"x\",IF(SEARCH('Zoeken in Database'!$D$5,Concerten!C436,1),\"x\",\"\")),\"\")","v":"x"},{"$f":"IFERROR(IF(ISBLANK('Zoeken in Database'!$D$6),\"x\",IF(SEARCH('Zoeken in Database'!$D$6,Concerten!G436,1),\"x\",\"\")),\"\")","v":"x"},{"$f":"IF(AND(D436>='Zoeken in Database'!$A$7,'Zoeken in Database'!$A$8>=D436),\"x\",\"\")","v":"x"}]
["Magic Numbers, The","Lowlands 2005","Biddinghuizen","2005-08-19",null,"Charlie","Festivaloptreden",8,2005,{"$f":"VLOOKUP(Table1[[#This Row],[Maand (getal)]],Lijst!A:B,2,FALSE)","v":"aug"},{"$f":"IFERROR(IF(ISBLANK('Zoeken in Database'!$D$3),\"x\",IF(SEARCH('Zoeken in Database'!$D$3,Concerten!A437,1),\"x\",\"\")),\"\")","v":"x"},{"$f":"IFERROR(IF(ISBLANK('Zoeken in Database'!$D$4),\"x\",IF(SEARCH('Zoeken in Database'!$D$4,Concerten!B437,1),\"x\",\"\")),\"\")","v":"x"},{"$f":"IFERROR(IF(ISBLANK('Zoeken in Database'!$D$5),\"x\",IF(SEARCH('Zoeken in Database'!$D$5,Concerten!C437,1),\"x\",\"\")),\"\")","v":"x"},{"$f":"IFERROR(IF(ISBLANK('Zoeken in Database'!$D$6),\"x\",IF(SEARCH('Zoeken in Database'!$D$6,Concerten!G437,1),\"x\",\"\")),\"\")","v":"x"},{"$f":"IF(AND(D437>='Zoeken in Database'!$A$7,'Zoeken in Database'!$A$8>=D437),\"x\",\"\")","v":"x"}]
["Polyphonic Spree, The ","Lowlands 2005","Biddinghuizen","2005-08-19","We Sound Amazed \nIt's the Sun \nSuitcase Calling \nDiamonds \nMove Away and Shine \nSoldier Girl \nYounger Yesterday \nHold Me Now \nLight and Day","Grolsch","Festivaloptreden",8,2005,{"$f":"VLOOKUP(Table1[[#This Row],[Maand (getal)]],Lijst!A:B,2,FALSE)","v":"aug"},{"$f":"IFERROR(IF(ISBLANK('Zoeken in Database'!$D$3),\"x\",IF(SEARCH('Zoeken in Database'!$D$3,Concerten!A438,1),\"x\",\"\")),\"\")","v":"x"},{"$f":"IFERROR(IF(ISBLANK('Zoeken in Database'!$D$4),\"x\",IF(SEARCH('Zoeken in Database'!$D$4,Concerten!B438,1),\"x\",\"\")),\"\")","v":"x"},{"$f":"IFERROR(IF(ISBLANK('Zoeken in Database'!$D$5),\"x\",IF(SEARCH('Zoeken in Database'!$D$5,Concerten!C438,1),\"x\",\"\")),\"\")","v":"x"},{"$f":"IFERROR(IF(ISBLANK('Zoeken in Database'!$D$6),\"x\",IF(SEARCH('Zoeken in Database'!$D$6,Concerten!G438,1),\"x\",\"\")),\"\")","v":"x"},{"$f":"IF(AND(D438>='Zoeken in Database'!$A$7,'Zoeken in Database'!$A$8>=D438),\"x\",\"\")","v":"x"}]
["Subways, The","Lowlands 2005","Biddinghuizen","2005-08-19",null,"Charlie","Festivaloptreden",8,2005,{"$f":"VLOOKUP(Table1[[#This Row],[Maand (getal)]],Lijst!A:B,2,FALSE)","v":"aug"},{"$f":"IFERROR(IF(ISBLANK('Zoeken in Database'!$D$3),\"x\",IF(SEARCH('Zoeken in Database'!$D$3,Concerten!A439,1),\"x\",\"\")),\"\")","v":"x"},{"$f":"IFERROR(IF(ISBLANK('Zoeken in Database'!$D$4),\"x\",IF(SEARCH('Zoeken in Database'!$D$4,Concerten!B439,1),\"x\",\"\")),\"\")","v":"x"},{"$f":"IFERROR(IF(ISBLANK('Zoeken in Database'!$D$5),\"x\",IF(SEARCH('Zoeken in Database'!$D$5,Concerten!C439,1),\"x\",\"\")),\"\")","v":"x"},{"$f":"IFERROR(IF(ISBLANK('Zoeken in Database'!$D$6),\"x\",IF(SEARCH('Zoeken in Database'!$D$6,Concerten!G439,1),\"x\",\"\")),\"\")","v":"x"},{"$f":"IF(AND(D439>='Zoeken in Database'!$A$7,'Zoeken in Database'!$A$8>=D439),\"x\",\"\")","v":"x"}]
["Tunstall, KT","Lowlands 2005","Biddinghuizen","2005-08-19",null,"Grolsch","Festivaloptreden",8,2005,{"$f":"VLOOKUP(Table1[[#This Row],[Maand (getal)]],Lijst!A:B,2,FALSE)","v":"aug"},{"$f":"IFERROR(IF(ISBLANK('Zoeken in Database'!$D$3),\"x\",IF(SEARCH('Zoeken in Database'!$D$3,Concerten!A440,1),\"x\",\"\")),\"\")","v":"x"},{"$f":"IFERROR(IF(ISBLANK('Zoeken in Database'!$D$4),\"x\",IF(SEARCH('Zoeken in Database'!$D$4,Concerten!B440,1),\"x\",\"\")),\"\")","v":"x"},{"$f":"IFERROR(IF(ISBLANK('Zoeken in Database'!$D$5),\"x\",IF(SEARCH('Zoeken in Database'!$D$5,Concerten!C440,1),\"x\",\"\")),\"\")","v":"x"},{"$f":"IFERROR(IF(ISBLANK('Zoeken in Database'!$D$6),\"x\",IF(SEARCH('Zoeken in Database'!$D$6,Concerten!G440,1),\"x\",\"\")),\"\")","v":"x"},{"$f":"IF(AND(D440>='Zoeken in Database'!$A$7,'Zoeken in Database'!$A$8>=D440),\"x\",\"\")","v":"x"}]
["Vek, Tom","Lowlands 2005","Biddinghuizen","2005-08-19",null,"Charlie","Festivaloptreden",8,2005,{"$f":"VLOOKUP(Table1[[#This Row],[Maand (getal)]],Lijst!A:B,2,FALSE)","v":"aug"},{"$f":"IFERROR(IF(ISBLANK('Zoeken in Database'!$D$3),\"x\",IF(SEARCH('Zoeken in Database'!$D$3,Concerten!A441,1),\"x\",\"\")),\"\")","v":"x"},{"$f":"IFERROR(IF(ISBLANK('Zoeken in Database'!$D$4),\"x\",IF(SEARCH('Zoeken in Database'!$D$4,Concerten!B441,1),\"x\",\"\")),\"\")","v":"x"},{"$f":"IFERROR(IF(ISBLANK('Zoeken in Database'!$D$5),\"x\",IF(SEARCH('Zoeken in Database'!$D$5,Concerten!C441,1),\"x\",\"\")),\"\")","v":"x"},{"$f":"IFERROR(IF(ISBLANK('Zoeken in Database'!$D$6),\"x\",IF(SEARCH('Zoeken in Database'!$D$6,Concerten!G441,1),\"x\",\"\")),\"\")","v":"x"},{"$f":"IF(AND(D441>='Zoeken in Database'!$A$7,'Zoeken in Database'!$A$8>=D441),\"x\",\"\")","v":"x"}]
["Arcade Fire, The","Lowlands 2005","Biddinghuizen","2005-08-20","Wake Up \nNeighborhood #2 (Laika) \nNo Cars Go \nHaïti \nHeadlights Look Like Diamonds \nI'm Sleeping in a Submarine \nCrown of Love \nNeighborhood #1 (Tunnels) \nNeighborhood #3 (Power Out) \nRebellion (Lies)\n","Grolsch","Festivaloptreden",8,2005,{"$f":"VLOOKUP(Table1[[#This Row],[Maand (getal)]],Lijst!A:B,2,FALSE)","v":"aug"},{"$f":"IFERROR(IF(ISBLANK('Zoeken in Database'!$D$3),\"x\",IF(SEARCH('Zoeken in Database'!$D$3,Concerten!A442,1),\"x\",\"\")),\"\")","v":"x"},{"$f":"IFERROR(IF(ISBLANK('Zoeken in Database'!$D$4),\"x\",IF(SEARCH('Zoeken in Database'!$D$4,Concerten!B442,1),\"x\",\"\")),\"\")","v":"x"},{"$f":"IFERROR(IF(ISBLANK('Zoeken in Database'!$D$5),\"x\",IF(SEARCH('Zoeken in Database'!$D$5,Concerten!C442,1),\"x\",\"\")),\"\")","v":"x"},{"$f":"IFERROR(IF(ISBLANK('Zoeken in Database'!$D$6),\"x\",IF(SEARCH('Zoeken in Database'!$D$6,Concerten!G442,1),\"x\",\"\")),\"\")","v":"x"},{"$f":"IF(AND(D442>='Zoeken in Database'!$A$7,'Zoeken in Database'!$A$8>=D442),\"x\",\"\")","v":"x"}]
["Art Brut","Lowlands 2005","Biddinghuizen","2005-08-20",null,"Charlie","Festivaloptreden",8,2005,{"$f":"VLOOKUP(Table1[[#This Row],[Maand (getal)]],Lijst!A:B,2,FALSE)","v":"aug"},{"$f":"IFERROR(IF(ISBLANK('Zoeken in Database'!$D$3),\"x\",IF(SEARCH('Zoeken in Database'!$D$3,Concerten!A443,1),\"x\",\"\")),\"\")","v":"x"},{"$f":"IFERROR(IF(ISBLANK('Zoeken in Database'!$D$4),\"x\",IF(SEARCH('Zoeken in Database'!$D$4,Concerten!B443,1),\"x\",\"\")),\"\")","v":"x"},{"$f":"IFERROR(IF(ISBLANK('Zoeken in Database'!$D$5),\"x\",IF(SEARCH('Zoeken in Database'!$D$5,Concerten!C443,1),\"x\",\"\")),\"\")","v":"x"},{"$f":"IFERROR(IF(ISBLANK('Zoeken in Database'!$D$6),\"x\",IF(SEARCH('Zoeken in Database'!$D$6,Concerten!G443,1),\"x\",\"\")),\"\")","v":"x"},{"$f":"IF(AND(D443>='Zoeken in Database'!$A$7,'Zoeken in Database'!$A$8>=D443),\"x\",\"\")","v":"x"}]
["Hackensaw Boys, The","Lowlands 2005","Biddinghuizen","2005-08-20",null,"Lima","Festivaloptreden",8,2005,{"$f":"VLOOKUP(Table1[[#This Row],[Maand (getal)]],Lijst!A:B,2,FALSE)","v":"aug"},{"$f":"IFERROR(IF(ISBLANK('Zoeken in Database'!$D$3),\"x\",IF(SEARCH('Zoeken in Database'!$D$3,Concerten!A444,1),\"x\",\"\")),\"\")","v":"x"},{"$f":"IFERROR(IF(ISBLANK('Zoeken in Database'!$D$4),\"x\",IF(SEARCH('Zoeken in Database'!$D$4,Concerten!B444,1),\"x\",\"\")),\"\")","v":"x"},{"$f":"IFERROR(IF(ISBLANK('Zoeken in Database'!$D$5),\"x\",IF(SEARCH('Zoeken in Database'!$D$5,Concerten!C444,1),\"x\",\"\")),\"\")","v":"x"},{"$f":"IFERROR(IF(ISBLANK('Zoeken in Database'!$D$6),\"x\",IF(SEARCH('Zoeken in Database'!$D$6,Concerten!G444,1),\"x\",\"\")),\"\")","v":"x"},{"$f":"IF(AND(D444>='Zoeken in Database'!$A$7,'Zoeken in Database'!$A$8>=D444),\"x\",\"\")","v":"x"}]
["Maxïmo Park","Lowlands 2005","Biddinghuizen","2005-08-20",null,"Charlie","Festivaloptreden",8,2005,{"$f":"VLOOKUP(Table1[[#This Row],[Maand (getal)]],Lijst!A:B,2,FALSE)","v":"aug"},{"$f":"IFERROR(IF(ISBLANK('Zoeken in Database'!$D$3),\"x\",IF(SEARCH('Zoeken in Database'!$D$3,Concerten!A445,1),\"x\",\"\")),\"\")","v":"x"},{"$f":"IFERROR(IF(ISBLANK('Zoeken in Database'!$D$4),\"x\",IF(SEARCH('Zoeken in Database'!$D$4,Concerten!B445,1),\"x\",\"\")),\"\")","v":"x"},{"$f":"IFERROR(IF(ISBLANK('Zoeken in Database'!$D$5),\"x\",IF(SEARCH('Zoeken in Database'!$D$5,Concerten!C445,1),\"x\",\"\")),\"\")","v":"x"},{"$f":"IFERROR(IF(ISBLANK('Zoeken in Database'!$D$6),\"x\",IF(SEARCH('Zoeken in Database'!$D$6,Concerten!G445,1),\"x\",\"\")),\"\")","v":"x"},{"$f":"IF(AND(D445>='Zoeken in Database'!$A$7,'Zoeken in Database'!$A$8>=D445),\"x\",\"\")","v":"x"}]
["Philly, Pete & Perquisite","Lowlands 2005","Biddinghuizen","2005-08-20",null,"India","Festivaloptreden",8,2005,{"$f":"VLOOKUP(Table1[[#This Row],[Maand (getal)]],Lijst!A:B,2,FALSE)","v":"aug"},{"$f":"IFERROR(IF(ISBLANK('Zoeken in Database'!$D$3),\"x\",IF(SEARCH('Zoeken in Database'!$D$3,Concerten!A446,1),\"x\",\"\")),\"\")","v":"x"},{"$f":"IFERROR(IF(ISBLANK('Zoeken in Database'!$D$4),\"x\",IF(SEARCH('Zoeken in Database'!$D$4,Concerten!B446,1),\"x\",\"\")),\"\")","v":"x"},{"$f":"IFERROR(IF(ISBLANK('Zoeken in Database'!$D$5),\"x\",IF(SEARCH('Zoeken in Database'!$D$5,Concerten!C446,1),\"x\",\"\")),\"\")","v":"x"},{"$f":"IFERROR(IF(ISBLANK('Zoeken in Database'!$D$6),\"x\",IF(SEARCH('Zoeken in Database'!$D$6,Concerten!G446,1),\"x\",\"\")),\"\")","v":"x"},{"$f":"IF(AND(D446>='Zoeken in Database'!$A$7,'Zoeken in Database'!$A$8>=D446),\"x\",\"\")","v":"x"}]
["That One Guy","Lowlands 2005","Biddinghuizen","2005-08-20",null,"Lima","Festivaloptreden",8,2005,{"$f":"VLOOKUP(Table1[[#This Row],[Maand (getal)]],Lijst!A:B,2,FALSE)","v":"aug"},{"$f":"IFERROR(IF(ISBLANK('Zoeken in Database'!$D$3),\"x\",IF(SEARCH('Zoeken in Database'!$D$3,Concerten!A447,1),\"x\",\"\")),\"\")","v":"x"},{"$f":"IFERROR(IF(ISBLANK('Zoeken in Database'!$D$4),\"x\",IF(SEARCH('Zoeken in Database'!$D$4,Concerten!B447,1),\"x\",\"\")),\"\")","v":"x"},{"$f":"IFERROR(IF(ISBLANK('Zoeken in Database'!$D$5),\"x\",IF(SEARCH('Zoeken in Database'!$D$5,Concerten!C447,1),\"x\",\"\")),\"\")","v":"x"},{"$f":"IFERROR(IF(ISBLANK('Zoeken in Database'!$D$6),\"x\",IF(SEARCH('Zoeken in Database'!$D$6,Concerten!G447,1),\"x\",\"\")),\"\")","v":"x"},{"$f":"IF(AND(D447>='Zoeken in Database'!$A$7,'Zoeken in Database'!$A$8>=D447),\"x\",\"\")","v":"x"}]
["zZz","Lowlands 2005","Biddinghuizen","2005-08-20",null,"India","Festivaloptreden",8,2005,{"$f":"VLOOKUP(Table1[[#This Row],[Maand (getal)]],Lijst!A:B,2,FALSE)","v":"aug"},{"$f":"IFERROR(IF(ISBLANK('Zoeken in Database'!$D$3),\"x\",IF(SEARCH('Zoeken in Database'!$D$3,Concerten!A448,1),\"x\",\"\")),\"\")","v":"x"},{"$f":"IFERROR(IF(ISBLANK('Zoeken in Database'!$D$4),\"x\",IF(SEARCH('Zoeken in Database'!$D$4,Concerten!B448,1),\"x\",\"\")),\"\")","v":"x"},{"$f":"IFERROR(IF(ISBLANK('Zoeken in Database'!$D$5),\"x\",IF(SEARCH('Zoeken in Database'!$D$5,Concerten!C448,1),\"x\",\"\")),\"\")","v":"x"},{"$f":"IFERROR(IF(ISBLANK('Zoeken in Database'!$D$6),\"x\",IF(SEARCH('Zoeken in Database'!$D$6,Concerten!G448,1),\"x\",\"\")),\"\")","v":"x"},{"$f":"IF(AND(D448>='Zoeken in Database'!$A$7,'Zoeken in Database'!$A$8>=D448),\"x\",\"\")","v":"x"}]
["Alkaline Trio","Lowlands 2005","Biddinghuizen","2005-08-21",null,"Charlie","Festivaloptreden",8,2005,{"$f":"VLOOKUP(Table1[[#This Row],[Maand (getal)]],Lijst!A:B,2,FALSE)","v":"aug"},{"$f":"IFERROR(IF(ISBLANK('Zoeken in Database'!$D$3),\"x\",IF(SEARCH('Zoeken in Database'!$D$3,Concerten!A449,1),\"x\",\"\")),\"\")","v":"x"},{"$f":"IFERROR(IF(ISBLANK('Zoeken in Database'!$D$4),\"x\",IF(SEARCH('Zoeken in Database'!$D$4,Concerten!B449,1),\"x\",\"\")),\"\")","v":"x"},{"$f":"IFERROR(IF(ISBLANK('Zoeken in Database'!$D$5),\"x\",IF(SEARCH('Zoeken in Database'!$D$5,Concerten!C449,1),\"x\",\"\")),\"\")","v":"x"},{"$f":"IFERROR(IF(ISBLANK('Zoeken in Database'!$D$6),\"x\",IF(SEARCH('Zoeken in Database'!$D$6,Concerten!G449,1),\"x\",\"\")),\"\")","v":"x"},{"$f":"IF(AND(D449>='Zoeken in Database'!$A$7,'Zoeken in Database'!$A$8>=D449),\"x\",\"\")","v":"x"}]
["Cave, Nick","Lowlands 2005","Biddinghuizen","2005-08-21","Get Ready For Love\nRed Right Hand\nHiding All Away\nMessiah Ward\nThe Ship Song\nTupelo\nSupernaturally\nThe Weeping Song\nBreathless\nDeanna\nO Children\nThe Mercy Seat\nThere She Goes My Beautiful World\n-----------------\nDo You Love Me\nStagger Lee","Grolsch","Festivaloptreden",8,2005,{"$f":"VLOOKUP(Table1[[#This Row],[Maand (getal)]],Lijst!A:B,2,FALSE)","v":"aug"},{"$f":"IFERROR(IF(ISBLANK('Zoeken in Database'!$D$3),\"x\",IF(SEARCH('Zoeken in Database'!$D$3,Concerten!A450,1),\"x\",\"\")),\"\")","v":"x"},{"$f":"IFERROR(IF(ISBLANK('Zoeken in Database'!$D$4),\"x\",IF(SEARCH('Zoeken in Database'!$D$4,Concerten!B450,1),\"x\",\"\")),\"\")","v":"x"},{"$f":"IFERROR(IF(ISBLANK('Zoeken in Database'!$D$5),\"x\",IF(SEARCH('Zoeken in Database'!$D$5,Concerten!C450,1),\"x\",\"\")),\"\")","v":"x"},{"$f":"IFERROR(IF(ISBLANK('Zoeken in Database'!$D$6),\"x\",IF(SEARCH('Zoeken in Database'!$D$6,Concerten!G450,1),\"x\",\"\")),\"\")","v":"x"},{"$f":"IF(AND(D450>='Zoeken in Database'!$A$7,'Zoeken in Database'!$A$8>=D450),\"x\",\"\")","v":"x"}]
["Enge Buren","Lowlands 2005","Biddinghuizen","2005-08-21",null,"Charlie","Festivaloptreden",{"$f":"IF(ISBLANK(D451),\"\",MONTH(D451))","v":8},{"$f":"IF(ISBLANK(D451),\"\",YEAR(D451))","v":2005},{"$f":"VLOOKUP(Table1[[#This Row],[Maand (getal)]],Lijst!A:B,2,FALSE)","v":"aug"},{"$f":"IFERROR(IF(ISBLANK('Zoeken in Database'!$D$3),\"x\",IF(SEARCH('Zoeken in Database'!$D$3,Concerten!A451,1),\"x\",\"\")),\"\")","v":"x"},{"$f":"IFERROR(IF(ISBLANK('Zoeken in Database'!$D$4),\"x\",IF(SEARCH('Zoeken in Database'!$D$4,Concerten!B451,1),\"x\",\"\")),\"\")","v":"x"},{"$f":"IFERROR(IF(ISBLANK('Zoeken in Database'!$D$5),\"x\",IF(SEARCH('Zoeken in Database'!$D$5,Concerten!C451,1),\"x\",\"\")),\"\")","v":"x"},{"$f":"IFERROR(IF(ISBLANK('Zoeken in Database'!$D$6),\"x\",IF(SEARCH('Zoeken in Database'!$D$6,Concerten!G451,1),\"x\",\"\")),\"\")","v":"x"},{"$f":"IF(AND(D451>='Zoeken in Database'!$A$7,'Zoeken in Database'!$A$8>=D451),\"x\",\"\")","v":"x"}]
["Morcheeba","Lowlands 2005","Biddinghuizen","2005-08-21",null,"Grolsch","Festivaloptreden",8,2005,{"$f":"VLOOKUP(Table1[[#This Row],[Maand (getal)]],Lijst!A:B,2,FALSE)","v":"aug"},{"$f":"IFERROR(IF(ISBLANK('Zoeken in Database'!$D$3),\"x\",IF(SEARCH('Zoeken in Database'!$D$3,Concerten!A452,1),\"x\",\"\")),\"\")","v":"x"},{"$f":"IFERROR(IF(ISBLANK('Zoeken in Database'!$D$4),\"x\",IF(SEARCH('Zoeken in Database'!$D$4,Concerten!B452,1),\"x\",\"\")),\"\")","v":"x"},{"$f":"IFERROR(IF(ISBLANK('Zoeken in Database'!$D$5),\"x\",IF(SEARCH('Zoeken in Database'!$D$5,Concerten!C452,1),\"x\",\"\")),\"\")","v":"x"},{"$f":"IFERROR(IF(ISBLANK('Zoeken in Database'!$D$6),\"x\",IF(SEARCH('Zoeken in Database'!$D$6,Concerten!G452,1),\"x\",\"\")),\"\")","v":"x"},{"$f":"IF(AND(D452>='Zoeken in Database'!$A$7,'Zoeken in Database'!$A$8>=D452),\"x\",\"\")","v":"x"}]
["Quit Your Dayjob","Lowlands 2005","Biddinghuizen","2005-08-21",null,"Charlie","Festivaloptreden",8,2005,{"$f":"VLOOKUP(Table1[[#This Row],[Maand (getal)]],Lijst!A:B,2,FALSE)","v":"aug"},{"$f":"IFERROR(IF(ISBLANK('Zoeken in Database'!$D$3),\"x\",IF(SEARCH('Zoeken in Database'!$D$3,Concerten!A453,1),\"x\",\"\")),\"\")","v":"x"},{"$f":"IFERROR(IF(ISBLANK('Zoeken in Database'!$D$4),\"x\",IF(SEARCH('Zoeken in Database'!$D$4,Concerten!B453,1),\"x\",\"\")),\"\")","v":"x"},{"$f":"IFERROR(IF(ISBLANK('Zoeken in Database'!$D$5),\"x\",IF(SEARCH('Zoeken in Database'!$D$5,Concerten!C453,1),\"x\",\"\")),\"\")","v":"x"},{"$f":"IFERROR(IF(ISBLANK('Zoeken in Database'!$D$6),\"x\",IF(SEARCH('Zoeken in Database'!$D$6,Concerten!G453,1),\"x\",\"\")),\"\")","v":"x"},{"$f":"IF(AND(D453>='Zoeken in Database'!$A$7,'Zoeken in Database'!$A$8>=D453),\"x\",\"\")","v":"x"}]
["Sons And Daughters","Lowlands 2005","Biddinghuizen","2005-08-21",null,"India","Festivaloptreden",8,2005,{"$f":"VLOOKUP(Table1[[#This Row],[Maand (getal)]],Lijst!A:B,2,FALSE)","v":"aug"},{"$f":"IFERROR(IF(ISBLANK('Zoeken in Database'!$D$3),\"x\",IF(SEARCH('Zoeken in Database'!$D$3,Concerten!A454,1),\"x\",\"\")),\"\")","v":"x"},{"$f":"IFERROR(IF(ISBLANK('Zoeken in Database'!$D$4),\"x\",IF(SEARCH('Zoeken in Database'!$D$4,Concerten!B454,1),\"x\",\"\")),\"\")","v":"x"},{"$f":"IFERROR(IF(ISBLANK('Zoeken in Database'!$D$5),\"x\",IF(SEARCH('Zoeken in Database'!$D$5,Concerten!C454,1),\"x\",\"\")),\"\")","v":"x"},{"$f":"IFERROR(IF(ISBLANK('Zoeken in Database'!$D$6),\"x\",IF(SEARCH('Zoeken in Database'!$D$6,Concerten!G454,1),\"x\",\"\")),\"\")","v":"x"},{"$f":"IF(AND(D454>='Zoeken in Database'!$A$7,'Zoeken in Database'!$A$8>=D454),\"x\",\"\")","v":"x"}]
["T. Raumschmiere & Band","Lowlands 2005","Biddinghuizen","2005-08-21",null,"India","Festivaloptreden",8,2005,{"$f":"VLOOKUP(Table1[[#This Row],[Maand (getal)]],Lijst!A:B,2,FALSE)","v":"aug"},{"$f":"IFERROR(IF(ISBLANK('Zoeken in Database'!$D$3),\"x\",IF(SEARCH('Zoeken in Database'!$D$3,Concerten!A455,1),\"x\",\"\")),\"\")","v":"x"},{"$f":"IFERROR(IF(ISBLANK('Zoeken in Database'!$D$4),\"x\",IF(SEARCH('Zoeken in Database'!$D$4,Concerten!B455,1),\"x\",\"\")),\"\")","v":"x"},{"$f":"IFERROR(IF(ISBLANK('Zoeken in Database'!$D$5),\"x\",IF(SEARCH('Zoeken in Database'!$D$5,Concerten!C455,1),\"x\",\"\")),\"\")","v":"x"},{"$f":"IFERROR(IF(ISBLANK('Zoeken in Database'!$D$6),\"x\",IF(SEARCH('Zoeken in Database'!$D$6,Concerten!G455,1),\"x\",\"\")),\"\")","v":"x"},{"$f":"IF(AND(D455>='Zoeken in Database'!$A$7,'Zoeken in Database'!$A$8>=D455),\"x\",\"\")","v":"x"}]
["Viva Voce","Lowlands 2005","Biddinghuizen","2005-08-21",null,"India","Festivaloptreden",8,2005,{"$f":"VLOOKUP(Table1[[#This Row],[Maand (getal)]],Lijst!A:B,2,FALSE)","v":"aug"},{"$f":"IFERROR(IF(ISBLANK('Zoeken in Database'!$D$3),\"x\",IF(SEARCH('Zoeken in Database'!$D$3,Concerten!A456,1),\"x\",\"\")),\"\")","v":"x"},{"$f":"IFERROR(IF(ISBLANK('Zoeken in Database'!$D$4),\"x\",IF(SEARCH('Zoeken in Database'!$D$4,Concerten!B456,1),\"x\",\"\")),\"\")","v":"x"},{"$f":"IFERROR(IF(ISBLANK('Zoeken in Database'!$D$5),\"x\",IF(SEARCH('Zoeken in Database'!$D$5,Concerten!C456,1),\"x\",\"\")),\"\")","v":"x"},{"$f":"IFERROR(IF(ISBLANK('Zoeken in Database'!$D$6),\"x\",IF(SEARCH('Zoeken in Database'!$D$6,Concerten!G456,1),\"x\",\"\")),\"\")","v":"x"},{"$f":"IF(AND(D456>='Zoeken in Database'!$A$7,'Zoeken in Database'!$A$8>=D456),\"x\",\"\")","v":"x"}]
["Voicst ","Lowlands 2005","Biddinghuizen","2005-08-21",null,"Charlie","Festivaloptreden",8,2005,{"$f":"VLOOKUP(Table1[[#This Row],[Maand (getal)]],Lijst!A:B,2,FALSE)","v":"aug"},{"$f":"IFERROR(IF(ISBLANK('Zoeken in Database'!$D$3),\"x\",IF(SEARCH('Zoeken in Database'!$D$3,Concerten!A457,1),\"x\",\"\")),\"\")","v":"x"},{"$f":"IFERROR(IF(ISBLANK('Zoeken in Database'!$D$4),\"x\",IF(SEARCH('Zoeken in Database'!$D$4,Concerten!B457,1),\"x\",\"\")),\"\")","v":"x"},{"$f":"IFERROR(IF(ISBLANK('Zoeken in Database'!$D$5),\"x\",IF(SEARCH('Zoeken in Database'!$D$5,Concerten!C457,1),\"x\",\"\")),\"\")","v":"x"},{"$f":"IFERROR(IF(ISBLANK('Zoeken in Database'!$D$6),\"x\",IF(SEARCH('Zoeken in Database'!$D$6,Concerten!G457,1),\"x\",\"\")),\"\")","v":"x"},{"$f":"IF(AND(D457>='Zoeken in Database'!$A$7,'Zoeken in Database'!$A$8>=D457),\"x\",\"\")","v":"x"}]
["Rice, Johnathan","Paradiso","Amsterdam","2005-09-12",null,null,"Voorprogramma",9,2005,{"$f":"VLOOKUP(Table1[[#This Row],[Maand (getal)]],Lijst!A:B,2,FALSE)","v":"sep"},{"$f":"IFERROR(IF(ISBLANK('Zoeken in Database'!$D$3),\"x\",IF(SEARCH('Zoeken in Database'!$D$3,Concerten!A458,1),\"x\",\"\")),\"\")","v":"x"},{"$f":"IFERROR(IF(ISBLANK('Zoeken in Database'!$D$4),\"x\",IF(SEARCH('Zoeken in Database'!$D$4,Concerten!B458,1),\"x\",\"\")),\"\")","v":"x"},{"$f":"IFERROR(IF(ISBLANK('Zoeken in Database'!$D$5),\"x\",IF(SEARCH('Zoeken in Database'!$D$5,Concerten!C458,1),\"x\",\"\")),\"\")","v":"x"},{"$f":"IFERROR(IF(ISBLANK('Zoeken in Database'!$D$6),\"x\",IF(SEARCH('Zoeken in Database'!$D$6,Concerten!G458,1),\"x\",\"\")),\"\")","v":"x"},{"$f":"IF(AND(D458>='Zoeken in Database'!$A$7,'Zoeken in Database'!$A$8>=D458),\"x\",\"\")","v":"x"}]
["Wilco","Paradiso","Amsterdam","2005-09-12","01) Sunken Treasure\n02) Hell Is Chrome\n03) Company In My Back\n04) Handshake Drugs\n05) Break Your Heart\n06) Muzzle Of Bees\n07) Shot In The Arm\n08) At Least That's …\n09) Via Chicago\n10) Jesus Etc…\n11) Hummingbird\n12) War On War\n13) I'm The Man\n14) Spiders\n------------\n15) Misunderstood\n16) Far Far Away\n17) Walken\n18) Kingpin\n19) The Late Greats\n------------\n20) I'm A Wheel\n21) Something In The Air (Thunderclap Newman)\n22) I Shall Be Released (Bob Dylan)",null,"Hoofdprogramma",9,2005,{"$f":"VLOOKUP(Table1[[#This Row],[Maand (getal)]],Lijst!A:B,2,FALSE)","v":"sep"},{"$f":"IFERROR(IF(ISBLANK('Zoeken in Database'!$D$3),\"x\",IF(SEARCH('Zoeken in Database'!$D$3,Concerten!A459,1),\"x\",\"\")),\"\")","v":"x"},{"$f":"IFERROR(IF(ISBLANK('Zoeken in Database'!$D$4),\"x\",IF(SEARCH('Zoeken in Database'!$D$4,Concerten!B459,1),\"x\",\"\")),\"\")","v":"x"},{"$f":"IFERROR(IF(ISBLANK('Zoeken in Database'!$D$5),\"x\",IF(SEARCH('Zoeken in Database'!$D$5,Concerten!C459,1),\"x\",\"\")),\"\")","v":"x"},{"$f":"IFERROR(IF(ISBLANK('Zoeken in Database'!$D$6),\"x\",IF(SEARCH('Zoeken in Database'!$D$6,Concerten!G459,1),\"x\",\"\")),\"\")","v":"x"},{"$f":"IF(AND(D459>='Zoeken in Database'!$A$7,'Zoeken in Database'!$A$8>=D459),\"x\",\"\")","v":"x"}]
["Two Cow Garage","Perron 55","Venlo","2005-09-24",null,null,"Hoofdprogramma",9,2005,{"$f":"VLOOKUP(Table1[[#This Row],[Maand (getal)]],Lijst!A:B,2,FALSE)","v":"sep"},{"$f":"IFERROR(IF(ISBLANK('Zoeken in Database'!$D$3),\"x\",IF(SEARCH('Zoeken in Database'!$D$3,Concerten!A460,1),\"x\",\"\")),\"\")","v":"x"},{"$f":"IFERROR(IF(ISBLANK('Zoeken in Database'!$D$4),\"x\",IF(SEARCH('Zoeken in Database'!$D$4,Concerten!B460,1),\"x\",\"\")),\"\")","v":"x"},{"$f":"IFERROR(IF(ISBLANK('Zoeken in Database'!$D$5),\"x\",IF(SEARCH('Zoeken in Database'!$D$5,Concerten!C460,1),\"x\",\"\")),\"\")","v":"x"},{"$f":"IFERROR(IF(ISBLANK('Zoeken in Database'!$D$6),\"x\",IF(SEARCH('Zoeken in Database'!$D$6,Concerten!G460,1),\"x\",\"\")),\"\")","v":"x"},{"$f":"IF(AND(D460>='Zoeken in Database'!$A$7,'Zoeken in Database'!$A$8>=D460),\"x\",\"\")","v":"x"}]
["Abynthe Minded","Tivoli Oudegracht","Utrecht","2005-10-23",null,null,"Voorprogramma",10,2005,{"$f":"VLOOKUP(Table1[[#This Row],[Maand (getal)]],Lijst!A:B,2,FALSE)","v":"okt"},{"$f":"IFERROR(IF(ISBLANK('Zoeken in Database'!$D$3),\"x\",IF(SEARCH('Zoeken in Database'!$D$3,Concerten!A461,1),\"x\",\"\")),\"\")","v":"x"},{"$f":"IFERROR(IF(ISBLANK('Zoeken in Database'!$D$4),\"x\",IF(SEARCH('Zoeken in Database'!$D$4,Concerten!B461,1),\"x\",\"\")),\"\")","v":"x"},{"$f":"IFERROR(IF(ISBLANK('Zoeken in Database'!$D$5),\"x\",IF(SEARCH('Zoeken in Database'!$D$5,Concerten!C461,1),\"x\",\"\")),\"\")","v":"x"},{"$f":"IFERROR(IF(ISBLANK('Zoeken in Database'!$D$6),\"x\",IF(SEARCH('Zoeken in Database'!$D$6,Concerten!G461,1),\"x\",\"\")),\"\")","v":"x"},{"$f":"IF(AND(D461>='Zoeken in Database'!$A$7,'Zoeken in Database'!$A$8>=D461),\"x\",\"\")","v":"x"}]
["Deus","Tivoli Oudegracht","Utrecht","2005-10-23","01 Pocket Revolution \n02 Magdalena \n03 Cold Sun of Circumstance \n04 Instant Street \n05 Fell off the Floor, Man \n06 Stop-Start Nature \n07 The Real Sugar \n08 W.C.S \n09 IFDGWYW \n10 Turnpike \n11 Assault on Magnus  \n12 Roses\n13 Nothing Really Ends \n14 Sun Ra \n------------\n15 Bad Timing\n16 Serpentine\n17 Little Arithmetics \n18 What We Talk About \n19 Suds ‘n Soda\n",null,"Hoofdprogramma",10,2005,{"$f":"VLOOKUP(Table1[[#This Row],[Maand (getal)]],Lijst!A:B,2,FALSE)","v":"okt"},{"$f":"IFERROR(IF(ISBLANK('Zoeken in Database'!$D$3),\"x\",IF(SEARCH('Zoeken in Database'!$D$3,Concerten!A462,1),\"x\",\"\")),\"\")","v":"x"},{"$f":"IFERROR(IF(ISBLANK('Zoeken in Database'!$D$4),\"x\",IF(SEARCH('Zoeken in Database'!$D$4,Concerten!B462,1),\"x\",\"\")),\"\")","v":"x"},{"$f":"IFERROR(IF(ISBLANK('Zoeken in Database'!$D$5),\"x\",IF(SEARCH('Zoeken in Database'!$D$5,Concerten!C462,1),\"x\",\"\")),\"\")","v":"x"},{"$f":"IFERROR(IF(ISBLANK('Zoeken in Database'!$D$6),\"x\",IF(SEARCH('Zoeken in Database'!$D$6,Concerten!G462,1),\"x\",\"\")),\"\")","v":"x"},{"$f":"IF(AND(D462>='Zoeken in Database'!$A$7,'Zoeken in Database'!$A$8>=D462),\"x\",\"\")","v":"x"}]
["McRae, Tom","Tivoli Oudegracht","Utrecht","2005-10-26","Mermaid Blues (A Capella)\nKaraoke Soul \nHTWWW \nEnd Of The World News \nIt Ain't You \nFor The Restless \nA & B Song \nWalking 2 Hawaii \nHummingbird \nSeo Paulo Rain \nSilent Blvd \nLanguage Of Fools \n=== \nStill Lost \nStreetlight (with Joe Purdy and band) \nBubblegun \n=== \nOne More Mile \nBloodless\n",null,"Hoofdprogramma",10,2005,{"$f":"VLOOKUP(Table1[[#This Row],[Maand (getal)]],Lijst!A:B,2,FALSE)","v":"okt"},{"$f":"IFERROR(IF(ISBLANK('Zoeken in Database'!$D$3),\"x\",IF(SEARCH('Zoeken in Database'!$D$3,Concerten!A463,1),\"x\",\"\")),\"\")","v":"x"},{"$f":"IFERROR(IF(ISBLANK('Zoeken in Database'!$D$4),\"x\",IF(SEARCH('Zoeken in Database'!$D$4,Concerten!B463,1),\"x\",\"\")),\"\")","v":"x"},{"$f":"IFERROR(IF(ISBLANK('Zoeken in Database'!$D$5),\"x\",IF(SEARCH('Zoeken in Database'!$D$5,Concerten!C463,1),\"x\",\"\")),\"\")","v":"x"},{"$f":"IFERROR(IF(ISBLANK('Zoeken in Database'!$D$6),\"x\",IF(SEARCH('Zoeken in Database'!$D$6,Concerten!G463,1),\"x\",\"\")),\"\")","v":"x"},{"$f":"IF(AND(D463>='Zoeken in Database'!$A$7,'Zoeken in Database'!$A$8>=D463),\"x\",\"\")","v":"x"}]
["Purdy, Joe","Tivoli Oudegracht","Utrecht","2005-10-26",null,null,"Voorprogramma",10,2005,{"$f":"VLOOKUP(Table1[[#This Row],[Maand (getal)]],Lijst!A:B,2,FALSE)","v":"okt"},{"$f":"IFERROR(IF(ISBLANK('Zoeken in Database'!$D$3),\"x\",IF(SEARCH('Zoeken in Database'!$D$3,Concerten!A464,1),\"x\",\"\")),\"\")","v":"x"},{"$f":"IFERROR(IF(ISBLANK('Zoeken in Database'!$D$4),\"x\",IF(SEARCH('Zoeken in Database'!$D$4,Concerten!B464,1),\"x\",\"\")),\"\")","v":"x"},{"$f":"IFERROR(IF(ISBLANK('Zoeken in Database'!$D$5),\"x\",IF(SEARCH('Zoeken in Database'!$D$5,Concerten!C464,1),\"x\",\"\")),\"\")","v":"x"},{"$f":"IFERROR(IF(ISBLANK('Zoeken in Database'!$D$6),\"x\",IF(SEARCH('Zoeken in Database'!$D$6,Concerten!G464,1),\"x\",\"\")),\"\")","v":"x"},{"$f":"IF(AND(D464>='Zoeken in Database'!$A$7,'Zoeken in Database'!$A$8>=D464),\"x\",\"\")","v":"x"}]
["My Brightest Diamond","Paradiso","Amsterdam","2005-10-27",null,null,"Voorprogramma",10,2005,{"$f":"VLOOKUP(Table1[[#This Row],[Maand (getal)]],Lijst!A:B,2,FALSE)","v":"okt"},{"$f":"IFERROR(IF(ISBLANK('Zoeken in Database'!$D$3),\"x\",IF(SEARCH('Zoeken in Database'!$D$3,Concerten!A465,1),\"x\",\"\")),\"\")","v":"x"},{"$f":"IFERROR(IF(ISBLANK('Zoeken in Database'!$D$4),\"x\",IF(SEARCH('Zoeken in Database'!$D$4,Concerten!B465,1),\"x\",\"\")),\"\")","v":"x"},{"$f":"IFERROR(IF(ISBLANK('Zoeken in Database'!$D$5),\"x\",IF(SEARCH('Zoeken in Database'!$D$5,Concerten!C465,1),\"x\",\"\")),\"\")","v":"x"},{"$f":"IFERROR(IF(ISBLANK('Zoeken in Database'!$D$6),\"x\",IF(SEARCH('Zoeken in Database'!$D$6,Concerten!G465,1),\"x\",\"\")),\"\")","v":"x"},{"$f":"IF(AND(D465>='Zoeken in Database'!$A$7,'Zoeken in Database'!$A$8>=D465),\"x\",\"\")","v":"x"}]
["Stevens, Sufjan","Paradiso","Amsterdam","2005-10-27","50 states\nThe Tallest Man, the Broadest Shoulders\nConcerning the UFO Sighting Near Highland, IL\nThey Are Night Zombies!! They Are Neighbors!! They Have Come Back From the Dead!! Ahhhhh!\nJacksonville\nCasimir Pulaski Day\nChicago\nThe Predatory Wasp of the Palisades Is Out to Get Us!\nA Good Man Is Hard To Find\nJohn Wayne Gacy Jr.\nAll The Trees Of The Field Will Clap Their Hands\nSeven Swans\n-\nThe Man Of Metropolis Steals Our Hearts\n-\nRomulus \n",null,"Hoofdprogramma",10,2005,{"$f":"VLOOKUP(Table1[[#This Row],[Maand (getal)]],Lijst!A:B,2,FALSE)","v":"okt"},{"$f":"IFERROR(IF(ISBLANK('Zoeken in Database'!$D$3),\"x\",IF(SEARCH('Zoeken in Database'!$D$3,Concerten!A466,1),\"x\",\"\")),\"\")","v":"x"},{"$f":"IFERROR(IF(ISBLANK('Zoeken in Database'!$D$4),\"x\",IF(SEARCH('Zoeken in Database'!$D$4,Concerten!B466,1),\"x\",\"\")),\"\")","v":"x"},{"$f":"IFERROR(IF(ISBLANK('Zoeken in Database'!$D$5),\"x\",IF(SEARCH('Zoeken in Database'!$D$5,Concerten!C466,1),\"x\",\"\")),\"\")","v":"x"},{"$f":"IFERROR(IF(ISBLANK('Zoeken in Database'!$D$6),\"x\",IF(SEARCH('Zoeken in Database'!$D$6,Concerten!G466,1),\"x\",\"\")),\"\")","v":"x"},{"$f":"IF(AND(D466>='Zoeken in Database'!$A$7,'Zoeken in Database'!$A$8>=D466),\"x\",\"\")","v":"x"}]
["Dylan, Bob","Ahoy","Rotterdam","2005-10-28","1. Maggie's Farm \n2. Tonight I'll Be Staying Here With You \n3. Watching The River Flow \n4. Lay, Lady, Lay \n5. Stuck Inside Of Mobile With The Memphis Blues Again\n6. Blind Willie McTell \n7. I'll Be Your Baby Tonight \n8. Ballad Of A Thin Man \n9. I Don't Believe You (She Acts Like We Never Have Met) \n10. Love Sick \n11. Tangled Up In Blue (acoustic) \n12. Down Along The Cove \n13. Chimes Of Freedom \n14. Highway 61 Revisited \n------\n15.  Like A Rolling Stone \n16.  All Along The Watchtower ",null,"Hoofdprogramma",10,2005,{"$f":"VLOOKUP(Table1[[#This Row],[Maand (getal)]],Lijst!A:B,2,FALSE)","v":"okt"},{"$f":"IFERROR(IF(ISBLANK('Zoeken in Database'!$D$3),\"x\",IF(SEARCH('Zoeken in Database'!$D$3,Concerten!A467,1),\"x\",\"\")),\"\")","v":"x"},{"$f":"IFERROR(IF(ISBLANK('Zoeken in Database'!$D$4),\"x\",IF(SEARCH('Zoeken in Database'!$D$4,Concerten!B467,1),\"x\",\"\")),\"\")","v":"x"},{"$f":"IFERROR(IF(ISBLANK('Zoeken in Database'!$D$5),\"x\",IF(SEARCH('Zoeken in Database'!$D$5,Concerten!C467,1),\"x\",\"\")),\"\")","v":"x"},{"$f":"IFERROR(IF(ISBLANK('Zoeken in Database'!$D$6),\"x\",IF(SEARCH('Zoeken in Database'!$D$6,Concerten!G467,1),\"x\",\"\")),\"\")","v":"x"},{"$f":"IF(AND(D467>='Zoeken in Database'!$A$7,'Zoeken in Database'!$A$8>=D467),\"x\",\"\")","v":"x"}]
["Coral, The","Heineken Music Hall","Amsterdam","2005-11-02",null,null,"Voorprogramma",11,2005,{"$f":"VLOOKUP(Table1[[#This Row],[Maand (getal)]],Lijst!A:B,2,FALSE)","v":"nov"},{"$f":"IFERROR(IF(ISBLANK('Zoeken in Database'!$D$3),\"x\",IF(SEARCH('Zoeken in Database'!$D$3,Concerten!A468,1),\"x\",\"\")),\"\")","v":"x"},{"$f":"IFERROR(IF(ISBLANK('Zoeken in Database'!$D$4),\"x\",IF(SEARCH('Zoeken in Database'!$D$4,Concerten!B468,1),\"x\",\"\")),\"\")","v":"x"},{"$f":"IFERROR(IF(ISBLANK('Zoeken in Database'!$D$5),\"x\",IF(SEARCH('Zoeken in Database'!$D$5,Concerten!C468,1),\"x\",\"\")),\"\")","v":"x"},{"$f":"IFERROR(IF(ISBLANK('Zoeken in Database'!$D$6),\"x\",IF(SEARCH('Zoeken in Database'!$D$6,Concerten!G468,1),\"x\",\"\")),\"\")","v":"x"},{"$f":"IF(AND(D468>='Zoeken in Database'!$A$7,'Zoeken in Database'!$A$8>=D468),\"x\",\"\")","v":"x"}]
["Oasis","Heineken Music Hall","Amsterdam","2005-11-02","Fuckin' in the bushes \nTurn up the sun \nLyla \nBring it on down \nMorning Glory \nCigarettes & Alcohol \nThe importance of being idle \nThe masterplan \nSongbird \nA bell will ring \nAcquiesce \nLive forever \nMucky Fingers \nWonderwall \nChampagne Supernova \nRock 'n' Roll Star \nGuess god thinks I'm abel \nThe meaning of soul \nDon't look back in anger \nMy generation\n",null,"Hoofdprogramma",11,2005,{"$f":"VLOOKUP(Table1[[#This Row],[Maand (getal)]],Lijst!A:B,2,FALSE)","v":"nov"},{"$f":"IFERROR(IF(ISBLANK('Zoeken in Database'!$D$3),\"x\",IF(SEARCH('Zoeken in Database'!$D$3,Concerten!A469,1),\"x\",\"\")),\"\")","v":"x"},{"$f":"IFERROR(IF(ISBLANK('Zoeken in Database'!$D$4),\"x\",IF(SEARCH('Zoeken in Database'!$D$4,Concerten!B469,1),\"x\",\"\")),\"\")","v":"x"},{"$f":"IFERROR(IF(ISBLANK('Zoeken in Database'!$D$5),\"x\",IF(SEARCH('Zoeken in Database'!$D$5,Concerten!C469,1),\"x\",\"\")),\"\")","v":"x"},{"$f":"IFERROR(IF(ISBLANK('Zoeken in Database'!$D$6),\"x\",IF(SEARCH('Zoeken in Database'!$D$6,Concerten!G469,1),\"x\",\"\")),\"\")","v":"x"},{"$f":"IF(AND(D469>='Zoeken in Database'!$A$7,'Zoeken in Database'!$A$8>=D469),\"x\",\"\")","v":"x"}]
["Ashton Brothers","Schouwburg Cuijk","Cuijk","2005-11-04",null,null,"Theater",11,2005,{"$f":"VLOOKUP(Table1[[#This Row],[Maand (getal)]],Lijst!A:B,2,FALSE)","v":"nov"},{"$f":"IFERROR(IF(ISBLANK('Zoeken in Database'!$D$3),\"x\",IF(SEARCH('Zoeken in Database'!$D$3,Concerten!A470,1),\"x\",\"\")),\"\")","v":"x"},{"$f":"IFERROR(IF(ISBLANK('Zoeken in Database'!$D$4),\"x\",IF(SEARCH('Zoeken in Database'!$D$4,Concerten!B470,1),\"x\",\"\")),\"\")","v":"x"},{"$f":"IFERROR(IF(ISBLANK('Zoeken in Database'!$D$5),\"x\",IF(SEARCH('Zoeken in Database'!$D$5,Concerten!C470,1),\"x\",\"\")),\"\")","v":"x"},{"$f":"IFERROR(IF(ISBLANK('Zoeken in Database'!$D$6),\"x\",IF(SEARCH('Zoeken in Database'!$D$6,Concerten!G470,1),\"x\",\"\")),\"\")","v":"x"},{"$f":"IF(AND(D470>='Zoeken in Database'!$A$7,'Zoeken in Database'!$A$8>=D470),\"x\",\"\")","v":"x"}]
["Clap Your Hands Say Yeah!","Paradiso","Amsterdam","2005-11-12",null,"Bovenzaal","Hoofdprogramma",11,2005,{"$f":"VLOOKUP(Table1[[#This Row],[Maand (getal)]],Lijst!A:B,2,FALSE)","v":"nov"},{"$f":"IFERROR(IF(ISBLANK('Zoeken in Database'!$D$3),\"x\",IF(SEARCH('Zoeken in Database'!$D$3,Concerten!A471,1),\"x\",\"\")),\"\")","v":"x"},{"$f":"IFERROR(IF(ISBLANK('Zoeken in Database'!$D$4),\"x\",IF(SEARCH('Zoeken in Database'!$D$4,Concerten!B471,1),\"x\",\"\")),\"\")","v":"x"},{"$f":"IFERROR(IF(ISBLANK('Zoeken in Database'!$D$5),\"x\",IF(SEARCH('Zoeken in Database'!$D$5,Concerten!C471,1),\"x\",\"\")),\"\")","v":"x"},{"$f":"IFERROR(IF(ISBLANK('Zoeken in Database'!$D$6),\"x\",IF(SEARCH('Zoeken in Database'!$D$6,Concerten!G471,1),\"x\",\"\")),\"\")","v":"x"},{"$f":"IF(AND(D471>='Zoeken in Database'!$A$7,'Zoeken in Database'!$A$8>=D471),\"x\",\"\")","v":"x"}]
["Bonham, Tracy","Tivoli Oudegracht","Utrecht","2005-11-13",null,null,"Voorprogramma",11,2005,{"$f":"VLOOKUP(Table1[[#This Row],[Maand (getal)]],Lijst!A:B,2,FALSE)","v":"nov"},{"$f":"IFERROR(IF(ISBLANK('Zoeken in Database'!$D$3),\"x\",IF(SEARCH('Zoeken in Database'!$D$3,Concerten!A472,1),\"x\",\"\")),\"\")","v":"x"},{"$f":"IFERROR(IF(ISBLANK('Zoeken in Database'!$D$4),\"x\",IF(SEARCH('Zoeken in Database'!$D$4,Concerten!B472,1),\"x\",\"\")),\"\")","v":"x"},{"$f":"IFERROR(IF(ISBLANK('Zoeken in Database'!$D$5),\"x\",IF(SEARCH('Zoeken in Database'!$D$5,Concerten!C472,1),\"x\",\"\")),\"\")","v":"x"},{"$f":"IFERROR(IF(ISBLANK('Zoeken in Database'!$D$6),\"x\",IF(SEARCH('Zoeken in Database'!$D$6,Concerten!G472,1),\"x\",\"\")),\"\")","v":"x"},{"$f":"IF(AND(D472>='Zoeken in Database'!$A$7,'Zoeken in Database'!$A$8>=D472),\"x\",\"\")","v":"x"}]
["Frames, The","Tivoli Oudegracht","Utrecht","2005-11-13","Keepsake\nFinally\nLay Me Down\nDream Awake\nGod Bless Mom\nSo What Happens When The Heart Just Stops\nPeople Get Ready\nPavement Tune\nFake\nUnderglass\nYour Face\nRevelate\nFriends And Foe\n----------------------\nLeave\nStar Star\nFitzcarraldo\n",null,"Hoofdprogramma",11,2005,{"$f":"VLOOKUP(Table1[[#This Row],[Maand (getal)]],Lijst!A:B,2,FALSE)","v":"nov"},{"$f":"IFERROR(IF(ISBLANK('Zoeken in Database'!$D$3),\"x\",IF(SEARCH('Zoeken in Database'!$D$3,Concerten!A473,1),\"x\",\"\")),\"\")","v":"x"},{"$f":"IFERROR(IF(ISBLANK('Zoeken in Database'!$D$4),\"x\",IF(SEARCH('Zoeken in Database'!$D$4,Concerten!B473,1),\"x\",\"\")),\"\")","v":"x"},{"$f":"IFERROR(IF(ISBLANK('Zoeken in Database'!$D$5),\"x\",IF(SEARCH('Zoeken in Database'!$D$5,Concerten!C473,1),\"x\",\"\")),\"\")","v":"x"},{"$f":"IFERROR(IF(ISBLANK('Zoeken in Database'!$D$6),\"x\",IF(SEARCH('Zoeken in Database'!$D$6,Concerten!G473,1),\"x\",\"\")),\"\")","v":"x"},{"$f":"IF(AND(D473>='Zoeken in Database'!$A$7,'Zoeken in Database'!$A$8>=D473),\"x\",\"\")","v":"x"}]
["Giphart & Chabot met Bril","Schouwburg Cuijk","Cuijk","2005-11-16",null,"Ronald Giphart, Bart Chabot en Martin Bril","Theater",11,2005,{"$f":"VLOOKUP(Table1[[#This Row],[Maand (getal)]],Lijst!A:B,2,FALSE)","v":"nov"},{"$f":"IFERROR(IF(ISBLANK('Zoeken in Database'!$D$3),\"x\",IF(SEARCH('Zoeken in Database'!$D$3,Concerten!A474,1),\"x\",\"\")),\"\")","v":"x"},{"$f":"IFERROR(IF(ISBLANK('Zoeken in Database'!$D$4),\"x\",IF(SEARCH('Zoeken in Database'!$D$4,Concerten!B474,1),\"x\",\"\")),\"\")","v":"x"},{"$f":"IFERROR(IF(ISBLANK('Zoeken in Database'!$D$5),\"x\",IF(SEARCH('Zoeken in Database'!$D$5,Concerten!C474,1),\"x\",\"\")),\"\")","v":"x"},{"$f":"IFERROR(IF(ISBLANK('Zoeken in Database'!$D$6),\"x\",IF(SEARCH('Zoeken in Database'!$D$6,Concerten!G474,1),\"x\",\"\")),\"\")","v":"x"},{"$f":"IF(AND(D474>='Zoeken in Database'!$A$7,'Zoeken in Database'!$A$8>=D474),\"x\",\"\")","v":"x"}]
["Hek, Youp Van 't","Schouwburg Cuijk","Cuijk","2005-11-23",null,"Het Zelfmoordcommando","Theater",11,2005,{"$f":"VLOOKUP(Table1[[#This Row],[Maand (getal)]],Lijst!A:B,2,FALSE)","v":"nov"},{"$f":"IFERROR(IF(ISBLANK('Zoeken in Database'!$D$3),\"x\",IF(SEARCH('Zoeken in Database'!$D$3,Concerten!A475,1),\"x\",\"\")),\"\")","v":"x"},{"$f":"IFERROR(IF(ISBLANK('Zoeken in Database'!$D$4),\"x\",IF(SEARCH('Zoeken in Database'!$D$4,Concerten!B475,1),\"x\",\"\")),\"\")","v":"x"},{"$f":"IFERROR(IF(ISBLANK('Zoeken in Database'!$D$5),\"x\",IF(SEARCH('Zoeken in Database'!$D$5,Concerten!C475,1),\"x\",\"\")),\"\")","v":"x"},{"$f":"IFERROR(IF(ISBLANK('Zoeken in Database'!$D$6),\"x\",IF(SEARCH('Zoeken in Database'!$D$6,Concerten!G475,1),\"x\",\"\")),\"\")","v":"x"},{"$f":"IF(AND(D475>='Zoeken in Database'!$A$7,'Zoeken in Database'!$A$8>=D475),\"x\",\"\")","v":"x"}]
["Guzman, Javier","Schouwburg Cuijk","Cuijk","2005-11-25",null,"Ton Zuur","Theater",11,2005,{"$f":"VLOOKUP(Table1[[#This Row],[Maand (getal)]],Lijst!A:B,2,FALSE)","v":"nov"},{"$f":"IFERROR(IF(ISBLANK('Zoeken in Database'!$D$3),\"x\",IF(SEARCH('Zoeken in Database'!$D$3,Concerten!A476,1),\"x\",\"\")),\"\")","v":"x"},{"$f":"IFERROR(IF(ISBLANK('Zoeken in Database'!$D$4),\"x\",IF(SEARCH('Zoeken in Database'!$D$4,Concerten!B476,1),\"x\",\"\")),\"\")","v":"x"},{"$f":"IFERROR(IF(ISBLANK('Zoeken in Database'!$D$5),\"x\",IF(SEARCH('Zoeken in Database'!$D$5,Concerten!C476,1),\"x\",\"\")),\"\")","v":"x"},{"$f":"IFERROR(IF(ISBLANK('Zoeken in Database'!$D$6),\"x\",IF(SEARCH('Zoeken in Database'!$D$6,Concerten!G476,1),\"x\",\"\")),\"\")","v":"x"},{"$f":"IF(AND(D476>='Zoeken in Database'!$A$7,'Zoeken in Database'!$A$8>=D476),\"x\",\"\")","v":"x"}]
["Wainwright, Martha","Paradiso","Amsterdam","2005-11-26",null,null,"Voorprogramma",11,2005,{"$f":"VLOOKUP(Table1[[#This Row],[Maand (getal)]],Lijst!A:B,2,FALSE)","v":"nov"},{"$f":"IFERROR(IF(ISBLANK('Zoeken in Database'!$D$3),\"x\",IF(SEARCH('Zoeken in Database'!$D$3,Concerten!A477,1),\"x\",\"\")),\"\")","v":"x"},{"$f":"IFERROR(IF(ISBLANK('Zoeken in Database'!$D$4),\"x\",IF(SEARCH('Zoeken in Database'!$D$4,Concerten!B477,1),\"x\",\"\")),\"\")","v":"x"},{"$f":"IFERROR(IF(ISBLANK('Zoeken in Database'!$D$5),\"x\",IF(SEARCH('Zoeken in Database'!$D$5,Concerten!C477,1),\"x\",\"\")),\"\")","v":"x"},{"$f":"IFERROR(IF(ISBLANK('Zoeken in Database'!$D$6),\"x\",IF(SEARCH('Zoeken in Database'!$D$6,Concerten!G477,1),\"x\",\"\")),\"\")","v":"x"},{"$f":"IF(AND(D477>='Zoeken in Database'!$A$7,'Zoeken in Database'!$A$8>=D477),\"x\",\"\")","v":"x"}]
["Wainwright, Rufus","Paradiso","Amsterdam","2005-11-26","Oh, What a World \nThe One you Love \nNatasha \n14th Street \nLittle Sister \nNuits De Miami (with Martha) \nGo or Go Ahead \nPeach Trees \nBetween my Legs \nPoses \nVibrate \nSpotlight on Christmas \nWant \nChelsea Hotel \nThe Art Teacher \nMemphis Skyline \nWaiting for a Dream \n- band introduction - \nI don't know what it is \nOld Whores's diet \nGay Messiah \n---- \nHallelujah (with the 2 backing vocalists doing a verse each)\nOne Man Guy (with Martha and Lucy)\nBeautiful Child \n---- \nPretty Things\nCigarettes and Chocolate Milk \n\n\n",null,"Hoofdprogramma",11,2005,{"$f":"VLOOKUP(Table1[[#This Row],[Maand (getal)]],Lijst!A:B,2,FALSE)","v":"nov"},{"$f":"IFERROR(IF(ISBLANK('Zoeken in Database'!$D$3),\"x\",IF(SEARCH('Zoeken in Database'!$D$3,Concerten!A478,1),\"x\",\"\")),\"\")","v":"x"},{"$f":"IFERROR(IF(ISBLANK('Zoeken in Database'!$D$4),\"x\",IF(SEARCH('Zoeken in Database'!$D$4,Concerten!B478,1),\"x\",\"\")),\"\")","v":"x"},{"$f":"IFERROR(IF(ISBLANK('Zoeken in Database'!$D$5),\"x\",IF(SEARCH('Zoeken in Database'!$D$5,Concerten!C478,1),\"x\",\"\")),\"\")","v":"x"},{"$f":"IFERROR(IF(ISBLANK('Zoeken in Database'!$D$6),\"x\",IF(SEARCH('Zoeken in Database'!$D$6,Concerten!G478,1),\"x\",\"\")),\"\")","v":"x"},{"$f":"IF(AND(D478>='Zoeken in Database'!$A$7,'Zoeken in Database'!$A$8>=D478),\"x\",\"\")","v":"x"}]
["Ruben en Nathan","Weijertheater","Boxmeer","2005-12-07",null,"Integere Types","Theater",12,2005,{"$f":"VLOOKUP(Table1[[#This Row],[Maand (getal)]],Lijst!A:B,2,FALSE)","v":"dec"},{"$f":"IFERROR(IF(ISBLANK('Zoeken in Database'!$D$3),\"x\",IF(SEARCH('Zoeken in Database'!$D$3,Concerten!A479,1),\"x\",\"\")),\"\")","v":"x"},{"$f":"IFERROR(IF(ISBLANK('Zoeken in Database'!$D$4),\"x\",IF(SEARCH('Zoeken in Database'!$D$4,Concerten!B479,1),\"x\",\"\")),\"\")","v":"x"},{"$f":"IFERROR(IF(ISBLANK('Zoeken in Database'!$D$5),\"x\",IF(SEARCH('Zoeken in Database'!$D$5,Concerten!C479,1),\"x\",\"\")),\"\")","v":"x"},{"$f":"IFERROR(IF(ISBLANK('Zoeken in Database'!$D$6),\"x\",IF(SEARCH('Zoeken in Database'!$D$6,Concerten!G479,1),\"x\",\"\")),\"\")","v":"x"},{"$f":"IF(AND(D479>='Zoeken in Database'!$A$7,'Zoeken in Database'!$A$8>=D479),\"x\",\"\")","v":"x"}]
["LPG","Doornroosje","Nijmegen","2005-12-15",null,null,"Voorprogramma",12,2005,{"$f":"VLOOKUP(Table1[[#This Row],[Maand (getal)]],Lijst!A:B,2,FALSE)","v":"dec"},{"$f":"IFERROR(IF(ISBLANK('Zoeken in Database'!$D$3),\"x\",IF(SEARCH('Zoeken in Database'!$D$3,Concerten!A480,1),\"x\",\"\")),\"\")","v":"x"},{"$f":"IFERROR(IF(ISBLANK('Zoeken in Database'!$D$4),\"x\",IF(SEARCH('Zoeken in Database'!$D$4,Concerten!B480,1),\"x\",\"\")),\"\")","v":"x"},{"$f":"IFERROR(IF(ISBLANK('Zoeken in Database'!$D$5),\"x\",IF(SEARCH('Zoeken in Database'!$D$5,Concerten!C480,1),\"x\",\"\")),\"\")","v":"x"},{"$f":"IFERROR(IF(ISBLANK('Zoeken in Database'!$D$6),\"x\",IF(SEARCH('Zoeken in Database'!$D$6,Concerten!G480,1),\"x\",\"\")),\"\")","v":"x"},{"$f":"IF(AND(D480>='Zoeken in Database'!$A$7,'Zoeken in Database'!$A$8>=D480),\"x\",\"\")","v":"x"}]
["Spinvis","Doornroosje","Nijmegen","2005-12-15","1. Tuinen van Mexico\n2. Ronnie Gaat Naar Huis\n3. Voor Ik Vergeet\n4. De Zevende Nacht\n5. Kindje Van God\n6. Ik Wil Alleen Maar Zwemmen\n7. Flamingo\n8. Dagen Van Gras, Dagen Van Stro\n9. Voordeel Van Video\n10. Smalfilm\n11. Kus Me En Bijt M'n Tong Af\n12. Aan De Oevers Van De Tijd\n13. In Staat Van Narcose\n12. Kom In De Cockpit\n13. Bagagedrager\n--------------------\n14. Limonadeglazen Wodka\n",null,"Hoofdprogramma",12,2005,{"$f":"VLOOKUP(Table1[[#This Row],[Maand (getal)]],Lijst!A:B,2,FALSE)","v":"dec"},{"$f":"IFERROR(IF(ISBLANK('Zoeken in Database'!$D$3),\"x\",IF(SEARCH('Zoeken in Database'!$D$3,Concerten!A481,1),\"x\",\"\")),\"\")","v":"x"},{"$f":"IFERROR(IF(ISBLANK('Zoeken in Database'!$D$4),\"x\",IF(SEARCH('Zoeken in Database'!$D$4,Concerten!B481,1),\"x\",\"\")),\"\")","v":"x"},{"$f":"IFERROR(IF(ISBLANK('Zoeken in Database'!$D$5),\"x\",IF(SEARCH('Zoeken in Database'!$D$5,Concerten!C481,1),\"x\",\"\")),\"\")","v":"x"},{"$f":"IFERROR(IF(ISBLANK('Zoeken in Database'!$D$6),\"x\",IF(SEARCH('Zoeken in Database'!$D$6,Concerten!G481,1),\"x\",\"\")),\"\")","v":"x"},{"$f":"IF(AND(D481>='Zoeken in Database'!$A$7,'Zoeken in Database'!$A$8>=D481),\"x\",\"\")","v":"x"}]
["Manuel, André","Weijertheater","Boxmeer","2005-12-24",null,"Lazarus","Theater",12,2005,{"$f":"VLOOKUP(Table1[[#This Row],[Maand (getal)]],Lijst!A:B,2,FALSE)","v":"dec"},{"$f":"IFERROR(IF(ISBLANK('Zoeken in Database'!$D$3),\"x\",IF(SEARCH('Zoeken in Database'!$D$3,Concerten!A482,1),\"x\",\"\")),\"\")","v":"x"},{"$f":"IFERROR(IF(ISBLANK('Zoeken in Database'!$D$4),\"x\",IF(SEARCH('Zoeken in Database'!$D$4,Concerten!B482,1),\"x\",\"\")),\"\")","v":"x"},{"$f":"IFERROR(IF(ISBLANK('Zoeken in Database'!$D$5),\"x\",IF(SEARCH('Zoeken in Database'!$D$5,Concerten!C482,1),\"x\",\"\")),\"\")","v":"x"},{"$f":"IFERROR(IF(ISBLANK('Zoeken in Database'!$D$6),\"x\",IF(SEARCH('Zoeken in Database'!$D$6,Concerten!G482,1),\"x\",\"\")),\"\")","v":"x"},{"$f":"IF(AND(D482>='Zoeken in Database'!$A$7,'Zoeken in Database'!$A$8>=D482),\"x\",\"\")","v":"x"}]
["Staples, Stuart A.","Doornroosje","Nijmegen","2006-01-11",null,null,"Hoofdprogramma",1,2006,{"$f":"VLOOKUP(Table1[[#This Row],[Maand (getal)]],Lijst!A:B,2,FALSE)","v":"jan"},{"$f":"IFERROR(IF(ISBLANK('Zoeken in Database'!$D$3),\"x\",IF(SEARCH('Zoeken in Database'!$D$3,Concerten!A483,1),\"x\",\"\")),\"\")","v":"x"},{"$f":"IFERROR(IF(ISBLANK('Zoeken in Database'!$D$4),\"x\",IF(SEARCH('Zoeken in Database'!$D$4,Concerten!B483,1),\"x\",\"\")),\"\")","v":"x"},{"$f":"IFERROR(IF(ISBLANK('Zoeken in Database'!$D$5),\"x\",IF(SEARCH('Zoeken in Database'!$D$5,Concerten!C483,1),\"x\",\"\")),\"\")","v":"x"},{"$f":"IFERROR(IF(ISBLANK('Zoeken in Database'!$D$6),\"x\",IF(SEARCH('Zoeken in Database'!$D$6,Concerten!G483,1),\"x\",\"\")),\"\")","v":"x"},{"$f":"IF(AND(D483>='Zoeken in Database'!$A$7,'Zoeken in Database'!$A$8>=D483),\"x\",\"\")","v":"x"}]
["Westerik, Maurits","Merleyn","Nijmegen","2006-01-21",null,"Bob Dylan ihkv Nacht van het Kippenvel;x, lucas, sjoerd, janneke, kai, loesje en ik 6e met popquiz.","Hoofdprogramma",1,2006,{"$f":"VLOOKUP(Table1[[#This Row],[Maand (getal)]],Lijst!A:B,2,FALSE)","v":"jan"},{"$f":"IFERROR(IF(ISBLANK('Zoeken in Database'!$D$3),\"x\",IF(SEARCH('Zoeken in Database'!$D$3,Concerten!A484,1),\"x\",\"\")),\"\")","v":"x"},{"$f":"IFERROR(IF(ISBLANK('Zoeken in Database'!$D$4),\"x\",IF(SEARCH('Zoeken in Database'!$D$4,Concerten!B484,1),\"x\",\"\")),\"\")","v":"x"},{"$f":"IFERROR(IF(ISBLANK('Zoeken in Database'!$D$5),\"x\",IF(SEARCH('Zoeken in Database'!$D$5,Concerten!C484,1),\"x\",\"\")),\"\")","v":"x"},{"$f":"IFERROR(IF(ISBLANK('Zoeken in Database'!$D$6),\"x\",IF(SEARCH('Zoeken in Database'!$D$6,Concerten!G484,1),\"x\",\"\")),\"\")","v":"x"},{"$f":"IF(AND(D484>='Zoeken in Database'!$A$7,'Zoeken in Database'!$A$8>=D484),\"x\",\"\")","v":"x"}]
["Extince","Effenaar","Eindhoven","2006-02-10",null,"De Avonturen van de Exter-O-Naldus met Skate the Great, Klopdokter en Dj Allstar Fresh","Hoofdprogramma",2,2006,{"$f":"VLOOKUP(Table1[[#This Row],[Maand (getal)]],Lijst!A:B,2,FALSE)","v":"feb"},{"$f":"IFERROR(IF(ISBLANK('Zoeken in Database'!$D$3),\"x\",IF(SEARCH('Zoeken in Database'!$D$3,Concerten!A485,1),\"x\",\"\")),\"\")","v":"x"},{"$f":"IFERROR(IF(ISBLANK('Zoeken in Database'!$D$4),\"x\",IF(SEARCH('Zoeken in Database'!$D$4,Concerten!B485,1),\"x\",\"\")),\"\")","v":"x"},{"$f":"IFERROR(IF(ISBLANK('Zoeken in Database'!$D$5),\"x\",IF(SEARCH('Zoeken in Database'!$D$5,Concerten!C485,1),\"x\",\"\")),\"\")","v":"x"},{"$f":"IFERROR(IF(ISBLANK('Zoeken in Database'!$D$6),\"x\",IF(SEARCH('Zoeken in Database'!$D$6,Concerten!G485,1),\"x\",\"\")),\"\")","v":"x"},{"$f":"IF(AND(D485>='Zoeken in Database'!$A$7,'Zoeken in Database'!$A$8>=D485),\"x\",\"\")","v":"x"}]
["Jiggy Djé","Effenaar","Eindhoven","2006-02-10",null,null,"Voorprogramma",2,2006,{"$f":"VLOOKUP(Table1[[#This Row],[Maand (getal)]],Lijst!A:B,2,FALSE)","v":"feb"},{"$f":"IFERROR(IF(ISBLANK('Zoeken in Database'!$D$3),\"x\",IF(SEARCH('Zoeken in Database'!$D$3,Concerten!A486,1),\"x\",\"\")),\"\")","v":"x"},{"$f":"IFERROR(IF(ISBLANK('Zoeken in Database'!$D$4),\"x\",IF(SEARCH('Zoeken in Database'!$D$4,Concerten!B486,1),\"x\",\"\")),\"\")","v":"x"},{"$f":"IFERROR(IF(ISBLANK('Zoeken in Database'!$D$5),\"x\",IF(SEARCH('Zoeken in Database'!$D$5,Concerten!C486,1),\"x\",\"\")),\"\")","v":"x"},{"$f":"IFERROR(IF(ISBLANK('Zoeken in Database'!$D$6),\"x\",IF(SEARCH('Zoeken in Database'!$D$6,Concerten!G486,1),\"x\",\"\")),\"\")","v":"x"},{"$f":"IF(AND(D486>='Zoeken in Database'!$A$7,'Zoeken in Database'!$A$8>=D486),\"x\",\"\")","v":"x"}]
["Acda en de Munnik","Vereeniging","Nijmegen","2006-02-17","Eerste Helmerstraat\nWat Ik Zie Moet Ik Hebben\nHallo Liedje\nTotdat Ik jou\nGroeten Uit Maaiveld\nAndere Maan\nVoor Jou\nTijd\nMinnaars En Verliezers\nVerkeerd Verbonden\nDuivel Is Dood\nWaar Was Je Dan\nGeen Hemelen Beloven\nKapitein Deel II (False Start)\nKapitein Deel II\nEen Lief Die Niet Zo Huilt\nSlaapliedje\nAls Je Me Morgen Ziet\nOud Verdriet\nDe Liefde Voortaan\nNiet Of Nooit Geweest\nJe Huis Is Af\nRen Lenny Ren\n-------\nMijn Client\nAls Het Vuur Gedoofd Is\nHet regent Zonnestralen\n------\nKees\nDe Kapitein\n","Jaren Ver Van Hier","Hoofdprogramma",2,2006,{"$f":"VLOOKUP(Table1[[#This Row],[Maand (getal)]],Lijst!A:B,2,FALSE)","v":"feb"},{"$f":"IFERROR(IF(ISBLANK('Zoeken in Database'!$D$3),\"x\",IF(SEARCH('Zoeken in Database'!$D$3,Concerten!A487,1),\"x\",\"\")),\"\")","v":"x"},{"$f":"IFERROR(IF(ISBLANK('Zoeken in Database'!$D$4),\"x\",IF(SEARCH('Zoeken in Database'!$D$4,Concerten!B487,1),\"x\",\"\")),\"\")","v":"x"},{"$f":"IFERROR(IF(ISBLANK('Zoeken in Database'!$D$5),\"x\",IF(SEARCH('Zoeken in Database'!$D$5,Concerten!C487,1),\"x\",\"\")),\"\")","v":"x"},{"$f":"IFERROR(IF(ISBLANK('Zoeken in Database'!$D$6),\"x\",IF(SEARCH('Zoeken in Database'!$D$6,Concerten!G487,1),\"x\",\"\")),\"\")","v":"x"},{"$f":"IF(AND(D487>='Zoeken in Database'!$A$7,'Zoeken in Database'!$A$8>=D487),\"x\",\"\")","v":"x"}]
["Death Cab For Cutie","Melkweg","Amsterdam","2006-03-08","Marching Bands Of Manhattan\nThe New Year\nWhy You'd Want To Live Here\nTitle And Registration\nSoul Meets Body\nSummer Skin\nPresident Of What?\nPhotobooth\nCrooked Teeth\nDifferent Names For The Same Thing\nTitle Track\nWhat Sarah Said\nBrothers On A Hotel Bed\nExpo '86\nCompany Calls\nThe Sound Of Settling\n--------\nI Will Follow You Into The Dark\nA Movie Script Ending\nTransatlanticism\n\n","The Max","Hoofdprogramma",3,2006,{"$f":"VLOOKUP(Table1[[#This Row],[Maand (getal)]],Lijst!A:B,2,FALSE)","v":"mrt"},{"$f":"IFERROR(IF(ISBLANK('Zoeken in Database'!$D$3),\"x\",IF(SEARCH('Zoeken in Database'!$D$3,Concerten!A488,1),\"x\",\"\")),\"\")","v":"x"},{"$f":"IFERROR(IF(ISBLANK('Zoeken in Database'!$D$4),\"x\",IF(SEARCH('Zoeken in Database'!$D$4,Concerten!B488,1),\"x\",\"\")),\"\")","v":"x"},{"$f":"IFERROR(IF(ISBLANK('Zoeken in Database'!$D$5),\"x\",IF(SEARCH('Zoeken in Database'!$D$5,Concerten!C488,1),\"x\",\"\")),\"\")","v":"x"},{"$f":"IFERROR(IF(ISBLANK('Zoeken in Database'!$D$6),\"x\",IF(SEARCH('Zoeken in Database'!$D$6,Concerten!G488,1),\"x\",\"\")),\"\")","v":"x"},{"$f":"IF(AND(D488>='Zoeken in Database'!$A$7,'Zoeken in Database'!$A$8>=D488),\"x\",\"\")","v":"x"}]
["Vanderslice, John","Melkweg","Amsterdam","2006-03-08",null,"The Max (solo)","Voorprogramma",3,2006,{"$f":"VLOOKUP(Table1[[#This Row],[Maand (getal)]],Lijst!A:B,2,FALSE)","v":"mrt"},{"$f":"IFERROR(IF(ISBLANK('Zoeken in Database'!$D$3),\"x\",IF(SEARCH('Zoeken in Database'!$D$3,Concerten!A489,1),\"x\",\"\")),\"\")","v":"x"},{"$f":"IFERROR(IF(ISBLANK('Zoeken in Database'!$D$4),\"x\",IF(SEARCH('Zoeken in Database'!$D$4,Concerten!B489,1),\"x\",\"\")),\"\")","v":"x"},{"$f":"IFERROR(IF(ISBLANK('Zoeken in Database'!$D$5),\"x\",IF(SEARCH('Zoeken in Database'!$D$5,Concerten!C489,1),\"x\",\"\")),\"\")","v":"x"},{"$f":"IFERROR(IF(ISBLANK('Zoeken in Database'!$D$6),\"x\",IF(SEARCH('Zoeken in Database'!$D$6,Concerten!G489,1),\"x\",\"\")),\"\")","v":"x"},{"$f":"IF(AND(D489>='Zoeken in Database'!$A$7,'Zoeken in Database'!$A$8>=D489),\"x\",\"\")","v":"x"}]
["Halfway Honest","Merleyn","Nijmegen","2006-03-17",null,null,"Voorprogramma",3,2006,{"$f":"VLOOKUP(Table1[[#This Row],[Maand (getal)]],Lijst!A:B,2,FALSE)","v":"mrt"},{"$f":"IFERROR(IF(ISBLANK('Zoeken in Database'!$D$3),\"x\",IF(SEARCH('Zoeken in Database'!$D$3,Concerten!A490,1),\"x\",\"\")),\"\")","v":"x"},{"$f":"IFERROR(IF(ISBLANK('Zoeken in Database'!$D$4),\"x\",IF(SEARCH('Zoeken in Database'!$D$4,Concerten!B490,1),\"x\",\"\")),\"\")","v":"x"},{"$f":"IFERROR(IF(ISBLANK('Zoeken in Database'!$D$5),\"x\",IF(SEARCH('Zoeken in Database'!$D$5,Concerten!C490,1),\"x\",\"\")),\"\")","v":"x"},{"$f":"IFERROR(IF(ISBLANK('Zoeken in Database'!$D$6),\"x\",IF(SEARCH('Zoeken in Database'!$D$6,Concerten!G490,1),\"x\",\"\")),\"\")","v":"x"},{"$f":"IF(AND(D490>='Zoeken in Database'!$A$7,'Zoeken in Database'!$A$8>=D490),\"x\",\"\")","v":"x"}]
["Of No Avail","Merleyn","Nijmegen","2006-03-17",null,null,"Voorprogramma",3,2006,{"$f":"VLOOKUP(Table1[[#This Row],[Maand (getal)]],Lijst!A:B,2,FALSE)","v":"mrt"},{"$f":"IFERROR(IF(ISBLANK('Zoeken in Database'!$D$3),\"x\",IF(SEARCH('Zoeken in Database'!$D$3,Concerten!A491,1),\"x\",\"\")),\"\")","v":"x"},{"$f":"IFERROR(IF(ISBLANK('Zoeken in Database'!$D$4),\"x\",IF(SEARCH('Zoeken in Database'!$D$4,Concerten!B491,1),\"x\",\"\")),\"\")","v":"x"},{"$f":"IFERROR(IF(ISBLANK('Zoeken in Database'!$D$5),\"x\",IF(SEARCH('Zoeken in Database'!$D$5,Concerten!C491,1),\"x\",\"\")),\"\")","v":"x"},{"$f":"IFERROR(IF(ISBLANK('Zoeken in Database'!$D$6),\"x\",IF(SEARCH('Zoeken in Database'!$D$6,Concerten!G491,1),\"x\",\"\")),\"\")","v":"x"},{"$f":"IF(AND(D491>='Zoeken in Database'!$A$7,'Zoeken in Database'!$A$8>=D491),\"x\",\"\")","v":"x"}]
["Solitus","Merleyn","Nijmegen","2006-03-17",null,"Ep Presentatie: Too Many Buttons","Hoofdprogramma",3,2006,{"$f":"VLOOKUP(Table1[[#This Row],[Maand (getal)]],Lijst!A:B,2,FALSE)","v":"mrt"},{"$f":"IFERROR(IF(ISBLANK('Zoeken in Database'!$D$3),\"x\",IF(SEARCH('Zoeken in Database'!$D$3,Concerten!A492,1),\"x\",\"\")),\"\")","v":"x"},{"$f":"IFERROR(IF(ISBLANK('Zoeken in Database'!$D$4),\"x\",IF(SEARCH('Zoeken in Database'!$D$4,Concerten!B492,1),\"x\",\"\")),\"\")","v":"x"},{"$f":"IFERROR(IF(ISBLANK('Zoeken in Database'!$D$5),\"x\",IF(SEARCH('Zoeken in Database'!$D$5,Concerten!C492,1),\"x\",\"\")),\"\")","v":"x"},{"$f":"IFERROR(IF(ISBLANK('Zoeken in Database'!$D$6),\"x\",IF(SEARCH('Zoeken in Database'!$D$6,Concerten!G492,1),\"x\",\"\")),\"\")","v":"x"},{"$f":"IF(AND(D492>='Zoeken in Database'!$A$7,'Zoeken in Database'!$A$8>=D492),\"x\",\"\")","v":"x"}]
["Black Crowes, The","Paradiso","Amsterdam","2006-03-22","- Set One -\nWiser Time\nSting Me\nCosmic Friend\nHotel Illness\nBallad In Urgency ->\nPaint An 8\nSin City\nBoots Of Spanish Leather\nJam -> Thorn In My Pride\nLay It All On Me\n\n- Set Two -\nNonfiction -> Monk In Orbit *\nSteady Rollin' Man\nHigh Head Blues\nDowntown Money Waster -> Jam ->\nShare The Ride\nMellow Down Easy\nFearless\nBy Your Side\nShe Talks To Angels\nJealous Again\n- encore\nYer Blues\n\n# spoken word section by John Sinclair\n",null,"Hoofdprogramma",3,2006,{"$f":"VLOOKUP(Table1[[#This Row],[Maand (getal)]],Lijst!A:B,2,FALSE)","v":"mrt"},{"$f":"IFERROR(IF(ISBLANK('Zoeken in Database'!$D$3),\"x\",IF(SEARCH('Zoeken in Database'!$D$3,Concerten!A493,1),\"x\",\"\")),\"\")","v":"x"},{"$f":"IFERROR(IF(ISBLANK('Zoeken in Database'!$D$4),\"x\",IF(SEARCH('Zoeken in Database'!$D$4,Concerten!B493,1),\"x\",\"\")),\"\")","v":"x"},{"$f":"IFERROR(IF(ISBLANK('Zoeken in Database'!$D$5),\"x\",IF(SEARCH('Zoeken in Database'!$D$5,Concerten!C493,1),\"x\",\"\")),\"\")","v":"x"},{"$f":"IFERROR(IF(ISBLANK('Zoeken in Database'!$D$6),\"x\",IF(SEARCH('Zoeken in Database'!$D$6,Concerten!G493,1),\"x\",\"\")),\"\")","v":"x"},{"$f":"IF(AND(D493>='Zoeken in Database'!$A$7,'Zoeken in Database'!$A$8>=D493),\"x\",\"\")","v":"x"}]
["Drive-by Truckers","W2","Den Bosch","2006-03-27","Wednesday\nWhere The Devil Don't Stay\nThe Day John Henry Died\nFeb 14\nWomen without whiskey\nLittle Bonnie\nEasy On Yourself\nPuttin' People On The Moon\nDaddy's Cup\nAftermath USA\nDecoration Day\nSink Hole\nOne Of These Days\nThe Living Bubba\nGoddamn Lonely Love\nGravity's Gone\nLookout Mountain\n--------\nA World Of Hurt\nDaylight\nShut Up And Get On The Plane\nDo It Yourself\nPeople Who Died\n",null,"Hoofdprogramma",3,2006,{"$f":"VLOOKUP(Table1[[#This Row],[Maand (getal)]],Lijst!A:B,2,FALSE)","v":"mrt"},{"$f":"IFERROR(IF(ISBLANK('Zoeken in Database'!$D$3),\"x\",IF(SEARCH('Zoeken in Database'!$D$3,Concerten!A494,1),\"x\",\"\")),\"\")","v":"x"},{"$f":"IFERROR(IF(ISBLANK('Zoeken in Database'!$D$4),\"x\",IF(SEARCH('Zoeken in Database'!$D$4,Concerten!B494,1),\"x\",\"\")),\"\")","v":"x"},{"$f":"IFERROR(IF(ISBLANK('Zoeken in Database'!$D$5),\"x\",IF(SEARCH('Zoeken in Database'!$D$5,Concerten!C494,1),\"x\",\"\")),\"\")","v":"x"},{"$f":"IFERROR(IF(ISBLANK('Zoeken in Database'!$D$6),\"x\",IF(SEARCH('Zoeken in Database'!$D$6,Concerten!G494,1),\"x\",\"\")),\"\")","v":"x"},{"$f":"IF(AND(D494>='Zoeken in Database'!$A$7,'Zoeken in Database'!$A$8>=D494),\"x\",\"\")","v":"x"}]
["Gem","Merleyn","Nijmegen","2006-03-30","All I Want Is You\nThe Subterranean Parade\nTonight\nMove On\nTalk, Talk, Talk\nGO!\nGood To Know You\nHigh/Low\nThe Opposite\nFight On\nLet It Out Get It Out\nSomeone\nRise & Fall\nStrangers In The Night\nLose The Booze\n--------------------------------\n?\n?\nS.O.S.\n",null,"Hoofdprogramma",3,2006,{"$f":"VLOOKUP(Table1[[#This Row],[Maand (getal)]],Lijst!A:B,2,FALSE)","v":"mrt"},{"$f":"IFERROR(IF(ISBLANK('Zoeken in Database'!$D$3),\"x\",IF(SEARCH('Zoeken in Database'!$D$3,Concerten!A495,1),\"x\",\"\")),\"\")","v":"x"},{"$f":"IFERROR(IF(ISBLANK('Zoeken in Database'!$D$4),\"x\",IF(SEARCH('Zoeken in Database'!$D$4,Concerten!B495,1),\"x\",\"\")),\"\")","v":"x"},{"$f":"IFERROR(IF(ISBLANK('Zoeken in Database'!$D$5),\"x\",IF(SEARCH('Zoeken in Database'!$D$5,Concerten!C495,1),\"x\",\"\")),\"\")","v":"x"},{"$f":"IFERROR(IF(ISBLANK('Zoeken in Database'!$D$6),\"x\",IF(SEARCH('Zoeken in Database'!$D$6,Concerten!G495,1),\"x\",\"\")),\"\")","v":"x"},{"$f":"IF(AND(D495>='Zoeken in Database'!$A$7,'Zoeken in Database'!$A$8>=D495),\"x\",\"\")","v":"x"}]
["Mystery Jets,The","Doornroosje","Nijmegen","2006-04-02","Zoo Time\nPurple Prose\nBoy Who Ran Away\nDennis\nHorse Drawn Cart\nSoluble In Air\nDiamonds\nAlas Agnes\n------------------------------\nOn My Feet\nLizzies Lye In",null,"Hoofdprogramma",4,2006,{"$f":"VLOOKUP(Table1[[#This Row],[Maand (getal)]],Lijst!A:B,2,FALSE)","v":"apr"},{"$f":"IFERROR(IF(ISBLANK('Zoeken in Database'!$D$3),\"x\",IF(SEARCH('Zoeken in Database'!$D$3,Concerten!A496,1),\"x\",\"\")),\"\")","v":"x"},{"$f":"IFERROR(IF(ISBLANK('Zoeken in Database'!$D$4),\"x\",IF(SEARCH('Zoeken in Database'!$D$4,Concerten!B496,1),\"x\",\"\")),\"\")","v":"x"},{"$f":"IFERROR(IF(ISBLANK('Zoeken in Database'!$D$5),\"x\",IF(SEARCH('Zoeken in Database'!$D$5,Concerten!C496,1),\"x\",\"\")),\"\")","v":"x"},{"$f":"IFERROR(IF(ISBLANK('Zoeken in Database'!$D$6),\"x\",IF(SEARCH('Zoeken in Database'!$D$6,Concerten!G496,1),\"x\",\"\")),\"\")","v":"x"},{"$f":"IF(AND(D496>='Zoeken in Database'!$A$7,'Zoeken in Database'!$A$8>=D496),\"x\",\"\")","v":"x"}]
["Pax, The","Doornroosje","Nijmegen","2006-04-02",null,null,"Voorprogramma",4,2006,{"$f":"VLOOKUP(Table1[[#This Row],[Maand (getal)]],Lijst!A:B,2,FALSE)","v":"apr"},{"$f":"IFERROR(IF(ISBLANK('Zoeken in Database'!$D$3),\"x\",IF(SEARCH('Zoeken in Database'!$D$3,Concerten!A497,1),\"x\",\"\")),\"\")","v":"x"},{"$f":"IFERROR(IF(ISBLANK('Zoeken in Database'!$D$4),\"x\",IF(SEARCH('Zoeken in Database'!$D$4,Concerten!B497,1),\"x\",\"\")),\"\")","v":"x"},{"$f":"IFERROR(IF(ISBLANK('Zoeken in Database'!$D$5),\"x\",IF(SEARCH('Zoeken in Database'!$D$5,Concerten!C497,1),\"x\",\"\")),\"\")","v":"x"},{"$f":"IFERROR(IF(ISBLANK('Zoeken in Database'!$D$6),\"x\",IF(SEARCH('Zoeken in Database'!$D$6,Concerten!G497,1),\"x\",\"\")),\"\")","v":"x"},{"$f":"IF(AND(D497>='Zoeken in Database'!$A$7,'Zoeken in Database'!$A$8>=D497),\"x\",\"\")","v":"x"}]
["Zanden, Leon van der","Weijertheater","Boxmeer","2006-04-05",null,"\"Zwarte Hond\"","Theater",4,2006,{"$f":"VLOOKUP(Table1[[#This Row],[Maand (getal)]],Lijst!A:B,2,FALSE)","v":"apr"},{"$f":"IFERROR(IF(ISBLANK('Zoeken in Database'!$D$3),\"x\",IF(SEARCH('Zoeken in Database'!$D$3,Concerten!A498,1),\"x\",\"\")),\"\")","v":"x"},{"$f":"IFERROR(IF(ISBLANK('Zoeken in Database'!$D$4),\"x\",IF(SEARCH('Zoeken in Database'!$D$4,Concerten!B498,1),\"x\",\"\")),\"\")","v":"x"},{"$f":"IFERROR(IF(ISBLANK('Zoeken in Database'!$D$5),\"x\",IF(SEARCH('Zoeken in Database'!$D$5,Concerten!C498,1),\"x\",\"\")),\"\")","v":"x"},{"$f":"IFERROR(IF(ISBLANK('Zoeken in Database'!$D$6),\"x\",IF(SEARCH('Zoeken in Database'!$D$6,Concerten!G498,1),\"x\",\"\")),\"\")","v":"x"},{"$f":"IF(AND(D498>='Zoeken in Database'!$A$7,'Zoeken in Database'!$A$8>=D498),\"x\",\"\")","v":"x"}]
["Dijk, De","Lindefeesten 2006","Sambeek","2006-04-07","We beginnen pas\nLaat het vanavond gebeuren\nDit kleine hart van mij\nElke dag opnieuw\nWakker in een vreemde wereld\nOnderuit\nWat een vrouw\nLater is nu\nNiemand in de stad\nGa in mijn schoenen staan\nAls ze er niet is\nRecht in de ogen\nDe schuit\n7e hemel\nIk kan het niet alleen\nAls het golft\n------------------\nNergens goed voor\nWanhoop niet \nGroot hart\n------------------\nZullen we dansen\nDansen op de vulkaan\n\n\n\n",null,"Hoofdprogramma",4,2006,{"$f":"VLOOKUP(Table1[[#This Row],[Maand (getal)]],Lijst!A:B,2,FALSE)","v":"apr"},{"$f":"IFERROR(IF(ISBLANK('Zoeken in Database'!$D$3),\"x\",IF(SEARCH('Zoeken in Database'!$D$3,Concerten!A499,1),\"x\",\"\")),\"\")","v":"x"},{"$f":"IFERROR(IF(ISBLANK('Zoeken in Database'!$D$4),\"x\",IF(SEARCH('Zoeken in Database'!$D$4,Concerten!B499,1),\"x\",\"\")),\"\")","v":"x"},{"$f":"IFERROR(IF(ISBLANK('Zoeken in Database'!$D$5),\"x\",IF(SEARCH('Zoeken in Database'!$D$5,Concerten!C499,1),\"x\",\"\")),\"\")","v":"x"},{"$f":"IFERROR(IF(ISBLANK('Zoeken in Database'!$D$6),\"x\",IF(SEARCH('Zoeken in Database'!$D$6,Concerten!G499,1),\"x\",\"\")),\"\")","v":"x"},{"$f":"IF(AND(D499>='Zoeken in Database'!$A$7,'Zoeken in Database'!$A$8>=D499),\"x\",\"\")","v":"x"}]
["Bulldozer Breed","Gryphus","Vierlingsbeek","2006-04-09",null,"Op Ut Tuffelke 2005","Festivaloptreden",4,2006,{"$f":"VLOOKUP(Table1[[#This Row],[Maand (getal)]],Lijst!A:B,2,FALSE)","v":"apr"},{"$f":"IFERROR(IF(ISBLANK('Zoeken in Database'!$D$3),\"x\",IF(SEARCH('Zoeken in Database'!$D$3,Concerten!A500,1),\"x\",\"\")),\"\")","v":"x"},{"$f":"IFERROR(IF(ISBLANK('Zoeken in Database'!$D$4),\"x\",IF(SEARCH('Zoeken in Database'!$D$4,Concerten!B500,1),\"x\",\"\")),\"\")","v":"x"},{"$f":"IFERROR(IF(ISBLANK('Zoeken in Database'!$D$5),\"x\",IF(SEARCH('Zoeken in Database'!$D$5,Concerten!C500,1),\"x\",\"\")),\"\")","v":"x"},{"$f":"IFERROR(IF(ISBLANK('Zoeken in Database'!$D$6),\"x\",IF(SEARCH('Zoeken in Database'!$D$6,Concerten!G500,1),\"x\",\"\")),\"\")","v":"x"},{"$f":"IF(AND(D500>='Zoeken in Database'!$A$7,'Zoeken in Database'!$A$8>=D500),\"x\",\"\")","v":"x"}]
["Manuel, André","Roepaen","Ottersum","2006-04-09","De Leu Deugt\nKetterse Fanfare\nOnder De Grond\nHol\nWat Is Er Hier An De Hand\nDe Kraaien\nVuur\nJihad Light\nSoogdier\nDorst\nHoeren\nAllene\nJunkie\nAls Ie Wilt\nWit\n----------------------\nVlieger\nDrinkebroer\nKrang","Theaterkeuken","Hoofdprogramma",4,2006,{"$f":"VLOOKUP(Table1[[#This Row],[Maand (getal)]],Lijst!A:B,2,FALSE)","v":"apr"},{"$f":"IFERROR(IF(ISBLANK('Zoeken in Database'!$D$3),\"x\",IF(SEARCH('Zoeken in Database'!$D$3,Concerten!A501,1),\"x\",\"\")),\"\")","v":"x"},{"$f":"IFERROR(IF(ISBLANK('Zoeken in Database'!$D$4),\"x\",IF(SEARCH('Zoeken in Database'!$D$4,Concerten!B501,1),\"x\",\"\")),\"\")","v":"x"},{"$f":"IFERROR(IF(ISBLANK('Zoeken in Database'!$D$5),\"x\",IF(SEARCH('Zoeken in Database'!$D$5,Concerten!C501,1),\"x\",\"\")),\"\")","v":"x"},{"$f":"IFERROR(IF(ISBLANK('Zoeken in Database'!$D$6),\"x\",IF(SEARCH('Zoeken in Database'!$D$6,Concerten!G501,1),\"x\",\"\")),\"\")","v":"x"},{"$f":"IF(AND(D501>='Zoeken in Database'!$A$7,'Zoeken in Database'!$A$8>=D501),\"x\",\"\")","v":"x"}]
["Solitus","Gryphus","Vierlingsbeek","2006-04-09",null,"Op Ut Tuffelke 2006","Festivaloptreden",4,2006,{"$f":"VLOOKUP(Table1[[#This Row],[Maand (getal)]],Lijst!A:B,2,FALSE)","v":"apr"},{"$f":"IFERROR(IF(ISBLANK('Zoeken in Database'!$D$3),\"x\",IF(SEARCH('Zoeken in Database'!$D$3,Concerten!A502,1),\"x\",\"\")),\"\")","v":"x"},{"$f":"IFERROR(IF(ISBLANK('Zoeken in Database'!$D$4),\"x\",IF(SEARCH('Zoeken in Database'!$D$4,Concerten!B502,1),\"x\",\"\")),\"\")","v":"x"},{"$f":"IFERROR(IF(ISBLANK('Zoeken in Database'!$D$5),\"x\",IF(SEARCH('Zoeken in Database'!$D$5,Concerten!C502,1),\"x\",\"\")),\"\")","v":"x"},{"$f":"IFERROR(IF(ISBLANK('Zoeken in Database'!$D$6),\"x\",IF(SEARCH('Zoeken in Database'!$D$6,Concerten!G502,1),\"x\",\"\")),\"\")","v":"x"},{"$f":"IF(AND(D502>='Zoeken in Database'!$A$7,'Zoeken in Database'!$A$8>=D502),\"x\",\"\")","v":"x"}]
["Boyfriends, The","Heineken Music Hall","Amsterdam","2006-04-10",null,null,"Voorprogramma",4,2006,{"$f":"VLOOKUP(Table1[[#This Row],[Maand (getal)]],Lijst!A:B,2,FALSE)","v":"apr"},{"$f":"IFERROR(IF(ISBLANK('Zoeken in Database'!$D$3),\"x\",IF(SEARCH('Zoeken in Database'!$D$3,Concerten!A503,1),\"x\",\"\")),\"\")","v":"x"},{"$f":"IFERROR(IF(ISBLANK('Zoeken in Database'!$D$4),\"x\",IF(SEARCH('Zoeken in Database'!$D$4,Concerten!B503,1),\"x\",\"\")),\"\")","v":"x"},{"$f":"IFERROR(IF(ISBLANK('Zoeken in Database'!$D$5),\"x\",IF(SEARCH('Zoeken in Database'!$D$5,Concerten!C503,1),\"x\",\"\")),\"\")","v":"x"},{"$f":"IFERROR(IF(ISBLANK('Zoeken in Database'!$D$6),\"x\",IF(SEARCH('Zoeken in Database'!$D$6,Concerten!G503,1),\"x\",\"\")),\"\")","v":"x"},{"$f":"IF(AND(D503>='Zoeken in Database'!$A$7,'Zoeken in Database'!$A$8>=D503),\"x\",\"\")","v":"x"}]
["Morrissey","Heineken Music Hall","Amsterdam","2006-04-10","1.First of the gang to die\n2.Still ill\n3.You have killed me\n4.The youngest was the most loved\n5.Reader meets author\n6.Let me kiss you\n7.My life is a succession of people saying goodbye\n8.Girlfriend in a coma\n9.I will see you in far-off places\n10.To me you are a work of art\n11.Life is a pigsty\n12.Trouble loves me\n13.How soon is now\n14.Irish blood, english heart\n15.A song from under the floor boards (Magazine cover!)\n16.I just want to see the boy happy\n17.At last i am born\n18.Last night i dreamt that somebody love me (encore)\n",null,"Hoofdprogramma",4,2006,{"$f":"VLOOKUP(Table1[[#This Row],[Maand (getal)]],Lijst!A:B,2,FALSE)","v":"apr"},{"$f":"IFERROR(IF(ISBLANK('Zoeken in Database'!$D$3),\"x\",IF(SEARCH('Zoeken in Database'!$D$3,Concerten!A504,1),\"x\",\"\")),\"\")","v":"x"},{"$f":"IFERROR(IF(ISBLANK('Zoeken in Database'!$D$4),\"x\",IF(SEARCH('Zoeken in Database'!$D$4,Concerten!B504,1),\"x\",\"\")),\"\")","v":"x"},{"$f":"IFERROR(IF(ISBLANK('Zoeken in Database'!$D$5),\"x\",IF(SEARCH('Zoeken in Database'!$D$5,Concerten!C504,1),\"x\",\"\")),\"\")","v":"x"},{"$f":"IFERROR(IF(ISBLANK('Zoeken in Database'!$D$6),\"x\",IF(SEARCH('Zoeken in Database'!$D$6,Concerten!G504,1),\"x\",\"\")),\"\")","v":"x"},{"$f":"IF(AND(D504>='Zoeken in Database'!$A$7,'Zoeken in Database'!$A$8>=D504),\"x\",\"\")","v":"x"}]
["Solitus","Box","Boxmeer","2006-04-15",null,null,"Festivaloptreden",4,2006,{"$f":"VLOOKUP(Table1[[#This Row],[Maand (getal)]],Lijst!A:B,2,FALSE)","v":"apr"},{"$f":"IFERROR(IF(ISBLANK('Zoeken in Database'!$D$3),\"x\",IF(SEARCH('Zoeken in Database'!$D$3,Concerten!A505,1),\"x\",\"\")),\"\")","v":"x"},{"$f":"IFERROR(IF(ISBLANK('Zoeken in Database'!$D$4),\"x\",IF(SEARCH('Zoeken in Database'!$D$4,Concerten!B505,1),\"x\",\"\")),\"\")","v":"x"},{"$f":"IFERROR(IF(ISBLANK('Zoeken in Database'!$D$5),\"x\",IF(SEARCH('Zoeken in Database'!$D$5,Concerten!C505,1),\"x\",\"\")),\"\")","v":"x"},{"$f":"IFERROR(IF(ISBLANK('Zoeken in Database'!$D$6),\"x\",IF(SEARCH('Zoeken in Database'!$D$6,Concerten!G505,1),\"x\",\"\")),\"\")","v":"x"},{"$f":"IF(AND(D505>='Zoeken in Database'!$A$7,'Zoeken in Database'!$A$8>=D505),\"x\",\"\")","v":"x"}]
["Flaming Lips, The","Paradiso","Amsterdam","2006-04-27","Ta Da!\nRace For The Prize\nFree Radicals\nYoshimi Pt. 1 \nYoshimi Pt. 2\nVein Of Stars\nThe Yeah Yeah Yeah Song\nMorning Of The Magicians\nThe W.A.N.D.\nCow Jam\nThe Spark That Bled\nShe Don't Use Jelly\nDo You Realize??\n----------------------------\nSuperman\nWar Pigs\n",null,"Hoofdprogramma",4,2006,{"$f":"VLOOKUP(Table1[[#This Row],[Maand (getal)]],Lijst!A:B,2,FALSE)","v":"apr"},{"$f":"IFERROR(IF(ISBLANK('Zoeken in Database'!$D$3),\"x\",IF(SEARCH('Zoeken in Database'!$D$3,Concerten!A506,1),\"x\",\"\")),\"\")","v":"x"},{"$f":"IFERROR(IF(ISBLANK('Zoeken in Database'!$D$4),\"x\",IF(SEARCH('Zoeken in Database'!$D$4,Concerten!B506,1),\"x\",\"\")),\"\")","v":"x"},{"$f":"IFERROR(IF(ISBLANK('Zoeken in Database'!$D$5),\"x\",IF(SEARCH('Zoeken in Database'!$D$5,Concerten!C506,1),\"x\",\"\")),\"\")","v":"x"},{"$f":"IFERROR(IF(ISBLANK('Zoeken in Database'!$D$6),\"x\",IF(SEARCH('Zoeken in Database'!$D$6,Concerten!G506,1),\"x\",\"\")),\"\")","v":"x"},{"$f":"IF(AND(D506>='Zoeken in Database'!$A$7,'Zoeken in Database'!$A$8>=D506),\"x\",\"\")","v":"x"}]
["Midlake","Paradiso","Amsterdam","2006-04-27",null,null,"Voorprogramma",4,2006,{"$f":"VLOOKUP(Table1[[#This Row],[Maand (getal)]],Lijst!A:B,2,FALSE)","v":"apr"},{"$f":"IFERROR(IF(ISBLANK('Zoeken in Database'!$D$3),\"x\",IF(SEARCH('Zoeken in Database'!$D$3,Concerten!A507,1),\"x\",\"\")),\"\")","v":"x"},{"$f":"IFERROR(IF(ISBLANK('Zoeken in Database'!$D$4),\"x\",IF(SEARCH('Zoeken in Database'!$D$4,Concerten!B507,1),\"x\",\"\")),\"\")","v":"x"},{"$f":"IFERROR(IF(ISBLANK('Zoeken in Database'!$D$5),\"x\",IF(SEARCH('Zoeken in Database'!$D$5,Concerten!C507,1),\"x\",\"\")),\"\")","v":"x"},{"$f":"IFERROR(IF(ISBLANK('Zoeken in Database'!$D$6),\"x\",IF(SEARCH('Zoeken in Database'!$D$6,Concerten!G507,1),\"x\",\"\")),\"\")","v":"x"},{"$f":"IF(AND(D507>='Zoeken in Database'!$A$7,'Zoeken in Database'!$A$8>=D507),\"x\",\"\")","v":"x"}]
["Me First And The Gimme Gimmes","Melkweg","Amsterdam","2006-05-04","Stairway To Heaven (Led Zeppelin)\nMe And Julio Down By The Schoolyard (Paul Simon)\nBlowin' In The Wind (Bob Dylan)\nNobody Does It Better (Carly Simon)\nGhost Riders In The Sky (Johnny Cash)\nDanny's Song (Kenny Loggins)\nSummertime (\"Porgy And Bess\" Musical)\nSomewhere Over The Rainbow (\"The Wizard Of Oz\" Musical)\nTake It On The Run (Reo Speedwagon)\nAmerica (Joey Cape)\nI Believe I Can Fly (R Kelly)\nTomorrow (\"Annie\" Musical)\nDesperado (The Eagles)\nSloop John B (Beach Boys)\nMandy (Barry Manilow)\nWild World (Cat Stevens)\nSeasons In The Sun (Terry Jacks)\n-----------------------------\nOnly The Good Die Young (Billy Joel)\nRocket Man (Elton John)\nCountry Roads (John Denver)\nThe End Of The Road (Boyz II Men)\n","The Max","Hoofdprogramma",5,2006,{"$f":"VLOOKUP(Table1[[#This Row],[Maand (getal)]],Lijst!A:B,2,FALSE)","v":"mei"},{"$f":"IFERROR(IF(ISBLANK('Zoeken in Database'!$D$3),\"x\",IF(SEARCH('Zoeken in Database'!$D$3,Concerten!A508,1),\"x\",\"\")),\"\")","v":"x"},{"$f":"IFERROR(IF(ISBLANK('Zoeken in Database'!$D$4),\"x\",IF(SEARCH('Zoeken in Database'!$D$4,Concerten!B508,1),\"x\",\"\")),\"\")","v":"x"},{"$f":"IFERROR(IF(ISBLANK('Zoeken in Database'!$D$5),\"x\",IF(SEARCH('Zoeken in Database'!$D$5,Concerten!C508,1),\"x\",\"\")),\"\")","v":"x"},{"$f":"IFERROR(IF(ISBLANK('Zoeken in Database'!$D$6),\"x\",IF(SEARCH('Zoeken in Database'!$D$6,Concerten!G508,1),\"x\",\"\")),\"\")","v":"x"},{"$f":"IF(AND(D508>='Zoeken in Database'!$A$7,'Zoeken in Database'!$A$8>=D508),\"x\",\"\")","v":"x"}]
["Sainte Catherines, The","Melkweg","Amsterdam","2006-05-04",null,"The Max","Voorprogramma",5,2006,{"$f":"VLOOKUP(Table1[[#This Row],[Maand (getal)]],Lijst!A:B,2,FALSE)","v":"mei"},{"$f":"IFERROR(IF(ISBLANK('Zoeken in Database'!$D$3),\"x\",IF(SEARCH('Zoeken in Database'!$D$3,Concerten!A509,1),\"x\",\"\")),\"\")","v":"x"},{"$f":"IFERROR(IF(ISBLANK('Zoeken in Database'!$D$4),\"x\",IF(SEARCH('Zoeken in Database'!$D$4,Concerten!B509,1),\"x\",\"\")),\"\")","v":"x"},{"$f":"IFERROR(IF(ISBLANK('Zoeken in Database'!$D$5),\"x\",IF(SEARCH('Zoeken in Database'!$D$5,Concerten!C509,1),\"x\",\"\")),\"\")","v":"x"},{"$f":"IFERROR(IF(ISBLANK('Zoeken in Database'!$D$6),\"x\",IF(SEARCH('Zoeken in Database'!$D$6,Concerten!G509,1),\"x\",\"\")),\"\")","v":"x"},{"$f":"IF(AND(D509>='Zoeken in Database'!$A$7,'Zoeken in Database'!$A$8>=D509),\"x\",\"\")","v":"x"}]
["Jansen, Sam","De Haas Verhuur","Milsbeek","2006-05-06",null,null,"Voorprogramma",5,2006,{"$f":"VLOOKUP(Table1[[#This Row],[Maand (getal)]],Lijst!A:B,2,FALSE)","v":"mei"},{"$f":"IFERROR(IF(ISBLANK('Zoeken in Database'!$D$3),\"x\",IF(SEARCH('Zoeken in Database'!$D$3,Concerten!A510,1),\"x\",\"\")),\"\")","v":"x"},{"$f":"IFERROR(IF(ISBLANK('Zoeken in Database'!$D$4),\"x\",IF(SEARCH('Zoeken in Database'!$D$4,Concerten!B510,1),\"x\",\"\")),\"\")","v":"x"},{"$f":"IFERROR(IF(ISBLANK('Zoeken in Database'!$D$5),\"x\",IF(SEARCH('Zoeken in Database'!$D$5,Concerten!C510,1),\"x\",\"\")),\"\")","v":"x"},{"$f":"IFERROR(IF(ISBLANK('Zoeken in Database'!$D$6),\"x\",IF(SEARCH('Zoeken in Database'!$D$6,Concerten!G510,1),\"x\",\"\")),\"\")","v":"x"},{"$f":"IF(AND(D510>='Zoeken in Database'!$A$7,'Zoeken in Database'!$A$8>=D510),\"x\",\"\")","v":"x"}]
["Meeuwis, Guus","De Haas Verhuur","Milsbeek","2006-05-06",null,null,"Hoofdprogramma",5,2006,{"$f":"VLOOKUP(Table1[[#This Row],[Maand (getal)]],Lijst!A:B,2,FALSE)","v":"mei"},{"$f":"IFERROR(IF(ISBLANK('Zoeken in Database'!$D$3),\"x\",IF(SEARCH('Zoeken in Database'!$D$3,Concerten!A511,1),\"x\",\"\")),\"\")","v":"x"},{"$f":"IFERROR(IF(ISBLANK('Zoeken in Database'!$D$4),\"x\",IF(SEARCH('Zoeken in Database'!$D$4,Concerten!B511,1),\"x\",\"\")),\"\")","v":"x"},{"$f":"IFERROR(IF(ISBLANK('Zoeken in Database'!$D$5),\"x\",IF(SEARCH('Zoeken in Database'!$D$5,Concerten!C511,1),\"x\",\"\")),\"\")","v":"x"},{"$f":"IFERROR(IF(ISBLANK('Zoeken in Database'!$D$6),\"x\",IF(SEARCH('Zoeken in Database'!$D$6,Concerten!G511,1),\"x\",\"\")),\"\")","v":"x"},{"$f":"IF(AND(D511>='Zoeken in Database'!$A$7,'Zoeken in Database'!$A$8>=D511),\"x\",\"\")","v":"x"}]
["Belle And Sebastian","Paradiso","Amsterdam","2006-05-08","Expectations\nAnother Sunny Day\nWoman's Realm\nShe's Losing It\nSukie In The Graveyard\nElectronic Renaissance\nMiddle Distance Runner\nTo Be Myself Completely\nDress Up In You\nFox In The Snow\nFunny Little Frog\nBlues Are Still Blue\nYour Cover's Blown\nDog On Wheels\nI'm A Cuckoo\nJonathan David\nThe State I'm In\n-----------------\nIf You Find Yourself Caught In Love\nThe Boy With The Arab Strap",null,"Hoofdprogramma",5,2006,{"$f":"VLOOKUP(Table1[[#This Row],[Maand (getal)]],Lijst!A:B,2,FALSE)","v":"mei"},{"$f":"IFERROR(IF(ISBLANK('Zoeken in Database'!$D$3),\"x\",IF(SEARCH('Zoeken in Database'!$D$3,Concerten!A512,1),\"x\",\"\")),\"\")","v":"x"},{"$f":"IFERROR(IF(ISBLANK('Zoeken in Database'!$D$4),\"x\",IF(SEARCH('Zoeken in Database'!$D$4,Concerten!B512,1),\"x\",\"\")),\"\")","v":"x"},{"$f":"IFERROR(IF(ISBLANK('Zoeken in Database'!$D$5),\"x\",IF(SEARCH('Zoeken in Database'!$D$5,Concerten!C512,1),\"x\",\"\")),\"\")","v":"x"},{"$f":"IFERROR(IF(ISBLANK('Zoeken in Database'!$D$6),\"x\",IF(SEARCH('Zoeken in Database'!$D$6,Concerten!G512,1),\"x\",\"\")),\"\")","v":"x"},{"$f":"IF(AND(D512>='Zoeken in Database'!$A$7,'Zoeken in Database'!$A$8>=D512),\"x\",\"\")","v":"x"}]
["Gravenhurst","Paradiso","Amsterdam","2006-05-08",null,null,"Voorprogramma",5,2006,{"$f":"VLOOKUP(Table1[[#This Row],[Maand (getal)]],Lijst!A:B,2,FALSE)","v":"mei"},{"$f":"IFERROR(IF(ISBLANK('Zoeken in Database'!$D$3),\"x\",IF(SEARCH('Zoeken in Database'!$D$3,Concerten!A513,1),\"x\",\"\")),\"\")","v":"x"},{"$f":"IFERROR(IF(ISBLANK('Zoeken in Database'!$D$4),\"x\",IF(SEARCH('Zoeken in Database'!$D$4,Concerten!B513,1),\"x\",\"\")),\"\")","v":"x"},{"$f":"IFERROR(IF(ISBLANK('Zoeken in Database'!$D$5),\"x\",IF(SEARCH('Zoeken in Database'!$D$5,Concerten!C513,1),\"x\",\"\")),\"\")","v":"x"},{"$f":"IFERROR(IF(ISBLANK('Zoeken in Database'!$D$6),\"x\",IF(SEARCH('Zoeken in Database'!$D$6,Concerten!G513,1),\"x\",\"\")),\"\")","v":"x"},{"$f":"IF(AND(D513>='Zoeken in Database'!$A$7,'Zoeken in Database'!$A$8>=D513),\"x\",\"\")","v":"x"}]
["Mason, Willy","Heineken Music Hall","Amsterdam","2006-05-09","Gotta Keep Moving\nWhere The Humans Eat\nHard Hand To Hold\nThe Dog Tomorrow (Nina Violet)\nFear No Pain\nInto Tomorrow\nThis House\nOxygen ",null,"Voorprogramma",5,2006,{"$f":"VLOOKUP(Table1[[#This Row],[Maand (getal)]],Lijst!A:B,2,FALSE)","v":"mei"},{"$f":"IFERROR(IF(ISBLANK('Zoeken in Database'!$D$3),\"x\",IF(SEARCH('Zoeken in Database'!$D$3,Concerten!A514,1),\"x\",\"\")),\"\")","v":"x"},{"$f":"IFERROR(IF(ISBLANK('Zoeken in Database'!$D$4),\"x\",IF(SEARCH('Zoeken in Database'!$D$4,Concerten!B514,1),\"x\",\"\")),\"\")","v":"x"},{"$f":"IFERROR(IF(ISBLANK('Zoeken in Database'!$D$5),\"x\",IF(SEARCH('Zoeken in Database'!$D$5,Concerten!C514,1),\"x\",\"\")),\"\")","v":"x"},{"$f":"IFERROR(IF(ISBLANK('Zoeken in Database'!$D$6),\"x\",IF(SEARCH('Zoeken in Database'!$D$6,Concerten!G514,1),\"x\",\"\")),\"\")","v":"x"},{"$f":"IF(AND(D514>='Zoeken in Database'!$A$7,'Zoeken in Database'!$A$8>=D514),\"x\",\"\")","v":"x"}]
["Radiohead","Heineken Music Hall","Amsterdam","2006-05-09","1. Everything In It;s Right Place\n2. The National Anthem\n3. 15 Step\n4. Lucky\n5. 2+2=5\n6. Bangers n Mash\n7. Nude\n8. Pyramid Song\n9. Open Pick\n10. I Might Be Wrong\n11. Paranoid Android\n12. How To Disappear Completely\n13. Karma Police\n14. Bodysnatchers\n15. Idioteque\n16. No Surprises\n17. There there\n--------------------\n18. Spooks\n19. House of Cards\n20. Just\n21. You And Whose Army?\n--------------------\n22. Street Spirit\n",null,"Hoofdprogramma",{"$f":"IF(ISBLANK(D515),\"\",MONTH(D515))","v":5},{"$f":"IF(ISBLANK(D515),\"\",YEAR(D515))","v":2006},{"$f":"VLOOKUP(Table1[[#This Row],[Maand (getal)]],Lijst!A:B,2,FALSE)","v":"mei"},{"$f":"IFERROR(IF(ISBLANK('Zoeken in Database'!$D$3),\"x\",IF(SEARCH('Zoeken in Database'!$D$3,Concerten!A515,1),\"x\",\"\")),\"\")","v":"x"},{"$f":"IFERROR(IF(ISBLANK('Zoeken in Database'!$D$4),\"x\",IF(SEARCH('Zoeken in Database'!$D$4,Concerten!B515,1),\"x\",\"\")),\"\")","v":"x"},{"$f":"IFERROR(IF(ISBLANK('Zoeken in Database'!$D$5),\"x\",IF(SEARCH('Zoeken in Database'!$D$5,Concerten!C515,1),\"x\",\"\")),\"\")","v":"x"},{"$f":"IFERROR(IF(ISBLANK('Zoeken in Database'!$D$6),\"x\",IF(SEARCH('Zoeken in Database'!$D$6,Concerten!G515,1),\"x\",\"\")),\"\")","v":"x"},{"$f":"IF(AND(D515>='Zoeken in Database'!$A$7,'Zoeken in Database'!$A$8>=D515),\"x\",\"\")","v":"x"}]
["Comedytrain","Schouwburg Cuijk","Cuijk","2006-05-10",null,"Murth Mossel, Kees van Amstel, Roue Verveer, Marc Scheepmaker, Wouter Meijs en Daniel Arends","Theater",5,2006,{"$f":"VLOOKUP(Table1[[#This Row],[Maand (getal)]],Lijst!A:B,2,FALSE)","v":"mei"},{"$f":"IFERROR(IF(ISBLANK('Zoeken in Database'!$D$3),\"x\",IF(SEARCH('Zoeken in Database'!$D$3,Concerten!A516,1),\"x\",\"\")),\"\")","v":"x"},{"$f":"IFERROR(IF(ISBLANK('Zoeken in Database'!$D$4),\"x\",IF(SEARCH('Zoeken in Database'!$D$4,Concerten!B516,1),\"x\",\"\")),\"\")","v":"x"},{"$f":"IFERROR(IF(ISBLANK('Zoeken in Database'!$D$5),\"x\",IF(SEARCH('Zoeken in Database'!$D$5,Concerten!C516,1),\"x\",\"\")),\"\")","v":"x"},{"$f":"IFERROR(IF(ISBLANK('Zoeken in Database'!$D$6),\"x\",IF(SEARCH('Zoeken in Database'!$D$6,Concerten!G516,1),\"x\",\"\")),\"\")","v":"x"},{"$f":"IF(AND(D516>='Zoeken in Database'!$A$7,'Zoeken in Database'!$A$8>=D516),\"x\",\"\")","v":"x"}]
["Siegal, Ian","Roepaen","Ottersum","2006-05-28",null,"In de Kapel","Hoofdprogramma",5,2006,{"$f":"VLOOKUP(Table1[[#This Row],[Maand (getal)]],Lijst!A:B,2,FALSE)","v":"mei"},{"$f":"IFERROR(IF(ISBLANK('Zoeken in Database'!$D$3),\"x\",IF(SEARCH('Zoeken in Database'!$D$3,Concerten!A517,1),\"x\",\"\")),\"\")","v":"x"},{"$f":"IFERROR(IF(ISBLANK('Zoeken in Database'!$D$4),\"x\",IF(SEARCH('Zoeken in Database'!$D$4,Concerten!B517,1),\"x\",\"\")),\"\")","v":"x"},{"$f":"IFERROR(IF(ISBLANK('Zoeken in Database'!$D$5),\"x\",IF(SEARCH('Zoeken in Database'!$D$5,Concerten!C517,1),\"x\",\"\")),\"\")","v":"x"},{"$f":"IFERROR(IF(ISBLANK('Zoeken in Database'!$D$6),\"x\",IF(SEARCH('Zoeken in Database'!$D$6,Concerten!G517,1),\"x\",\"\")),\"\")","v":"x"},{"$f":"IF(AND(D517>='Zoeken in Database'!$A$7,'Zoeken in Database'!$A$8>=D517),\"x\",\"\")","v":"x"}]
["BJ Baartmans","Op De Toffel 2006","Vierlingsbeek","2006-06-18",null,"Koningskerkje","Festivaloptreden",6,2006,{"$f":"VLOOKUP(Table1[[#This Row],[Maand (getal)]],Lijst!A:B,2,FALSE)","v":"jun"},{"$f":"IFERROR(IF(ISBLANK('Zoeken in Database'!$D$3),\"x\",IF(SEARCH('Zoeken in Database'!$D$3,Concerten!A518,1),\"x\",\"\")),\"\")","v":"x"},{"$f":"IFERROR(IF(ISBLANK('Zoeken in Database'!$D$4),\"x\",IF(SEARCH('Zoeken in Database'!$D$4,Concerten!B518,1),\"x\",\"\")),\"\")","v":"x"},{"$f":"IFERROR(IF(ISBLANK('Zoeken in Database'!$D$5),\"x\",IF(SEARCH('Zoeken in Database'!$D$5,Concerten!C518,1),\"x\",\"\")),\"\")","v":"x"},{"$f":"IFERROR(IF(ISBLANK('Zoeken in Database'!$D$6),\"x\",IF(SEARCH('Zoeken in Database'!$D$6,Concerten!G518,1),\"x\",\"\")),\"\")","v":"x"},{"$f":"IF(AND(D518>='Zoeken in Database'!$A$7,'Zoeken in Database'!$A$8>=D518),\"x\",\"\")","v":"x"}]
["Johan","Op De Toffel 2006","Vierlingsbeek","2006-06-18","Coming In From The Cold\nOceans\nTumble And Fall\nShe's Got A Way With Men\nPergola\nTonight\nDay Is Done\nWhen I'm On My Own\nDecember\nStaring At The Sun\nOut Of Reach\nYou Know\nEverybody Knows","Ene Podium","Festivaloptreden",6,2006,{"$f":"VLOOKUP(Table1[[#This Row],[Maand (getal)]],Lijst!A:B,2,FALSE)","v":"jun"},{"$f":"IFERROR(IF(ISBLANK('Zoeken in Database'!$D$3),\"x\",IF(SEARCH('Zoeken in Database'!$D$3,Concerten!A519,1),\"x\",\"\")),\"\")","v":"x"},{"$f":"IFERROR(IF(ISBLANK('Zoeken in Database'!$D$4),\"x\",IF(SEARCH('Zoeken in Database'!$D$4,Concerten!B519,1),\"x\",\"\")),\"\")","v":"x"},{"$f":"IFERROR(IF(ISBLANK('Zoeken in Database'!$D$5),\"x\",IF(SEARCH('Zoeken in Database'!$D$5,Concerten!C519,1),\"x\",\"\")),\"\")","v":"x"},{"$f":"IFERROR(IF(ISBLANK('Zoeken in Database'!$D$6),\"x\",IF(SEARCH('Zoeken in Database'!$D$6,Concerten!G519,1),\"x\",\"\")),\"\")","v":"x"},{"$f":"IF(AND(D519>='Zoeken in Database'!$A$7,'Zoeken in Database'!$A$8>=D519),\"x\",\"\")","v":"x"}]
["Kraak en Smaak","Op De Toffel 2006","Vierlingsbeek","2006-06-18",null,"Ene Podium","Festivaloptreden",6,2006,{"$f":"VLOOKUP(Table1[[#This Row],[Maand (getal)]],Lijst!A:B,2,FALSE)","v":"jun"},{"$f":"IFERROR(IF(ISBLANK('Zoeken in Database'!$D$3),\"x\",IF(SEARCH('Zoeken in Database'!$D$3,Concerten!A520,1),\"x\",\"\")),\"\")","v":"x"},{"$f":"IFERROR(IF(ISBLANK('Zoeken in Database'!$D$4),\"x\",IF(SEARCH('Zoeken in Database'!$D$4,Concerten!B520,1),\"x\",\"\")),\"\")","v":"x"},{"$f":"IFERROR(IF(ISBLANK('Zoeken in Database'!$D$5),\"x\",IF(SEARCH('Zoeken in Database'!$D$5,Concerten!C520,1),\"x\",\"\")),\"\")","v":"x"},{"$f":"IFERROR(IF(ISBLANK('Zoeken in Database'!$D$6),\"x\",IF(SEARCH('Zoeken in Database'!$D$6,Concerten!G520,1),\"x\",\"\")),\"\")","v":"x"},{"$f":"IF(AND(D520>='Zoeken in Database'!$A$7,'Zoeken in Database'!$A$8>=D520),\"x\",\"\")","v":"x"}]
["Manuel, André","Op De Toffel 2006","Vierlingsbeek","2006-06-18","Regen\nFeest\nSeehond\nDrinkeboer\nOns Dorp\nBob\nKraaien\njunkie van het woord\nwonderfull life in twents","Koningskerkje","Festivaloptreden",6,2006,{"$f":"VLOOKUP(Table1[[#This Row],[Maand (getal)]],Lijst!A:B,2,FALSE)","v":"jun"},{"$f":"IFERROR(IF(ISBLANK('Zoeken in Database'!$D$3),\"x\",IF(SEARCH('Zoeken in Database'!$D$3,Concerten!A521,1),\"x\",\"\")),\"\")","v":"x"},{"$f":"IFERROR(IF(ISBLANK('Zoeken in Database'!$D$4),\"x\",IF(SEARCH('Zoeken in Database'!$D$4,Concerten!B521,1),\"x\",\"\")),\"\")","v":"x"},{"$f":"IFERROR(IF(ISBLANK('Zoeken in Database'!$D$5),\"x\",IF(SEARCH('Zoeken in Database'!$D$5,Concerten!C521,1),\"x\",\"\")),\"\")","v":"x"},{"$f":"IFERROR(IF(ISBLANK('Zoeken in Database'!$D$6),\"x\",IF(SEARCH('Zoeken in Database'!$D$6,Concerten!G521,1),\"x\",\"\")),\"\")","v":"x"},{"$f":"IF(AND(D521>='Zoeken in Database'!$A$7,'Zoeken in Database'!$A$8>=D521),\"x\",\"\")","v":"x"}]
["Powervice","Op De Toffel 2006","Vierlingsbeek","2006-06-18",null,"Ene Podium","Festivaloptreden",6,2006,{"$f":"VLOOKUP(Table1[[#This Row],[Maand (getal)]],Lijst!A:B,2,FALSE)","v":"jun"},{"$f":"IFERROR(IF(ISBLANK('Zoeken in Database'!$D$3),\"x\",IF(SEARCH('Zoeken in Database'!$D$3,Concerten!A522,1),\"x\",\"\")),\"\")","v":"x"},{"$f":"IFERROR(IF(ISBLANK('Zoeken in Database'!$D$4),\"x\",IF(SEARCH('Zoeken in Database'!$D$4,Concerten!B522,1),\"x\",\"\")),\"\")","v":"x"},{"$f":"IFERROR(IF(ISBLANK('Zoeken in Database'!$D$5),\"x\",IF(SEARCH('Zoeken in Database'!$D$5,Concerten!C522,1),\"x\",\"\")),\"\")","v":"x"},{"$f":"IFERROR(IF(ISBLANK('Zoeken in Database'!$D$6),\"x\",IF(SEARCH('Zoeken in Database'!$D$6,Concerten!G522,1),\"x\",\"\")),\"\")","v":"x"},{"$f":"IF(AND(D522>='Zoeken in Database'!$A$7,'Zoeken in Database'!$A$8>=D522),\"x\",\"\")","v":"x"}]
["Solitus","Op De Toffel 2006","Vierlingsbeek","2006-06-18",null,"Ene Podium","Festivaloptreden",6,2006,{"$f":"VLOOKUP(Table1[[#This Row],[Maand (getal)]],Lijst!A:B,2,FALSE)","v":"jun"},{"$f":"IFERROR(IF(ISBLANK('Zoeken in Database'!$D$3),\"x\",IF(SEARCH('Zoeken in Database'!$D$3,Concerten!A523,1),\"x\",\"\")),\"\")","v":"x"},{"$f":"IFERROR(IF(ISBLANK('Zoeken in Database'!$D$4),\"x\",IF(SEARCH('Zoeken in Database'!$D$4,Concerten!B523,1),\"x\",\"\")),\"\")","v":"x"},{"$f":"IFERROR(IF(ISBLANK('Zoeken in Database'!$D$5),\"x\",IF(SEARCH('Zoeken in Database'!$D$5,Concerten!C523,1),\"x\",\"\")),\"\")","v":"x"},{"$f":"IFERROR(IF(ISBLANK('Zoeken in Database'!$D$6),\"x\",IF(SEARCH('Zoeken in Database'!$D$6,Concerten!G523,1),\"x\",\"\")),\"\")","v":"x"},{"$f":"IF(AND(D523>='Zoeken in Database'!$A$7,'Zoeken in Database'!$A$8>=D523),\"x\",\"\")","v":"x"}]
["Tool","Heineken Music Hall","Amsterdam","2006-06-27","LOST KEYS\nROSETTA STONED\nSTINKFIST \nFORTY SIX & 2 (with weird intro)\nJAMBI \nSCHISM \nRIGHT IN TWO (with Intension intro) \nLATERALUS \n-Break-\nSpacey noise\nVICARIOUS\nAENEMA\n",null,"Hoofdprogramma",6,2006,{"$f":"VLOOKUP(Table1[[#This Row],[Maand (getal)]],Lijst!A:B,2,FALSE)","v":"jun"},{"$f":"IFERROR(IF(ISBLANK('Zoeken in Database'!$D$3),\"x\",IF(SEARCH('Zoeken in Database'!$D$3,Concerten!A524,1),\"x\",\"\")),\"\")","v":"x"},{"$f":"IFERROR(IF(ISBLANK('Zoeken in Database'!$D$4),\"x\",IF(SEARCH('Zoeken in Database'!$D$4,Concerten!B524,1),\"x\",\"\")),\"\")","v":"x"},{"$f":"IFERROR(IF(ISBLANK('Zoeken in Database'!$D$5),\"x\",IF(SEARCH('Zoeken in Database'!$D$5,Concerten!C524,1),\"x\",\"\")),\"\")","v":"x"},{"$f":"IFERROR(IF(ISBLANK('Zoeken in Database'!$D$6),\"x\",IF(SEARCH('Zoeken in Database'!$D$6,Concerten!G524,1),\"x\",\"\")),\"\")","v":"x"},{"$f":"IF(AND(D524>='Zoeken in Database'!$A$7,'Zoeken in Database'!$A$8>=D524),\"x\",\"\")","v":"x"}]
["Atmosphere","Rock Werchter 2006","Werchter","2006-06-29","    * The Call It\n    * Arrival\n    * Trying To Find A Balance\n    * Panick Attack\n    * Catz Van Bags\n    * Guns And Cigarettes\n    * Godlovesugly\n    * Morris Day\n    * Party For The Fight To Right\n    * Like Today\n    * Modern Man Hustle\n    * Hockey Hair\n    * Smart Went Crazy\n    * Shrapned\n    * Woman With The Tattood Hands\n    * Always Coming Back To You\n","Pyramid Marquee","Festivaloptreden",6,2006,{"$f":"VLOOKUP(Table1[[#This Row],[Maand (getal)]],Lijst!A:B,2,FALSE)","v":"jun"},{"$f":"IFERROR(IF(ISBLANK('Zoeken in Database'!$D$3),\"x\",IF(SEARCH('Zoeken in Database'!$D$3,Concerten!A525,1),\"x\",\"\")),\"\")","v":"x"},{"$f":"IFERROR(IF(ISBLANK('Zoeken in Database'!$D$4),\"x\",IF(SEARCH('Zoeken in Database'!$D$4,Concerten!B525,1),\"x\",\"\")),\"\")","v":"x"},{"$f":"IFERROR(IF(ISBLANK('Zoeken in Database'!$D$5),\"x\",IF(SEARCH('Zoeken in Database'!$D$5,Concerten!C525,1),\"x\",\"\")),\"\")","v":"x"},{"$f":"IFERROR(IF(ISBLANK('Zoeken in Database'!$D$6),\"x\",IF(SEARCH('Zoeken in Database'!$D$6,Concerten!G525,1),\"x\",\"\")),\"\")","v":"x"},{"$f":"IF(AND(D525>='Zoeken in Database'!$A$7,'Zoeken in Database'!$A$8>=D525),\"x\",\"\")","v":"x"}]
["Chao, Manu","Rock Werchter 2006","Werchter","2006-06-29","    * Elhoyo\n    * Peligro\n    * Por el suelo\n    * Tadibobeira\n    * Bobby Marley\n    * Primavera\n    * Radio Bemba\n    * Bienvenida a Tijuana\n    * El viento\n    * Monkey\n    * Clandestino + desapareci + desespedida\n    * Hamburger Fields\n    * Merry Bluse\n    * Infinita Tristeza\n    * Dia Luna\n    * Volver + Radio Bemba ","Main Stage","Festivaloptreden",6,2006,{"$f":"VLOOKUP(Table1[[#This Row],[Maand (getal)]],Lijst!A:B,2,FALSE)","v":"jun"},{"$f":"IFERROR(IF(ISBLANK('Zoeken in Database'!$D$3),\"x\",IF(SEARCH('Zoeken in Database'!$D$3,Concerten!A526,1),\"x\",\"\")),\"\")","v":"x"},{"$f":"IFERROR(IF(ISBLANK('Zoeken in Database'!$D$4),\"x\",IF(SEARCH('Zoeken in Database'!$D$4,Concerten!B526,1),\"x\",\"\")),\"\")","v":"x"},{"$f":"IFERROR(IF(ISBLANK('Zoeken in Database'!$D$5),\"x\",IF(SEARCH('Zoeken in Database'!$D$5,Concerten!C526,1),\"x\",\"\")),\"\")","v":"x"},{"$f":"IFERROR(IF(ISBLANK('Zoeken in Database'!$D$6),\"x\",IF(SEARCH('Zoeken in Database'!$D$6,Concerten!G526,1),\"x\",\"\")),\"\")","v":"x"},{"$f":"IF(AND(D526>='Zoeken in Database'!$A$7,'Zoeken in Database'!$A$8>=D526),\"x\",\"\")","v":"x"}]
["Death Cab For Cutie","Rock Werchter 2006","Werchter","2006-06-29",null,"Pyramid Marquee","Festivaloptreden",6,2006,{"$f":"VLOOKUP(Table1[[#This Row],[Maand (getal)]],Lijst!A:B,2,FALSE)","v":"jun"},{"$f":"IFERROR(IF(ISBLANK('Zoeken in Database'!$D$3),\"x\",IF(SEARCH('Zoeken in Database'!$D$3,Concerten!A527,1),\"x\",\"\")),\"\")","v":"x"},{"$f":"IFERROR(IF(ISBLANK('Zoeken in Database'!$D$4),\"x\",IF(SEARCH('Zoeken in Database'!$D$4,Concerten!B527,1),\"x\",\"\")),\"\")","v":"x"},{"$f":"IFERROR(IF(ISBLANK('Zoeken in Database'!$D$5),\"x\",IF(SEARCH('Zoeken in Database'!$D$5,Concerten!C527,1),\"x\",\"\")),\"\")","v":"x"},{"$f":"IFERROR(IF(ISBLANK('Zoeken in Database'!$D$6),\"x\",IF(SEARCH('Zoeken in Database'!$D$6,Concerten!G527,1),\"x\",\"\")),\"\")","v":"x"},{"$f":"IF(AND(D527>='Zoeken in Database'!$A$7,'Zoeken in Database'!$A$8>=D527),\"x\",\"\")","v":"x"}]
["Kaizers Orchestra","Rock Werchter 2006","Werchter","2006-06-29","    * Ompa Til Du D¢r\n    * B¢n Fra Helvete\n    * Delikatessen\n    * Container\n    * Blitzregn Baby\n    * KGB\n    * Kontroll På Kontinent\n    * Sig¢ynerblod\n    * Katastrofen\n    * Maestro\n\n","Pyramid Marquee","Festivaloptreden",6,2006,{"$f":"VLOOKUP(Table1[[#This Row],[Maand (getal)]],Lijst!A:B,2,FALSE)","v":"jun"},{"$f":"IFERROR(IF(ISBLANK('Zoeken in Database'!$D$3),\"x\",IF(SEARCH('Zoeken in Database'!$D$3,Concerten!A528,1),\"x\",\"\")),\"\")","v":"x"},{"$f":"IFERROR(IF(ISBLANK('Zoeken in Database'!$D$4),\"x\",IF(SEARCH('Zoeken in Database'!$D$4,Concerten!B528,1),\"x\",\"\")),\"\")","v":"x"},{"$f":"IFERROR(IF(ISBLANK('Zoeken in Database'!$D$5),\"x\",IF(SEARCH('Zoeken in Database'!$D$5,Concerten!C528,1),\"x\",\"\")),\"\")","v":"x"},{"$f":"IFERROR(IF(ISBLANK('Zoeken in Database'!$D$6),\"x\",IF(SEARCH('Zoeken in Database'!$D$6,Concerten!G528,1),\"x\",\"\")),\"\")","v":"x"},{"$f":"IF(AND(D528>='Zoeken in Database'!$A$7,'Zoeken in Database'!$A$8>=D528),\"x\",\"\")","v":"x"}]
["Red Hot Chili Peppers","Rock Werchter 2006","Werchter","2006-06-29","    * Can't Stop\n    * Dani California\n    * Scar Tissue\n    * Charlie\n    * Fortune Faded\n    * Warlocks\n    * Parallel Universe\n    * Snow\n    * Me And My Friends\n    * Wet Sand\n    * Right On Time\n    * Don't Forget Me\n    * How Deep Is Your Love? (The Bee Gees)\n    * Tell Me Baby\n    * Californication\n    * By The Way","Main Stage","Festivaloptreden",6,2006,{"$f":"VLOOKUP(Table1[[#This Row],[Maand (getal)]],Lijst!A:B,2,FALSE)","v":"jun"},{"$f":"IFERROR(IF(ISBLANK('Zoeken in Database'!$D$3),\"x\",IF(SEARCH('Zoeken in Database'!$D$3,Concerten!A529,1),\"x\",\"\")),\"\")","v":"x"},{"$f":"IFERROR(IF(ISBLANK('Zoeken in Database'!$D$4),\"x\",IF(SEARCH('Zoeken in Database'!$D$4,Concerten!B529,1),\"x\",\"\")),\"\")","v":"x"},{"$f":"IFERROR(IF(ISBLANK('Zoeken in Database'!$D$5),\"x\",IF(SEARCH('Zoeken in Database'!$D$5,Concerten!C529,1),\"x\",\"\")),\"\")","v":"x"},{"$f":"IFERROR(IF(ISBLANK('Zoeken in Database'!$D$6),\"x\",IF(SEARCH('Zoeken in Database'!$D$6,Concerten!G529,1),\"x\",\"\")),\"\")","v":"x"},{"$f":"IF(AND(D529>='Zoeken in Database'!$A$7,'Zoeken in Database'!$A$8>=D529),\"x\",\"\")","v":"x"}]
["Anouk","Rock Werchter 2006","Werchter","2006-06-30","    * Only you\n    * Nobody's wife\n    * One word\n    * Jerusalem\n    * Alright\n    * More than you deserve\n    * too long\n    * R U Kidding me\n    * Lost\n    * Home is in my head\n    * Girl\n","Main Stage","Festivaloptreden",6,2006,{"$f":"VLOOKUP(Table1[[#This Row],[Maand (getal)]],Lijst!A:B,2,FALSE)","v":"jun"},{"$f":"IFERROR(IF(ISBLANK('Zoeken in Database'!$D$3),\"x\",IF(SEARCH('Zoeken in Database'!$D$3,Concerten!A530,1),\"x\",\"\")),\"\")","v":"x"},{"$f":"IFERROR(IF(ISBLANK('Zoeken in Database'!$D$4),\"x\",IF(SEARCH('Zoeken in Database'!$D$4,Concerten!B530,1),\"x\",\"\")),\"\")","v":"x"},{"$f":"IFERROR(IF(ISBLANK('Zoeken in Database'!$D$5),\"x\",IF(SEARCH('Zoeken in Database'!$D$5,Concerten!C530,1),\"x\",\"\")),\"\")","v":"x"},{"$f":"IFERROR(IF(ISBLANK('Zoeken in Database'!$D$6),\"x\",IF(SEARCH('Zoeken in Database'!$D$6,Concerten!G530,1),\"x\",\"\")),\"\")","v":"x"},{"$f":"IF(AND(D530>='Zoeken in Database'!$A$7,'Zoeken in Database'!$A$8>=D530),\"x\",\"\")","v":"x"}]
["Editors","Rock Werchter 2006","Werchter","2006-06-30","# Lights\n# All Sparks\n# Blood\n# Bones\n# Fall\n# Bullets\n# Camera\n# You are fading\n# Munich\n# Road To Nowhere\n# Fingers in the Factories \n","Main Stage","Festivaloptreden",6,2006,{"$f":"VLOOKUP(Table1[[#This Row],[Maand (getal)]],Lijst!A:B,2,FALSE)","v":"jun"},{"$f":"IFERROR(IF(ISBLANK('Zoeken in Database'!$D$3),\"x\",IF(SEARCH('Zoeken in Database'!$D$3,Concerten!A531,1),\"x\",\"\")),\"\")","v":"x"},{"$f":"IFERROR(IF(ISBLANK('Zoeken in Database'!$D$4),\"x\",IF(SEARCH('Zoeken in Database'!$D$4,Concerten!B531,1),\"x\",\"\")),\"\")","v":"x"},{"$f":"IFERROR(IF(ISBLANK('Zoeken in Database'!$D$5),\"x\",IF(SEARCH('Zoeken in Database'!$D$5,Concerten!C531,1),\"x\",\"\")),\"\")","v":"x"},{"$f":"IFERROR(IF(ISBLANK('Zoeken in Database'!$D$6),\"x\",IF(SEARCH('Zoeken in Database'!$D$6,Concerten!G531,1),\"x\",\"\")),\"\")","v":"x"},{"$f":"IF(AND(D531>='Zoeken in Database'!$A$7,'Zoeken in Database'!$A$8>=D531),\"x\",\"\")","v":"x"}]
["Elbow","Rock Werchter 2006","Werchter","2006-06-30","    * Station approach\n    * Red\n    * Leaders\n    * Fugitive\n    * Mexican\n    * Good day\n    * McGreggor\n    * Forget Myself\n    * The Stops\n    * New Born\n","Pyramid Marquee","Festivaloptreden",6,2006,{"$f":"VLOOKUP(Table1[[#This Row],[Maand (getal)]],Lijst!A:B,2,FALSE)","v":"jun"},{"$f":"IFERROR(IF(ISBLANK('Zoeken in Database'!$D$3),\"x\",IF(SEARCH('Zoeken in Database'!$D$3,Concerten!A532,1),\"x\",\"\")),\"\")","v":"x"},{"$f":"IFERROR(IF(ISBLANK('Zoeken in Database'!$D$4),\"x\",IF(SEARCH('Zoeken in Database'!$D$4,Concerten!B532,1),\"x\",\"\")),\"\")","v":"x"},{"$f":"IFERROR(IF(ISBLANK('Zoeken in Database'!$D$5),\"x\",IF(SEARCH('Zoeken in Database'!$D$5,Concerten!C532,1),\"x\",\"\")),\"\")","v":"x"},{"$f":"IFERROR(IF(ISBLANK('Zoeken in Database'!$D$6),\"x\",IF(SEARCH('Zoeken in Database'!$D$6,Concerten!G532,1),\"x\",\"\")),\"\")","v":"x"},{"$f":"IF(AND(D532>='Zoeken in Database'!$A$7,'Zoeken in Database'!$A$8>=D532),\"x\",\"\")","v":"x"}]
["Muse","Rock Werchter 2006","Werchter","2006-06-30","    * Map Of The Problematique\n    * Bliss\n    * Starlight\n    * Plug In Baby\n    * Invincible\n    * Citizen Erased\n    * Soldiers Poem\n    * Feeling Good\n    * Stockholm\n    * Supermassive\n    * Hysteria\n    * Assassin\n    * New Born \n---------------------------\n    * Take A Bow\n    * Time Is Running Out\n    * Knights Of Cydonia \n","Main Stage","Festivaloptreden",6,2006,{"$f":"VLOOKUP(Table1[[#This Row],[Maand (getal)]],Lijst!A:B,2,FALSE)","v":"jun"},{"$f":"IFERROR(IF(ISBLANK('Zoeken in Database'!$D$3),\"x\",IF(SEARCH('Zoeken in Database'!$D$3,Concerten!A533,1),\"x\",\"\")),\"\")","v":"x"},{"$f":"IFERROR(IF(ISBLANK('Zoeken in Database'!$D$4),\"x\",IF(SEARCH('Zoeken in Database'!$D$4,Concerten!B533,1),\"x\",\"\")),\"\")","v":"x"},{"$f":"IFERROR(IF(ISBLANK('Zoeken in Database'!$D$5),\"x\",IF(SEARCH('Zoeken in Database'!$D$5,Concerten!C533,1),\"x\",\"\")),\"\")","v":"x"},{"$f":"IFERROR(IF(ISBLANK('Zoeken in Database'!$D$6),\"x\",IF(SEARCH('Zoeken in Database'!$D$6,Concerten!G533,1),\"x\",\"\")),\"\")","v":"x"},{"$f":"IF(AND(D533>='Zoeken in Database'!$A$7,'Zoeken in Database'!$A$8>=D533),\"x\",\"\")","v":"x"}]
["Skin","Rock Werchter 2006","Werchter","2006-06-30","    * Only Vultures\n    * She's on\n    * Alone in my room\n    * Faithfulness\n    * Purple\n    * Movin'\n    * Don't need a reason\n    * I can dream\n    * Headonism\n    * Just let the sun\n    * Take me on\n    * Getting away with it\n","Main Stage","Festivaloptreden",6,2006,{"$f":"VLOOKUP(Table1[[#This Row],[Maand (getal)]],Lijst!A:B,2,FALSE)","v":"jun"},{"$f":"IFERROR(IF(ISBLANK('Zoeken in Database'!$D$3),\"x\",IF(SEARCH('Zoeken in Database'!$D$3,Concerten!A534,1),\"x\",\"\")),\"\")","v":"x"},{"$f":"IFERROR(IF(ISBLANK('Zoeken in Database'!$D$4),\"x\",IF(SEARCH('Zoeken in Database'!$D$4,Concerten!B534,1),\"x\",\"\")),\"\")","v":"x"},{"$f":"IFERROR(IF(ISBLANK('Zoeken in Database'!$D$5),\"x\",IF(SEARCH('Zoeken in Database'!$D$5,Concerten!C534,1),\"x\",\"\")),\"\")","v":"x"},{"$f":"IFERROR(IF(ISBLANK('Zoeken in Database'!$D$6),\"x\",IF(SEARCH('Zoeken in Database'!$D$6,Concerten!G534,1),\"x\",\"\")),\"\")","v":"x"},{"$f":"IF(AND(D534>='Zoeken in Database'!$A$7,'Zoeken in Database'!$A$8>=D534),\"x\",\"\")","v":"x"}]
["West, Kanye","Rock Werchter 2006","Werchter","2006-06-30","    * Diamonds\n    * Get em high\n    * We don't care\n    * Workout plan\n    * Addiction\n    * Heard em say\n    * Get em high\n    * Gone\n    * Drive slow\n    * String medley\n    * Spaceship\n    * All falls down\n    * Gold digger\n    * Slow jams\n    * Over night celeb\n    * Through the wire\n    * Jesus walks\n    * Touch the sky\n","Main Stage","Festivaloptreden",6,2006,{"$f":"VLOOKUP(Table1[[#This Row],[Maand (getal)]],Lijst!A:B,2,FALSE)","v":"jun"},{"$f":"IFERROR(IF(ISBLANK('Zoeken in Database'!$D$3),\"x\",IF(SEARCH('Zoeken in Database'!$D$3,Concerten!A535,1),\"x\",\"\")),\"\")","v":"x"},{"$f":"IFERROR(IF(ISBLANK('Zoeken in Database'!$D$4),\"x\",IF(SEARCH('Zoeken in Database'!$D$4,Concerten!B535,1),\"x\",\"\")),\"\")","v":"x"},{"$f":"IFERROR(IF(ISBLANK('Zoeken in Database'!$D$5),\"x\",IF(SEARCH('Zoeken in Database'!$D$5,Concerten!C535,1),\"x\",\"\")),\"\")","v":"x"},{"$f":"IFERROR(IF(ISBLANK('Zoeken in Database'!$D$6),\"x\",IF(SEARCH('Zoeken in Database'!$D$6,Concerten!G535,1),\"x\",\"\")),\"\")","v":"x"},{"$f":"IF(AND(D535>='Zoeken in Database'!$A$7,'Zoeken in Database'!$A$8>=D535),\"x\",\"\")","v":"x"}]
["Who, The","Rock Werchter 2006","Werchter","2006-06-30","    * Can't Explain\n    * Seeker\n    * Anyway anyhow\n    * Who are you\n    * Bargain\n    * Behind Blue Eyes\n    * Good looking Boy\n    * I'm one (Pete Solo)\n    * Mike Post\n    * Baba O'Riley\n    * Love reign on me\n    * Kids are allright\n    * My generation\n    * Won't get fooled again\n    * -------------------------------\n    * Substitute\n    * Pinball Wizzard\n    * Amazing Journey / Sparks\n    * See me, Feel me\n    * Listening to you\n\n","Main Stage","Festivaloptreden",6,2006,{"$f":"VLOOKUP(Table1[[#This Row],[Maand (getal)]],Lijst!A:B,2,FALSE)","v":"jun"},{"$f":"IFERROR(IF(ISBLANK('Zoeken in Database'!$D$3),\"x\",IF(SEARCH('Zoeken in Database'!$D$3,Concerten!A536,1),\"x\",\"\")),\"\")","v":"x"},{"$f":"IFERROR(IF(ISBLANK('Zoeken in Database'!$D$4),\"x\",IF(SEARCH('Zoeken in Database'!$D$4,Concerten!B536,1),\"x\",\"\")),\"\")","v":"x"},{"$f":"IFERROR(IF(ISBLANK('Zoeken in Database'!$D$5),\"x\",IF(SEARCH('Zoeken in Database'!$D$5,Concerten!C536,1),\"x\",\"\")),\"\")","v":"x"},{"$f":"IFERROR(IF(ISBLANK('Zoeken in Database'!$D$6),\"x\",IF(SEARCH('Zoeken in Database'!$D$6,Concerten!G536,1),\"x\",\"\")),\"\")","v":"x"},{"$f":"IF(AND(D536>='Zoeken in Database'!$A$7,'Zoeken in Database'!$A$8>=D536),\"x\",\"\")","v":"x"}]
["Arctic Monkeys","Rock Werchter 2006","Werchter","2006-07-01","    * The View From The Afternoon\n    * Still Take You Home\n    * You Probably Couldn't See...\n    * Cigarette Smoker Fiona\n    * Perhaps Vampires Is A Bit Strong But...\n    * Dancing Shoes\n    * Who The Fuck Are The Arctic Monkeys?\n    * I Bet You Look Good On The Dancefloor\n    * From Ritz To The Rubble\n    * Leave Before The Lights Come On\n    * When The Sun Goes Down\n    * Mardy Bum\n    * Fake Tales Of San Francisco\n    * A Certain Romance\n","Main Stage","Festivaloptreden",7,2006,{"$f":"VLOOKUP(Table1[[#This Row],[Maand (getal)]],Lijst!A:B,2,FALSE)","v":"jul"},{"$f":"IFERROR(IF(ISBLANK('Zoeken in Database'!$D$3),\"x\",IF(SEARCH('Zoeken in Database'!$D$3,Concerten!A537,1),\"x\",\"\")),\"\")","v":"x"},{"$f":"IFERROR(IF(ISBLANK('Zoeken in Database'!$D$4),\"x\",IF(SEARCH('Zoeken in Database'!$D$4,Concerten!B537,1),\"x\",\"\")),\"\")","v":"x"},{"$f":"IFERROR(IF(ISBLANK('Zoeken in Database'!$D$5),\"x\",IF(SEARCH('Zoeken in Database'!$D$5,Concerten!C537,1),\"x\",\"\")),\"\")","v":"x"},{"$f":"IFERROR(IF(ISBLANK('Zoeken in Database'!$D$6),\"x\",IF(SEARCH('Zoeken in Database'!$D$6,Concerten!G537,1),\"x\",\"\")),\"\")","v":"x"},{"$f":"IF(AND(D537>='Zoeken in Database'!$A$7,'Zoeken in Database'!$A$8>=D537),\"x\",\"\")","v":"x"}]
["Arsenal","Rock Werchter 2006","Werchter","2006-07-01","    * The Coming\n    * Switch\n    * Shu Qi Ni De Tu Fa\n    * Longee\n    * A Volta\n    * Personne ne bouge!\n    * Either\n    * Mr. Doorman\n    * Saudade\n","Main Stage","Festivaloptreden",7,2006,{"$f":"VLOOKUP(Table1[[#This Row],[Maand (getal)]],Lijst!A:B,2,FALSE)","v":"jul"},{"$f":"IFERROR(IF(ISBLANK('Zoeken in Database'!$D$3),\"x\",IF(SEARCH('Zoeken in Database'!$D$3,Concerten!A538,1),\"x\",\"\")),\"\")","v":"x"},{"$f":"IFERROR(IF(ISBLANK('Zoeken in Database'!$D$4),\"x\",IF(SEARCH('Zoeken in Database'!$D$4,Concerten!B538,1),\"x\",\"\")),\"\")","v":"x"},{"$f":"IFERROR(IF(ISBLANK('Zoeken in Database'!$D$5),\"x\",IF(SEARCH('Zoeken in Database'!$D$5,Concerten!C538,1),\"x\",\"\")),\"\")","v":"x"},{"$f":"IFERROR(IF(ISBLANK('Zoeken in Database'!$D$6),\"x\",IF(SEARCH('Zoeken in Database'!$D$6,Concerten!G538,1),\"x\",\"\")),\"\")","v":"x"},{"$f":"IF(AND(D538>='Zoeken in Database'!$A$7,'Zoeken in Database'!$A$8>=D538),\"x\",\"\")","v":"x"}]
["Franz Ferdinand","Rock Werchter 2006","Werchter","2006-07-01","    * This Boy\n    * Come On Home\n    * Do You Want To?\n    * I'm Your Villain\n    * L Wells\n    * Walk Away\n    * Take Me Out\n    * The Fallen\n    * Darts of Pleasure\n    * Matinee\n    * 40 Ft\n    * Michael\n    * Evil And A Heathen\n    * Outsiders\n    * This Fire\n\n","Main Stage","Festivaloptreden",7,2006,{"$f":"VLOOKUP(Table1[[#This Row],[Maand (getal)]],Lijst!A:B,2,FALSE)","v":"jul"},{"$f":"IFERROR(IF(ISBLANK('Zoeken in Database'!$D$3),\"x\",IF(SEARCH('Zoeken in Database'!$D$3,Concerten!A539,1),\"x\",\"\")),\"\")","v":"x"},{"$f":"IFERROR(IF(ISBLANK('Zoeken in Database'!$D$4),\"x\",IF(SEARCH('Zoeken in Database'!$D$4,Concerten!B539,1),\"x\",\"\")),\"\")","v":"x"},{"$f":"IFERROR(IF(ISBLANK('Zoeken in Database'!$D$5),\"x\",IF(SEARCH('Zoeken in Database'!$D$5,Concerten!C539,1),\"x\",\"\")),\"\")","v":"x"},{"$f":"IFERROR(IF(ISBLANK('Zoeken in Database'!$D$6),\"x\",IF(SEARCH('Zoeken in Database'!$D$6,Concerten!G539,1),\"x\",\"\")),\"\")","v":"x"},{"$f":"IF(AND(D539>='Zoeken in Database'!$A$7,'Zoeken in Database'!$A$8>=D539),\"x\",\"\")","v":"x"}]
["Kaiser Chiefs","Rock Werchter 2006","Werchter","2006-07-01","    * Na Na Na Na Naa\n    * Saturday Night\n    * Everyday I Love You Less And Less\n    * Heat Dies Down\n    * Born To Be A Dancer\n    * Time Honoured Tradition\n    * Modern Way\n    * Learnt My Lesson Well\n    * I Predict A Riot\n    * Everything Is Average Nowadays\n    * Caroline, Yes\n    * Take My Temperature\n    * Oh My God ","Main Stage","Festivaloptreden",7,2006,{"$f":"VLOOKUP(Table1[[#This Row],[Maand (getal)]],Lijst!A:B,2,FALSE)","v":"jul"},{"$f":"IFERROR(IF(ISBLANK('Zoeken in Database'!$D$3),\"x\",IF(SEARCH('Zoeken in Database'!$D$3,Concerten!A540,1),\"x\",\"\")),\"\")","v":"x"},{"$f":"IFERROR(IF(ISBLANK('Zoeken in Database'!$D$4),\"x\",IF(SEARCH('Zoeken in Database'!$D$4,Concerten!B540,1),\"x\",\"\")),\"\")","v":"x"},{"$f":"IFERROR(IF(ISBLANK('Zoeken in Database'!$D$5),\"x\",IF(SEARCH('Zoeken in Database'!$D$5,Concerten!C540,1),\"x\",\"\")),\"\")","v":"x"},{"$f":"IFERROR(IF(ISBLANK('Zoeken in Database'!$D$6),\"x\",IF(SEARCH('Zoeken in Database'!$D$6,Concerten!G540,1),\"x\",\"\")),\"\")","v":"x"},{"$f":"IF(AND(D540>='Zoeken in Database'!$A$7,'Zoeken in Database'!$A$8>=D540),\"x\",\"\")","v":"x"}]
["Raconteurs, The","Rock Werchter 2006","Werchter","2006-07-01","    * Intimate Secretary\n    * Level\n    * Steady as she goes\n    * Togheter\n    * It ain't easy\n    * 5 on the 5\n    * Yellow sun\n    * Bang bang (my baby shot me down)\n    * Broken Boy Soldier\n    * Samuel Sin\n    * Store bought bones\n    * Blue Veins\n    * Send me a postcard\n    * Hands","Main Stage","Festivaloptreden",7,2006,{"$f":"VLOOKUP(Table1[[#This Row],[Maand (getal)]],Lijst!A:B,2,FALSE)","v":"jul"},{"$f":"IFERROR(IF(ISBLANK('Zoeken in Database'!$D$3),\"x\",IF(SEARCH('Zoeken in Database'!$D$3,Concerten!A541,1),\"x\",\"\")),\"\")","v":"x"},{"$f":"IFERROR(IF(ISBLANK('Zoeken in Database'!$D$4),\"x\",IF(SEARCH('Zoeken in Database'!$D$4,Concerten!B541,1),\"x\",\"\")),\"\")","v":"x"},{"$f":"IFERROR(IF(ISBLANK('Zoeken in Database'!$D$5),\"x\",IF(SEARCH('Zoeken in Database'!$D$5,Concerten!C541,1),\"x\",\"\")),\"\")","v":"x"},{"$f":"IFERROR(IF(ISBLANK('Zoeken in Database'!$D$6),\"x\",IF(SEARCH('Zoeken in Database'!$D$6,Concerten!G541,1),\"x\",\"\")),\"\")","v":"x"},{"$f":"IF(AND(D541>='Zoeken in Database'!$A$7,'Zoeken in Database'!$A$8>=D541),\"x\",\"\")","v":"x"}]
["Sigur Ros","Rock Werchter 2006","Werchter","2006-07-01","    * Glósóli\n    * Ny Batterí\n    * Sæglópur\n    * Hoppípolla\n    * Med Blodnasir\n    * Olsen Olsen\n    * Sé Lest\n    * Vidrar Vel Til Loftárása\n    * Hafsol\n    * Popplagid ","Pyramid Marquee","Festivaloptreden",7,2006,{"$f":"VLOOKUP(Table1[[#This Row],[Maand (getal)]],Lijst!A:B,2,FALSE)","v":"jul"},{"$f":"IFERROR(IF(ISBLANK('Zoeken in Database'!$D$3),\"x\",IF(SEARCH('Zoeken in Database'!$D$3,Concerten!A542,1),\"x\",\"\")),\"\")","v":"x"},{"$f":"IFERROR(IF(ISBLANK('Zoeken in Database'!$D$4),\"x\",IF(SEARCH('Zoeken in Database'!$D$4,Concerten!B542,1),\"x\",\"\")),\"\")","v":"x"},{"$f":"IFERROR(IF(ISBLANK('Zoeken in Database'!$D$5),\"x\",IF(SEARCH('Zoeken in Database'!$D$5,Concerten!C542,1),\"x\",\"\")),\"\")","v":"x"},{"$f":"IFERROR(IF(ISBLANK('Zoeken in Database'!$D$6),\"x\",IF(SEARCH('Zoeken in Database'!$D$6,Concerten!G542,1),\"x\",\"\")),\"\")","v":"x"},{"$f":"IF(AND(D542>='Zoeken in Database'!$A$7,'Zoeken in Database'!$A$8>=D542),\"x\",\"\")","v":"x"}]
["Wolfmother","Rock Werchter 2006","Werchter","2006-07-01","    * Dimension\n    * Pyramid\n    * Apple Tree\n    * White Unicorn\n    * Woman\n    * Joker Minds Eye\n","Main Stage","Festivaloptreden",7,2006,{"$f":"VLOOKUP(Table1[[#This Row],[Maand (getal)]],Lijst!A:B,2,FALSE)","v":"jul"},{"$f":"IFERROR(IF(ISBLANK('Zoeken in Database'!$D$3),\"x\",IF(SEARCH('Zoeken in Database'!$D$3,Concerten!A543,1),\"x\",\"\")),\"\")","v":"x"},{"$f":"IFERROR(IF(ISBLANK('Zoeken in Database'!$D$4),\"x\",IF(SEARCH('Zoeken in Database'!$D$4,Concerten!B543,1),\"x\",\"\")),\"\")","v":"x"},{"$f":"IFERROR(IF(ISBLANK('Zoeken in Database'!$D$5),\"x\",IF(SEARCH('Zoeken in Database'!$D$5,Concerten!C543,1),\"x\",\"\")),\"\")","v":"x"},{"$f":"IFERROR(IF(ISBLANK('Zoeken in Database'!$D$6),\"x\",IF(SEARCH('Zoeken in Database'!$D$6,Concerten!G543,1),\"x\",\"\")),\"\")","v":"x"},{"$f":"IF(AND(D543>='Zoeken in Database'!$A$7,'Zoeken in Database'!$A$8>=D543),\"x\",\"\")","v":"x"}]
["Danko Jones","Rock Werchter 2006","Werchter","2006-07-02","    * I'm alive and on fire\n    * sticky situation\n    * forget my name\n    * --------------------------\n    * sugar chocolate\n    * first date\n    * --------------------------\n    * Baby hates me\n    * Don't fall in love\n    * Invisible\n    * ----------------------------\n    * She's drugs\n    * Lovercall\n    * ----------------------------\n    * Sleep is the enemy\n    * Mountain\n","Main Stage","Festivaloptreden",7,2006,{"$f":"VLOOKUP(Table1[[#This Row],[Maand (getal)]],Lijst!A:B,2,FALSE)","v":"jul"},{"$f":"IFERROR(IF(ISBLANK('Zoeken in Database'!$D$3),\"x\",IF(SEARCH('Zoeken in Database'!$D$3,Concerten!A544,1),\"x\",\"\")),\"\")","v":"x"},{"$f":"IFERROR(IF(ISBLANK('Zoeken in Database'!$D$4),\"x\",IF(SEARCH('Zoeken in Database'!$D$4,Concerten!B544,1),\"x\",\"\")),\"\")","v":"x"},{"$f":"IFERROR(IF(ISBLANK('Zoeken in Database'!$D$5),\"x\",IF(SEARCH('Zoeken in Database'!$D$5,Concerten!C544,1),\"x\",\"\")),\"\")","v":"x"},{"$f":"IFERROR(IF(ISBLANK('Zoeken in Database'!$D$6),\"x\",IF(SEARCH('Zoeken in Database'!$D$6,Concerten!G544,1),\"x\",\"\")),\"\")","v":"x"},{"$f":"IF(AND(D544>='Zoeken in Database'!$A$7,'Zoeken in Database'!$A$8>=D544),\"x\",\"\")","v":"x"}]
["Depeche Mode","Rock Werchter 2006","Werchter","2006-07-02","    * Question of time\n    * Suffer well\n    * Precious\n    * Walking in my shoes\n    * Stripped\n    * Home\n    * In your room\n    * John the revelator\n    * I feel you\n    * Behind the wheel\n    * World in my eyes\n    * Personal Jesus\n    * Enjoy the silence\n    * Shake the disease\n    * Photograph\n    * Never let you down","Main Stage","Festivaloptreden",7,2006,{"$f":"VLOOKUP(Table1[[#This Row],[Maand (getal)]],Lijst!A:B,2,FALSE)","v":"jul"},{"$f":"IFERROR(IF(ISBLANK('Zoeken in Database'!$D$3),\"x\",IF(SEARCH('Zoeken in Database'!$D$3,Concerten!A545,1),\"x\",\"\")),\"\")","v":"x"},{"$f":"IFERROR(IF(ISBLANK('Zoeken in Database'!$D$4),\"x\",IF(SEARCH('Zoeken in Database'!$D$4,Concerten!B545,1),\"x\",\"\")),\"\")","v":"x"},{"$f":"IFERROR(IF(ISBLANK('Zoeken in Database'!$D$5),\"x\",IF(SEARCH('Zoeken in Database'!$D$5,Concerten!C545,1),\"x\",\"\")),\"\")","v":"x"},{"$f":"IFERROR(IF(ISBLANK('Zoeken in Database'!$D$6),\"x\",IF(SEARCH('Zoeken in Database'!$D$6,Concerten!G545,1),\"x\",\"\")),\"\")","v":"x"},{"$f":"IF(AND(D545>='Zoeken in Database'!$A$7,'Zoeken in Database'!$A$8>=D545),\"x\",\"\")","v":"x"}]
["Eels","Rock Werchter 2006","Werchter","2006-07-02","    * Saturday Morning\n    * Old shit/New shit\n    * Rock show\n    * Crazy love (crazy music)\n    * Eyes down\n    * Jesus gonna be here\n    * I like birds\n    * Mother Mary\n    * My beloved monster\n    * A magic world\n    * Not ready yet\n    * Souljacker Part 1\n    * I put a spell on you\n    * That's life\n","Main Stage","Festivaloptreden",7,2006,{"$f":"VLOOKUP(Table1[[#This Row],[Maand (getal)]],Lijst!A:B,2,FALSE)","v":"jul"},{"$f":"IFERROR(IF(ISBLANK('Zoeken in Database'!$D$3),\"x\",IF(SEARCH('Zoeken in Database'!$D$3,Concerten!A546,1),\"x\",\"\")),\"\")","v":"x"},{"$f":"IFERROR(IF(ISBLANK('Zoeken in Database'!$D$4),\"x\",IF(SEARCH('Zoeken in Database'!$D$4,Concerten!B546,1),\"x\",\"\")),\"\")","v":"x"},{"$f":"IFERROR(IF(ISBLANK('Zoeken in Database'!$D$5),\"x\",IF(SEARCH('Zoeken in Database'!$D$5,Concerten!C546,1),\"x\",\"\")),\"\")","v":"x"},{"$f":"IFERROR(IF(ISBLANK('Zoeken in Database'!$D$6),\"x\",IF(SEARCH('Zoeken in Database'!$D$6,Concerten!G546,1),\"x\",\"\")),\"\")","v":"x"},{"$f":"IF(AND(D546>='Zoeken in Database'!$A$7,'Zoeken in Database'!$A$8>=D546),\"x\",\"\")","v":"x"}]
["Hooverphonic","Rock Werchter 2006","Werchter","2006-07-02","    * You Love me To Death\n    * We All Float\n    * Wake Up\n    * Eden\n    * 2 Wicky\n    * My Child\n    * Jackie Cane\n    * The World Is Mine\n    * Dirty Lenses\n    * Mad About You\n    * Sometimes\n    * You Hurt Me\n    * Magenta\n","Main Stage","Festivaloptreden",7,2006,{"$f":"VLOOKUP(Table1[[#This Row],[Maand (getal)]],Lijst!A:B,2,FALSE)","v":"jul"},{"$f":"IFERROR(IF(ISBLANK('Zoeken in Database'!$D$3),\"x\",IF(SEARCH('Zoeken in Database'!$D$3,Concerten!A547,1),\"x\",\"\")),\"\")","v":"x"},{"$f":"IFERROR(IF(ISBLANK('Zoeken in Database'!$D$4),\"x\",IF(SEARCH('Zoeken in Database'!$D$4,Concerten!B547,1),\"x\",\"\")),\"\")","v":"x"},{"$f":"IFERROR(IF(ISBLANK('Zoeken in Database'!$D$5),\"x\",IF(SEARCH('Zoeken in Database'!$D$5,Concerten!C547,1),\"x\",\"\")),\"\")","v":"x"},{"$f":"IFERROR(IF(ISBLANK('Zoeken in Database'!$D$6),\"x\",IF(SEARCH('Zoeken in Database'!$D$6,Concerten!G547,1),\"x\",\"\")),\"\")","v":"x"},{"$f":"IF(AND(D547>='Zoeken in Database'!$A$7,'Zoeken in Database'!$A$8>=D547),\"x\",\"\")","v":"x"}]
["Nailpin","Rock Werchter 2006","Werchter","2006-07-02","    * Endless conversation\n    * Don't let go\n    * I'm sorry\n    * Worn out\n    * They don't know\n    * Cheater\n    * What are you waiting\n    * This coma\n    * All new dreams\n    * Movin on","Main Stage","Festivaloptreden",7,2006,{"$f":"VLOOKUP(Table1[[#This Row],[Maand (getal)]],Lijst!A:B,2,FALSE)","v":"jul"},{"$f":"IFERROR(IF(ISBLANK('Zoeken in Database'!$D$3),\"x\",IF(SEARCH('Zoeken in Database'!$D$3,Concerten!A548,1),\"x\",\"\")),\"\")","v":"x"},{"$f":"IFERROR(IF(ISBLANK('Zoeken in Database'!$D$4),\"x\",IF(SEARCH('Zoeken in Database'!$D$4,Concerten!B548,1),\"x\",\"\")),\"\")","v":"x"},{"$f":"IFERROR(IF(ISBLANK('Zoeken in Database'!$D$5),\"x\",IF(SEARCH('Zoeken in Database'!$D$5,Concerten!C548,1),\"x\",\"\")),\"\")","v":"x"},{"$f":"IFERROR(IF(ISBLANK('Zoeken in Database'!$D$6),\"x\",IF(SEARCH('Zoeken in Database'!$D$6,Concerten!G548,1),\"x\",\"\")),\"\")","v":"x"},{"$f":"IF(AND(D548>='Zoeken in Database'!$A$7,'Zoeken in Database'!$A$8>=D548),\"x\",\"\")","v":"x"}]
["Plant, Robert & The Strange Sensation","Rock Werchter 2006","Werchter","2006-07-02","    * Seven and seven is\n    * Black dog\n    * Freedom fries\n    * Four sticks\n    * Tin Pan Alley\n    * When the levee breaks\n    * Whole lotta love\n","Main Stage","Festivaloptreden",7,2006,{"$f":"VLOOKUP(Table1[[#This Row],[Maand (getal)]],Lijst!A:B,2,FALSE)","v":"jul"},{"$f":"IFERROR(IF(ISBLANK('Zoeken in Database'!$D$3),\"x\",IF(SEARCH('Zoeken in Database'!$D$3,Concerten!A549,1),\"x\",\"\")),\"\")","v":"x"},{"$f":"IFERROR(IF(ISBLANK('Zoeken in Database'!$D$4),\"x\",IF(SEARCH('Zoeken in Database'!$D$4,Concerten!B549,1),\"x\",\"\")),\"\")","v":"x"},{"$f":"IFERROR(IF(ISBLANK('Zoeken in Database'!$D$5),\"x\",IF(SEARCH('Zoeken in Database'!$D$5,Concerten!C549,1),\"x\",\"\")),\"\")","v":"x"},{"$f":"IFERROR(IF(ISBLANK('Zoeken in Database'!$D$6),\"x\",IF(SEARCH('Zoeken in Database'!$D$6,Concerten!G549,1),\"x\",\"\")),\"\")","v":"x"},{"$f":"IF(AND(D549>='Zoeken in Database'!$A$7,'Zoeken in Database'!$A$8>=D549),\"x\",\"\")","v":"x"}]
["Starsailor","Rock Werchter 2006","Werchter","2006-07-02","    * In my blood\n    * Counterfeit\n    * Poor misguided fool\n    * Alcoholic\n    * Fever\n    * In the crossfire\n    * Four to the floor\n    * 4 to the floor remix\n    * Tie up my hands\n    * Keep us togheter\n    * Good souls\n    * Silence is easy\n","Main Stage","Festivaloptreden",7,2006,{"$f":"VLOOKUP(Table1[[#This Row],[Maand (getal)]],Lijst!A:B,2,FALSE)","v":"jul"},{"$f":"IFERROR(IF(ISBLANK('Zoeken in Database'!$D$3),\"x\",IF(SEARCH('Zoeken in Database'!$D$3,Concerten!A550,1),\"x\",\"\")),\"\")","v":"x"},{"$f":"IFERROR(IF(ISBLANK('Zoeken in Database'!$D$4),\"x\",IF(SEARCH('Zoeken in Database'!$D$4,Concerten!B550,1),\"x\",\"\")),\"\")","v":"x"},{"$f":"IFERROR(IF(ISBLANK('Zoeken in Database'!$D$5),\"x\",IF(SEARCH('Zoeken in Database'!$D$5,Concerten!C550,1),\"x\",\"\")),\"\")","v":"x"},{"$f":"IFERROR(IF(ISBLANK('Zoeken in Database'!$D$6),\"x\",IF(SEARCH('Zoeken in Database'!$D$6,Concerten!G550,1),\"x\",\"\")),\"\")","v":"x"},{"$f":"IF(AND(D550>='Zoeken in Database'!$A$7,'Zoeken in Database'!$A$8>=D550),\"x\",\"\")","v":"x"}]
["Von Balthazar, Troy","Valkhof Affaire 2006","Nijmegen","2006-07-16",null,"Ooijpodium","Festivaloptreden",7,2006,{"$f":"VLOOKUP(Table1[[#This Row],[Maand (getal)]],Lijst!A:B,2,FALSE)","v":"jul"},{"$f":"IFERROR(IF(ISBLANK('Zoeken in Database'!$D$3),\"x\",IF(SEARCH('Zoeken in Database'!$D$3,Concerten!A551,1),\"x\",\"\")),\"\")","v":"x"},{"$f":"IFERROR(IF(ISBLANK('Zoeken in Database'!$D$4),\"x\",IF(SEARCH('Zoeken in Database'!$D$4,Concerten!B551,1),\"x\",\"\")),\"\")","v":"x"},{"$f":"IFERROR(IF(ISBLANK('Zoeken in Database'!$D$5),\"x\",IF(SEARCH('Zoeken in Database'!$D$5,Concerten!C551,1),\"x\",\"\")),\"\")","v":"x"},{"$f":"IFERROR(IF(ISBLANK('Zoeken in Database'!$D$6),\"x\",IF(SEARCH('Zoeken in Database'!$D$6,Concerten!G551,1),\"x\",\"\")),\"\")","v":"x"},{"$f":"IF(AND(D551>='Zoeken in Database'!$A$7,'Zoeken in Database'!$A$8>=D551),\"x\",\"\")","v":"x"}]
["Lampchop","Haldern Pop 2006","Haldern","2006-08-03",null,"Spiegelzelt","Festivaloptreden",8,2006,{"$f":"VLOOKUP(Table1[[#This Row],[Maand (getal)]],Lijst!A:B,2,FALSE)","v":"aug"},{"$f":"IFERROR(IF(ISBLANK('Zoeken in Database'!$D$3),\"x\",IF(SEARCH('Zoeken in Database'!$D$3,Concerten!A552,1),\"x\",\"\")),\"\")","v":"x"},{"$f":"IFERROR(IF(ISBLANK('Zoeken in Database'!$D$4),\"x\",IF(SEARCH('Zoeken in Database'!$D$4,Concerten!B552,1),\"x\",\"\")),\"\")","v":"x"},{"$f":"IFERROR(IF(ISBLANK('Zoeken in Database'!$D$5),\"x\",IF(SEARCH('Zoeken in Database'!$D$5,Concerten!C552,1),\"x\",\"\")),\"\")","v":"x"},{"$f":"IFERROR(IF(ISBLANK('Zoeken in Database'!$D$6),\"x\",IF(SEARCH('Zoeken in Database'!$D$6,Concerten!G552,1),\"x\",\"\")),\"\")","v":"x"},{"$f":"IF(AND(D552>='Zoeken in Database'!$A$7,'Zoeken in Database'!$A$8>=D552),\"x\",\"\")","v":"x"}]
["Mystery Jets,The","Haldern Pop 2006","Haldern","2006-08-03",null,"Spiegelzelt","Festivaloptreden",8,2006,{"$f":"VLOOKUP(Table1[[#This Row],[Maand (getal)]],Lijst!A:B,2,FALSE)","v":"aug"},{"$f":"IFERROR(IF(ISBLANK('Zoeken in Database'!$D$3),\"x\",IF(SEARCH('Zoeken in Database'!$D$3,Concerten!A553,1),\"x\",\"\")),\"\")","v":"x"},{"$f":"IFERROR(IF(ISBLANK('Zoeken in Database'!$D$4),\"x\",IF(SEARCH('Zoeken in Database'!$D$4,Concerten!B553,1),\"x\",\"\")),\"\")","v":"x"},{"$f":"IFERROR(IF(ISBLANK('Zoeken in Database'!$D$5),\"x\",IF(SEARCH('Zoeken in Database'!$D$5,Concerten!C553,1),\"x\",\"\")),\"\")","v":"x"},{"$f":"IFERROR(IF(ISBLANK('Zoeken in Database'!$D$6),\"x\",IF(SEARCH('Zoeken in Database'!$D$6,Concerten!G553,1),\"x\",\"\")),\"\")","v":"x"},{"$f":"IF(AND(D553>='Zoeken in Database'!$A$7,'Zoeken in Database'!$A$8>=D553),\"x\",\"\")","v":"x"}]
["Novastar","Haldern Pop 2006","Haldern","2006-08-03",null,"Spiegelzelt","Festivaloptreden",8,2006,{"$f":"VLOOKUP(Table1[[#This Row],[Maand (getal)]],Lijst!A:B,2,FALSE)","v":"aug"},{"$f":"IFERROR(IF(ISBLANK('Zoeken in Database'!$D$3),\"x\",IF(SEARCH('Zoeken in Database'!$D$3,Concerten!A554,1),\"x\",\"\")),\"\")","v":"x"},{"$f":"IFERROR(IF(ISBLANK('Zoeken in Database'!$D$4),\"x\",IF(SEARCH('Zoeken in Database'!$D$4,Concerten!B554,1),\"x\",\"\")),\"\")","v":"x"},{"$f":"IFERROR(IF(ISBLANK('Zoeken in Database'!$D$5),\"x\",IF(SEARCH('Zoeken in Database'!$D$5,Concerten!C554,1),\"x\",\"\")),\"\")","v":"x"},{"$f":"IFERROR(IF(ISBLANK('Zoeken in Database'!$D$6),\"x\",IF(SEARCH('Zoeken in Database'!$D$6,Concerten!G554,1),\"x\",\"\")),\"\")","v":"x"},{"$f":"IF(AND(D554>='Zoeken in Database'!$A$7,'Zoeken in Database'!$A$8>=D554),\"x\",\"\")","v":"x"}]
["Wainwright, Martha","Haldern Pop 2006","Haldern","2006-08-03",null,"Spiegelzelt","Festivaloptreden",8,2006,{"$f":"VLOOKUP(Table1[[#This Row],[Maand (getal)]],Lijst!A:B,2,FALSE)","v":"aug"},{"$f":"IFERROR(IF(ISBLANK('Zoeken in Database'!$D$3),\"x\",IF(SEARCH('Zoeken in Database'!$D$3,Concerten!A555,1),\"x\",\"\")),\"\")","v":"x"},{"$f":"IFERROR(IF(ISBLANK('Zoeken in Database'!$D$4),\"x\",IF(SEARCH('Zoeken in Database'!$D$4,Concerten!B555,1),\"x\",\"\")),\"\")","v":"x"},{"$f":"IFERROR(IF(ISBLANK('Zoeken in Database'!$D$5),\"x\",IF(SEARCH('Zoeken in Database'!$D$5,Concerten!C555,1),\"x\",\"\")),\"\")","v":"x"},{"$f":"IFERROR(IF(ISBLANK('Zoeken in Database'!$D$6),\"x\",IF(SEARCH('Zoeken in Database'!$D$6,Concerten!G555,1),\"x\",\"\")),\"\")","v":"x"},{"$f":"IF(AND(D555>='Zoeken in Database'!$A$7,'Zoeken in Database'!$A$8>=D555),\"x\",\"\")","v":"x"}]
["Waking Eyes, The","Haldern Pop 2006","Haldern","2006-08-03",null,"Spiegelzelt","Festivaloptreden",8,2006,{"$f":"VLOOKUP(Table1[[#This Row],[Maand (getal)]],Lijst!A:B,2,FALSE)","v":"aug"},{"$f":"IFERROR(IF(ISBLANK('Zoeken in Database'!$D$3),\"x\",IF(SEARCH('Zoeken in Database'!$D$3,Concerten!A556,1),\"x\",\"\")),\"\")","v":"x"},{"$f":"IFERROR(IF(ISBLANK('Zoeken in Database'!$D$4),\"x\",IF(SEARCH('Zoeken in Database'!$D$4,Concerten!B556,1),\"x\",\"\")),\"\")","v":"x"},{"$f":"IFERROR(IF(ISBLANK('Zoeken in Database'!$D$5),\"x\",IF(SEARCH('Zoeken in Database'!$D$5,Concerten!C556,1),\"x\",\"\")),\"\")","v":"x"},{"$f":"IFERROR(IF(ISBLANK('Zoeken in Database'!$D$6),\"x\",IF(SEARCH('Zoeken in Database'!$D$6,Concerten!G556,1),\"x\",\"\")),\"\")","v":"x"},{"$f":"IF(AND(D556>='Zoeken in Database'!$A$7,'Zoeken in Database'!$A$8>=D556),\"x\",\"\")","v":"x"}]
["Cooper Temple Clause, The ","Haldern Pop 2006","Haldern","2006-08-04","Head \nBeen Training Dogs \nConnect \nBlind Pilots \nTalking To A Brick Wall \nA.I.M. \nDamage \nFilm-Maker \nHomo Sapiens \nPromises, Promises \nPanzer Attack\n","Hauptbuhne","Festivaloptreden",8,2006,{"$f":"VLOOKUP(Table1[[#This Row],[Maand (getal)]],Lijst!A:B,2,FALSE)","v":"aug"},{"$f":"IFERROR(IF(ISBLANK('Zoeken in Database'!$D$3),\"x\",IF(SEARCH('Zoeken in Database'!$D$3,Concerten!A557,1),\"x\",\"\")),\"\")","v":"x"},{"$f":"IFERROR(IF(ISBLANK('Zoeken in Database'!$D$4),\"x\",IF(SEARCH('Zoeken in Database'!$D$4,Concerten!B557,1),\"x\",\"\")),\"\")","v":"x"},{"$f":"IFERROR(IF(ISBLANK('Zoeken in Database'!$D$5),\"x\",IF(SEARCH('Zoeken in Database'!$D$5,Concerten!C557,1),\"x\",\"\")),\"\")","v":"x"},{"$f":"IFERROR(IF(ISBLANK('Zoeken in Database'!$D$6),\"x\",IF(SEARCH('Zoeken in Database'!$D$6,Concerten!G557,1),\"x\",\"\")),\"\")","v":"x"},{"$f":"IF(AND(D557>='Zoeken in Database'!$A$7,'Zoeken in Database'!$A$8>=D557),\"x\",\"\")","v":"x"}]
["Morning Runner","Haldern Pop 2006","Haldern","2006-08-04",null,"Hauptbuhne","Festivaloptreden",8,2006,{"$f":"VLOOKUP(Table1[[#This Row],[Maand (getal)]],Lijst!A:B,2,FALSE)","v":"aug"},{"$f":"IFERROR(IF(ISBLANK('Zoeken in Database'!$D$3),\"x\",IF(SEARCH('Zoeken in Database'!$D$3,Concerten!A558,1),\"x\",\"\")),\"\")","v":"x"},{"$f":"IFERROR(IF(ISBLANK('Zoeken in Database'!$D$4),\"x\",IF(SEARCH('Zoeken in Database'!$D$4,Concerten!B558,1),\"x\",\"\")),\"\")","v":"x"},{"$f":"IFERROR(IF(ISBLANK('Zoeken in Database'!$D$5),\"x\",IF(SEARCH('Zoeken in Database'!$D$5,Concerten!C558,1),\"x\",\"\")),\"\")","v":"x"},{"$f":"IFERROR(IF(ISBLANK('Zoeken in Database'!$D$6),\"x\",IF(SEARCH('Zoeken in Database'!$D$6,Concerten!G558,1),\"x\",\"\")),\"\")","v":"x"},{"$f":"IF(AND(D558>='Zoeken in Database'!$A$7,'Zoeken in Database'!$A$8>=D558),\"x\",\"\")","v":"x"}]
["Veils, The","Haldern Pop 2006","Haldern","2006-08-04",null,"Spiegelzelt","Festivaloptreden",8,2006,{"$f":"VLOOKUP(Table1[[#This Row],[Maand (getal)]],Lijst!A:B,2,FALSE)","v":"aug"},{"$f":"IFERROR(IF(ISBLANK('Zoeken in Database'!$D$3),\"x\",IF(SEARCH('Zoeken in Database'!$D$3,Concerten!A559,1),\"x\",\"\")),\"\")","v":"x"},{"$f":"IFERROR(IF(ISBLANK('Zoeken in Database'!$D$4),\"x\",IF(SEARCH('Zoeken in Database'!$D$4,Concerten!B559,1),\"x\",\"\")),\"\")","v":"x"},{"$f":"IFERROR(IF(ISBLANK('Zoeken in Database'!$D$5),\"x\",IF(SEARCH('Zoeken in Database'!$D$5,Concerten!C559,1),\"x\",\"\")),\"\")","v":"x"},{"$f":"IFERROR(IF(ISBLANK('Zoeken in Database'!$D$6),\"x\",IF(SEARCH('Zoeken in Database'!$D$6,Concerten!G559,1),\"x\",\"\")),\"\")","v":"x"},{"$f":"IF(AND(D559>='Zoeken in Database'!$A$7,'Zoeken in Database'!$A$8>=D559),\"x\",\"\")","v":"x"}]
["We Are Scientists","Haldern Pop 2006","Haldern","2006-08-04","Lousy Reputation \nNobody Move, Nobody Get Hurt \nWorth The Wait \nCan't Lose \nCallbacks \nWhat's The Word \nCash Cow \nIt's A Hit \nHistory Repeats \nMucho Más \nTextbook \nThis Scene Is Dead \nInaction \nThe Great Escape\n","Hauptbuhne","Festivaloptreden",8,2006,{"$f":"VLOOKUP(Table1[[#This Row],[Maand (getal)]],Lijst!A:B,2,FALSE)","v":"aug"},{"$f":"IFERROR(IF(ISBLANK('Zoeken in Database'!$D$3),\"x\",IF(SEARCH('Zoeken in Database'!$D$3,Concerten!A560,1),\"x\",\"\")),\"\")","v":"x"},{"$f":"IFERROR(IF(ISBLANK('Zoeken in Database'!$D$4),\"x\",IF(SEARCH('Zoeken in Database'!$D$4,Concerten!B560,1),\"x\",\"\")),\"\")","v":"x"},{"$f":"IFERROR(IF(ISBLANK('Zoeken in Database'!$D$5),\"x\",IF(SEARCH('Zoeken in Database'!$D$5,Concerten!C560,1),\"x\",\"\")),\"\")","v":"x"},{"$f":"IFERROR(IF(ISBLANK('Zoeken in Database'!$D$6),\"x\",IF(SEARCH('Zoeken in Database'!$D$6,Concerten!G560,1),\"x\",\"\")),\"\")","v":"x"},{"$f":"IF(AND(D560>='Zoeken in Database'!$A$7,'Zoeken in Database'!$A$8>=D560),\"x\",\"\")","v":"x"}]
["Zutons, The","Haldern Pop 2006","Haldern","2006-08-04","t's The Little Things We Do \nDon't Ever Think (Too Much) \nHello Conscience \nTired Of Hanging Around \nHow Does It Feel? \nValerie \nZuton Fever \nYou Will You Won't \nWhy Won't You Give Me Your Love?\n","Hauptbuhne","Festivaloptreden",8,2006,{"$f":"VLOOKUP(Table1[[#This Row],[Maand (getal)]],Lijst!A:B,2,FALSE)","v":"aug"},{"$f":"IFERROR(IF(ISBLANK('Zoeken in Database'!$D$3),\"x\",IF(SEARCH('Zoeken in Database'!$D$3,Concerten!A561,1),\"x\",\"\")),\"\")","v":"x"},{"$f":"IFERROR(IF(ISBLANK('Zoeken in Database'!$D$4),\"x\",IF(SEARCH('Zoeken in Database'!$D$4,Concerten!B561,1),\"x\",\"\")),\"\")","v":"x"},{"$f":"IFERROR(IF(ISBLANK('Zoeken in Database'!$D$5),\"x\",IF(SEARCH('Zoeken in Database'!$D$5,Concerten!C561,1),\"x\",\"\")),\"\")","v":"x"},{"$f":"IFERROR(IF(ISBLANK('Zoeken in Database'!$D$6),\"x\",IF(SEARCH('Zoeken in Database'!$D$6,Concerten!G561,1),\"x\",\"\")),\"\")","v":"x"},{"$f":"IF(AND(D561>='Zoeken in Database'!$A$7,'Zoeken in Database'!$A$8>=D561),\"x\",\"\")","v":"x"}]
["Bradfield, James Dean","Haldern Pop 2006","Haldern","2006-08-05","Run Romeo Run \nAn English Gentleman \nOn Saturday Morning We Will Rule The World \nBad Boys And Painkillers \nThat's No Way To Tell A Lie \nSay Hello To The Pope \nStill A Long Way To Go \nThis Is Yesterday \nOcean Spray \nÉmigré \nThe Wrong Beginning \nNo Surface All Feeling \nWhich Way To Kyffin\n","Hauptbuhne","Festivaloptreden",8,2006,{"$f":"VLOOKUP(Table1[[#This Row],[Maand (getal)]],Lijst!A:B,2,FALSE)","v":"aug"},{"$f":"IFERROR(IF(ISBLANK('Zoeken in Database'!$D$3),\"x\",IF(SEARCH('Zoeken in Database'!$D$3,Concerten!A562,1),\"x\",\"\")),\"\")","v":"x"},{"$f":"IFERROR(IF(ISBLANK('Zoeken in Database'!$D$4),\"x\",IF(SEARCH('Zoeken in Database'!$D$4,Concerten!B562,1),\"x\",\"\")),\"\")","v":"x"},{"$f":"IFERROR(IF(ISBLANK('Zoeken in Database'!$D$5),\"x\",IF(SEARCH('Zoeken in Database'!$D$5,Concerten!C562,1),\"x\",\"\")),\"\")","v":"x"},{"$f":"IFERROR(IF(ISBLANK('Zoeken in Database'!$D$6),\"x\",IF(SEARCH('Zoeken in Database'!$D$6,Concerten!G562,1),\"x\",\"\")),\"\")","v":"x"},{"$f":"IF(AND(D562>='Zoeken in Database'!$A$7,'Zoeken in Database'!$A$8>=D562),\"x\",\"\")","v":"x"}]
["Divine Comedy, The","Haldern Pop 2006","Haldern","2006-08-05","To Die A Virgin \nNational Express \nDiva Lady \nQueen Of The South \nManeater (Nelly Furtado cover) \nA Lady Of A Certain Age \nBecoming More Like Alfie \nMother Dear \nCharmed Life \nEye Of The Needle \nIf... \nOur Mutual Friend \nGeneration Sex \nCharge \nTonight We Fly \nSomething For The Weekend\n","Hauptbuhne","Festivaloptreden",8,2006,{"$f":"VLOOKUP(Table1[[#This Row],[Maand (getal)]],Lijst!A:B,2,FALSE)","v":"aug"},{"$f":"IFERROR(IF(ISBLANK('Zoeken in Database'!$D$3),\"x\",IF(SEARCH('Zoeken in Database'!$D$3,Concerten!A563,1),\"x\",\"\")),\"\")","v":"x"},{"$f":"IFERROR(IF(ISBLANK('Zoeken in Database'!$D$4),\"x\",IF(SEARCH('Zoeken in Database'!$D$4,Concerten!B563,1),\"x\",\"\")),\"\")","v":"x"},{"$f":"IFERROR(IF(ISBLANK('Zoeken in Database'!$D$5),\"x\",IF(SEARCH('Zoeken in Database'!$D$5,Concerten!C563,1),\"x\",\"\")),\"\")","v":"x"},{"$f":"IFERROR(IF(ISBLANK('Zoeken in Database'!$D$6),\"x\",IF(SEARCH('Zoeken in Database'!$D$6,Concerten!G563,1),\"x\",\"\")),\"\")","v":"x"},{"$f":"IF(AND(D563>='Zoeken in Database'!$A$7,'Zoeken in Database'!$A$8>=D563),\"x\",\"\")","v":"x"}]
["Guillemots","Haldern Pop 2006","Haldern","2006-08-05","Come Away With Me \nThrough The Windowpane \nWho Left The Lights Off Baby? \nSea Out \nGo Away \nMade-Up Lovesong #43 \n21st May \nTrains To Brazil \nSão Paulo\n","Hauptbuhne","Festivaloptreden",8,2006,{"$f":"VLOOKUP(Table1[[#This Row],[Maand (getal)]],Lijst!A:B,2,FALSE)","v":"aug"},{"$f":"IFERROR(IF(ISBLANK('Zoeken in Database'!$D$3),\"x\",IF(SEARCH('Zoeken in Database'!$D$3,Concerten!A564,1),\"x\",\"\")),\"\")","v":"x"},{"$f":"IFERROR(IF(ISBLANK('Zoeken in Database'!$D$4),\"x\",IF(SEARCH('Zoeken in Database'!$D$4,Concerten!B564,1),\"x\",\"\")),\"\")","v":"x"},{"$f":"IFERROR(IF(ISBLANK('Zoeken in Database'!$D$5),\"x\",IF(SEARCH('Zoeken in Database'!$D$5,Concerten!C564,1),\"x\",\"\")),\"\")","v":"x"},{"$f":"IFERROR(IF(ISBLANK('Zoeken in Database'!$D$6),\"x\",IF(SEARCH('Zoeken in Database'!$D$6,Concerten!G564,1),\"x\",\"\")),\"\")","v":"x"},{"$f":"IF(AND(D564>='Zoeken in Database'!$A$7,'Zoeken in Database'!$A$8>=D564),\"x\",\"\")","v":"x"}]
["Harcourt, Ed","Haldern Pop 2006","Haldern","2006-08-05","Whirlwind\nVisit From Dead Dog\nBorn In 70's\nShadow Boxing\nApple Of My Eye\nBeneath The Heart Of Darkness\nUntil Tomorrow Then\nThis Ones For You\nCrimson Tears\nRevolution In The Heart\nSwamp\n","Spiegelzelt","Festivaloptreden",8,2006,{"$f":"VLOOKUP(Table1[[#This Row],[Maand (getal)]],Lijst!A:B,2,FALSE)","v":"aug"},{"$f":"IFERROR(IF(ISBLANK('Zoeken in Database'!$D$3),\"x\",IF(SEARCH('Zoeken in Database'!$D$3,Concerten!A565,1),\"x\",\"\")),\"\")","v":"x"},{"$f":"IFERROR(IF(ISBLANK('Zoeken in Database'!$D$4),\"x\",IF(SEARCH('Zoeken in Database'!$D$4,Concerten!B565,1),\"x\",\"\")),\"\")","v":"x"},{"$f":"IFERROR(IF(ISBLANK('Zoeken in Database'!$D$5),\"x\",IF(SEARCH('Zoeken in Database'!$D$5,Concerten!C565,1),\"x\",\"\")),\"\")","v":"x"},{"$f":"IFERROR(IF(ISBLANK('Zoeken in Database'!$D$6),\"x\",IF(SEARCH('Zoeken in Database'!$D$6,Concerten!G565,1),\"x\",\"\")),\"\")","v":"x"},{"$f":"IF(AND(D565>='Zoeken in Database'!$A$7,'Zoeken in Database'!$A$8>=D565),\"x\",\"\")","v":"x"}]
["Islands","Haldern Pop 2006","Haldern","2006-08-05",null,"Hauptbuhne","Festivaloptreden",8,2006,{"$f":"VLOOKUP(Table1[[#This Row],[Maand (getal)]],Lijst!A:B,2,FALSE)","v":"aug"},{"$f":"IFERROR(IF(ISBLANK('Zoeken in Database'!$D$3),\"x\",IF(SEARCH('Zoeken in Database'!$D$3,Concerten!A566,1),\"x\",\"\")),\"\")","v":"x"},{"$f":"IFERROR(IF(ISBLANK('Zoeken in Database'!$D$4),\"x\",IF(SEARCH('Zoeken in Database'!$D$4,Concerten!B566,1),\"x\",\"\")),\"\")","v":"x"},{"$f":"IFERROR(IF(ISBLANK('Zoeken in Database'!$D$5),\"x\",IF(SEARCH('Zoeken in Database'!$D$5,Concerten!C566,1),\"x\",\"\")),\"\")","v":"x"},{"$f":"IFERROR(IF(ISBLANK('Zoeken in Database'!$D$6),\"x\",IF(SEARCH('Zoeken in Database'!$D$6,Concerten!G566,1),\"x\",\"\")),\"\")","v":"x"},{"$f":"IF(AND(D566>='Zoeken in Database'!$A$7,'Zoeken in Database'!$A$8>=D566),\"x\",\"\")","v":"x"}]
["Kooks, The","Haldern Pop 2006","Haldern","2006-08-05","Seaside \nSee The World \nMatchbox \nEddie's Gun \nOoh La \nTime Awaits \nLouby Lou \nShe Moves In Her Own Way \nIf Only \nNaïve \nSofa Song \nYou Don't Love Me \nPull Me In\n","Hauptbuhne","Festivaloptreden",8,2006,{"$f":"VLOOKUP(Table1[[#This Row],[Maand (getal)]],Lijst!A:B,2,FALSE)","v":"aug"},{"$f":"IFERROR(IF(ISBLANK('Zoeken in Database'!$D$3),\"x\",IF(SEARCH('Zoeken in Database'!$D$3,Concerten!A567,1),\"x\",\"\")),\"\")","v":"x"},{"$f":"IFERROR(IF(ISBLANK('Zoeken in Database'!$D$4),\"x\",IF(SEARCH('Zoeken in Database'!$D$4,Concerten!B567,1),\"x\",\"\")),\"\")","v":"x"},{"$f":"IFERROR(IF(ISBLANK('Zoeken in Database'!$D$5),\"x\",IF(SEARCH('Zoeken in Database'!$D$5,Concerten!C567,1),\"x\",\"\")),\"\")","v":"x"},{"$f":"IFERROR(IF(ISBLANK('Zoeken in Database'!$D$6),\"x\",IF(SEARCH('Zoeken in Database'!$D$6,Concerten!G567,1),\"x\",\"\")),\"\")","v":"x"},{"$f":"IF(AND(D567>='Zoeken in Database'!$A$7,'Zoeken in Database'!$A$8>=D567),\"x\",\"\")","v":"x"}]
["Nutini, Paolo","Haldern Pop 2006","Haldern","2006-08-05","Alloway Grove \nRewind \nDaydream \nNew Shoes \nLast Request \nJanuary \nThese Streets \nMillion Faces \nLoving You \nJenny Don't Be Hasty\n","Hauptbuhne","Festivaloptreden",8,2006,{"$f":"VLOOKUP(Table1[[#This Row],[Maand (getal)]],Lijst!A:B,2,FALSE)","v":"aug"},{"$f":"IFERROR(IF(ISBLANK('Zoeken in Database'!$D$3),\"x\",IF(SEARCH('Zoeken in Database'!$D$3,Concerten!A568,1),\"x\",\"\")),\"\")","v":"x"},{"$f":"IFERROR(IF(ISBLANK('Zoeken in Database'!$D$4),\"x\",IF(SEARCH('Zoeken in Database'!$D$4,Concerten!B568,1),\"x\",\"\")),\"\")","v":"x"},{"$f":"IFERROR(IF(ISBLANK('Zoeken in Database'!$D$5),\"x\",IF(SEARCH('Zoeken in Database'!$D$5,Concerten!C568,1),\"x\",\"\")),\"\")","v":"x"},{"$f":"IFERROR(IF(ISBLANK('Zoeken in Database'!$D$6),\"x\",IF(SEARCH('Zoeken in Database'!$D$6,Concerten!G568,1),\"x\",\"\")),\"\")","v":"x"},{"$f":"IF(AND(D568>='Zoeken in Database'!$A$7,'Zoeken in Database'!$A$8>=D568),\"x\",\"\")","v":"x"}]
["Rifles, The","Haldern Pop 2006","Haldern","2006-08-05",null,"Hauptbuhne","Festivaloptreden",8,2006,{"$f":"VLOOKUP(Table1[[#This Row],[Maand (getal)]],Lijst!A:B,2,FALSE)","v":"aug"},{"$f":"IFERROR(IF(ISBLANK('Zoeken in Database'!$D$3),\"x\",IF(SEARCH('Zoeken in Database'!$D$3,Concerten!A569,1),\"x\",\"\")),\"\")","v":"x"},{"$f":"IFERROR(IF(ISBLANK('Zoeken in Database'!$D$4),\"x\",IF(SEARCH('Zoeken in Database'!$D$4,Concerten!B569,1),\"x\",\"\")),\"\")","v":"x"},{"$f":"IFERROR(IF(ISBLANK('Zoeken in Database'!$D$5),\"x\",IF(SEARCH('Zoeken in Database'!$D$5,Concerten!C569,1),\"x\",\"\")),\"\")","v":"x"},{"$f":"IFERROR(IF(ISBLANK('Zoeken in Database'!$D$6),\"x\",IF(SEARCH('Zoeken in Database'!$D$6,Concerten!G569,1),\"x\",\"\")),\"\")","v":"x"},{"$f":"IF(AND(D569>='Zoeken in Database'!$A$7,'Zoeken in Database'!$A$8>=D569),\"x\",\"\")","v":"x"}]
["Solo","Haldern Pop 2006","Haldern","2006-08-05",null,"Spiegelzelt","Festivaloptreden",8,2006,{"$f":"VLOOKUP(Table1[[#This Row],[Maand (getal)]],Lijst!A:B,2,FALSE)","v":"aug"},{"$f":"IFERROR(IF(ISBLANK('Zoeken in Database'!$D$3),\"x\",IF(SEARCH('Zoeken in Database'!$D$3,Concerten!A570,1),\"x\",\"\")),\"\")","v":"x"},{"$f":"IFERROR(IF(ISBLANK('Zoeken in Database'!$D$4),\"x\",IF(SEARCH('Zoeken in Database'!$D$4,Concerten!B570,1),\"x\",\"\")),\"\")","v":"x"},{"$f":"IFERROR(IF(ISBLANK('Zoeken in Database'!$D$5),\"x\",IF(SEARCH('Zoeken in Database'!$D$5,Concerten!C570,1),\"x\",\"\")),\"\")","v":"x"},{"$f":"IFERROR(IF(ISBLANK('Zoeken in Database'!$D$6),\"x\",IF(SEARCH('Zoeken in Database'!$D$6,Concerten!G570,1),\"x\",\"\")),\"\")","v":"x"},{"$f":"IF(AND(D570>='Zoeken in Database'!$A$7,'Zoeken in Database'!$A$8>=D570),\"x\",\"\")","v":"x"}]
["Wrens, The","Haldern Pop 2006","Haldern","2006-08-05","This Boy Is Exhausted \nPer Second Second \nEveryone Choose Sides \nHappy \nFaster Gun \nBoys, You Won't \nHopeless \nFire Fire \nShe Sends Kisses\n","Hauptbuhne","Festivaloptreden",8,2006,{"$f":"VLOOKUP(Table1[[#This Row],[Maand (getal)]],Lijst!A:B,2,FALSE)","v":"aug"},{"$f":"IFERROR(IF(ISBLANK('Zoeken in Database'!$D$3),\"x\",IF(SEARCH('Zoeken in Database'!$D$3,Concerten!A571,1),\"x\",\"\")),\"\")","v":"x"},{"$f":"IFERROR(IF(ISBLANK('Zoeken in Database'!$D$4),\"x\",IF(SEARCH('Zoeken in Database'!$D$4,Concerten!B571,1),\"x\",\"\")),\"\")","v":"x"},{"$f":"IFERROR(IF(ISBLANK('Zoeken in Database'!$D$5),\"x\",IF(SEARCH('Zoeken in Database'!$D$5,Concerten!C571,1),\"x\",\"\")),\"\")","v":"x"},{"$f":"IFERROR(IF(ISBLANK('Zoeken in Database'!$D$6),\"x\",IF(SEARCH('Zoeken in Database'!$D$6,Concerten!G571,1),\"x\",\"\")),\"\")","v":"x"},{"$f":"IF(AND(D571>='Zoeken in Database'!$A$7,'Zoeken in Database'!$A$8>=D571),\"x\",\"\")","v":"x"}]
["Bloc Party","Lowlands 2006","Biddinghuizen","2006-08-18",null,"Grolsch","Festivaloptreden",8,2006,{"$f":"VLOOKUP(Table1[[#This Row],[Maand (getal)]],Lijst!A:B,2,FALSE)","v":"aug"},{"$f":"IFERROR(IF(ISBLANK('Zoeken in Database'!$D$3),\"x\",IF(SEARCH('Zoeken in Database'!$D$3,Concerten!A572,1),\"x\",\"\")),\"\")","v":"x"},{"$f":"IFERROR(IF(ISBLANK('Zoeken in Database'!$D$4),\"x\",IF(SEARCH('Zoeken in Database'!$D$4,Concerten!B572,1),\"x\",\"\")),\"\")","v":"x"},{"$f":"IFERROR(IF(ISBLANK('Zoeken in Database'!$D$5),\"x\",IF(SEARCH('Zoeken in Database'!$D$5,Concerten!C572,1),\"x\",\"\")),\"\")","v":"x"},{"$f":"IFERROR(IF(ISBLANK('Zoeken in Database'!$D$6),\"x\",IF(SEARCH('Zoeken in Database'!$D$6,Concerten!G572,1),\"x\",\"\")),\"\")","v":"x"},{"$f":"IF(AND(D572>='Zoeken in Database'!$A$7,'Zoeken in Database'!$A$8>=D572),\"x\",\"\")","v":"x"}]
["Knife, The","Lowlands 2006","Biddinghuizen","2006-08-18",null,"Bravo","Festivaloptreden",8,2006,{"$f":"VLOOKUP(Table1[[#This Row],[Maand (getal)]],Lijst!A:B,2,FALSE)","v":"aug"},{"$f":"IFERROR(IF(ISBLANK('Zoeken in Database'!$D$3),\"x\",IF(SEARCH('Zoeken in Database'!$D$3,Concerten!A573,1),\"x\",\"\")),\"\")","v":"x"},{"$f":"IFERROR(IF(ISBLANK('Zoeken in Database'!$D$4),\"x\",IF(SEARCH('Zoeken in Database'!$D$4,Concerten!B573,1),\"x\",\"\")),\"\")","v":"x"},{"$f":"IFERROR(IF(ISBLANK('Zoeken in Database'!$D$5),\"x\",IF(SEARCH('Zoeken in Database'!$D$5,Concerten!C573,1),\"x\",\"\")),\"\")","v":"x"},{"$f":"IFERROR(IF(ISBLANK('Zoeken in Database'!$D$6),\"x\",IF(SEARCH('Zoeken in Database'!$D$6,Concerten!G573,1),\"x\",\"\")),\"\")","v":"x"},{"$f":"IF(AND(D573>='Zoeken in Database'!$A$7,'Zoeken in Database'!$A$8>=D573),\"x\",\"\")","v":"x"}]
["Kuipers, Andre","Lowlands 2006","Biddinghuizen","2006-08-18",null,"Juliet","Festivaloptreden",8,2006,{"$f":"VLOOKUP(Table1[[#This Row],[Maand (getal)]],Lijst!A:B,2,FALSE)","v":"aug"},{"$f":"IFERROR(IF(ISBLANK('Zoeken in Database'!$D$3),\"x\",IF(SEARCH('Zoeken in Database'!$D$3,Concerten!A574,1),\"x\",\"\")),\"\")","v":"x"},{"$f":"IFERROR(IF(ISBLANK('Zoeken in Database'!$D$4),\"x\",IF(SEARCH('Zoeken in Database'!$D$4,Concerten!B574,1),\"x\",\"\")),\"\")","v":"x"},{"$f":"IFERROR(IF(ISBLANK('Zoeken in Database'!$D$5),\"x\",IF(SEARCH('Zoeken in Database'!$D$5,Concerten!C574,1),\"x\",\"\")),\"\")","v":"x"},{"$f":"IFERROR(IF(ISBLANK('Zoeken in Database'!$D$6),\"x\",IF(SEARCH('Zoeken in Database'!$D$6,Concerten!G574,1),\"x\",\"\")),\"\")","v":"x"},{"$f":"IF(AND(D574>='Zoeken in Database'!$A$7,'Zoeken in Database'!$A$8>=D574),\"x\",\"\")","v":"x"}]
["Magic Numbers, The","Lowlands 2006","Biddinghuizen","2006-08-18",null,"Grolsch","Festivaloptreden",8,2006,{"$f":"VLOOKUP(Table1[[#This Row],[Maand (getal)]],Lijst!A:B,2,FALSE)","v":"aug"},{"$f":"IFERROR(IF(ISBLANK('Zoeken in Database'!$D$3),\"x\",IF(SEARCH('Zoeken in Database'!$D$3,Concerten!A575,1),\"x\",\"\")),\"\")","v":"x"},{"$f":"IFERROR(IF(ISBLANK('Zoeken in Database'!$D$4),\"x\",IF(SEARCH('Zoeken in Database'!$D$4,Concerten!B575,1),\"x\",\"\")),\"\")","v":"x"},{"$f":"IFERROR(IF(ISBLANK('Zoeken in Database'!$D$5),\"x\",IF(SEARCH('Zoeken in Database'!$D$5,Concerten!C575,1),\"x\",\"\")),\"\")","v":"x"},{"$f":"IFERROR(IF(ISBLANK('Zoeken in Database'!$D$6),\"x\",IF(SEARCH('Zoeken in Database'!$D$6,Concerten!G575,1),\"x\",\"\")),\"\")","v":"x"},{"$f":"IF(AND(D575>='Zoeken in Database'!$A$7,'Zoeken in Database'!$A$8>=D575),\"x\",\"\")","v":"x"}]
["Razorlight","Lowlands 2006","Biddinghuizen","2006-08-18",null,"Grolsch","Festivaloptreden",8,2006,{"$f":"VLOOKUP(Table1[[#This Row],[Maand (getal)]],Lijst!A:B,2,FALSE)","v":"aug"},{"$f":"IFERROR(IF(ISBLANK('Zoeken in Database'!$D$3),\"x\",IF(SEARCH('Zoeken in Database'!$D$3,Concerten!A576,1),\"x\",\"\")),\"\")","v":"x"},{"$f":"IFERROR(IF(ISBLANK('Zoeken in Database'!$D$4),\"x\",IF(SEARCH('Zoeken in Database'!$D$4,Concerten!B576,1),\"x\",\"\")),\"\")","v":"x"},{"$f":"IFERROR(IF(ISBLANK('Zoeken in Database'!$D$5),\"x\",IF(SEARCH('Zoeken in Database'!$D$5,Concerten!C576,1),\"x\",\"\")),\"\")","v":"x"},{"$f":"IFERROR(IF(ISBLANK('Zoeken in Database'!$D$6),\"x\",IF(SEARCH('Zoeken in Database'!$D$6,Concerten!G576,1),\"x\",\"\")),\"\")","v":"x"},{"$f":"IF(AND(D576>='Zoeken in Database'!$A$7,'Zoeken in Database'!$A$8>=D576),\"x\",\"\")","v":"x"}]
["Snow Patrol","Lowlands 2006","Biddinghuizen","2006-08-18",null,"Grolsch","Festivaloptreden",8,2006,{"$f":"VLOOKUP(Table1[[#This Row],[Maand (getal)]],Lijst!A:B,2,FALSE)","v":"aug"},{"$f":"IFERROR(IF(ISBLANK('Zoeken in Database'!$D$3),\"x\",IF(SEARCH('Zoeken in Database'!$D$3,Concerten!A577,1),\"x\",\"\")),\"\")","v":"x"},{"$f":"IFERROR(IF(ISBLANK('Zoeken in Database'!$D$4),\"x\",IF(SEARCH('Zoeken in Database'!$D$4,Concerten!B577,1),\"x\",\"\")),\"\")","v":"x"},{"$f":"IFERROR(IF(ISBLANK('Zoeken in Database'!$D$5),\"x\",IF(SEARCH('Zoeken in Database'!$D$5,Concerten!C577,1),\"x\",\"\")),\"\")","v":"x"},{"$f":"IFERROR(IF(ISBLANK('Zoeken in Database'!$D$6),\"x\",IF(SEARCH('Zoeken in Database'!$D$6,Concerten!G577,1),\"x\",\"\")),\"\")","v":"x"},{"$f":"IF(AND(D577>='Zoeken in Database'!$A$7,'Zoeken in Database'!$A$8>=D577),\"x\",\"\")","v":"x"}]
["Be Your Own PET","Lowlands 2006","Biddinghuizen","2006-08-19",null,"India","Festivaloptreden",8,2006,{"$f":"VLOOKUP(Table1[[#This Row],[Maand (getal)]],Lijst!A:B,2,FALSE)","v":"aug"},{"$f":"IFERROR(IF(ISBLANK('Zoeken in Database'!$D$3),\"x\",IF(SEARCH('Zoeken in Database'!$D$3,Concerten!A578,1),\"x\",\"\")),\"\")","v":"x"},{"$f":"IFERROR(IF(ISBLANK('Zoeken in Database'!$D$4),\"x\",IF(SEARCH('Zoeken in Database'!$D$4,Concerten!B578,1),\"x\",\"\")),\"\")","v":"x"},{"$f":"IFERROR(IF(ISBLANK('Zoeken in Database'!$D$5),\"x\",IF(SEARCH('Zoeken in Database'!$D$5,Concerten!C578,1),\"x\",\"\")),\"\")","v":"x"},{"$f":"IFERROR(IF(ISBLANK('Zoeken in Database'!$D$6),\"x\",IF(SEARCH('Zoeken in Database'!$D$6,Concerten!G578,1),\"x\",\"\")),\"\")","v":"x"},{"$f":"IF(AND(D578>='Zoeken in Database'!$A$7,'Zoeken in Database'!$A$8>=D578),\"x\",\"\")","v":"x"}]
["Fink","Lowlands 2006","Biddinghuizen","2006-08-19",null,"Juliet","Festivaloptreden",{"$f":"IF(ISBLANK(D579),\"\",MONTH(D579))","v":8},{"$f":"IF(ISBLANK(D579),\"\",YEAR(D579))","v":2006},{"$f":"VLOOKUP(Table1[[#This Row],[Maand (getal)]],Lijst!A:B,2,FALSE)","v":"aug"},{"$f":"IFERROR(IF(ISBLANK('Zoeken in Database'!$D$3),\"x\",IF(SEARCH('Zoeken in Database'!$D$3,Concerten!A579,1),\"x\",\"\")),\"\")","v":"x"},{"$f":"IFERROR(IF(ISBLANK('Zoeken in Database'!$D$4),\"x\",IF(SEARCH('Zoeken in Database'!$D$4,Concerten!B579,1),\"x\",\"\")),\"\")","v":"x"},{"$f":"IFERROR(IF(ISBLANK('Zoeken in Database'!$D$5),\"x\",IF(SEARCH('Zoeken in Database'!$D$5,Concerten!C579,1),\"x\",\"\")),\"\")","v":"x"},{"$f":"IFERROR(IF(ISBLANK('Zoeken in Database'!$D$6),\"x\",IF(SEARCH('Zoeken in Database'!$D$6,Concerten!G579,1),\"x\",\"\")),\"\")","v":"x"},{"$f":"IF(AND(D579>='Zoeken in Database'!$A$7,'Zoeken in Database'!$A$8>=D579),\"x\",\"\")","v":"x"}]
["Gogol Bordello","Lowlands 2006","Biddinghuizen","2006-08-19",null,"India","Festivaloptreden",8,2006,{"$f":"VLOOKUP(Table1[[#This Row],[Maand (getal)]],Lijst!A:B,2,FALSE)","v":"aug"},{"$f":"IFERROR(IF(ISBLANK('Zoeken in Database'!$D$3),\"x\",IF(SEARCH('Zoeken in Database'!$D$3,Concerten!A580,1),\"x\",\"\")),\"\")","v":"x"},{"$f":"IFERROR(IF(ISBLANK('Zoeken in Database'!$D$4),\"x\",IF(SEARCH('Zoeken in Database'!$D$4,Concerten!B580,1),\"x\",\"\")),\"\")","v":"x"},{"$f":"IFERROR(IF(ISBLANK('Zoeken in Database'!$D$5),\"x\",IF(SEARCH('Zoeken in Database'!$D$5,Concerten!C580,1),\"x\",\"\")),\"\")","v":"x"},{"$f":"IFERROR(IF(ISBLANK('Zoeken in Database'!$D$6),\"x\",IF(SEARCH('Zoeken in Database'!$D$6,Concerten!G580,1),\"x\",\"\")),\"\")","v":"x"},{"$f":"IF(AND(D580>='Zoeken in Database'!$A$7,'Zoeken in Database'!$A$8>=D580),\"x\",\"\")","v":"x"}]
["Pop, Iggy & The Stooges","Lowlands 2006","Biddinghuizen","2006-08-19",null,"Grolsch","Festivaloptreden",8,2006,{"$f":"VLOOKUP(Table1[[#This Row],[Maand (getal)]],Lijst!A:B,2,FALSE)","v":"aug"},{"$f":"IFERROR(IF(ISBLANK('Zoeken in Database'!$D$3),\"x\",IF(SEARCH('Zoeken in Database'!$D$3,Concerten!A581,1),\"x\",\"\")),\"\")","v":"x"},{"$f":"IFERROR(IF(ISBLANK('Zoeken in Database'!$D$4),\"x\",IF(SEARCH('Zoeken in Database'!$D$4,Concerten!B581,1),\"x\",\"\")),\"\")","v":"x"},{"$f":"IFERROR(IF(ISBLANK('Zoeken in Database'!$D$5),\"x\",IF(SEARCH('Zoeken in Database'!$D$5,Concerten!C581,1),\"x\",\"\")),\"\")","v":"x"},{"$f":"IFERROR(IF(ISBLANK('Zoeken in Database'!$D$6),\"x\",IF(SEARCH('Zoeken in Database'!$D$6,Concerten!G581,1),\"x\",\"\")),\"\")","v":"x"},{"$f":"IF(AND(D581>='Zoeken in Database'!$A$7,'Zoeken in Database'!$A$8>=D581),\"x\",\"\")","v":"x"}]
["Streets, The","Lowlands 2006","Biddinghuizen","2006-08-19",null,"Bravo","Festivaloptreden",8,2006,{"$f":"VLOOKUP(Table1[[#This Row],[Maand (getal)]],Lijst!A:B,2,FALSE)","v":"aug"},{"$f":"IFERROR(IF(ISBLANK('Zoeken in Database'!$D$3),\"x\",IF(SEARCH('Zoeken in Database'!$D$3,Concerten!A582,1),\"x\",\"\")),\"\")","v":"x"},{"$f":"IFERROR(IF(ISBLANK('Zoeken in Database'!$D$4),\"x\",IF(SEARCH('Zoeken in Database'!$D$4,Concerten!B582,1),\"x\",\"\")),\"\")","v":"x"},{"$f":"IFERROR(IF(ISBLANK('Zoeken in Database'!$D$5),\"x\",IF(SEARCH('Zoeken in Database'!$D$5,Concerten!C582,1),\"x\",\"\")),\"\")","v":"x"},{"$f":"IFERROR(IF(ISBLANK('Zoeken in Database'!$D$6),\"x\",IF(SEARCH('Zoeken in Database'!$D$6,Concerten!G582,1),\"x\",\"\")),\"\")","v":"x"},{"$f":"IF(AND(D582>='Zoeken in Database'!$A$7,'Zoeken in Database'!$A$8>=D582),\"x\",\"\")","v":"x"}]
["Urban Dance Squad","Lowlands 2006","Biddinghuizen","2006-08-19",null,"Alpha","Festivaloptreden",8,2006,{"$f":"VLOOKUP(Table1[[#This Row],[Maand (getal)]],Lijst!A:B,2,FALSE)","v":"aug"},{"$f":"IFERROR(IF(ISBLANK('Zoeken in Database'!$D$3),\"x\",IF(SEARCH('Zoeken in Database'!$D$3,Concerten!A583,1),\"x\",\"\")),\"\")","v":"x"},{"$f":"IFERROR(IF(ISBLANK('Zoeken in Database'!$D$4),\"x\",IF(SEARCH('Zoeken in Database'!$D$4,Concerten!B583,1),\"x\",\"\")),\"\")","v":"x"},{"$f":"IFERROR(IF(ISBLANK('Zoeken in Database'!$D$5),\"x\",IF(SEARCH('Zoeken in Database'!$D$5,Concerten!C583,1),\"x\",\"\")),\"\")","v":"x"},{"$f":"IFERROR(IF(ISBLANK('Zoeken in Database'!$D$6),\"x\",IF(SEARCH('Zoeken in Database'!$D$6,Concerten!G583,1),\"x\",\"\")),\"\")","v":"x"},{"$f":"IF(AND(D583>='Zoeken in Database'!$A$7,'Zoeken in Database'!$A$8>=D583),\"x\",\"\")","v":"x"}]
["!!!","Lowlands 2006","Biddinghuizen","2006-08-20",null,"Bravo","Festivaloptreden",8,2006,{"$f":"VLOOKUP(Table1[[#This Row],[Maand (getal)]],Lijst!A:B,2,FALSE)","v":"aug"},{"$f":"IFERROR(IF(ISBLANK('Zoeken in Database'!$D$3),\"x\",IF(SEARCH('Zoeken in Database'!$D$3,Concerten!A584,1),\"x\",\"\")),\"\")","v":"x"},{"$f":"IFERROR(IF(ISBLANK('Zoeken in Database'!$D$4),\"x\",IF(SEARCH('Zoeken in Database'!$D$4,Concerten!B584,1),\"x\",\"\")),\"\")","v":"x"},{"$f":"IFERROR(IF(ISBLANK('Zoeken in Database'!$D$5),\"x\",IF(SEARCH('Zoeken in Database'!$D$5,Concerten!C584,1),\"x\",\"\")),\"\")","v":"x"},{"$f":"IFERROR(IF(ISBLANK('Zoeken in Database'!$D$6),\"x\",IF(SEARCH('Zoeken in Database'!$D$6,Concerten!G584,1),\"x\",\"\")),\"\")","v":"x"},{"$f":"IF(AND(D584>='Zoeken in Database'!$A$7,'Zoeken in Database'!$A$8>=D584),\"x\",\"\")","v":"x"}]
["Belle And Sebastian","Lowlands 2006","Biddinghuizen","2006-08-20",null,"Grolsch","Festivaloptreden",8,2006,{"$f":"VLOOKUP(Table1[[#This Row],[Maand (getal)]],Lijst!A:B,2,FALSE)","v":"aug"},{"$f":"IFERROR(IF(ISBLANK('Zoeken in Database'!$D$3),\"x\",IF(SEARCH('Zoeken in Database'!$D$3,Concerten!A585,1),\"x\",\"\")),\"\")","v":"x"},{"$f":"IFERROR(IF(ISBLANK('Zoeken in Database'!$D$4),\"x\",IF(SEARCH('Zoeken in Database'!$D$4,Concerten!B585,1),\"x\",\"\")),\"\")","v":"x"},{"$f":"IFERROR(IF(ISBLANK('Zoeken in Database'!$D$5),\"x\",IF(SEARCH('Zoeken in Database'!$D$5,Concerten!C585,1),\"x\",\"\")),\"\")","v":"x"},{"$f":"IFERROR(IF(ISBLANK('Zoeken in Database'!$D$6),\"x\",IF(SEARCH('Zoeken in Database'!$D$6,Concerten!G585,1),\"x\",\"\")),\"\")","v":"x"},{"$f":"IF(AND(D585>='Zoeken in Database'!$A$7,'Zoeken in Database'!$A$8>=D585),\"x\",\"\")","v":"x"}]
["Hooft, Gerard 't","Lowlands 2006","Biddinghuizen","2006-08-20",null,"Juliet","Festivaloptreden",8,2006,{"$f":"VLOOKUP(Table1[[#This Row],[Maand (getal)]],Lijst!A:B,2,FALSE)","v":"aug"},{"$f":"IFERROR(IF(ISBLANK('Zoeken in Database'!$D$3),\"x\",IF(SEARCH('Zoeken in Database'!$D$3,Concerten!A586,1),\"x\",\"\")),\"\")","v":"x"},{"$f":"IFERROR(IF(ISBLANK('Zoeken in Database'!$D$4),\"x\",IF(SEARCH('Zoeken in Database'!$D$4,Concerten!B586,1),\"x\",\"\")),\"\")","v":"x"},{"$f":"IFERROR(IF(ISBLANK('Zoeken in Database'!$D$5),\"x\",IF(SEARCH('Zoeken in Database'!$D$5,Concerten!C586,1),\"x\",\"\")),\"\")","v":"x"},{"$f":"IFERROR(IF(ISBLANK('Zoeken in Database'!$D$6),\"x\",IF(SEARCH('Zoeken in Database'!$D$6,Concerten!G586,1),\"x\",\"\")),\"\")","v":"x"},{"$f":"IF(AND(D586>='Zoeken in Database'!$A$7,'Zoeken in Database'!$A$8>=D586),\"x\",\"\")","v":"x"}]
["Joan As Police Woman","Lowlands 2006","Biddinghuizen","2006-08-20",null,"Juliet","Festivaloptreden",8,2006,{"$f":"VLOOKUP(Table1[[#This Row],[Maand (getal)]],Lijst!A:B,2,FALSE)","v":"aug"},{"$f":"IFERROR(IF(ISBLANK('Zoeken in Database'!$D$3),\"x\",IF(SEARCH('Zoeken in Database'!$D$3,Concerten!A587,1),\"x\",\"\")),\"\")","v":"x"},{"$f":"IFERROR(IF(ISBLANK('Zoeken in Database'!$D$4),\"x\",IF(SEARCH('Zoeken in Database'!$D$4,Concerten!B587,1),\"x\",\"\")),\"\")","v":"x"},{"$f":"IFERROR(IF(ISBLANK('Zoeken in Database'!$D$5),\"x\",IF(SEARCH('Zoeken in Database'!$D$5,Concerten!C587,1),\"x\",\"\")),\"\")","v":"x"},{"$f":"IFERROR(IF(ISBLANK('Zoeken in Database'!$D$6),\"x\",IF(SEARCH('Zoeken in Database'!$D$6,Concerten!G587,1),\"x\",\"\")),\"\")","v":"x"},{"$f":"IF(AND(D587>='Zoeken in Database'!$A$7,'Zoeken in Database'!$A$8>=D587),\"x\",\"\")","v":"x"}]
["Nizlopi","Lowlands 2006","Biddinghuizen","2006-08-20",null,"India","Festivaloptreden",8,2006,{"$f":"VLOOKUP(Table1[[#This Row],[Maand (getal)]],Lijst!A:B,2,FALSE)","v":"aug"},{"$f":"IFERROR(IF(ISBLANK('Zoeken in Database'!$D$3),\"x\",IF(SEARCH('Zoeken in Database'!$D$3,Concerten!A588,1),\"x\",\"\")),\"\")","v":"x"},{"$f":"IFERROR(IF(ISBLANK('Zoeken in Database'!$D$4),\"x\",IF(SEARCH('Zoeken in Database'!$D$4,Concerten!B588,1),\"x\",\"\")),\"\")","v":"x"},{"$f":"IFERROR(IF(ISBLANK('Zoeken in Database'!$D$5),\"x\",IF(SEARCH('Zoeken in Database'!$D$5,Concerten!C588,1),\"x\",\"\")),\"\")","v":"x"},{"$f":"IFERROR(IF(ISBLANK('Zoeken in Database'!$D$6),\"x\",IF(SEARCH('Zoeken in Database'!$D$6,Concerten!G588,1),\"x\",\"\")),\"\")","v":"x"},{"$f":"IF(AND(D588>='Zoeken in Database'!$A$7,'Zoeken in Database'!$A$8>=D588),\"x\",\"\")","v":"x"}]
["Panic! At The Disco","Lowlands 2006","Biddinghuizen","2006-08-20",null,"Alpha","Festivaloptreden",8,2006,{"$f":"VLOOKUP(Table1[[#This Row],[Maand (getal)]],Lijst!A:B,2,FALSE)","v":"aug"},{"$f":"IFERROR(IF(ISBLANK('Zoeken in Database'!$D$3),\"x\",IF(SEARCH('Zoeken in Database'!$D$3,Concerten!A589,1),\"x\",\"\")),\"\")","v":"x"},{"$f":"IFERROR(IF(ISBLANK('Zoeken in Database'!$D$4),\"x\",IF(SEARCH('Zoeken in Database'!$D$4,Concerten!B589,1),\"x\",\"\")),\"\")","v":"x"},{"$f":"IFERROR(IF(ISBLANK('Zoeken in Database'!$D$5),\"x\",IF(SEARCH('Zoeken in Database'!$D$5,Concerten!C589,1),\"x\",\"\")),\"\")","v":"x"},{"$f":"IFERROR(IF(ISBLANK('Zoeken in Database'!$D$6),\"x\",IF(SEARCH('Zoeken in Database'!$D$6,Concerten!G589,1),\"x\",\"\")),\"\")","v":"x"},{"$f":"IF(AND(D589>='Zoeken in Database'!$A$7,'Zoeken in Database'!$A$8>=D589),\"x\",\"\")","v":"x"}]
["Yeah Yeah Yeahs","Lowlands 2006","Biddinghuizen","2006-08-20",null,"Grolsch","Festivaloptreden",8,2006,{"$f":"VLOOKUP(Table1[[#This Row],[Maand (getal)]],Lijst!A:B,2,FALSE)","v":"aug"},{"$f":"IFERROR(IF(ISBLANK('Zoeken in Database'!$D$3),\"x\",IF(SEARCH('Zoeken in Database'!$D$3,Concerten!A590,1),\"x\",\"\")),\"\")","v":"x"},{"$f":"IFERROR(IF(ISBLANK('Zoeken in Database'!$D$4),\"x\",IF(SEARCH('Zoeken in Database'!$D$4,Concerten!B590,1),\"x\",\"\")),\"\")","v":"x"},{"$f":"IFERROR(IF(ISBLANK('Zoeken in Database'!$D$5),\"x\",IF(SEARCH('Zoeken in Database'!$D$5,Concerten!C590,1),\"x\",\"\")),\"\")","v":"x"},{"$f":"IFERROR(IF(ISBLANK('Zoeken in Database'!$D$6),\"x\",IF(SEARCH('Zoeken in Database'!$D$6,Concerten!G590,1),\"x\",\"\")),\"\")","v":"x"},{"$f":"IF(AND(D590>='Zoeken in Database'!$A$7,'Zoeken in Database'!$A$8>=D590),\"x\",\"\")","v":"x"}]
["Costello, Elvis","Heineken Music Hall","Amsterdam","2006-09-06","01. Oberon And Titania - instrumental\n02. The Conspiracy Of Oberon And Puck - instrumental\n03. Puck 2 - instrumental\n04. Clubland\n05. Upon A Veil Of Midnight Blue\n06. All This Useless Beauty\n07. Tormentress - instrumental\n08. Can You Be True?\n09. Dust\n10. Poisoned Rose\n11. That's How You Got Killed Before\n12. The Birds Will Still Be Singing\n13. Episode Of Blonde - followed by an intermission\n14. Still\n15. Green Shirt\n16. Almost Ideal Eyes\n17. Almost Blue\n18. Watching The Detectives\n19. My Flame Burns Blue (Blood Count)\n20. She\n21. God Give Me Strength\nEncore 1\n22. I Still Have That Other Girl\n23. Alison / Tracks Of My Tears\n24. I Want You - Costello & Nieve, without orchestra\n25. Hora Decubitus\n26. The Sharpest Thorn\nEncore 2\n27. Couldn't Call It Unexpected No. 4\n","Met het Metropole Orkest","Hoofdprogramma",9,2006,{"$f":"VLOOKUP(Table1[[#This Row],[Maand (getal)]],Lijst!A:B,2,FALSE)","v":"sep"},{"$f":"IFERROR(IF(ISBLANK('Zoeken in Database'!$D$3),\"x\",IF(SEARCH('Zoeken in Database'!$D$3,Concerten!A591,1),\"x\",\"\")),\"\")","v":"x"},{"$f":"IFERROR(IF(ISBLANK('Zoeken in Database'!$D$4),\"x\",IF(SEARCH('Zoeken in Database'!$D$4,Concerten!B591,1),\"x\",\"\")),\"\")","v":"x"},{"$f":"IFERROR(IF(ISBLANK('Zoeken in Database'!$D$5),\"x\",IF(SEARCH('Zoeken in Database'!$D$5,Concerten!C591,1),\"x\",\"\")),\"\")","v":"x"},{"$f":"IFERROR(IF(ISBLANK('Zoeken in Database'!$D$6),\"x\",IF(SEARCH('Zoeken in Database'!$D$6,Concerten!G591,1),\"x\",\"\")),\"\")","v":"x"},{"$f":"IF(AND(D591>='Zoeken in Database'!$A$7,'Zoeken in Database'!$A$8>=D591),\"x\",\"\")","v":"x"}]
["Cave, Nick","Congresscentrum","Den Haag","2006-09-18","West Country Girl\nAbattoir Blues\nRed Right Hand\nThe Ship Song\nWonderful Life\nBabe, You Turn Me On\nThe Weeping Song\nCannibal's Hymn\nSad Waters (requested)\nMessiah Ward\nRock of Gibraltar\nHenry Lee\nMecry Seat\nHiding All Away\nGod Is In The House\nTupelo\n-\nRight Out Of Your Hand\nOh Deanna\nThe Lyre of Orpheus\nThe Lime-Tree Arbor\nPeople Just Ain't No Good\nStagger Lee\nRight Now I Am A-roaming\nLove Letter\nJack The Ripper\n\n","Solo (met Warren Ellis, Jim Sclavunos en Martin Casey)","Hoofdprogramma",9,2006,{"$f":"VLOOKUP(Table1[[#This Row],[Maand (getal)]],Lijst!A:B,2,FALSE)","v":"sep"},{"$f":"IFERROR(IF(ISBLANK('Zoeken in Database'!$D$3),\"x\",IF(SEARCH('Zoeken in Database'!$D$3,Concerten!A592,1),\"x\",\"\")),\"\")","v":"x"},{"$f":"IFERROR(IF(ISBLANK('Zoeken in Database'!$D$4),\"x\",IF(SEARCH('Zoeken in Database'!$D$4,Concerten!B592,1),\"x\",\"\")),\"\")","v":"x"},{"$f":"IFERROR(IF(ISBLANK('Zoeken in Database'!$D$5),\"x\",IF(SEARCH('Zoeken in Database'!$D$5,Concerten!C592,1),\"x\",\"\")),\"\")","v":"x"},{"$f":"IFERROR(IF(ISBLANK('Zoeken in Database'!$D$6),\"x\",IF(SEARCH('Zoeken in Database'!$D$6,Concerten!G592,1),\"x\",\"\")),\"\")","v":"x"},{"$f":"IF(AND(D592>='Zoeken in Database'!$A$7,'Zoeken in Database'!$A$8>=D592),\"x\",\"\")","v":"x"}]
["Adams, Ryan","Paradiso","Amsterdam","2006-10-03","One Kiss Before I Go\nPlease Do Not Let Me Go\nMagnolia Mountain\nThe End\nTo Be Young\negyptology->Tears Of Gold\nLet It Ride\nDear John\nWhat Sin\nDear Chicago->\nBlue Hotel\nBeautiful Sorta\nArkham Asylum\nStella Blue\nParty Clown\negyptology->Amp Jam->September\nCold Roses\nEgg Machines->Shakedown->New??->\nGoodnight Rose->\nShe Turns It Up To 10\n","Met de Cardinals","Hoofdprogramma",10,2006,{"$f":"VLOOKUP(Table1[[#This Row],[Maand (getal)]],Lijst!A:B,2,FALSE)","v":"okt"},{"$f":"IFERROR(IF(ISBLANK('Zoeken in Database'!$D$3),\"x\",IF(SEARCH('Zoeken in Database'!$D$3,Concerten!A593,1),\"x\",\"\")),\"\")","v":"x"},{"$f":"IFERROR(IF(ISBLANK('Zoeken in Database'!$D$4),\"x\",IF(SEARCH('Zoeken in Database'!$D$4,Concerten!B593,1),\"x\",\"\")),\"\")","v":"x"},{"$f":"IFERROR(IF(ISBLANK('Zoeken in Database'!$D$5),\"x\",IF(SEARCH('Zoeken in Database'!$D$5,Concerten!C593,1),\"x\",\"\")),\"\")","v":"x"},{"$f":"IFERROR(IF(ISBLANK('Zoeken in Database'!$D$6),\"x\",IF(SEARCH('Zoeken in Database'!$D$6,Concerten!G593,1),\"x\",\"\")),\"\")","v":"x"},{"$f":"IF(AND(D593>='Zoeken in Database'!$A$7,'Zoeken in Database'!$A$8>=D593),\"x\",\"\")","v":"x"}]
["Casal, Neal","Paradiso","Amsterdam","2006-10-03",null,null,"Voorprogramma",10,2006,{"$f":"VLOOKUP(Table1[[#This Row],[Maand (getal)]],Lijst!A:B,2,FALSE)","v":"okt"},{"$f":"IFERROR(IF(ISBLANK('Zoeken in Database'!$D$3),\"x\",IF(SEARCH('Zoeken in Database'!$D$3,Concerten!A594,1),\"x\",\"\")),\"\")","v":"x"},{"$f":"IFERROR(IF(ISBLANK('Zoeken in Database'!$D$4),\"x\",IF(SEARCH('Zoeken in Database'!$D$4,Concerten!B594,1),\"x\",\"\")),\"\")","v":"x"},{"$f":"IFERROR(IF(ISBLANK('Zoeken in Database'!$D$5),\"x\",IF(SEARCH('Zoeken in Database'!$D$5,Concerten!C594,1),\"x\",\"\")),\"\")","v":"x"},{"$f":"IFERROR(IF(ISBLANK('Zoeken in Database'!$D$6),\"x\",IF(SEARCH('Zoeken in Database'!$D$6,Concerten!G594,1),\"x\",\"\")),\"\")","v":"x"},{"$f":"IF(AND(D594>='Zoeken in Database'!$A$7,'Zoeken in Database'!$A$8>=D594),\"x\",\"\")","v":"x"}]
["Adams, Ryan","Die Kantine","Köln","2006-10-06","One Kiss Before I Go\nCold Roses\nEgyptology\nBartering lines\nKiss before I go\nThe End\nShe Turns It Up To 10\nPlease do not let me go\nTo be young\n?????\nArkham Asylum\nMagnolia Mt.\nTrains\nGames\nBlue Hotel\nGoodnight Rose\nDear Chicago\nPeaceful Valley\nBeautiful Sorta\nParty Clown\n\"Way To Go Brad-improv\"\nTears of Gold\nMockingbird\nLet it ride ","Met de Cardinals","Hoofdprogramma",10,2006,{"$f":"VLOOKUP(Table1[[#This Row],[Maand (getal)]],Lijst!A:B,2,FALSE)","v":"okt"},{"$f":"IFERROR(IF(ISBLANK('Zoeken in Database'!$D$3),\"x\",IF(SEARCH('Zoeken in Database'!$D$3,Concerten!A595,1),\"x\",\"\")),\"\")","v":"x"},{"$f":"IFERROR(IF(ISBLANK('Zoeken in Database'!$D$4),\"x\",IF(SEARCH('Zoeken in Database'!$D$4,Concerten!B595,1),\"x\",\"\")),\"\")","v":"x"},{"$f":"IFERROR(IF(ISBLANK('Zoeken in Database'!$D$5),\"x\",IF(SEARCH('Zoeken in Database'!$D$5,Concerten!C595,1),\"x\",\"\")),\"\")","v":"x"},{"$f":"IFERROR(IF(ISBLANK('Zoeken in Database'!$D$6),\"x\",IF(SEARCH('Zoeken in Database'!$D$6,Concerten!G595,1),\"x\",\"\")),\"\")","v":"x"},{"$f":"IF(AND(D595>='Zoeken in Database'!$A$7,'Zoeken in Database'!$A$8>=D595),\"x\",\"\")","v":"x"}]
["Casal, Neal","Die Kantine","Köln","2006-10-06",null,null,"Voorprogramma",10,2006,{"$f":"VLOOKUP(Table1[[#This Row],[Maand (getal)]],Lijst!A:B,2,FALSE)","v":"okt"},{"$f":"IFERROR(IF(ISBLANK('Zoeken in Database'!$D$3),\"x\",IF(SEARCH('Zoeken in Database'!$D$3,Concerten!A596,1),\"x\",\"\")),\"\")","v":"x"},{"$f":"IFERROR(IF(ISBLANK('Zoeken in Database'!$D$4),\"x\",IF(SEARCH('Zoeken in Database'!$D$4,Concerten!B596,1),\"x\",\"\")),\"\")","v":"x"},{"$f":"IFERROR(IF(ISBLANK('Zoeken in Database'!$D$5),\"x\",IF(SEARCH('Zoeken in Database'!$D$5,Concerten!C596,1),\"x\",\"\")),\"\")","v":"x"},{"$f":"IFERROR(IF(ISBLANK('Zoeken in Database'!$D$6),\"x\",IF(SEARCH('Zoeken in Database'!$D$6,Concerten!G596,1),\"x\",\"\")),\"\")","v":"x"},{"$f":"IF(AND(D596>='Zoeken in Database'!$A$7,'Zoeken in Database'!$A$8>=D596),\"x\",\"\")","v":"x"}]
["Anderson","Doornroosje","Nijmegen","2006-10-18",null,null,"Voorprogramma",10,2006,{"$f":"VLOOKUP(Table1[[#This Row],[Maand (getal)]],Lijst!A:B,2,FALSE)","v":"okt"},{"$f":"IFERROR(IF(ISBLANK('Zoeken in Database'!$D$3),\"x\",IF(SEARCH('Zoeken in Database'!$D$3,Concerten!A597,1),\"x\",\"\")),\"\")","v":"x"},{"$f":"IFERROR(IF(ISBLANK('Zoeken in Database'!$D$4),\"x\",IF(SEARCH('Zoeken in Database'!$D$4,Concerten!B597,1),\"x\",\"\")),\"\")","v":"x"},{"$f":"IFERROR(IF(ISBLANK('Zoeken in Database'!$D$5),\"x\",IF(SEARCH('Zoeken in Database'!$D$5,Concerten!C597,1),\"x\",\"\")),\"\")","v":"x"},{"$f":"IFERROR(IF(ISBLANK('Zoeken in Database'!$D$6),\"x\",IF(SEARCH('Zoeken in Database'!$D$6,Concerten!G597,1),\"x\",\"\")),\"\")","v":"x"},{"$f":"IF(AND(D597>='Zoeken in Database'!$A$7,'Zoeken in Database'!$A$8>=D597),\"x\",\"\")","v":"x"}]
["Vanderslice, John","Doornroosje","Nijmegen","2006-10-18",null,"met band","Hoofdprogramma",10,2006,{"$f":"VLOOKUP(Table1[[#This Row],[Maand (getal)]],Lijst!A:B,2,FALSE)","v":"okt"},{"$f":"IFERROR(IF(ISBLANK('Zoeken in Database'!$D$3),\"x\",IF(SEARCH('Zoeken in Database'!$D$3,Concerten!A598,1),\"x\",\"\")),\"\")","v":"x"},{"$f":"IFERROR(IF(ISBLANK('Zoeken in Database'!$D$4),\"x\",IF(SEARCH('Zoeken in Database'!$D$4,Concerten!B598,1),\"x\",\"\")),\"\")","v":"x"},{"$f":"IFERROR(IF(ISBLANK('Zoeken in Database'!$D$5),\"x\",IF(SEARCH('Zoeken in Database'!$D$5,Concerten!C598,1),\"x\",\"\")),\"\")","v":"x"},{"$f":"IFERROR(IF(ISBLANK('Zoeken in Database'!$D$6),\"x\",IF(SEARCH('Zoeken in Database'!$D$6,Concerten!G598,1),\"x\",\"\")),\"\")","v":"x"},{"$f":"IF(AND(D598>='Zoeken in Database'!$A$7,'Zoeken in Database'!$A$8>=D598),\"x\",\"\")","v":"x"}]
["St. Vincent","Paradiso","Amsterdam","2006-11-11",null,null,"Voorprogramma",11,2006,{"$f":"VLOOKUP(Table1[[#This Row],[Maand (getal)]],Lijst!A:B,2,FALSE)","v":"nov"},{"$f":"IFERROR(IF(ISBLANK('Zoeken in Database'!$D$3),\"x\",IF(SEARCH('Zoeken in Database'!$D$3,Concerten!A599,1),\"x\",\"\")),\"\")","v":"x"},{"$f":"IFERROR(IF(ISBLANK('Zoeken in Database'!$D$4),\"x\",IF(SEARCH('Zoeken in Database'!$D$4,Concerten!B599,1),\"x\",\"\")),\"\")","v":"x"},{"$f":"IFERROR(IF(ISBLANK('Zoeken in Database'!$D$5),\"x\",IF(SEARCH('Zoeken in Database'!$D$5,Concerten!C599,1),\"x\",\"\")),\"\")","v":"x"},{"$f":"IFERROR(IF(ISBLANK('Zoeken in Database'!$D$6),\"x\",IF(SEARCH('Zoeken in Database'!$D$6,Concerten!G599,1),\"x\",\"\")),\"\")","v":"x"},{"$f":"IF(AND(D599>='Zoeken in Database'!$A$7,'Zoeken in Database'!$A$8>=D599),\"x\",\"\")","v":"x"}]
["Stevens, Sufjan","Paradiso","Amsterdam","2006-11-11","Sister\nTransfiguration\nMetropolis\nJacksonville\nCasimir Pulaski Day\nGood Man Is Hard To Find\nDetroit\nWasp\nSeven Swans\nJohn Wayne\nChristmas (Worst Christmas)\nSupercomputer\nSnowbird\nChicago\n------\nUFO\n2 Be Alone\nDress Looks Nice\n\n",null,"Hoofdprogramma",11,2006,{"$f":"VLOOKUP(Table1[[#This Row],[Maand (getal)]],Lijst!A:B,2,FALSE)","v":"nov"},{"$f":"IFERROR(IF(ISBLANK('Zoeken in Database'!$D$3),\"x\",IF(SEARCH('Zoeken in Database'!$D$3,Concerten!A600,1),\"x\",\"\")),\"\")","v":"x"},{"$f":"IFERROR(IF(ISBLANK('Zoeken in Database'!$D$4),\"x\",IF(SEARCH('Zoeken in Database'!$D$4,Concerten!B600,1),\"x\",\"\")),\"\")","v":"x"},{"$f":"IFERROR(IF(ISBLANK('Zoeken in Database'!$D$5),\"x\",IF(SEARCH('Zoeken in Database'!$D$5,Concerten!C600,1),\"x\",\"\")),\"\")","v":"x"},{"$f":"IFERROR(IF(ISBLANK('Zoeken in Database'!$D$6),\"x\",IF(SEARCH('Zoeken in Database'!$D$6,Concerten!G600,1),\"x\",\"\")),\"\")","v":"x"},{"$f":"IF(AND(D600>='Zoeken in Database'!$A$7,'Zoeken in Database'!$A$8>=D600),\"x\",\"\")","v":"x"}]
["Helsen, Wim","Schouwburg Cuijk","Cuijk","2006-11-15",null,"\"Bij Mij Zijt Ge Veilig\"","Theater",11,2006,{"$f":"VLOOKUP(Table1[[#This Row],[Maand (getal)]],Lijst!A:B,2,FALSE)","v":"nov"},{"$f":"IFERROR(IF(ISBLANK('Zoeken in Database'!$D$3),\"x\",IF(SEARCH('Zoeken in Database'!$D$3,Concerten!A601,1),\"x\",\"\")),\"\")","v":"x"},{"$f":"IFERROR(IF(ISBLANK('Zoeken in Database'!$D$4),\"x\",IF(SEARCH('Zoeken in Database'!$D$4,Concerten!B601,1),\"x\",\"\")),\"\")","v":"x"},{"$f":"IFERROR(IF(ISBLANK('Zoeken in Database'!$D$5),\"x\",IF(SEARCH('Zoeken in Database'!$D$5,Concerten!C601,1),\"x\",\"\")),\"\")","v":"x"},{"$f":"IFERROR(IF(ISBLANK('Zoeken in Database'!$D$6),\"x\",IF(SEARCH('Zoeken in Database'!$D$6,Concerten!G601,1),\"x\",\"\")),\"\")","v":"x"},{"$f":"IF(AND(D601>='Zoeken in Database'!$A$7,'Zoeken in Database'!$A$8>=D601),\"x\",\"\")","v":"x"}]
["Drams, The","Bosuil","Weert","2006-11-17","Unhinged\nHummalong\nShortsighted\nCrudely Drawn\nHoly Mozes\nFireflies\nThe Ballad Of El Goodo\nNever You Mind\nYou Won't Forget\nBiscuits (Chad Stockslager)\nWhen Your Tired\nBilly Pritchard\nBurned (Neil Young Cover)\nBlue Eyes (Gram Parsons)\nTrust Jesus\nDes Moines\nThe Shape I'm In\nI Can Tell Your Love Is Waning\nMake A Book\n---------------\nLove Somebody\nI Am The Cosmos\n----------------\nDunk You In The River\nRobert Cole",null,"Hoofdprogramma",11,2006,{"$f":"VLOOKUP(Table1[[#This Row],[Maand (getal)]],Lijst!A:B,2,FALSE)","v":"nov"},{"$f":"IFERROR(IF(ISBLANK('Zoeken in Database'!$D$3),\"x\",IF(SEARCH('Zoeken in Database'!$D$3,Concerten!A602,1),\"x\",\"\")),\"\")","v":"x"},{"$f":"IFERROR(IF(ISBLANK('Zoeken in Database'!$D$4),\"x\",IF(SEARCH('Zoeken in Database'!$D$4,Concerten!B602,1),\"x\",\"\")),\"\")","v":"x"},{"$f":"IFERROR(IF(ISBLANK('Zoeken in Database'!$D$5),\"x\",IF(SEARCH('Zoeken in Database'!$D$5,Concerten!C602,1),\"x\",\"\")),\"\")","v":"x"},{"$f":"IFERROR(IF(ISBLANK('Zoeken in Database'!$D$6),\"x\",IF(SEARCH('Zoeken in Database'!$D$6,Concerten!G602,1),\"x\",\"\")),\"\")","v":"x"},{"$f":"IF(AND(D602>='Zoeken in Database'!$A$7,'Zoeken in Database'!$A$8>=D602),\"x\",\"\")","v":"x"}]
["Lost Souls, The","Bosuil","Weert","2006-11-17",null,null,"Voorprogramma",11,2006,{"$f":"VLOOKUP(Table1[[#This Row],[Maand (getal)]],Lijst!A:B,2,FALSE)","v":"nov"},{"$f":"IFERROR(IF(ISBLANK('Zoeken in Database'!$D$3),\"x\",IF(SEARCH('Zoeken in Database'!$D$3,Concerten!A603,1),\"x\",\"\")),\"\")","v":"x"},{"$f":"IFERROR(IF(ISBLANK('Zoeken in Database'!$D$4),\"x\",IF(SEARCH('Zoeken in Database'!$D$4,Concerten!B603,1),\"x\",\"\")),\"\")","v":"x"},{"$f":"IFERROR(IF(ISBLANK('Zoeken in Database'!$D$5),\"x\",IF(SEARCH('Zoeken in Database'!$D$5,Concerten!C603,1),\"x\",\"\")),\"\")","v":"x"},{"$f":"IFERROR(IF(ISBLANK('Zoeken in Database'!$D$6),\"x\",IF(SEARCH('Zoeken in Database'!$D$6,Concerten!G603,1),\"x\",\"\")),\"\")","v":"x"},{"$f":"IF(AND(D603>='Zoeken in Database'!$A$7,'Zoeken in Database'!$A$8>=D603),\"x\",\"\")","v":"x"}]
["Arie en Silvester","Schouwburg Cuijk","Cuijk","2006-11-22",null,"\"De Grote Arie En Silvester Spektakel Show\"","Theater",11,2006,{"$f":"VLOOKUP(Table1[[#This Row],[Maand (getal)]],Lijst!A:B,2,FALSE)","v":"nov"},{"$f":"IFERROR(IF(ISBLANK('Zoeken in Database'!$D$3),\"x\",IF(SEARCH('Zoeken in Database'!$D$3,Concerten!A604,1),\"x\",\"\")),\"\")","v":"x"},{"$f":"IFERROR(IF(ISBLANK('Zoeken in Database'!$D$4),\"x\",IF(SEARCH('Zoeken in Database'!$D$4,Concerten!B604,1),\"x\",\"\")),\"\")","v":"x"},{"$f":"IFERROR(IF(ISBLANK('Zoeken in Database'!$D$5),\"x\",IF(SEARCH('Zoeken in Database'!$D$5,Concerten!C604,1),\"x\",\"\")),\"\")","v":"x"},{"$f":"IFERROR(IF(ISBLANK('Zoeken in Database'!$D$6),\"x\",IF(SEARCH('Zoeken in Database'!$D$6,Concerten!G604,1),\"x\",\"\")),\"\")","v":"x"},{"$f":"IF(AND(D604>='Zoeken in Database'!$A$7,'Zoeken in Database'!$A$8>=D604),\"x\",\"\")","v":"x"}]
["Lohues, Daniel","Roepaen","Ottersum","2007-01-21",null,"In de kapel","Hoofdprogramma",1,2007,{"$f":"VLOOKUP(Table1[[#This Row],[Maand (getal)]],Lijst!A:B,2,FALSE)","v":"jan"},{"$f":"IFERROR(IF(ISBLANK('Zoeken in Database'!$D$3),\"x\",IF(SEARCH('Zoeken in Database'!$D$3,Concerten!A605,1),\"x\",\"\")),\"\")","v":"x"},{"$f":"IFERROR(IF(ISBLANK('Zoeken in Database'!$D$4),\"x\",IF(SEARCH('Zoeken in Database'!$D$4,Concerten!B605,1),\"x\",\"\")),\"\")","v":"x"},{"$f":"IFERROR(IF(ISBLANK('Zoeken in Database'!$D$5),\"x\",IF(SEARCH('Zoeken in Database'!$D$5,Concerten!C605,1),\"x\",\"\")),\"\")","v":"x"},{"$f":"IFERROR(IF(ISBLANK('Zoeken in Database'!$D$6),\"x\",IF(SEARCH('Zoeken in Database'!$D$6,Concerten!G605,1),\"x\",\"\")),\"\")","v":"x"},{"$f":"IF(AND(D605>='Zoeken in Database'!$A$7,'Zoeken in Database'!$A$8>=D605),\"x\",\"\")","v":"x"}]
["Folds, Ben","Paradiso","Amsterdam","2007-01-30","Annie Waits\nTrusted\nGone\nAll U Can Eat\nLearn To Live With What You Are\nJesusland\nBastard\nCooler Than You\nLosing Lisa\nStill Fighting It\nYou To Thank\nLanded\nBitches Ain’t Shit\nFred Jones Part 2 (solo)\nBrick (solo)\nLullabye (solo)\nNarcolepsy\nSuch Great Heights\nArmy\nKate\nOne Angry Dwarf And 200 Solemn Faces\n\n--------------------\nNot The Same\nUnderground\n--------------------\n\nZak And Sara\n",null,"Hoofdprogramma",1,2007,{"$f":"VLOOKUP(Table1[[#This Row],[Maand (getal)]],Lijst!A:B,2,FALSE)","v":"jan"},{"$f":"IFERROR(IF(ISBLANK('Zoeken in Database'!$D$3),\"x\",IF(SEARCH('Zoeken in Database'!$D$3,Concerten!A606,1),\"x\",\"\")),\"\")","v":"x"},{"$f":"IFERROR(IF(ISBLANK('Zoeken in Database'!$D$4),\"x\",IF(SEARCH('Zoeken in Database'!$D$4,Concerten!B606,1),\"x\",\"\")),\"\")","v":"x"},{"$f":"IFERROR(IF(ISBLANK('Zoeken in Database'!$D$5),\"x\",IF(SEARCH('Zoeken in Database'!$D$5,Concerten!C606,1),\"x\",\"\")),\"\")","v":"x"},{"$f":"IFERROR(IF(ISBLANK('Zoeken in Database'!$D$6),\"x\",IF(SEARCH('Zoeken in Database'!$D$6,Concerten!G606,1),\"x\",\"\")),\"\")","v":"x"},{"$f":"IF(AND(D606>='Zoeken in Database'!$A$7,'Zoeken in Database'!$A$8>=D606),\"x\",\"\")","v":"x"}]
["Barzelay, Eef","Paradiso","Amsterdam","2007-01-30",null,null,"Voorprogramma",1,2007,{"$f":"VLOOKUP(Table1[[#This Row],[Maand (getal)]],Lijst!A:B,2,FALSE)","v":"jan"},{"$f":"IFERROR(IF(ISBLANK('Zoeken in Database'!$D$3),\"x\",IF(SEARCH('Zoeken in Database'!$D$3,Concerten!A607,1),\"x\",\"\")),\"\")","v":"x"},{"$f":"IFERROR(IF(ISBLANK('Zoeken in Database'!$D$4),\"x\",IF(SEARCH('Zoeken in Database'!$D$4,Concerten!B607,1),\"x\",\"\")),\"\")","v":"x"},{"$f":"IFERROR(IF(ISBLANK('Zoeken in Database'!$D$5),\"x\",IF(SEARCH('Zoeken in Database'!$D$5,Concerten!C607,1),\"x\",\"\")),\"\")","v":"x"},{"$f":"IFERROR(IF(ISBLANK('Zoeken in Database'!$D$6),\"x\",IF(SEARCH('Zoeken in Database'!$D$6,Concerten!G607,1),\"x\",\"\")),\"\")","v":"x"},{"$f":"IF(AND(D607>='Zoeken in Database'!$A$7,'Zoeken in Database'!$A$8>=D607),\"x\",\"\")","v":"x"}]
["Folds, Ben","Live Music Hall","Köln","2007-02-06","Theme from Dr. Pyser\nTrusted\nGone\nAll You Can Eat\nAnnie Waits\nJesusland\nImprov Astronaut Murder\nRock This This Bitch In Cologne\nStill figthing it\nLearn To Live With What You Are (Aborted after first line)\nCover?\nLosing Lisa\nCooler Than You\nBastard\nStill Fighting It\nYou To Thank\nLanded\nBitches aint shit\n\nSoloSet:\nFred Jones\nEvaporated\nLullabye\nLast Polka \nOne Down \n\nNarcolepsy\nReihenfolge unsicher:\nAscent of Stan\nArmy\nSuch great Heights\nKate\nUnderground\n---\nZugabe:\nZak and Sara\nOne Angry Dwarf And 200 Solemn Faces\n",null,"Hoofdprogramma",2,2007,{"$f":"VLOOKUP(Table1[[#This Row],[Maand (getal)]],Lijst!A:B,2,FALSE)","v":"feb"},{"$f":"IFERROR(IF(ISBLANK('Zoeken in Database'!$D$3),\"x\",IF(SEARCH('Zoeken in Database'!$D$3,Concerten!A608,1),\"x\",\"\")),\"\")","v":"x"},{"$f":"IFERROR(IF(ISBLANK('Zoeken in Database'!$D$4),\"x\",IF(SEARCH('Zoeken in Database'!$D$4,Concerten!B608,1),\"x\",\"\")),\"\")","v":"x"},{"$f":"IFERROR(IF(ISBLANK('Zoeken in Database'!$D$5),\"x\",IF(SEARCH('Zoeken in Database'!$D$5,Concerten!C608,1),\"x\",\"\")),\"\")","v":"x"},{"$f":"IFERROR(IF(ISBLANK('Zoeken in Database'!$D$6),\"x\",IF(SEARCH('Zoeken in Database'!$D$6,Concerten!G608,1),\"x\",\"\")),\"\")","v":"x"},{"$f":"IF(AND(D608>='Zoeken in Database'!$A$7,'Zoeken in Database'!$A$8>=D608),\"x\",\"\")","v":"x"}]
["Barzelay, Eef","Live Music Hall","Köln","2007-02-06",null,null,"Voorprogramma",2,2007,{"$f":"VLOOKUP(Table1[[#This Row],[Maand (getal)]],Lijst!A:B,2,FALSE)","v":"feb"},{"$f":"IFERROR(IF(ISBLANK('Zoeken in Database'!$D$3),\"x\",IF(SEARCH('Zoeken in Database'!$D$3,Concerten!A609,1),\"x\",\"\")),\"\")","v":"x"},{"$f":"IFERROR(IF(ISBLANK('Zoeken in Database'!$D$4),\"x\",IF(SEARCH('Zoeken in Database'!$D$4,Concerten!B609,1),\"x\",\"\")),\"\")","v":"x"},{"$f":"IFERROR(IF(ISBLANK('Zoeken in Database'!$D$5),\"x\",IF(SEARCH('Zoeken in Database'!$D$5,Concerten!C609,1),\"x\",\"\")),\"\")","v":"x"},{"$f":"IFERROR(IF(ISBLANK('Zoeken in Database'!$D$6),\"x\",IF(SEARCH('Zoeken in Database'!$D$6,Concerten!G609,1),\"x\",\"\")),\"\")","v":"x"},{"$f":"IF(AND(D609>='Zoeken in Database'!$A$7,'Zoeken in Database'!$A$8>=D609),\"x\",\"\")","v":"x"}]
["Wertheim, Micha","Weijertheater","Boxmeer","2007-02-09",null,"Micha Wertheim voor gevorderden","Theater",2,2007,{"$f":"VLOOKUP(Table1[[#This Row],[Maand (getal)]],Lijst!A:B,2,FALSE)","v":"feb"},{"$f":"IFERROR(IF(ISBLANK('Zoeken in Database'!$D$3),\"x\",IF(SEARCH('Zoeken in Database'!$D$3,Concerten!A610,1),\"x\",\"\")),\"\")","v":"x"},{"$f":"IFERROR(IF(ISBLANK('Zoeken in Database'!$D$4),\"x\",IF(SEARCH('Zoeken in Database'!$D$4,Concerten!B610,1),\"x\",\"\")),\"\")","v":"x"},{"$f":"IFERROR(IF(ISBLANK('Zoeken in Database'!$D$5),\"x\",IF(SEARCH('Zoeken in Database'!$D$5,Concerten!C610,1),\"x\",\"\")),\"\")","v":"x"},{"$f":"IFERROR(IF(ISBLANK('Zoeken in Database'!$D$6),\"x\",IF(SEARCH('Zoeken in Database'!$D$6,Concerten!G610,1),\"x\",\"\")),\"\")","v":"x"},{"$f":"IF(AND(D610>='Zoeken in Database'!$A$7,'Zoeken in Database'!$A$8>=D610),\"x\",\"\")","v":"x"}]
["Van Muiswinkel en van Vleuten","Schouwburg Cuijk","Cuijk","2007-02-27",null,"Prediker en Hooglied","Theater",2,2007,{"$f":"VLOOKUP(Table1[[#This Row],[Maand (getal)]],Lijst!A:B,2,FALSE)","v":"feb"},{"$f":"IFERROR(IF(ISBLANK('Zoeken in Database'!$D$3),\"x\",IF(SEARCH('Zoeken in Database'!$D$3,Concerten!A611,1),\"x\",\"\")),\"\")","v":"x"},{"$f":"IFERROR(IF(ISBLANK('Zoeken in Database'!$D$4),\"x\",IF(SEARCH('Zoeken in Database'!$D$4,Concerten!B611,1),\"x\",\"\")),\"\")","v":"x"},{"$f":"IFERROR(IF(ISBLANK('Zoeken in Database'!$D$5),\"x\",IF(SEARCH('Zoeken in Database'!$D$5,Concerten!C611,1),\"x\",\"\")),\"\")","v":"x"},{"$f":"IFERROR(IF(ISBLANK('Zoeken in Database'!$D$6),\"x\",IF(SEARCH('Zoeken in Database'!$D$6,Concerten!G611,1),\"x\",\"\")),\"\")","v":"x"},{"$f":"IF(AND(D611>='Zoeken in Database'!$A$7,'Zoeken in Database'!$A$8>=D611),\"x\",\"\")","v":"x"}]
["Rice, Damien","Palladium","Köln","2007-03-11","Delicate\nMe, My Yoke + I\nEskimo\n9 Crimes\nCannonball\nCoconut Skins\nBe My Husband\nVolcano\nThe Animals Were Gone\nRandom Man on the Motorway\nRootless Tree\nRat Within the Grain\nIs That It My Friend\nBlower's Daughter/Creep\n-------------------------------\nWoman Like A Man\nI Remember",null,"Hoofdprogramma",3,2007,{"$f":"VLOOKUP(Table1[[#This Row],[Maand (getal)]],Lijst!A:B,2,FALSE)","v":"mrt"},{"$f":"IFERROR(IF(ISBLANK('Zoeken in Database'!$D$3),\"x\",IF(SEARCH('Zoeken in Database'!$D$3,Concerten!A612,1),\"x\",\"\")),\"\")","v":"x"},{"$f":"IFERROR(IF(ISBLANK('Zoeken in Database'!$D$4),\"x\",IF(SEARCH('Zoeken in Database'!$D$4,Concerten!B612,1),\"x\",\"\")),\"\")","v":"x"},{"$f":"IFERROR(IF(ISBLANK('Zoeken in Database'!$D$5),\"x\",IF(SEARCH('Zoeken in Database'!$D$5,Concerten!C612,1),\"x\",\"\")),\"\")","v":"x"},{"$f":"IFERROR(IF(ISBLANK('Zoeken in Database'!$D$6),\"x\",IF(SEARCH('Zoeken in Database'!$D$6,Concerten!G612,1),\"x\",\"\")),\"\")","v":"x"},{"$f":"IF(AND(D612>='Zoeken in Database'!$A$7,'Zoeken in Database'!$A$8>=D612),\"x\",\"\")","v":"x"}]
["Magic Numbers, The","Palladium","Köln","2007-03-11",null,null,"Voorprogramma",3,2007,{"$f":"VLOOKUP(Table1[[#This Row],[Maand (getal)]],Lijst!A:B,2,FALSE)","v":"mrt"},{"$f":"IFERROR(IF(ISBLANK('Zoeken in Database'!$D$3),\"x\",IF(SEARCH('Zoeken in Database'!$D$3,Concerten!A613,1),\"x\",\"\")),\"\")","v":"x"},{"$f":"IFERROR(IF(ISBLANK('Zoeken in Database'!$D$4),\"x\",IF(SEARCH('Zoeken in Database'!$D$4,Concerten!B613,1),\"x\",\"\")),\"\")","v":"x"},{"$f":"IFERROR(IF(ISBLANK('Zoeken in Database'!$D$5),\"x\",IF(SEARCH('Zoeken in Database'!$D$5,Concerten!C613,1),\"x\",\"\")),\"\")","v":"x"},{"$f":"IFERROR(IF(ISBLANK('Zoeken in Database'!$D$6),\"x\",IF(SEARCH('Zoeken in Database'!$D$6,Concerten!G613,1),\"x\",\"\")),\"\")","v":"x"},{"$f":"IF(AND(D613>='Zoeken in Database'!$A$7,'Zoeken in Database'!$A$8>=D613),\"x\",\"\")","v":"x"}]
["Vliegende Panters, De","Schouwburg Cuijk","Cuijk","2007-03-12",null,"Ebbinge Vrijdag en De Bekker","Theater",3,2007,{"$f":"VLOOKUP(Table1[[#This Row],[Maand (getal)]],Lijst!A:B,2,FALSE)","v":"mrt"},{"$f":"IFERROR(IF(ISBLANK('Zoeken in Database'!$D$3),\"x\",IF(SEARCH('Zoeken in Database'!$D$3,Concerten!A614,1),\"x\",\"\")),\"\")","v":"x"},{"$f":"IFERROR(IF(ISBLANK('Zoeken in Database'!$D$4),\"x\",IF(SEARCH('Zoeken in Database'!$D$4,Concerten!B614,1),\"x\",\"\")),\"\")","v":"x"},{"$f":"IFERROR(IF(ISBLANK('Zoeken in Database'!$D$5),\"x\",IF(SEARCH('Zoeken in Database'!$D$5,Concerten!C614,1),\"x\",\"\")),\"\")","v":"x"},{"$f":"IFERROR(IF(ISBLANK('Zoeken in Database'!$D$6),\"x\",IF(SEARCH('Zoeken in Database'!$D$6,Concerten!G614,1),\"x\",\"\")),\"\")","v":"x"},{"$f":"IF(AND(D614>='Zoeken in Database'!$A$7,'Zoeken in Database'!$A$8>=D614),\"x\",\"\")","v":"x"}]
["Ladytron","Palladium","Köln","2007-03-14",null,null,"Voorprogramma",3,2007,{"$f":"VLOOKUP(Table1[[#This Row],[Maand (getal)]],Lijst!A:B,2,FALSE)","v":"mrt"},{"$f":"IFERROR(IF(ISBLANK('Zoeken in Database'!$D$3),\"x\",IF(SEARCH('Zoeken in Database'!$D$3,Concerten!A615,1),\"x\",\"\")),\"\")","v":"x"},{"$f":"IFERROR(IF(ISBLANK('Zoeken in Database'!$D$4),\"x\",IF(SEARCH('Zoeken in Database'!$D$4,Concerten!B615,1),\"x\",\"\")),\"\")","v":"x"},{"$f":"IFERROR(IF(ISBLANK('Zoeken in Database'!$D$5),\"x\",IF(SEARCH('Zoeken in Database'!$D$5,Concerten!C615,1),\"x\",\"\")),\"\")","v":"x"},{"$f":"IFERROR(IF(ISBLANK('Zoeken in Database'!$D$6),\"x\",IF(SEARCH('Zoeken in Database'!$D$6,Concerten!G615,1),\"x\",\"\")),\"\")","v":"x"},{"$f":"IF(AND(D615>='Zoeken in Database'!$A$7,'Zoeken in Database'!$A$8>=D615),\"x\",\"\")","v":"x"}]
["Nine Inch Nails","Palladium","Köln","2007-03-14","Somewhat Damaged\nLast\nHeresy\nMarch of the Pigs\nPiggy\nRuiner\nCloser (with \"The Only time breakdown)\nThe beginning is the end\nBurn\nGave up\nHelp me i am in hell\nEraser\nWish\nSurvivalism\nOnly\nSuck\nThe day the world went away\nHurt\nThe Hand that feeds\nHead like a hole \n",null,"Hoofdprogramma",3,2007,{"$f":"VLOOKUP(Table1[[#This Row],[Maand (getal)]],Lijst!A:B,2,FALSE)","v":"mrt"},{"$f":"IFERROR(IF(ISBLANK('Zoeken in Database'!$D$3),\"x\",IF(SEARCH('Zoeken in Database'!$D$3,Concerten!A616,1),\"x\",\"\")),\"\")","v":"x"},{"$f":"IFERROR(IF(ISBLANK('Zoeken in Database'!$D$4),\"x\",IF(SEARCH('Zoeken in Database'!$D$4,Concerten!B616,1),\"x\",\"\")),\"\")","v":"x"},{"$f":"IFERROR(IF(ISBLANK('Zoeken in Database'!$D$5),\"x\",IF(SEARCH('Zoeken in Database'!$D$5,Concerten!C616,1),\"x\",\"\")),\"\")","v":"x"},{"$f":"IFERROR(IF(ISBLANK('Zoeken in Database'!$D$6),\"x\",IF(SEARCH('Zoeken in Database'!$D$6,Concerten!G616,1),\"x\",\"\")),\"\")","v":"x"},{"$f":"IF(AND(D616>='Zoeken in Database'!$A$7,'Zoeken in Database'!$A$8>=D616),\"x\",\"\")","v":"x"}]
["Bright Eyes","Melkweg","Amsterdam","2007-03-31","I Must Belong\nCartoon Blues\nWe Are Nowhere\nCrazy As A Loon (John Prine)\nOld Soul Song\nBlack Comedy\nMiddleman\nJake Bellows nummer\nI'll Be Your Friend\nFour Winds\nMake War\nTourist Trap\nSoul Singer In The Session Band\n------------\nCleanse Song\nFirst Day Of My Life\nJune On The Westcoast\n","Old Hall","Hoofdprogramma",3,2007,{"$f":"VLOOKUP(Table1[[#This Row],[Maand (getal)]],Lijst!A:B,2,FALSE)","v":"mrt"},{"$f":"IFERROR(IF(ISBLANK('Zoeken in Database'!$D$3),\"x\",IF(SEARCH('Zoeken in Database'!$D$3,Concerten!A617,1),\"x\",\"\")),\"\")","v":"x"},{"$f":"IFERROR(IF(ISBLANK('Zoeken in Database'!$D$4),\"x\",IF(SEARCH('Zoeken in Database'!$D$4,Concerten!B617,1),\"x\",\"\")),\"\")","v":"x"},{"$f":"IFERROR(IF(ISBLANK('Zoeken in Database'!$D$5),\"x\",IF(SEARCH('Zoeken in Database'!$D$5,Concerten!C617,1),\"x\",\"\")),\"\")","v":"x"},{"$f":"IFERROR(IF(ISBLANK('Zoeken in Database'!$D$6),\"x\",IF(SEARCH('Zoeken in Database'!$D$6,Concerten!G617,1),\"x\",\"\")),\"\")","v":"x"},{"$f":"IF(AND(D617>='Zoeken in Database'!$A$7,'Zoeken in Database'!$A$8>=D617),\"x\",\"\")","v":"x"}]
["Middleton, Malcolm","Melkweg","Amsterdam","2007-03-31",null,"Old Hall","Voorprogramma",3,2007,{"$f":"VLOOKUP(Table1[[#This Row],[Maand (getal)]],Lijst!A:B,2,FALSE)","v":"mrt"},{"$f":"IFERROR(IF(ISBLANK('Zoeken in Database'!$D$3),\"x\",IF(SEARCH('Zoeken in Database'!$D$3,Concerten!A618,1),\"x\",\"\")),\"\")","v":"x"},{"$f":"IFERROR(IF(ISBLANK('Zoeken in Database'!$D$4),\"x\",IF(SEARCH('Zoeken in Database'!$D$4,Concerten!B618,1),\"x\",\"\")),\"\")","v":"x"},{"$f":"IFERROR(IF(ISBLANK('Zoeken in Database'!$D$5),\"x\",IF(SEARCH('Zoeken in Database'!$D$5,Concerten!C618,1),\"x\",\"\")),\"\")","v":"x"},{"$f":"IFERROR(IF(ISBLANK('Zoeken in Database'!$D$6),\"x\",IF(SEARCH('Zoeken in Database'!$D$6,Concerten!G618,1),\"x\",\"\")),\"\")","v":"x"},{"$f":"IF(AND(D618>='Zoeken in Database'!$A$7,'Zoeken in Database'!$A$8>=D618),\"x\",\"\")","v":"x"}]
["Shins, The","Paradiso","Amsterdam","2007-04-05","Sleeping Lessons\nAustralia\nPam Berry / Phantom Limb\nKissing The Lipless\nMine’s Not A High Horse\nGirl Inform Me\nNew Slang\nSaint Simon\nGirl Sailor\nTurn A Square\nGone For Good\nA Comet Appears\nTurn On Me\nKnow Your Onion!\n---------------------------------------------------\nCaring Is Creepy\nBreathe (Pink Floyd cover)\nSomeone I Care About (Modern Lovers cover)\nSo Says I",null,"Hoofdprogramma",4,2007,{"$f":"VLOOKUP(Table1[[#This Row],[Maand (getal)]],Lijst!A:B,2,FALSE)","v":"apr"},{"$f":"IFERROR(IF(ISBLANK('Zoeken in Database'!$D$3),\"x\",IF(SEARCH('Zoeken in Database'!$D$3,Concerten!A619,1),\"x\",\"\")),\"\")","v":"x"},{"$f":"IFERROR(IF(ISBLANK('Zoeken in Database'!$D$4),\"x\",IF(SEARCH('Zoeken in Database'!$D$4,Concerten!B619,1),\"x\",\"\")),\"\")","v":"x"},{"$f":"IFERROR(IF(ISBLANK('Zoeken in Database'!$D$5),\"x\",IF(SEARCH('Zoeken in Database'!$D$5,Concerten!C619,1),\"x\",\"\")),\"\")","v":"x"},{"$f":"IFERROR(IF(ISBLANK('Zoeken in Database'!$D$6),\"x\",IF(SEARCH('Zoeken in Database'!$D$6,Concerten!G619,1),\"x\",\"\")),\"\")","v":"x"},{"$f":"IF(AND(D619>='Zoeken in Database'!$A$7,'Zoeken in Database'!$A$8>=D619),\"x\",\"\")","v":"x"}]
["Viva Voce","Paradiso","Amsterdam","2007-04-05",null,null,"Voorprogramma",4,2007,{"$f":"VLOOKUP(Table1[[#This Row],[Maand (getal)]],Lijst!A:B,2,FALSE)","v":"apr"},{"$f":"IFERROR(IF(ISBLANK('Zoeken in Database'!$D$3),\"x\",IF(SEARCH('Zoeken in Database'!$D$3,Concerten!A620,1),\"x\",\"\")),\"\")","v":"x"},{"$f":"IFERROR(IF(ISBLANK('Zoeken in Database'!$D$4),\"x\",IF(SEARCH('Zoeken in Database'!$D$4,Concerten!B620,1),\"x\",\"\")),\"\")","v":"x"},{"$f":"IFERROR(IF(ISBLANK('Zoeken in Database'!$D$5),\"x\",IF(SEARCH('Zoeken in Database'!$D$5,Concerten!C620,1),\"x\",\"\")),\"\")","v":"x"},{"$f":"IFERROR(IF(ISBLANK('Zoeken in Database'!$D$6),\"x\",IF(SEARCH('Zoeken in Database'!$D$6,Concerten!G620,1),\"x\",\"\")),\"\")","v":"x"},{"$f":"IF(AND(D620>='Zoeken in Database'!$A$7,'Zoeken in Database'!$A$8>=D620),\"x\",\"\")","v":"x"}]
["Caspian","Loonies","Nijmegen","2007-04-21",null,null,"Hoofdprogramma",4,2007,{"$f":"VLOOKUP(Table1[[#This Row],[Maand (getal)]],Lijst!A:B,2,FALSE)","v":"apr"},{"$f":"IFERROR(IF(ISBLANK('Zoeken in Database'!$D$3),\"x\",IF(SEARCH('Zoeken in Database'!$D$3,Concerten!A621,1),\"x\",\"\")),\"\")","v":"x"},{"$f":"IFERROR(IF(ISBLANK('Zoeken in Database'!$D$4),\"x\",IF(SEARCH('Zoeken in Database'!$D$4,Concerten!B621,1),\"x\",\"\")),\"\")","v":"x"},{"$f":"IFERROR(IF(ISBLANK('Zoeken in Database'!$D$5),\"x\",IF(SEARCH('Zoeken in Database'!$D$5,Concerten!C621,1),\"x\",\"\")),\"\")","v":"x"},{"$f":"IFERROR(IF(ISBLANK('Zoeken in Database'!$D$6),\"x\",IF(SEARCH('Zoeken in Database'!$D$6,Concerten!G621,1),\"x\",\"\")),\"\")","v":"x"},{"$f":"IF(AND(D621>='Zoeken in Database'!$A$7,'Zoeken in Database'!$A$8>=D621),\"x\",\"\")","v":"x"}]
["Seymour Bits","Heineken Music Hall","Amsterdam","2007-04-22",null,null,"Voorprogramma",4,2007,{"$f":"VLOOKUP(Table1[[#This Row],[Maand (getal)]],Lijst!A:B,2,FALSE)","v":"apr"},{"$f":"IFERROR(IF(ISBLANK('Zoeken in Database'!$D$3),\"x\",IF(SEARCH('Zoeken in Database'!$D$3,Concerten!A622,1),\"x\",\"\")),\"\")","v":"x"},{"$f":"IFERROR(IF(ISBLANK('Zoeken in Database'!$D$4),\"x\",IF(SEARCH('Zoeken in Database'!$D$4,Concerten!B622,1),\"x\",\"\")),\"\")","v":"x"},{"$f":"IFERROR(IF(ISBLANK('Zoeken in Database'!$D$5),\"x\",IF(SEARCH('Zoeken in Database'!$D$5,Concerten!C622,1),\"x\",\"\")),\"\")","v":"x"},{"$f":"IFERROR(IF(ISBLANK('Zoeken in Database'!$D$6),\"x\",IF(SEARCH('Zoeken in Database'!$D$6,Concerten!G622,1),\"x\",\"\")),\"\")","v":"x"},{"$f":"IF(AND(D622>='Zoeken in Database'!$A$7,'Zoeken in Database'!$A$8>=D622),\"x\",\"\")","v":"x"}]
["Scissor Sisters","Heineken Music Hall","Amsterdam","2007-04-22","She's My Man\nLaura\nI Can't Decide\nTits On The Radio\nSkins\nLights\nPaul Mccartney\nKiss You Off\nFilthy Gorgeous\nEverybodys Wants The Same Thing\nLand Of A Thousand Words\nTransistor\nComfortably Numb\n---------------\nTake Your Mama\nI Don't Feel Like Dancing\nMusic Is The Victim\n\n",null,"Hoofdprogramma",4,2007,{"$f":"VLOOKUP(Table1[[#This Row],[Maand (getal)]],Lijst!A:B,2,FALSE)","v":"apr"},{"$f":"IFERROR(IF(ISBLANK('Zoeken in Database'!$D$3),\"x\",IF(SEARCH('Zoeken in Database'!$D$3,Concerten!A623,1),\"x\",\"\")),\"\")","v":"x"},{"$f":"IFERROR(IF(ISBLANK('Zoeken in Database'!$D$4),\"x\",IF(SEARCH('Zoeken in Database'!$D$4,Concerten!B623,1),\"x\",\"\")),\"\")","v":"x"},{"$f":"IFERROR(IF(ISBLANK('Zoeken in Database'!$D$5),\"x\",IF(SEARCH('Zoeken in Database'!$D$5,Concerten!C623,1),\"x\",\"\")),\"\")","v":"x"},{"$f":"IFERROR(IF(ISBLANK('Zoeken in Database'!$D$6),\"x\",IF(SEARCH('Zoeken in Database'!$D$6,Concerten!G623,1),\"x\",\"\")),\"\")","v":"x"},{"$f":"IF(AND(D623>='Zoeken in Database'!$A$7,'Zoeken in Database'!$A$8>=D623),\"x\",\"\")","v":"x"}]
["Lebbis","Schouwburg Cuijk","Cuijk","2007-05-02",null,"Het Kwaad","Theater",5,2007,{"$f":"VLOOKUP(Table1[[#This Row],[Maand (getal)]],Lijst!A:B,2,FALSE)","v":"mei"},{"$f":"IFERROR(IF(ISBLANK('Zoeken in Database'!$D$3),\"x\",IF(SEARCH('Zoeken in Database'!$D$3,Concerten!A624,1),\"x\",\"\")),\"\")","v":"x"},{"$f":"IFERROR(IF(ISBLANK('Zoeken in Database'!$D$4),\"x\",IF(SEARCH('Zoeken in Database'!$D$4,Concerten!B624,1),\"x\",\"\")),\"\")","v":"x"},{"$f":"IFERROR(IF(ISBLANK('Zoeken in Database'!$D$5),\"x\",IF(SEARCH('Zoeken in Database'!$D$5,Concerten!C624,1),\"x\",\"\")),\"\")","v":"x"},{"$f":"IFERROR(IF(ISBLANK('Zoeken in Database'!$D$6),\"x\",IF(SEARCH('Zoeken in Database'!$D$6,Concerten!G624,1),\"x\",\"\")),\"\")","v":"x"},{"$f":"IF(AND(D624>='Zoeken in Database'!$A$7,'Zoeken in Database'!$A$8>=D624),\"x\",\"\")","v":"x"}]
["Cold War Kids","Melkweg","Amsterdam","2007-05-05","Rubidoux\nPassing The Hat\nWe Used To Vacation\nSt. John\nThe Ground\nHospital Bed\nGod, Make Up Your Mind\nRed Wine, Success\nRobbers\nEvery Valley Is Not A Lake\nGolden Gate Jumpers\nHang Me Up To Dry\nExpensive Tastes\n-------------------\nLetra De Pregnant\nWell Well Well (John Lennon)\n\n","Old Hall","Hoofdprogramma",5,2007,{"$f":"VLOOKUP(Table1[[#This Row],[Maand (getal)]],Lijst!A:B,2,FALSE)","v":"mei"},{"$f":"IFERROR(IF(ISBLANK('Zoeken in Database'!$D$3),\"x\",IF(SEARCH('Zoeken in Database'!$D$3,Concerten!A625,1),\"x\",\"\")),\"\")","v":"x"},{"$f":"IFERROR(IF(ISBLANK('Zoeken in Database'!$D$4),\"x\",IF(SEARCH('Zoeken in Database'!$D$4,Concerten!B625,1),\"x\",\"\")),\"\")","v":"x"},{"$f":"IFERROR(IF(ISBLANK('Zoeken in Database'!$D$5),\"x\",IF(SEARCH('Zoeken in Database'!$D$5,Concerten!C625,1),\"x\",\"\")),\"\")","v":"x"},{"$f":"IFERROR(IF(ISBLANK('Zoeken in Database'!$D$6),\"x\",IF(SEARCH('Zoeken in Database'!$D$6,Concerten!G625,1),\"x\",\"\")),\"\")","v":"x"},{"$f":"IF(AND(D625>='Zoeken in Database'!$A$7,'Zoeken in Database'!$A$8>=D625),\"x\",\"\")","v":"x"}]
["Pink Mountaintops","Melkweg","Amsterdam","2007-05-05",null,"Old Hall","Voorprogramma",5,2007,{"$f":"VLOOKUP(Table1[[#This Row],[Maand (getal)]],Lijst!A:B,2,FALSE)","v":"mei"},{"$f":"IFERROR(IF(ISBLANK('Zoeken in Database'!$D$3),\"x\",IF(SEARCH('Zoeken in Database'!$D$3,Concerten!A626,1),\"x\",\"\")),\"\")","v":"x"},{"$f":"IFERROR(IF(ISBLANK('Zoeken in Database'!$D$4),\"x\",IF(SEARCH('Zoeken in Database'!$D$4,Concerten!B626,1),\"x\",\"\")),\"\")","v":"x"},{"$f":"IFERROR(IF(ISBLANK('Zoeken in Database'!$D$5),\"x\",IF(SEARCH('Zoeken in Database'!$D$5,Concerten!C626,1),\"x\",\"\")),\"\")","v":"x"},{"$f":"IFERROR(IF(ISBLANK('Zoeken in Database'!$D$6),\"x\",IF(SEARCH('Zoeken in Database'!$D$6,Concerten!G626,1),\"x\",\"\")),\"\")","v":"x"},{"$f":"IF(AND(D626>='Zoeken in Database'!$A$7,'Zoeken in Database'!$A$8>=D626),\"x\",\"\")","v":"x"}]
["Brown, Derrick C.","Melkweg","Amsterdam","2007-05-05",null,"Old Hall","Voorprogramma",5,2007,{"$f":"VLOOKUP(Table1[[#This Row],[Maand (getal)]],Lijst!A:B,2,FALSE)","v":"mei"},{"$f":"IFERROR(IF(ISBLANK('Zoeken in Database'!$D$3),\"x\",IF(SEARCH('Zoeken in Database'!$D$3,Concerten!A627,1),\"x\",\"\")),\"\")","v":"x"},{"$f":"IFERROR(IF(ISBLANK('Zoeken in Database'!$D$4),\"x\",IF(SEARCH('Zoeken in Database'!$D$4,Concerten!B627,1),\"x\",\"\")),\"\")","v":"x"},{"$f":"IFERROR(IF(ISBLANK('Zoeken in Database'!$D$5),\"x\",IF(SEARCH('Zoeken in Database'!$D$5,Concerten!C627,1),\"x\",\"\")),\"\")","v":"x"},{"$f":"IFERROR(IF(ISBLANK('Zoeken in Database'!$D$6),\"x\",IF(SEARCH('Zoeken in Database'!$D$6,Concerten!G627,1),\"x\",\"\")),\"\")","v":"x"},{"$f":"IF(AND(D627>='Zoeken in Database'!$A$7,'Zoeken in Database'!$A$8>=D627),\"x\",\"\")","v":"x"}]
["Susanna And The Magical Orchestra","Paradiso","Amsterdam","2007-05-06",null,null,"Hoofdprogramma",5,2007,{"$f":"VLOOKUP(Table1[[#This Row],[Maand (getal)]],Lijst!A:B,2,FALSE)","v":"mei"},{"$f":"IFERROR(IF(ISBLANK('Zoeken in Database'!$D$3),\"x\",IF(SEARCH('Zoeken in Database'!$D$3,Concerten!A628,1),\"x\",\"\")),\"\")","v":"x"},{"$f":"IFERROR(IF(ISBLANK('Zoeken in Database'!$D$4),\"x\",IF(SEARCH('Zoeken in Database'!$D$4,Concerten!B628,1),\"x\",\"\")),\"\")","v":"x"},{"$f":"IFERROR(IF(ISBLANK('Zoeken in Database'!$D$5),\"x\",IF(SEARCH('Zoeken in Database'!$D$5,Concerten!C628,1),\"x\",\"\")),\"\")","v":"x"},{"$f":"IFERROR(IF(ISBLANK('Zoeken in Database'!$D$6),\"x\",IF(SEARCH('Zoeken in Database'!$D$6,Concerten!G628,1),\"x\",\"\")),\"\")","v":"x"},{"$f":"IF(AND(D628>='Zoeken in Database'!$A$7,'Zoeken in Database'!$A$8>=D628),\"x\",\"\")","v":"x"}]
["Hell Is For Heroes","W2","Den Bosch","2007-05-10",null,null,"Hoofdprogramma",5,2007,{"$f":"VLOOKUP(Table1[[#This Row],[Maand (getal)]],Lijst!A:B,2,FALSE)","v":"mei"},{"$f":"IFERROR(IF(ISBLANK('Zoeken in Database'!$D$3),\"x\",IF(SEARCH('Zoeken in Database'!$D$3,Concerten!A629,1),\"x\",\"\")),\"\")","v":"x"},{"$f":"IFERROR(IF(ISBLANK('Zoeken in Database'!$D$4),\"x\",IF(SEARCH('Zoeken in Database'!$D$4,Concerten!B629,1),\"x\",\"\")),\"\")","v":"x"},{"$f":"IFERROR(IF(ISBLANK('Zoeken in Database'!$D$5),\"x\",IF(SEARCH('Zoeken in Database'!$D$5,Concerten!C629,1),\"x\",\"\")),\"\")","v":"x"},{"$f":"IFERROR(IF(ISBLANK('Zoeken in Database'!$D$6),\"x\",IF(SEARCH('Zoeken in Database'!$D$6,Concerten!G629,1),\"x\",\"\")),\"\")","v":"x"},{"$f":"IF(AND(D629>='Zoeken in Database'!$A$7,'Zoeken in Database'!$A$8>=D629),\"x\",\"\")","v":"x"}]
["Soon","W2","Den Bosch","2007-05-10",null,null,"Voorprogramma",5,2007,{"$f":"VLOOKUP(Table1[[#This Row],[Maand (getal)]],Lijst!A:B,2,FALSE)","v":"mei"},{"$f":"IFERROR(IF(ISBLANK('Zoeken in Database'!$D$3),\"x\",IF(SEARCH('Zoeken in Database'!$D$3,Concerten!A630,1),\"x\",\"\")),\"\")","v":"x"},{"$f":"IFERROR(IF(ISBLANK('Zoeken in Database'!$D$4),\"x\",IF(SEARCH('Zoeken in Database'!$D$4,Concerten!B630,1),\"x\",\"\")),\"\")","v":"x"},{"$f":"IFERROR(IF(ISBLANK('Zoeken in Database'!$D$5),\"x\",IF(SEARCH('Zoeken in Database'!$D$5,Concerten!C630,1),\"x\",\"\")),\"\")","v":"x"},{"$f":"IFERROR(IF(ISBLANK('Zoeken in Database'!$D$6),\"x\",IF(SEARCH('Zoeken in Database'!$D$6,Concerten!G630,1),\"x\",\"\")),\"\")","v":"x"},{"$f":"IF(AND(D630>='Zoeken in Database'!$A$7,'Zoeken in Database'!$A$8>=D630),\"x\",\"\")","v":"x"}]
["Rise A Thousand","W2","Den Bosch","2007-05-10",null,null,"Voorprogramma",5,2007,{"$f":"VLOOKUP(Table1[[#This Row],[Maand (getal)]],Lijst!A:B,2,FALSE)","v":"mei"},{"$f":"IFERROR(IF(ISBLANK('Zoeken in Database'!$D$3),\"x\",IF(SEARCH('Zoeken in Database'!$D$3,Concerten!A631,1),\"x\",\"\")),\"\")","v":"x"},{"$f":"IFERROR(IF(ISBLANK('Zoeken in Database'!$D$4),\"x\",IF(SEARCH('Zoeken in Database'!$D$4,Concerten!B631,1),\"x\",\"\")),\"\")","v":"x"},{"$f":"IFERROR(IF(ISBLANK('Zoeken in Database'!$D$5),\"x\",IF(SEARCH('Zoeken in Database'!$D$5,Concerten!C631,1),\"x\",\"\")),\"\")","v":"x"},{"$f":"IFERROR(IF(ISBLANK('Zoeken in Database'!$D$6),\"x\",IF(SEARCH('Zoeken in Database'!$D$6,Concerten!G631,1),\"x\",\"\")),\"\")","v":"x"},{"$f":"IF(AND(D631>='Zoeken in Database'!$A$7,'Zoeken in Database'!$A$8>=D631),\"x\",\"\")","v":"x"}]
["Thomas, Rosie","Roepaen","Ottersum","2007-05-13",null,"Theaterkeuken","Hoofdprogramma",5,2007,{"$f":"VLOOKUP(Table1[[#This Row],[Maand (getal)]],Lijst!A:B,2,FALSE)","v":"mei"},{"$f":"IFERROR(IF(ISBLANK('Zoeken in Database'!$D$3),\"x\",IF(SEARCH('Zoeken in Database'!$D$3,Concerten!A632,1),\"x\",\"\")),\"\")","v":"x"},{"$f":"IFERROR(IF(ISBLANK('Zoeken in Database'!$D$4),\"x\",IF(SEARCH('Zoeken in Database'!$D$4,Concerten!B632,1),\"x\",\"\")),\"\")","v":"x"},{"$f":"IFERROR(IF(ISBLANK('Zoeken in Database'!$D$5),\"x\",IF(SEARCH('Zoeken in Database'!$D$5,Concerten!C632,1),\"x\",\"\")),\"\")","v":"x"},{"$f":"IFERROR(IF(ISBLANK('Zoeken in Database'!$D$6),\"x\",IF(SEARCH('Zoeken in Database'!$D$6,Concerten!G632,1),\"x\",\"\")),\"\")","v":"x"},{"$f":"IF(AND(D632>='Zoeken in Database'!$A$7,'Zoeken in Database'!$A$8>=D632),\"x\",\"\")","v":"x"}]
["Middleton, Malcolm","Doornroosje","Nijmegen","2007-05-15","1. Break My Heart\n2. Devastation\n3. Monday Night Nothing\n4. Four Cigarettes\n5. Fuck It, I Love You\n6. We're All Going To Die\n7. Loneliness Shines\n8. A Brighter Beat\n9. Death Love Depression Love Death\n10. Stay Close Sit Tight\n11. Autumn\n12. The King Of Bring\n13. Superhero Songwriters\n14. No Modest Bear (solo)\n15. Devil And The Angel (solo)\n16. Cold Winter (solo)\n17. Fight Like The Night\n18. A Happy Medium\n\n",null,"Hoofdprogramma",5,2007,{"$f":"VLOOKUP(Table1[[#This Row],[Maand (getal)]],Lijst!A:B,2,FALSE)","v":"mei"},{"$f":"IFERROR(IF(ISBLANK('Zoeken in Database'!$D$3),\"x\",IF(SEARCH('Zoeken in Database'!$D$3,Concerten!A633,1),\"x\",\"\")),\"\")","v":"x"},{"$f":"IFERROR(IF(ISBLANK('Zoeken in Database'!$D$4),\"x\",IF(SEARCH('Zoeken in Database'!$D$4,Concerten!B633,1),\"x\",\"\")),\"\")","v":"x"},{"$f":"IFERROR(IF(ISBLANK('Zoeken in Database'!$D$5),\"x\",IF(SEARCH('Zoeken in Database'!$D$5,Concerten!C633,1),\"x\",\"\")),\"\")","v":"x"},{"$f":"IFERROR(IF(ISBLANK('Zoeken in Database'!$D$6),\"x\",IF(SEARCH('Zoeken in Database'!$D$6,Concerten!G633,1),\"x\",\"\")),\"\")","v":"x"},{"$f":"IF(AND(D633>='Zoeken in Database'!$A$7,'Zoeken in Database'!$A$8>=D633),\"x\",\"\")","v":"x"}]
["Strike The Colour","Doornroosje","Nijmegen","2007-05-15",null,null,"Voorprogramma",5,2007,{"$f":"VLOOKUP(Table1[[#This Row],[Maand (getal)]],Lijst!A:B,2,FALSE)","v":"mei"},{"$f":"IFERROR(IF(ISBLANK('Zoeken in Database'!$D$3),\"x\",IF(SEARCH('Zoeken in Database'!$D$3,Concerten!A634,1),\"x\",\"\")),\"\")","v":"x"},{"$f":"IFERROR(IF(ISBLANK('Zoeken in Database'!$D$4),\"x\",IF(SEARCH('Zoeken in Database'!$D$4,Concerten!B634,1),\"x\",\"\")),\"\")","v":"x"},{"$f":"IFERROR(IF(ISBLANK('Zoeken in Database'!$D$5),\"x\",IF(SEARCH('Zoeken in Database'!$D$5,Concerten!C634,1),\"x\",\"\")),\"\")","v":"x"},{"$f":"IFERROR(IF(ISBLANK('Zoeken in Database'!$D$6),\"x\",IF(SEARCH('Zoeken in Database'!$D$6,Concerten!G634,1),\"x\",\"\")),\"\")","v":"x"},{"$f":"IF(AND(D634>='Zoeken in Database'!$A$7,'Zoeken in Database'!$A$8>=D634),\"x\",\"\")","v":"x"}]
["Frank, Bob & John Murry","Roepaen","Ottersum","2007-05-18",null,"Theaterkeuken","Voorprogramma",5,2007,{"$f":"VLOOKUP(Table1[[#This Row],[Maand (getal)]],Lijst!A:B,2,FALSE)","v":"mei"},{"$f":"IFERROR(IF(ISBLANK('Zoeken in Database'!$D$3),\"x\",IF(SEARCH('Zoeken in Database'!$D$3,Concerten!A635,1),\"x\",\"\")),\"\")","v":"x"},{"$f":"IFERROR(IF(ISBLANK('Zoeken in Database'!$D$4),\"x\",IF(SEARCH('Zoeken in Database'!$D$4,Concerten!B635,1),\"x\",\"\")),\"\")","v":"x"},{"$f":"IFERROR(IF(ISBLANK('Zoeken in Database'!$D$5),\"x\",IF(SEARCH('Zoeken in Database'!$D$5,Concerten!C635,1),\"x\",\"\")),\"\")","v":"x"},{"$f":"IFERROR(IF(ISBLANK('Zoeken in Database'!$D$6),\"x\",IF(SEARCH('Zoeken in Database'!$D$6,Concerten!G635,1),\"x\",\"\")),\"\")","v":"x"},{"$f":"IF(AND(D635>='Zoeken in Database'!$A$7,'Zoeken in Database'!$A$8>=D635),\"x\",\"\")","v":"x"}]
["Richmond Fontaine","Roepaen","Ottersum","2007-05-18",null,"Theaterkeuken","Hoofdprogramma",5,2007,{"$f":"VLOOKUP(Table1[[#This Row],[Maand (getal)]],Lijst!A:B,2,FALSE)","v":"mei"},{"$f":"IFERROR(IF(ISBLANK('Zoeken in Database'!$D$3),\"x\",IF(SEARCH('Zoeken in Database'!$D$3,Concerten!A636,1),\"x\",\"\")),\"\")","v":"x"},{"$f":"IFERROR(IF(ISBLANK('Zoeken in Database'!$D$4),\"x\",IF(SEARCH('Zoeken in Database'!$D$4,Concerten!B636,1),\"x\",\"\")),\"\")","v":"x"},{"$f":"IFERROR(IF(ISBLANK('Zoeken in Database'!$D$5),\"x\",IF(SEARCH('Zoeken in Database'!$D$5,Concerten!C636,1),\"x\",\"\")),\"\")","v":"x"},{"$f":"IFERROR(IF(ISBLANK('Zoeken in Database'!$D$6),\"x\",IF(SEARCH('Zoeken in Database'!$D$6,Concerten!G636,1),\"x\",\"\")),\"\")","v":"x"},{"$f":"IF(AND(D636>='Zoeken in Database'!$A$7,'Zoeken in Database'!$A$8>=D636),\"x\",\"\")","v":"x"}]
["Malin, Jesse","Melkweg","Amsterdam","2007-05-22","01. Riding On The Subway\n02. Prisoners Of Paradise\n03. Black Haired Girl\n04. Downliner\n05. Little Star\n06. Broken Radio\n07. Don't Let Them Take You Down (Beautiful Day)\n08. Brooklyn\n09. Almost Grown\n10. Hotel Columbia\n11. Solitaire\n12. Everybody's Talking (Harry Nillson)\n13. Wendy\n---------------------\n14. You Can Make Him Like You (Hold Steady)\n15. Lucinda\n16. In The Modern World\n17. Aftermath","Old Hall (+band)","Hoofdprogramma",5,2007,{"$f":"VLOOKUP(Table1[[#This Row],[Maand (getal)]],Lijst!A:B,2,FALSE)","v":"mei"},{"$f":"IFERROR(IF(ISBLANK('Zoeken in Database'!$D$3),\"x\",IF(SEARCH('Zoeken in Database'!$D$3,Concerten!A637,1),\"x\",\"\")),\"\")","v":"x"},{"$f":"IFERROR(IF(ISBLANK('Zoeken in Database'!$D$4),\"x\",IF(SEARCH('Zoeken in Database'!$D$4,Concerten!B637,1),\"x\",\"\")),\"\")","v":"x"},{"$f":"IFERROR(IF(ISBLANK('Zoeken in Database'!$D$5),\"x\",IF(SEARCH('Zoeken in Database'!$D$5,Concerten!C637,1),\"x\",\"\")),\"\")","v":"x"},{"$f":"IFERROR(IF(ISBLANK('Zoeken in Database'!$D$6),\"x\",IF(SEARCH('Zoeken in Database'!$D$6,Concerten!G637,1),\"x\",\"\")),\"\")","v":"x"},{"$f":"IF(AND(D637>='Zoeken in Database'!$A$7,'Zoeken in Database'!$A$8>=D637),\"x\",\"\")","v":"x"}]
["Bozulich, Carla","Paradiso","Amsterdam","2007-05-31",null,null,"Voorprogramma",5,2007,{"$f":"VLOOKUP(Table1[[#This Row],[Maand (getal)]],Lijst!A:B,2,FALSE)","v":"mei"},{"$f":"IFERROR(IF(ISBLANK('Zoeken in Database'!$D$3),\"x\",IF(SEARCH('Zoeken in Database'!$D$3,Concerten!A638,1),\"x\",\"\")),\"\")","v":"x"},{"$f":"IFERROR(IF(ISBLANK('Zoeken in Database'!$D$4),\"x\",IF(SEARCH('Zoeken in Database'!$D$4,Concerten!B638,1),\"x\",\"\")),\"\")","v":"x"},{"$f":"IFERROR(IF(ISBLANK('Zoeken in Database'!$D$5),\"x\",IF(SEARCH('Zoeken in Database'!$D$5,Concerten!C638,1),\"x\",\"\")),\"\")","v":"x"},{"$f":"IFERROR(IF(ISBLANK('Zoeken in Database'!$D$6),\"x\",IF(SEARCH('Zoeken in Database'!$D$6,Concerten!G638,1),\"x\",\"\")),\"\")","v":"x"},{"$f":"IF(AND(D638>='Zoeken in Database'!$A$7,'Zoeken in Database'!$A$8>=D638),\"x\",\"\")","v":"x"}]
["Wilco","Paradiso","Amsterdam","2007-05-31","1. Either Way\n2. You Are My Face\n3. I Am Trying To Break Your Heart\n4. Handshake Drugs\n5. War On War\n6. Impossible Germany\n7. Sky Blue Sky\n8. At Least That's What You Said\n9. A Shot In The Arm\n10. Side With The Seeds\n11. Via Chicago\n12. Shake It Off\n13. Jesus, Etc.\n14. Walken\n15. I'm The Man Who Loves You\n16. Hummingbird\n---------------------\n17. On And On And On\n18. Pot Kettle Black\n19. Poor Places\n20. Spiders (Kidsmoke)\n---------------------\n21. Misunderstood\n22. The Late Greats\n23. I'm A Wheel",null,"Hoofdprogramma",5,2007,{"$f":"VLOOKUP(Table1[[#This Row],[Maand (getal)]],Lijst!A:B,2,FALSE)","v":"mei"},{"$f":"IFERROR(IF(ISBLANK('Zoeken in Database'!$D$3),\"x\",IF(SEARCH('Zoeken in Database'!$D$3,Concerten!A639,1),\"x\",\"\")),\"\")","v":"x"},{"$f":"IFERROR(IF(ISBLANK('Zoeken in Database'!$D$4),\"x\",IF(SEARCH('Zoeken in Database'!$D$4,Concerten!B639,1),\"x\",\"\")),\"\")","v":"x"},{"$f":"IFERROR(IF(ISBLANK('Zoeken in Database'!$D$5),\"x\",IF(SEARCH('Zoeken in Database'!$D$5,Concerten!C639,1),\"x\",\"\")),\"\")","v":"x"},{"$f":"IFERROR(IF(ISBLANK('Zoeken in Database'!$D$6),\"x\",IF(SEARCH('Zoeken in Database'!$D$6,Concerten!G639,1),\"x\",\"\")),\"\")","v":"x"},{"$f":"IF(AND(D639>='Zoeken in Database'!$A$7,'Zoeken in Database'!$A$8>=D639),\"x\",\"\")","v":"x"}]
["Mason, Willy","Paradiso","Amsterdam","2007-06-03",null,"& Band; Bovenzaal","Hoofdprogramma",6,2007,{"$f":"VLOOKUP(Table1[[#This Row],[Maand (getal)]],Lijst!A:B,2,FALSE)","v":"jun"},{"$f":"IFERROR(IF(ISBLANK('Zoeken in Database'!$D$3),\"x\",IF(SEARCH('Zoeken in Database'!$D$3,Concerten!A640,1),\"x\",\"\")),\"\")","v":"x"},{"$f":"IFERROR(IF(ISBLANK('Zoeken in Database'!$D$4),\"x\",IF(SEARCH('Zoeken in Database'!$D$4,Concerten!B640,1),\"x\",\"\")),\"\")","v":"x"},{"$f":"IFERROR(IF(ISBLANK('Zoeken in Database'!$D$5),\"x\",IF(SEARCH('Zoeken in Database'!$D$5,Concerten!C640,1),\"x\",\"\")),\"\")","v":"x"},{"$f":"IFERROR(IF(ISBLANK('Zoeken in Database'!$D$6),\"x\",IF(SEARCH('Zoeken in Database'!$D$6,Concerten!G640,1),\"x\",\"\")),\"\")","v":"x"},{"$f":"IF(AND(D640>='Zoeken in Database'!$A$7,'Zoeken in Database'!$A$8>=D640),\"x\",\"\")","v":"x"}]
["Perkins, Elvis","Paradiso","Amsterdam","2007-06-03",null,"Bovenzaal","Voorprogramma",6,2007,{"$f":"VLOOKUP(Table1[[#This Row],[Maand (getal)]],Lijst!A:B,2,FALSE)","v":"jun"},{"$f":"IFERROR(IF(ISBLANK('Zoeken in Database'!$D$3),\"x\",IF(SEARCH('Zoeken in Database'!$D$3,Concerten!A641,1),\"x\",\"\")),\"\")","v":"x"},{"$f":"IFERROR(IF(ISBLANK('Zoeken in Database'!$D$4),\"x\",IF(SEARCH('Zoeken in Database'!$D$4,Concerten!B641,1),\"x\",\"\")),\"\")","v":"x"},{"$f":"IFERROR(IF(ISBLANK('Zoeken in Database'!$D$5),\"x\",IF(SEARCH('Zoeken in Database'!$D$5,Concerten!C641,1),\"x\",\"\")),\"\")","v":"x"},{"$f":"IFERROR(IF(ISBLANK('Zoeken in Database'!$D$6),\"x\",IF(SEARCH('Zoeken in Database'!$D$6,Concerten!G641,1),\"x\",\"\")),\"\")","v":"x"},{"$f":"IF(AND(D641>='Zoeken in Database'!$A$7,'Zoeken in Database'!$A$8>=D641),\"x\",\"\")","v":"x"}]
["Do The Undo","Op De Toffel 2007","Vierlingsbeek","2007-06-17",null,null,"Festivaloptreden",6,2007,{"$f":"VLOOKUP(Table1[[#This Row],[Maand (getal)]],Lijst!A:B,2,FALSE)","v":"jun"},{"$f":"IFERROR(IF(ISBLANK('Zoeken in Database'!$D$3),\"x\",IF(SEARCH('Zoeken in Database'!$D$3,Concerten!A642,1),\"x\",\"\")),\"\")","v":"x"},{"$f":"IFERROR(IF(ISBLANK('Zoeken in Database'!$D$4),\"x\",IF(SEARCH('Zoeken in Database'!$D$4,Concerten!B642,1),\"x\",\"\")),\"\")","v":"x"},{"$f":"IFERROR(IF(ISBLANK('Zoeken in Database'!$D$5),\"x\",IF(SEARCH('Zoeken in Database'!$D$5,Concerten!C642,1),\"x\",\"\")),\"\")","v":"x"},{"$f":"IFERROR(IF(ISBLANK('Zoeken in Database'!$D$6),\"x\",IF(SEARCH('Zoeken in Database'!$D$6,Concerten!G642,1),\"x\",\"\")),\"\")","v":"x"},{"$f":"IF(AND(D642>='Zoeken in Database'!$A$7,'Zoeken in Database'!$A$8>=D642),\"x\",\"\")","v":"x"}]
["Malle Pietje en de Bimbos","Op De Toffel 2007","Vierlingsbeek","2007-06-17",null,null,"Festivaloptreden",{"$f":"IF(ISBLANK(D643),\"\",MONTH(D643))","v":6},{"$f":"IF(ISBLANK(D643),\"\",YEAR(D643))","v":2007},{"$f":"VLOOKUP(Table1[[#This Row],[Maand (getal)]],Lijst!A:B,2,FALSE)","v":"jun"},{"$f":"IFERROR(IF(ISBLANK('Zoeken in Database'!$D$3),\"x\",IF(SEARCH('Zoeken in Database'!$D$3,Concerten!A643,1),\"x\",\"\")),\"\")","v":"x"},{"$f":"IFERROR(IF(ISBLANK('Zoeken in Database'!$D$4),\"x\",IF(SEARCH('Zoeken in Database'!$D$4,Concerten!B643,1),\"x\",\"\")),\"\")","v":"x"},{"$f":"IFERROR(IF(ISBLANK('Zoeken in Database'!$D$5),\"x\",IF(SEARCH('Zoeken in Database'!$D$5,Concerten!C643,1),\"x\",\"\")),\"\")","v":"x"},{"$f":"IFERROR(IF(ISBLANK('Zoeken in Database'!$D$6),\"x\",IF(SEARCH('Zoeken in Database'!$D$6,Concerten!G643,1),\"x\",\"\")),\"\")","v":"x"},{"$f":"IF(AND(D643>='Zoeken in Database'!$A$7,'Zoeken in Database'!$A$8>=D643),\"x\",\"\")","v":"x"}]
["Roosbeef","Op De Toffel 2007","Vierlingsbeek","2007-06-17",null,null,"Festivaloptreden",6,2007,{"$f":"VLOOKUP(Table1[[#This Row],[Maand (getal)]],Lijst!A:B,2,FALSE)","v":"jun"},{"$f":"IFERROR(IF(ISBLANK('Zoeken in Database'!$D$3),\"x\",IF(SEARCH('Zoeken in Database'!$D$3,Concerten!A644,1),\"x\",\"\")),\"\")","v":"x"},{"$f":"IFERROR(IF(ISBLANK('Zoeken in Database'!$D$4),\"x\",IF(SEARCH('Zoeken in Database'!$D$4,Concerten!B644,1),\"x\",\"\")),\"\")","v":"x"},{"$f":"IFERROR(IF(ISBLANK('Zoeken in Database'!$D$5),\"x\",IF(SEARCH('Zoeken in Database'!$D$5,Concerten!C644,1),\"x\",\"\")),\"\")","v":"x"},{"$f":"IFERROR(IF(ISBLANK('Zoeken in Database'!$D$6),\"x\",IF(SEARCH('Zoeken in Database'!$D$6,Concerten!G644,1),\"x\",\"\")),\"\")","v":"x"},{"$f":"IF(AND(D644>='Zoeken in Database'!$A$7,'Zoeken in Database'!$A$8>=D644),\"x\",\"\")","v":"x"}]
["Heideroosjes","Op De Toffel 2007","Vierlingsbeek","2007-06-17",null,null,"Festivaloptreden",6,2007,{"$f":"VLOOKUP(Table1[[#This Row],[Maand (getal)]],Lijst!A:B,2,FALSE)","v":"jun"},{"$f":"IFERROR(IF(ISBLANK('Zoeken in Database'!$D$3),\"x\",IF(SEARCH('Zoeken in Database'!$D$3,Concerten!A645,1),\"x\",\"\")),\"\")","v":"x"},{"$f":"IFERROR(IF(ISBLANK('Zoeken in Database'!$D$4),\"x\",IF(SEARCH('Zoeken in Database'!$D$4,Concerten!B645,1),\"x\",\"\")),\"\")","v":"x"},{"$f":"IFERROR(IF(ISBLANK('Zoeken in Database'!$D$5),\"x\",IF(SEARCH('Zoeken in Database'!$D$5,Concerten!C645,1),\"x\",\"\")),\"\")","v":"x"},{"$f":"IFERROR(IF(ISBLANK('Zoeken in Database'!$D$6),\"x\",IF(SEARCH('Zoeken in Database'!$D$6,Concerten!G645,1),\"x\",\"\")),\"\")","v":"x"},{"$f":"IF(AND(D645>='Zoeken in Database'!$A$7,'Zoeken in Database'!$A$8>=D645),\"x\",\"\")","v":"x"}]
["Beastie Boys","E-werk","Köln","2007-06-23","Sabrosa\nB for My Name\nLive at PJ's\nDo It\nFutterman's Rule\nTime for Livin'\nRoot Down and Get It\nSuco de Tangerino\nSong for the Man\nOff the Grid\nEgg Raid on Mojo\nRemote Control\nGratitude\nTransitions\nSon of Neckbone\nThe Gala Event\nJimmy James\nRicky's Theme\nElectric Worm\nPow\nMark on the Bus\nTough Guy\nThe Maestro\nSo What'cha Want\n-----------------\n3 MCs and 1 DJ\nSure Shot\nHeart Attack Man\nHonky Rink\nSabotage","An Exclusive Instrumental Show","Hoofdprogramma",6,2007,{"$f":"VLOOKUP(Table1[[#This Row],[Maand (getal)]],Lijst!A:B,2,FALSE)","v":"jun"},{"$f":"IFERROR(IF(ISBLANK('Zoeken in Database'!$D$3),\"x\",IF(SEARCH('Zoeken in Database'!$D$3,Concerten!A646,1),\"x\",\"\")),\"\")","v":"x"},{"$f":"IFERROR(IF(ISBLANK('Zoeken in Database'!$D$4),\"x\",IF(SEARCH('Zoeken in Database'!$D$4,Concerten!B646,1),\"x\",\"\")),\"\")","v":"x"},{"$f":"IFERROR(IF(ISBLANK('Zoeken in Database'!$D$5),\"x\",IF(SEARCH('Zoeken in Database'!$D$5,Concerten!C646,1),\"x\",\"\")),\"\")","v":"x"},{"$f":"IFERROR(IF(ISBLANK('Zoeken in Database'!$D$6),\"x\",IF(SEARCH('Zoeken in Database'!$D$6,Concerten!G646,1),\"x\",\"\")),\"\")","v":"x"},{"$f":"IF(AND(D646>='Zoeken in Database'!$A$7,'Zoeken in Database'!$A$8>=D646),\"x\",\"\")","v":"x"}]
["Billy Talent","Rock Werchter 2007","Werchter","2007-06-28","How it goes \nDevil \nThis suffering \nLine & sinker \nPerfect world \nSurrender \nTry honesty \nFallen leaves \nRed flag ","Main Stage","Festivaloptreden",6,2007,{"$f":"VLOOKUP(Table1[[#This Row],[Maand (getal)]],Lijst!A:B,2,FALSE)","v":"jun"},{"$f":"IFERROR(IF(ISBLANK('Zoeken in Database'!$D$3),\"x\",IF(SEARCH('Zoeken in Database'!$D$3,Concerten!A647,1),\"x\",\"\")),\"\")","v":"x"},{"$f":"IFERROR(IF(ISBLANK('Zoeken in Database'!$D$4),\"x\",IF(SEARCH('Zoeken in Database'!$D$4,Concerten!B647,1),\"x\",\"\")),\"\")","v":"x"},{"$f":"IFERROR(IF(ISBLANK('Zoeken in Database'!$D$5),\"x\",IF(SEARCH('Zoeken in Database'!$D$5,Concerten!C647,1),\"x\",\"\")),\"\")","v":"x"},{"$f":"IFERROR(IF(ISBLANK('Zoeken in Database'!$D$6),\"x\",IF(SEARCH('Zoeken in Database'!$D$6,Concerten!G647,1),\"x\",\"\")),\"\")","v":"x"},{"$f":"IF(AND(D647>='Zoeken in Database'!$A$7,'Zoeken in Database'!$A$8>=D647),\"x\",\"\")","v":"x"}]
["Air Traffic","Rock Werchter 2007","Werchter","2007-06-28",null,"Pyramid Marquee","Festivaloptreden",6,2007,{"$f":"VLOOKUP(Table1[[#This Row],[Maand (getal)]],Lijst!A:B,2,FALSE)","v":"jun"},{"$f":"IFERROR(IF(ISBLANK('Zoeken in Database'!$D$3),\"x\",IF(SEARCH('Zoeken in Database'!$D$3,Concerten!A648,1),\"x\",\"\")),\"\")","v":"x"},{"$f":"IFERROR(IF(ISBLANK('Zoeken in Database'!$D$4),\"x\",IF(SEARCH('Zoeken in Database'!$D$4,Concerten!B648,1),\"x\",\"\")),\"\")","v":"x"},{"$f":"IFERROR(IF(ISBLANK('Zoeken in Database'!$D$5),\"x\",IF(SEARCH('Zoeken in Database'!$D$5,Concerten!C648,1),\"x\",\"\")),\"\")","v":"x"},{"$f":"IFERROR(IF(ISBLANK('Zoeken in Database'!$D$6),\"x\",IF(SEARCH('Zoeken in Database'!$D$6,Concerten!G648,1),\"x\",\"\")),\"\")","v":"x"},{"$f":"IF(AND(D648>='Zoeken in Database'!$A$7,'Zoeken in Database'!$A$8>=D648),\"x\",\"\")","v":"x"}]
["Air","Rock Werchter 2007","Werchter","2007-06-28","Radian \nVenus \nNapalm Love \nCherry Blossom Love \nRun \nRemember \nPeople In The City \nMer Du Japon \nTalisman \nDon't Be Light \nKelly Watch The Stars \nSexy Boy \nLa Femme d'Argent ","Pyramid Marquee","Festivaloptreden",6,2007,{"$f":"VLOOKUP(Table1[[#This Row],[Maand (getal)]],Lijst!A:B,2,FALSE)","v":"jun"},{"$f":"IFERROR(IF(ISBLANK('Zoeken in Database'!$D$3),\"x\",IF(SEARCH('Zoeken in Database'!$D$3,Concerten!A649,1),\"x\",\"\")),\"\")","v":"x"},{"$f":"IFERROR(IF(ISBLANK('Zoeken in Database'!$D$4),\"x\",IF(SEARCH('Zoeken in Database'!$D$4,Concerten!B649,1),\"x\",\"\")),\"\")","v":"x"},{"$f":"IFERROR(IF(ISBLANK('Zoeken in Database'!$D$5),\"x\",IF(SEARCH('Zoeken in Database'!$D$5,Concerten!C649,1),\"x\",\"\")),\"\")","v":"x"},{"$f":"IFERROR(IF(ISBLANK('Zoeken in Database'!$D$6),\"x\",IF(SEARCH('Zoeken in Database'!$D$6,Concerten!G649,1),\"x\",\"\")),\"\")","v":"x"},{"$f":"IF(AND(D649>='Zoeken in Database'!$A$7,'Zoeken in Database'!$A$8>=D649),\"x\",\"\")","v":"x"}]
["Wainwright, Rufus","Rock Werchter 2007","Werchter","2007-06-28","Release the stars \nSans souci \nRules & regs \nArt teacher \nBetween my legs \nGoing to a town \nDo I disappoint you \n14th street \nComplainte de la butte (solo) \nGet happy (playback) \nGay Messiah ","Pyramid Marquee","Festivaloptreden",6,2007,{"$f":"VLOOKUP(Table1[[#This Row],[Maand (getal)]],Lijst!A:B,2,FALSE)","v":"jun"},{"$f":"IFERROR(IF(ISBLANK('Zoeken in Database'!$D$3),\"x\",IF(SEARCH('Zoeken in Database'!$D$3,Concerten!A650,1),\"x\",\"\")),\"\")","v":"x"},{"$f":"IFERROR(IF(ISBLANK('Zoeken in Database'!$D$4),\"x\",IF(SEARCH('Zoeken in Database'!$D$4,Concerten!B650,1),\"x\",\"\")),\"\")","v":"x"},{"$f":"IFERROR(IF(ISBLANK('Zoeken in Database'!$D$5),\"x\",IF(SEARCH('Zoeken in Database'!$D$5,Concerten!C650,1),\"x\",\"\")),\"\")","v":"x"},{"$f":"IFERROR(IF(ISBLANK('Zoeken in Database'!$D$6),\"x\",IF(SEARCH('Zoeken in Database'!$D$6,Concerten!G650,1),\"x\",\"\")),\"\")","v":"x"},{"$f":"IF(AND(D650>='Zoeken in Database'!$A$7,'Zoeken in Database'!$A$8>=D650),\"x\",\"\")","v":"x"}]
["Beastie Boys","Rock Werchter 2007","Werchter","2007-06-28","\nGratitude \nTime For Living \nEgg Grid \nRoot Down \nTriple Trouble \nSure Shot \nShake Your Rump \nLive At PJ's \nTough Guy \nSabrosa \nElectric Worm \nPass The Mic \nBody Movin' \nSuper Disco Breakin' \nBrass Monkey \nOff The Grid \nShambala \nThe Maestro \nRemote Control \n3 MC's \nNo Sleep 'Til Brooklyn \nCheck It Out \nSo What 'cha Want \nIntergalactic \nHeart Attack \nSabotage","Pyramid Marquee","Festivaloptreden",6,2007,{"$f":"VLOOKUP(Table1[[#This Row],[Maand (getal)]],Lijst!A:B,2,FALSE)","v":"jun"},{"$f":"IFERROR(IF(ISBLANK('Zoeken in Database'!$D$3),\"x\",IF(SEARCH('Zoeken in Database'!$D$3,Concerten!A651,1),\"x\",\"\")),\"\")","v":"x"},{"$f":"IFERROR(IF(ISBLANK('Zoeken in Database'!$D$4),\"x\",IF(SEARCH('Zoeken in Database'!$D$4,Concerten!B651,1),\"x\",\"\")),\"\")","v":"x"},{"$f":"IFERROR(IF(ISBLANK('Zoeken in Database'!$D$5),\"x\",IF(SEARCH('Zoeken in Database'!$D$5,Concerten!C651,1),\"x\",\"\")),\"\")","v":"x"},{"$f":"IFERROR(IF(ISBLANK('Zoeken in Database'!$D$6),\"x\",IF(SEARCH('Zoeken in Database'!$D$6,Concerten!G651,1),\"x\",\"\")),\"\")","v":"x"},{"$f":"IF(AND(D651>='Zoeken in Database'!$A$7,'Zoeken in Database'!$A$8>=D651),\"x\",\"\")","v":"x"}]
["Mraz, Jason","Rock Werchter 2007","Werchter","2007-06-29",null,"Pyramid Marquee","Festivaloptreden",6,2007,{"$f":"VLOOKUP(Table1[[#This Row],[Maand (getal)]],Lijst!A:B,2,FALSE)","v":"jun"},{"$f":"IFERROR(IF(ISBLANK('Zoeken in Database'!$D$3),\"x\",IF(SEARCH('Zoeken in Database'!$D$3,Concerten!A652,1),\"x\",\"\")),\"\")","v":"x"},{"$f":"IFERROR(IF(ISBLANK('Zoeken in Database'!$D$4),\"x\",IF(SEARCH('Zoeken in Database'!$D$4,Concerten!B652,1),\"x\",\"\")),\"\")","v":"x"},{"$f":"IFERROR(IF(ISBLANK('Zoeken in Database'!$D$5),\"x\",IF(SEARCH('Zoeken in Database'!$D$5,Concerten!C652,1),\"x\",\"\")),\"\")","v":"x"},{"$f":"IFERROR(IF(ISBLANK('Zoeken in Database'!$D$6),\"x\",IF(SEARCH('Zoeken in Database'!$D$6,Concerten!G652,1),\"x\",\"\")),\"\")","v":"x"},{"$f":"IF(AND(D652>='Zoeken in Database'!$A$7,'Zoeken in Database'!$A$8>=D652),\"x\",\"\")","v":"x"}]
["Kings Of Leon","Rock Werchter 2007","Werchter","2007-06-29","Black Thumbnail \nTaper Jean Girl \nKing of the Rodeo \nMy Party \nSoft \nMolly’s Chambers \nThe Bucket \nArizona \nFour Kicks \nOn Call \nCalifornia Waiting \nSpiral Staircase \nMcFearless \nCharmer \nSlow Night, So Long \nTrani ","Main Stage","Festivaloptreden",6,2007,{"$f":"VLOOKUP(Table1[[#This Row],[Maand (getal)]],Lijst!A:B,2,FALSE)","v":"jun"},{"$f":"IFERROR(IF(ISBLANK('Zoeken in Database'!$D$3),\"x\",IF(SEARCH('Zoeken in Database'!$D$3,Concerten!A653,1),\"x\",\"\")),\"\")","v":"x"},{"$f":"IFERROR(IF(ISBLANK('Zoeken in Database'!$D$4),\"x\",IF(SEARCH('Zoeken in Database'!$D$4,Concerten!B653,1),\"x\",\"\")),\"\")","v":"x"},{"$f":"IFERROR(IF(ISBLANK('Zoeken in Database'!$D$5),\"x\",IF(SEARCH('Zoeken in Database'!$D$5,Concerten!C653,1),\"x\",\"\")),\"\")","v":"x"},{"$f":"IFERROR(IF(ISBLANK('Zoeken in Database'!$D$6),\"x\",IF(SEARCH('Zoeken in Database'!$D$6,Concerten!G653,1),\"x\",\"\")),\"\")","v":"x"},{"$f":"IF(AND(D653>='Zoeken in Database'!$A$7,'Zoeken in Database'!$A$8>=D653),\"x\",\"\")","v":"x"}]
["Joan As Police Woman","Rock Werchter 2007","Werchter","2007-06-29",null,"Pyramid Marquee","Festivaloptreden",6,2007,{"$f":"VLOOKUP(Table1[[#This Row],[Maand (getal)]],Lijst!A:B,2,FALSE)","v":"jun"},{"$f":"IFERROR(IF(ISBLANK('Zoeken in Database'!$D$3),\"x\",IF(SEARCH('Zoeken in Database'!$D$3,Concerten!A654,1),\"x\",\"\")),\"\")","v":"x"},{"$f":"IFERROR(IF(ISBLANK('Zoeken in Database'!$D$4),\"x\",IF(SEARCH('Zoeken in Database'!$D$4,Concerten!B654,1),\"x\",\"\")),\"\")","v":"x"},{"$f":"IFERROR(IF(ISBLANK('Zoeken in Database'!$D$5),\"x\",IF(SEARCH('Zoeken in Database'!$D$5,Concerten!C654,1),\"x\",\"\")),\"\")","v":"x"},{"$f":"IFERROR(IF(ISBLANK('Zoeken in Database'!$D$6),\"x\",IF(SEARCH('Zoeken in Database'!$D$6,Concerten!G654,1),\"x\",\"\")),\"\")","v":"x"},{"$f":"IF(AND(D654>='Zoeken in Database'!$A$7,'Zoeken in Database'!$A$8>=D654),\"x\",\"\")","v":"x"}]
["Sioen","Rock Werchter 2007","Werchter","2007-06-29","Too Good To Be True \nSuicidal Sunset \nEase Your Mind \nCommunicate \nWild Wild West \nReady For Your Love \nI Need A Drug \nWho Stole My Band? \nNo Conspiracy At All \nWhat I Fail To Understand \nI Play A Song For You \nAnother Ballad \nReign","Pyramid Marquee","Festivaloptreden",6,2007,{"$f":"VLOOKUP(Table1[[#This Row],[Maand (getal)]],Lijst!A:B,2,FALSE)","v":"jun"},{"$f":"IFERROR(IF(ISBLANK('Zoeken in Database'!$D$3),\"x\",IF(SEARCH('Zoeken in Database'!$D$3,Concerten!A655,1),\"x\",\"\")),\"\")","v":"x"},{"$f":"IFERROR(IF(ISBLANK('Zoeken in Database'!$D$4),\"x\",IF(SEARCH('Zoeken in Database'!$D$4,Concerten!B655,1),\"x\",\"\")),\"\")","v":"x"},{"$f":"IFERROR(IF(ISBLANK('Zoeken in Database'!$D$5),\"x\",IF(SEARCH('Zoeken in Database'!$D$5,Concerten!C655,1),\"x\",\"\")),\"\")","v":"x"},{"$f":"IFERROR(IF(ISBLANK('Zoeken in Database'!$D$6),\"x\",IF(SEARCH('Zoeken in Database'!$D$6,Concerten!G655,1),\"x\",\"\")),\"\")","v":"x"},{"$f":"IF(AND(D655>='Zoeken in Database'!$A$7,'Zoeken in Database'!$A$8>=D655),\"x\",\"\")","v":"x"}]
["Allen, Lily","Rock Werchter 2007","Werchter","2007-06-29","L.D.N \nWindow shopper \nShame for you \nEverything's just \nLittlest things \nCheryl Tweedy \nNot Big \nSunday morning \nOh my god \nFriday night \nKnock em out \nSmile \nHeart of glass \nAlfie ","Pyramid Marquee","Festivaloptreden",6,2007,{"$f":"VLOOKUP(Table1[[#This Row],[Maand (getal)]],Lijst!A:B,2,FALSE)","v":"jun"},{"$f":"IFERROR(IF(ISBLANK('Zoeken in Database'!$D$3),\"x\",IF(SEARCH('Zoeken in Database'!$D$3,Concerten!A656,1),\"x\",\"\")),\"\")","v":"x"},{"$f":"IFERROR(IF(ISBLANK('Zoeken in Database'!$D$4),\"x\",IF(SEARCH('Zoeken in Database'!$D$4,Concerten!B656,1),\"x\",\"\")),\"\")","v":"x"},{"$f":"IFERROR(IF(ISBLANK('Zoeken in Database'!$D$5),\"x\",IF(SEARCH('Zoeken in Database'!$D$5,Concerten!C656,1),\"x\",\"\")),\"\")","v":"x"},{"$f":"IFERROR(IF(ISBLANK('Zoeken in Database'!$D$6),\"x\",IF(SEARCH('Zoeken in Database'!$D$6,Concerten!G656,1),\"x\",\"\")),\"\")","v":"x"},{"$f":"IF(AND(D656>='Zoeken in Database'!$A$7,'Zoeken in Database'!$A$8>=D656),\"x\",\"\")","v":"x"}]
["Admiral Freebee","Rock Werchter 2007","Werchter","2007-06-29","Murder of the sun \nLucky one \nRecipe for disaster \nEver present \nEinstein Brain \nRebound love \nAll through the night \nLiving for the weekend \nPerfect town \nGet out of town \nWorst has yet to come \nJungle baby \nOh Darkness \nEmmylou habis ","Pyramid Marquee","Festivaloptreden",6,2007,{"$f":"VLOOKUP(Table1[[#This Row],[Maand (getal)]],Lijst!A:B,2,FALSE)","v":"jun"},{"$f":"IFERROR(IF(ISBLANK('Zoeken in Database'!$D$3),\"x\",IF(SEARCH('Zoeken in Database'!$D$3,Concerten!A657,1),\"x\",\"\")),\"\")","v":"x"},{"$f":"IFERROR(IF(ISBLANK('Zoeken in Database'!$D$4),\"x\",IF(SEARCH('Zoeken in Database'!$D$4,Concerten!B657,1),\"x\",\"\")),\"\")","v":"x"},{"$f":"IFERROR(IF(ISBLANK('Zoeken in Database'!$D$5),\"x\",IF(SEARCH('Zoeken in Database'!$D$5,Concerten!C657,1),\"x\",\"\")),\"\")","v":"x"},{"$f":"IFERROR(IF(ISBLANK('Zoeken in Database'!$D$6),\"x\",IF(SEARCH('Zoeken in Database'!$D$6,Concerten!G657,1),\"x\",\"\")),\"\")","v":"x"},{"$f":"IF(AND(D657>='Zoeken in Database'!$A$7,'Zoeken in Database'!$A$8>=D657),\"x\",\"\")","v":"x"}]
["Arctic Monkeys","Rock Werchter 2007","Werchter","2007-06-29","View From The Afternoon \nBrianstorm \nStill Take You Home \nDancing Shoes \nFrom The Ritz To The Rubble \nTeddy Picker \nThis House Is A Circus \nFluorescent Adolescent \nFake Tales Of San Fransisco \nBalaclava \nOld Yellow Bricks \nI Bet That You Look Good On The Dancefloor \nIf You Were There, Beware \nDo Me A Favour \nLeave Before The Lights Come On \nWhen The Sun Goes Down \nA Certain Romance ","Main Stage","Festivaloptreden",6,2007,{"$f":"VLOOKUP(Table1[[#This Row],[Maand (getal)]],Lijst!A:B,2,FALSE)","v":"jun"},{"$f":"IFERROR(IF(ISBLANK('Zoeken in Database'!$D$3),\"x\",IF(SEARCH('Zoeken in Database'!$D$3,Concerten!A658,1),\"x\",\"\")),\"\")","v":"x"},{"$f":"IFERROR(IF(ISBLANK('Zoeken in Database'!$D$4),\"x\",IF(SEARCH('Zoeken in Database'!$D$4,Concerten!B658,1),\"x\",\"\")),\"\")","v":"x"},{"$f":"IFERROR(IF(ISBLANK('Zoeken in Database'!$D$5),\"x\",IF(SEARCH('Zoeken in Database'!$D$5,Concerten!C658,1),\"x\",\"\")),\"\")","v":"x"},{"$f":"IFERROR(IF(ISBLANK('Zoeken in Database'!$D$6),\"x\",IF(SEARCH('Zoeken in Database'!$D$6,Concerten!G658,1),\"x\",\"\")),\"\")","v":"x"},{"$f":"IF(AND(D658>='Zoeken in Database'!$A$7,'Zoeken in Database'!$A$8>=D658),\"x\",\"\")","v":"x"}]
["Pearl Jam","Rock Werchter 2007","Werchter","2007-06-30","Last exit \nAnimal \nBrain of J \nWorld wide suicide \nOnce \nDissident \nArmy Reserve \nEvolution \nGod's dice \nCorduroy \nJeremy \nWhy go \nGiven to fly \nEven flow \nLife wasted -------------- \nNo war \nSmile \nCrazy mary \nAlive \n------------------ \nBaba \n(Y. led) \n","Main Stage","Festivaloptreden",6,2007,{"$f":"VLOOKUP(Table1[[#This Row],[Maand (getal)]],Lijst!A:B,2,FALSE)","v":"jun"},{"$f":"IFERROR(IF(ISBLANK('Zoeken in Database'!$D$3),\"x\",IF(SEARCH('Zoeken in Database'!$D$3,Concerten!A659,1),\"x\",\"\")),\"\")","v":"x"},{"$f":"IFERROR(IF(ISBLANK('Zoeken in Database'!$D$4),\"x\",IF(SEARCH('Zoeken in Database'!$D$4,Concerten!B659,1),\"x\",\"\")),\"\")","v":"x"},{"$f":"IFERROR(IF(ISBLANK('Zoeken in Database'!$D$5),\"x\",IF(SEARCH('Zoeken in Database'!$D$5,Concerten!C659,1),\"x\",\"\")),\"\")","v":"x"},{"$f":"IFERROR(IF(ISBLANK('Zoeken in Database'!$D$6),\"x\",IF(SEARCH('Zoeken in Database'!$D$6,Concerten!G659,1),\"x\",\"\")),\"\")","v":"x"},{"$f":"IF(AND(D659>='Zoeken in Database'!$A$7,'Zoeken in Database'!$A$8>=D659),\"x\",\"\")","v":"x"}]
["Bravery, The","Rock Werchter 2007","Werchter","2007-06-30","Fearless \nBelieve \nPSA \nSwollen \nDandy \nTime \nHonest \nKnife \nBad Sun \nNo brakes \nUnconditional ","Pyramid Marquee","Festivaloptreden",6,2007,{"$f":"VLOOKUP(Table1[[#This Row],[Maand (getal)]],Lijst!A:B,2,FALSE)","v":"jun"},{"$f":"IFERROR(IF(ISBLANK('Zoeken in Database'!$D$3),\"x\",IF(SEARCH('Zoeken in Database'!$D$3,Concerten!A660,1),\"x\",\"\")),\"\")","v":"x"},{"$f":"IFERROR(IF(ISBLANK('Zoeken in Database'!$D$4),\"x\",IF(SEARCH('Zoeken in Database'!$D$4,Concerten!B660,1),\"x\",\"\")),\"\")","v":"x"},{"$f":"IFERROR(IF(ISBLANK('Zoeken in Database'!$D$5),\"x\",IF(SEARCH('Zoeken in Database'!$D$5,Concerten!C660,1),\"x\",\"\")),\"\")","v":"x"},{"$f":"IFERROR(IF(ISBLANK('Zoeken in Database'!$D$6),\"x\",IF(SEARCH('Zoeken in Database'!$D$6,Concerten!G660,1),\"x\",\"\")),\"\")","v":"x"},{"$f":"IF(AND(D660>='Zoeken in Database'!$A$7,'Zoeken in Database'!$A$8>=D660),\"x\",\"\")","v":"x"}]
["Hold Steady, The","Rock Werchter 2007","Werchter","2007-06-30",null,"Pyramid Marquee","Festivaloptreden",6,2007,{"$f":"VLOOKUP(Table1[[#This Row],[Maand (getal)]],Lijst!A:B,2,FALSE)","v":"jun"},{"$f":"IFERROR(IF(ISBLANK('Zoeken in Database'!$D$3),\"x\",IF(SEARCH('Zoeken in Database'!$D$3,Concerten!A661,1),\"x\",\"\")),\"\")","v":"x"},{"$f":"IFERROR(IF(ISBLANK('Zoeken in Database'!$D$4),\"x\",IF(SEARCH('Zoeken in Database'!$D$4,Concerten!B661,1),\"x\",\"\")),\"\")","v":"x"},{"$f":"IFERROR(IF(ISBLANK('Zoeken in Database'!$D$5),\"x\",IF(SEARCH('Zoeken in Database'!$D$5,Concerten!C661,1),\"x\",\"\")),\"\")","v":"x"},{"$f":"IFERROR(IF(ISBLANK('Zoeken in Database'!$D$6),\"x\",IF(SEARCH('Zoeken in Database'!$D$6,Concerten!G661,1),\"x\",\"\")),\"\")","v":"x"},{"$f":"IF(AND(D661>='Zoeken in Database'!$A$7,'Zoeken in Database'!$A$8>=D661),\"x\",\"\")","v":"x"}]
["Winehouse, Amy","Rock Werchter 2007","Werchter","2007-06-30","\nAddicted \nJust Friends \nTears Dry On Their Own \nBack To Black \nHe Can Only Hold Her/ Doo Wop (That Thing) (Lauryn Hill) \nLove Is A Losing Game \nCupid (Sam Cooke) \nWake Up Alone \nHey Little Rich Girl \nYou Know I'm No Good \nMe And Mr Jones \nValerie (The Zutons) \nRehab","Main Stage","Festivaloptreden",6,2007,{"$f":"VLOOKUP(Table1[[#This Row],[Maand (getal)]],Lijst!A:B,2,FALSE)","v":"jun"},{"$f":"IFERROR(IF(ISBLANK('Zoeken in Database'!$D$3),\"x\",IF(SEARCH('Zoeken in Database'!$D$3,Concerten!A662,1),\"x\",\"\")),\"\")","v":"x"},{"$f":"IFERROR(IF(ISBLANK('Zoeken in Database'!$D$4),\"x\",IF(SEARCH('Zoeken in Database'!$D$4,Concerten!B662,1),\"x\",\"\")),\"\")","v":"x"},{"$f":"IFERROR(IF(ISBLANK('Zoeken in Database'!$D$5),\"x\",IF(SEARCH('Zoeken in Database'!$D$5,Concerten!C662,1),\"x\",\"\")),\"\")","v":"x"},{"$f":"IFERROR(IF(ISBLANK('Zoeken in Database'!$D$6),\"x\",IF(SEARCH('Zoeken in Database'!$D$6,Concerten!G662,1),\"x\",\"\")),\"\")","v":"x"},{"$f":"IF(AND(D662>='Zoeken in Database'!$A$7,'Zoeken in Database'!$A$8>=D662),\"x\",\"\")","v":"x"}]
["Klaxons","Rock Werchter 2007","Werchter","2007-06-30","The Bouncer \nAtlantis To Interzone \nHall Of Records \nTotem on the Timeline \nGolden Skans \nAs Above ,So Below \nTwo Receivers \nMagick \nGravity's Rainbow \nIsle of Her \nIt's Not Over Yet \nFour Horsemen of 2012 ","Pyramid Marquee","Festivaloptreden",6,2007,{"$f":"VLOOKUP(Table1[[#This Row],[Maand (getal)]],Lijst!A:B,2,FALSE)","v":"jun"},{"$f":"IFERROR(IF(ISBLANK('Zoeken in Database'!$D$3),\"x\",IF(SEARCH('Zoeken in Database'!$D$3,Concerten!A663,1),\"x\",\"\")),\"\")","v":"x"},{"$f":"IFERROR(IF(ISBLANK('Zoeken in Database'!$D$4),\"x\",IF(SEARCH('Zoeken in Database'!$D$4,Concerten!B663,1),\"x\",\"\")),\"\")","v":"x"},{"$f":"IFERROR(IF(ISBLANK('Zoeken in Database'!$D$5),\"x\",IF(SEARCH('Zoeken in Database'!$D$5,Concerten!C663,1),\"x\",\"\")),\"\")","v":"x"},{"$f":"IFERROR(IF(ISBLANK('Zoeken in Database'!$D$6),\"x\",IF(SEARCH('Zoeken in Database'!$D$6,Concerten!G663,1),\"x\",\"\")),\"\")","v":"x"},{"$f":"IF(AND(D663>='Zoeken in Database'!$A$7,'Zoeken in Database'!$A$8>=D663),\"x\",\"\")","v":"x"}]
["Killers, The","Rock Werchter 2007","Werchter","2007-06-30",null,"Main Stage","Festivaloptreden",6,2007,{"$f":"VLOOKUP(Table1[[#This Row],[Maand (getal)]],Lijst!A:B,2,FALSE)","v":"jun"},{"$f":"IFERROR(IF(ISBLANK('Zoeken in Database'!$D$3),\"x\",IF(SEARCH('Zoeken in Database'!$D$3,Concerten!A664,1),\"x\",\"\")),\"\")","v":"x"},{"$f":"IFERROR(IF(ISBLANK('Zoeken in Database'!$D$4),\"x\",IF(SEARCH('Zoeken in Database'!$D$4,Concerten!B664,1),\"x\",\"\")),\"\")","v":"x"},{"$f":"IFERROR(IF(ISBLANK('Zoeken in Database'!$D$5),\"x\",IF(SEARCH('Zoeken in Database'!$D$5,Concerten!C664,1),\"x\",\"\")),\"\")","v":"x"},{"$f":"IFERROR(IF(ISBLANK('Zoeken in Database'!$D$6),\"x\",IF(SEARCH('Zoeken in Database'!$D$6,Concerten!G664,1),\"x\",\"\")),\"\")","v":"x"},{"$f":"IF(AND(D664>='Zoeken in Database'!$A$7,'Zoeken in Database'!$A$8>=D664),\"x\",\"\")","v":"x"}]
["Good The Bad And The Queen, The","Rock Werchter 2007","Werchter","2007-06-30","History song \n80's life \nNorthern whale \nKingdom of doom \nHerculean \nBehind the sun \nIntermission jam \nBunting \nNature springs \nSoldiers tale \n3 changes \nGreen fields \nThe good The bad and the Queen \nMr. Whippy ","Pyramid Marquee","Festivaloptreden",6,2007,{"$f":"VLOOKUP(Table1[[#This Row],[Maand (getal)]],Lijst!A:B,2,FALSE)","v":"jun"},{"$f":"IFERROR(IF(ISBLANK('Zoeken in Database'!$D$3),\"x\",IF(SEARCH('Zoeken in Database'!$D$3,Concerten!A665,1),\"x\",\"\")),\"\")","v":"x"},{"$f":"IFERROR(IF(ISBLANK('Zoeken in Database'!$D$4),\"x\",IF(SEARCH('Zoeken in Database'!$D$4,Concerten!B665,1),\"x\",\"\")),\"\")","v":"x"},{"$f":"IFERROR(IF(ISBLANK('Zoeken in Database'!$D$5),\"x\",IF(SEARCH('Zoeken in Database'!$D$5,Concerten!C665,1),\"x\",\"\")),\"\")","v":"x"},{"$f":"IFERROR(IF(ISBLANK('Zoeken in Database'!$D$6),\"x\",IF(SEARCH('Zoeken in Database'!$D$6,Concerten!G665,1),\"x\",\"\")),\"\")","v":"x"},{"$f":"IF(AND(D665>='Zoeken in Database'!$A$7,'Zoeken in Database'!$A$8>=D665),\"x\",\"\")","v":"x"}]
["LCD Soundsystem","Rock Werchter 2007","Werchter","2007-06-30","Us Vs. Them \nDaft Punk Is Playing At My House \nTime To Get Away \nNorth American Scum \nAll My Friends \nGet Innocuous \nTribulations \nMovement \nYeah \nSomeone Great \nWatch The Tapes \nNew York, I Love You But You're Bringing Me Down","Pyramid Marquee","Festivaloptreden",6,2007,{"$f":"VLOOKUP(Table1[[#This Row],[Maand (getal)]],Lijst!A:B,2,FALSE)","v":"jun"},{"$f":"IFERROR(IF(ISBLANK('Zoeken in Database'!$D$3),\"x\",IF(SEARCH('Zoeken in Database'!$D$3,Concerten!A666,1),\"x\",\"\")),\"\")","v":"x"},{"$f":"IFERROR(IF(ISBLANK('Zoeken in Database'!$D$4),\"x\",IF(SEARCH('Zoeken in Database'!$D$4,Concerten!B666,1),\"x\",\"\")),\"\")","v":"x"},{"$f":"IFERROR(IF(ISBLANK('Zoeken in Database'!$D$5),\"x\",IF(SEARCH('Zoeken in Database'!$D$5,Concerten!C666,1),\"x\",\"\")),\"\")","v":"x"},{"$f":"IFERROR(IF(ISBLANK('Zoeken in Database'!$D$6),\"x\",IF(SEARCH('Zoeken in Database'!$D$6,Concerten!G666,1),\"x\",\"\")),\"\")","v":"x"},{"$f":"IF(AND(D666>='Zoeken in Database'!$A$7,'Zoeken in Database'!$A$8>=D666),\"x\",\"\")","v":"x"}]
["Stijn","Rock Werchter 2007","Werchter","2007-07-01","Betchait'sgonnacome \nHot & Sweaty \nGasonline & Matches \nWrong \nYDon'tu \nSexjunkie \nSmoorverliefd (van Doe Maar) \nSteentjes Gooien \nG. Daddy ","Pyramid Marquee","Festivaloptreden",7,2007,{"$f":"VLOOKUP(Table1[[#This Row],[Maand (getal)]],Lijst!A:B,2,FALSE)","v":"jul"},{"$f":"IFERROR(IF(ISBLANK('Zoeken in Database'!$D$3),\"x\",IF(SEARCH('Zoeken in Database'!$D$3,Concerten!A667,1),\"x\",\"\")),\"\")","v":"x"},{"$f":"IFERROR(IF(ISBLANK('Zoeken in Database'!$D$4),\"x\",IF(SEARCH('Zoeken in Database'!$D$4,Concerten!B667,1),\"x\",\"\")),\"\")","v":"x"},{"$f":"IFERROR(IF(ISBLANK('Zoeken in Database'!$D$5),\"x\",IF(SEARCH('Zoeken in Database'!$D$5,Concerten!C667,1),\"x\",\"\")),\"\")","v":"x"},{"$f":"IFERROR(IF(ISBLANK('Zoeken in Database'!$D$6),\"x\",IF(SEARCH('Zoeken in Database'!$D$6,Concerten!G667,1),\"x\",\"\")),\"\")","v":"x"},{"$f":"IF(AND(D667>='Zoeken in Database'!$A$7,'Zoeken in Database'!$A$8>=D667),\"x\",\"\")","v":"x"}]
["Cold War Kids","Rock Werchter 2007","Werchter","2007-07-01",null,"Pyramid Marquee","Festivaloptreden",7,2007,{"$f":"VLOOKUP(Table1[[#This Row],[Maand (getal)]],Lijst!A:B,2,FALSE)","v":"jul"},{"$f":"IFERROR(IF(ISBLANK('Zoeken in Database'!$D$3),\"x\",IF(SEARCH('Zoeken in Database'!$D$3,Concerten!A668,1),\"x\",\"\")),\"\")","v":"x"},{"$f":"IFERROR(IF(ISBLANK('Zoeken in Database'!$D$4),\"x\",IF(SEARCH('Zoeken in Database'!$D$4,Concerten!B668,1),\"x\",\"\")),\"\")","v":"x"},{"$f":"IFERROR(IF(ISBLANK('Zoeken in Database'!$D$5),\"x\",IF(SEARCH('Zoeken in Database'!$D$5,Concerten!C668,1),\"x\",\"\")),\"\")","v":"x"},{"$f":"IFERROR(IF(ISBLANK('Zoeken in Database'!$D$6),\"x\",IF(SEARCH('Zoeken in Database'!$D$6,Concerten!G668,1),\"x\",\"\")),\"\")","v":"x"},{"$f":"IF(AND(D668>='Zoeken in Database'!$A$7,'Zoeken in Database'!$A$8>=D668),\"x\",\"\")","v":"x"}]
["Maxïmo Park","Rock Werchter 2007","Werchter","2007-07-01",null,"Pyramid Marquee","Festivaloptreden",7,2007,{"$f":"VLOOKUP(Table1[[#This Row],[Maand (getal)]],Lijst!A:B,2,FALSE)","v":"jul"},{"$f":"IFERROR(IF(ISBLANK('Zoeken in Database'!$D$3),\"x\",IF(SEARCH('Zoeken in Database'!$D$3,Concerten!A669,1),\"x\",\"\")),\"\")","v":"x"},{"$f":"IFERROR(IF(ISBLANK('Zoeken in Database'!$D$4),\"x\",IF(SEARCH('Zoeken in Database'!$D$4,Concerten!B669,1),\"x\",\"\")),\"\")","v":"x"},{"$f":"IFERROR(IF(ISBLANK('Zoeken in Database'!$D$5),\"x\",IF(SEARCH('Zoeken in Database'!$D$5,Concerten!C669,1),\"x\",\"\")),\"\")","v":"x"},{"$f":"IFERROR(IF(ISBLANK('Zoeken in Database'!$D$6),\"x\",IF(SEARCH('Zoeken in Database'!$D$6,Concerten!G669,1),\"x\",\"\")),\"\")","v":"x"},{"$f":"IF(AND(D669>='Zoeken in Database'!$A$7,'Zoeken in Database'!$A$8>=D669),\"x\",\"\")","v":"x"}]
["Legend, John","Rock Werchter 2007","Werchter","2007-07-01","Do U Wanna Ride \nHeaven \nStereo \nLet's Get Lifted \nAlright \nStill Number One \nSave Room \nSpottie Ottie Interlude \nI Can Change/I Want U \nSlow Dance \nDance To The Music (Sly & The Family Stone) \nPDA/Rock Creek Park \nUsed To Love U \nOrdinary People","Pyramid Marquee","Festivaloptreden",7,2007,{"$f":"VLOOKUP(Table1[[#This Row],[Maand (getal)]],Lijst!A:B,2,FALSE)","v":"jul"},{"$f":"IFERROR(IF(ISBLANK('Zoeken in Database'!$D$3),\"x\",IF(SEARCH('Zoeken in Database'!$D$3,Concerten!A670,1),\"x\",\"\")),\"\")","v":"x"},{"$f":"IFERROR(IF(ISBLANK('Zoeken in Database'!$D$4),\"x\",IF(SEARCH('Zoeken in Database'!$D$4,Concerten!B670,1),\"x\",\"\")),\"\")","v":"x"},{"$f":"IFERROR(IF(ISBLANK('Zoeken in Database'!$D$5),\"x\",IF(SEARCH('Zoeken in Database'!$D$5,Concerten!C670,1),\"x\",\"\")),\"\")","v":"x"},{"$f":"IFERROR(IF(ISBLANK('Zoeken in Database'!$D$6),\"x\",IF(SEARCH('Zoeken in Database'!$D$6,Concerten!G670,1),\"x\",\"\")),\"\")","v":"x"},{"$f":"IF(AND(D670>='Zoeken in Database'!$A$7,'Zoeken in Database'!$A$8>=D670),\"x\",\"\")","v":"x"}]
["Black, Frank","Rock Werchter 2007","Werchter","2007-07-01",null,"Pyramid Marquee","Festivaloptreden",7,2007,{"$f":"VLOOKUP(Table1[[#This Row],[Maand (getal)]],Lijst!A:B,2,FALSE)","v":"jul"},{"$f":"IFERROR(IF(ISBLANK('Zoeken in Database'!$D$3),\"x\",IF(SEARCH('Zoeken in Database'!$D$3,Concerten!A671,1),\"x\",\"\")),\"\")","v":"x"},{"$f":"IFERROR(IF(ISBLANK('Zoeken in Database'!$D$4),\"x\",IF(SEARCH('Zoeken in Database'!$D$4,Concerten!B671,1),\"x\",\"\")),\"\")","v":"x"},{"$f":"IFERROR(IF(ISBLANK('Zoeken in Database'!$D$5),\"x\",IF(SEARCH('Zoeken in Database'!$D$5,Concerten!C671,1),\"x\",\"\")),\"\")","v":"x"},{"$f":"IFERROR(IF(ISBLANK('Zoeken in Database'!$D$6),\"x\",IF(SEARCH('Zoeken in Database'!$D$6,Concerten!G671,1),\"x\",\"\")),\"\")","v":"x"},{"$f":"IF(AND(D671>='Zoeken in Database'!$A$7,'Zoeken in Database'!$A$8>=D671),\"x\",\"\")","v":"x"}]
["Rice, Damien","Rock Werchter 2007","Werchter","2007-07-01","9 crimes \nVolcano \nMe my yoke & I \nDelicate \nCoconut skins \nWoman like a man \nCanonball \nI remember \nCheers Darlin' \nThe blowers daughter ","Pyramid Marquee","Festivaloptreden",7,2007,{"$f":"VLOOKUP(Table1[[#This Row],[Maand (getal)]],Lijst!A:B,2,FALSE)","v":"jul"},{"$f":"IFERROR(IF(ISBLANK('Zoeken in Database'!$D$3),\"x\",IF(SEARCH('Zoeken in Database'!$D$3,Concerten!A672,1),\"x\",\"\")),\"\")","v":"x"},{"$f":"IFERROR(IF(ISBLANK('Zoeken in Database'!$D$4),\"x\",IF(SEARCH('Zoeken in Database'!$D$4,Concerten!B672,1),\"x\",\"\")),\"\")","v":"x"},{"$f":"IFERROR(IF(ISBLANK('Zoeken in Database'!$D$5),\"x\",IF(SEARCH('Zoeken in Database'!$D$5,Concerten!C672,1),\"x\",\"\")),\"\")","v":"x"},{"$f":"IFERROR(IF(ISBLANK('Zoeken in Database'!$D$6),\"x\",IF(SEARCH('Zoeken in Database'!$D$6,Concerten!G672,1),\"x\",\"\")),\"\")","v":"x"},{"$f":"IF(AND(D672>='Zoeken in Database'!$A$7,'Zoeken in Database'!$A$8>=D672),\"x\",\"\")","v":"x"}]
["Amos, Tori","Rock Werchter 2007","Werchter","2007-07-01","Cruel \nTeenage Hustling \nFat Slut \nBliss \nBody & Soul \nWaitress \nProfessional Widow \nBig Wheel \nTori Greets Audience \nCornflake Girl \nSecret Spell \nGod \nBouncing Off Clouds \nCode Red \nPrecious Things ","Pyramid Marquee","Festivaloptreden",7,2007,{"$f":"VLOOKUP(Table1[[#This Row],[Maand (getal)]],Lijst!A:B,2,FALSE)","v":"jul"},{"$f":"IFERROR(IF(ISBLANK('Zoeken in Database'!$D$3),\"x\",IF(SEARCH('Zoeken in Database'!$D$3,Concerten!A673,1),\"x\",\"\")),\"\")","v":"x"},{"$f":"IFERROR(IF(ISBLANK('Zoeken in Database'!$D$4),\"x\",IF(SEARCH('Zoeken in Database'!$D$4,Concerten!B673,1),\"x\",\"\")),\"\")","v":"x"},{"$f":"IFERROR(IF(ISBLANK('Zoeken in Database'!$D$5),\"x\",IF(SEARCH('Zoeken in Database'!$D$5,Concerten!C673,1),\"x\",\"\")),\"\")","v":"x"},{"$f":"IFERROR(IF(ISBLANK('Zoeken in Database'!$D$6),\"x\",IF(SEARCH('Zoeken in Database'!$D$6,Concerten!G673,1),\"x\",\"\")),\"\")","v":"x"},{"$f":"IF(AND(D673>='Zoeken in Database'!$A$7,'Zoeken in Database'!$A$8>=D673),\"x\",\"\")","v":"x"}]
["Daft Punk","Heineken Music Hall","Amsterdam","2007-07-04","Robot Rock / Oh Yeah \nTouch It / Technologic \nTelevision Rules the Nation / Crescendolls \nToo Long / Steam Machine \nAround the World / Harder, Better, Faster, Stronger\nBurnin' / Too Long \nFace to Face / Short Circuit \nOne More Time / Aerodynamic \nAerodynamic Beats / Forget About the World \nThe Prime Time of Your Life / Brainwasher / Rollin' & Scratchin' / Alive \nDa Funk / Daftendirekt \nSuperheroes / Human After All / Rock'n Roll \nEncore:\nHuman After All / Together / One More Time (reprise) / Music Sounds Better With You\n",null,"Hoofdprogramma",7,2007,{"$f":"VLOOKUP(Table1[[#This Row],[Maand (getal)]],Lijst!A:B,2,FALSE)","v":"jul"},{"$f":"IFERROR(IF(ISBLANK('Zoeken in Database'!$D$3),\"x\",IF(SEARCH('Zoeken in Database'!$D$3,Concerten!A674,1),\"x\",\"\")),\"\")","v":"x"},{"$f":"IFERROR(IF(ISBLANK('Zoeken in Database'!$D$4),\"x\",IF(SEARCH('Zoeken in Database'!$D$4,Concerten!B674,1),\"x\",\"\")),\"\")","v":"x"},{"$f":"IFERROR(IF(ISBLANK('Zoeken in Database'!$D$5),\"x\",IF(SEARCH('Zoeken in Database'!$D$5,Concerten!C674,1),\"x\",\"\")),\"\")","v":"x"},{"$f":"IFERROR(IF(ISBLANK('Zoeken in Database'!$D$6),\"x\",IF(SEARCH('Zoeken in Database'!$D$6,Concerten!G674,1),\"x\",\"\")),\"\")","v":"x"},{"$f":"IF(AND(D674>='Zoeken in Database'!$A$7,'Zoeken in Database'!$A$8>=D674),\"x\",\"\")","v":"x"}]
["Björk","Cultuurpark Westergasfabriek","Amsterdam","2007-07-08","01. Earth Intruders\n02. Cover Me\n03. Pagan Poetry\n04. Huntere\n05. All Is Full Of Love\n06. The Pleasure Is All Mine\n07. Jóga\n08. Hope\n09. Army Of Me\n10. Innocence\n11. I Miss You\n12. Five Years\n13. Immature\n14. Wanderlust\n15. Hyperballad\n16. Pluto\n------\n17. Oceania\n18. Declare Independence",null,"Hoofdprogramma",7,2007,{"$f":"VLOOKUP(Table1[[#This Row],[Maand (getal)]],Lijst!A:B,2,FALSE)","v":"jul"},{"$f":"IFERROR(IF(ISBLANK('Zoeken in Database'!$D$3),\"x\",IF(SEARCH('Zoeken in Database'!$D$3,Concerten!A675,1),\"x\",\"\")),\"\")","v":"x"},{"$f":"IFERROR(IF(ISBLANK('Zoeken in Database'!$D$4),\"x\",IF(SEARCH('Zoeken in Database'!$D$4,Concerten!B675,1),\"x\",\"\")),\"\")","v":"x"},{"$f":"IFERROR(IF(ISBLANK('Zoeken in Database'!$D$5),\"x\",IF(SEARCH('Zoeken in Database'!$D$5,Concerten!C675,1),\"x\",\"\")),\"\")","v":"x"},{"$f":"IFERROR(IF(ISBLANK('Zoeken in Database'!$D$6),\"x\",IF(SEARCH('Zoeken in Database'!$D$6,Concerten!G675,1),\"x\",\"\")),\"\")","v":"x"},{"$f":"IF(AND(D675>='Zoeken in Database'!$A$7,'Zoeken in Database'!$A$8>=D675),\"x\",\"\")","v":"x"}]
["Lidell, Jamie","Cultuurpark Westergasfabriek","Amsterdam","2007-07-08",null,null,"Voorprogramma",7,2007,{"$f":"VLOOKUP(Table1[[#This Row],[Maand (getal)]],Lijst!A:B,2,FALSE)","v":"jul"},{"$f":"IFERROR(IF(ISBLANK('Zoeken in Database'!$D$3),\"x\",IF(SEARCH('Zoeken in Database'!$D$3,Concerten!A676,1),\"x\",\"\")),\"\")","v":"x"},{"$f":"IFERROR(IF(ISBLANK('Zoeken in Database'!$D$4),\"x\",IF(SEARCH('Zoeken in Database'!$D$4,Concerten!B676,1),\"x\",\"\")),\"\")","v":"x"},{"$f":"IFERROR(IF(ISBLANK('Zoeken in Database'!$D$5),\"x\",IF(SEARCH('Zoeken in Database'!$D$5,Concerten!C676,1),\"x\",\"\")),\"\")","v":"x"},{"$f":"IFERROR(IF(ISBLANK('Zoeken in Database'!$D$6),\"x\",IF(SEARCH('Zoeken in Database'!$D$6,Concerten!G676,1),\"x\",\"\")),\"\")","v":"x"},{"$f":"IF(AND(D676>='Zoeken in Database'!$A$7,'Zoeken in Database'!$A$8>=D676),\"x\",\"\")","v":"x"}]
["Bright Eyes","Effenaar","Eindhoven","2007-07-10","Clairaudients (Kill or Be Killed)\nHot Knives\nMake A Plan To Love Me\nMiddleman\nFirst Day of My Life \nThe Calendar Hung Itself\nIf the Brakeman Turns My Way\nCartoon Blues \nNo One Would Riot for Less \nCleanse Song\nI Believe in Symetry\nLime Tree\n---------------\nGold Mine Gutted\nSouthern State\nA Song to Pass the Time \nAt the Bottom of Everything\n",null,"Hoofdprogramma",7,2007,{"$f":"VLOOKUP(Table1[[#This Row],[Maand (getal)]],Lijst!A:B,2,FALSE)","v":"jul"},{"$f":"IFERROR(IF(ISBLANK('Zoeken in Database'!$D$3),\"x\",IF(SEARCH('Zoeken in Database'!$D$3,Concerten!A677,1),\"x\",\"\")),\"\")","v":"x"},{"$f":"IFERROR(IF(ISBLANK('Zoeken in Database'!$D$4),\"x\",IF(SEARCH('Zoeken in Database'!$D$4,Concerten!B677,1),\"x\",\"\")),\"\")","v":"x"},{"$f":"IFERROR(IF(ISBLANK('Zoeken in Database'!$D$5),\"x\",IF(SEARCH('Zoeken in Database'!$D$5,Concerten!C677,1),\"x\",\"\")),\"\")","v":"x"},{"$f":"IFERROR(IF(ISBLANK('Zoeken in Database'!$D$6),\"x\",IF(SEARCH('Zoeken in Database'!$D$6,Concerten!G677,1),\"x\",\"\")),\"\")","v":"x"},{"$f":"IF(AND(D677>='Zoeken in Database'!$A$7,'Zoeken in Database'!$A$8>=D677),\"x\",\"\")","v":"x"}]
["Das Pop","Valkhof Affaire 2007","Nijmegen","2007-07-14",null,null,"Festivaloptreden",7,2007,{"$f":"VLOOKUP(Table1[[#This Row],[Maand (getal)]],Lijst!A:B,2,FALSE)","v":"jul"},{"$f":"IFERROR(IF(ISBLANK('Zoeken in Database'!$D$3),\"x\",IF(SEARCH('Zoeken in Database'!$D$3,Concerten!A678,1),\"x\",\"\")),\"\")","v":"x"},{"$f":"IFERROR(IF(ISBLANK('Zoeken in Database'!$D$4),\"x\",IF(SEARCH('Zoeken in Database'!$D$4,Concerten!B678,1),\"x\",\"\")),\"\")","v":"x"},{"$f":"IFERROR(IF(ISBLANK('Zoeken in Database'!$D$5),\"x\",IF(SEARCH('Zoeken in Database'!$D$5,Concerten!C678,1),\"x\",\"\")),\"\")","v":"x"},{"$f":"IFERROR(IF(ISBLANK('Zoeken in Database'!$D$6),\"x\",IF(SEARCH('Zoeken in Database'!$D$6,Concerten!G678,1),\"x\",\"\")),\"\")","v":"x"},{"$f":"IF(AND(D678>='Zoeken in Database'!$A$7,'Zoeken in Database'!$A$8>=D678),\"x\",\"\")","v":"x"}]
["Vollenhoven, Pieter van","Lowlands 2007","Biddinghuizen","2007-08-17",null,"Juliet","Festivaloptreden",8,2007,{"$f":"VLOOKUP(Table1[[#This Row],[Maand (getal)]],Lijst!A:B,2,FALSE)","v":"aug"},{"$f":"IFERROR(IF(ISBLANK('Zoeken in Database'!$D$3),\"x\",IF(SEARCH('Zoeken in Database'!$D$3,Concerten!A679,1),\"x\",\"\")),\"\")","v":"x"},{"$f":"IFERROR(IF(ISBLANK('Zoeken in Database'!$D$4),\"x\",IF(SEARCH('Zoeken in Database'!$D$4,Concerten!B679,1),\"x\",\"\")),\"\")","v":"x"},{"$f":"IFERROR(IF(ISBLANK('Zoeken in Database'!$D$5),\"x\",IF(SEARCH('Zoeken in Database'!$D$5,Concerten!C679,1),\"x\",\"\")),\"\")","v":"x"},{"$f":"IFERROR(IF(ISBLANK('Zoeken in Database'!$D$6),\"x\",IF(SEARCH('Zoeken in Database'!$D$6,Concerten!G679,1),\"x\",\"\")),\"\")","v":"x"},{"$f":"IF(AND(D679>='Zoeken in Database'!$A$7,'Zoeken in Database'!$A$8>=D679),\"x\",\"\")","v":"x"}]
["Editors","Lowlands 2007","Biddinghuizen","2007-08-17","1. Bones\n2. All Sparks\n3. And End Has A Start\n4. Blood\n5. The Racing Rats\n6. When Anger Shows\n7. Lights\n8. Bullets\n9. The Weight Of The World\n10. You Are Fading\n11. Munich\n12. Smokers Outside The Hospital Doors\n13. Fingers In The Factories\n","Alpha","Festivaloptreden",8,2007,{"$f":"VLOOKUP(Table1[[#This Row],[Maand (getal)]],Lijst!A:B,2,FALSE)","v":"aug"},{"$f":"IFERROR(IF(ISBLANK('Zoeken in Database'!$D$3),\"x\",IF(SEARCH('Zoeken in Database'!$D$3,Concerten!A680,1),\"x\",\"\")),\"\")","v":"x"},{"$f":"IFERROR(IF(ISBLANK('Zoeken in Database'!$D$4),\"x\",IF(SEARCH('Zoeken in Database'!$D$4,Concerten!B680,1),\"x\",\"\")),\"\")","v":"x"},{"$f":"IFERROR(IF(ISBLANK('Zoeken in Database'!$D$5),\"x\",IF(SEARCH('Zoeken in Database'!$D$5,Concerten!C680,1),\"x\",\"\")),\"\")","v":"x"},{"$f":"IFERROR(IF(ISBLANK('Zoeken in Database'!$D$6),\"x\",IF(SEARCH('Zoeken in Database'!$D$6,Concerten!G680,1),\"x\",\"\")),\"\")","v":"x"},{"$f":"IF(AND(D680>='Zoeken in Database'!$A$7,'Zoeken in Database'!$A$8>=D680),\"x\",\"\")","v":"x"}]
["Kasabian","Lowlands 2007","Biddinghuizen","2007-08-17",null,"Alpha","Festivaloptreden",8,2007,{"$f":"VLOOKUP(Table1[[#This Row],[Maand (getal)]],Lijst!A:B,2,FALSE)","v":"aug"},{"$f":"IFERROR(IF(ISBLANK('Zoeken in Database'!$D$3),\"x\",IF(SEARCH('Zoeken in Database'!$D$3,Concerten!A681,1),\"x\",\"\")),\"\")","v":"x"},{"$f":"IFERROR(IF(ISBLANK('Zoeken in Database'!$D$4),\"x\",IF(SEARCH('Zoeken in Database'!$D$4,Concerten!B681,1),\"x\",\"\")),\"\")","v":"x"},{"$f":"IFERROR(IF(ISBLANK('Zoeken in Database'!$D$5),\"x\",IF(SEARCH('Zoeken in Database'!$D$5,Concerten!C681,1),\"x\",\"\")),\"\")","v":"x"},{"$f":"IFERROR(IF(ISBLANK('Zoeken in Database'!$D$6),\"x\",IF(SEARCH('Zoeken in Database'!$D$6,Concerten!G681,1),\"x\",\"\")),\"\")","v":"x"},{"$f":"IF(AND(D681>='Zoeken in Database'!$A$7,'Zoeken in Database'!$A$8>=D681),\"x\",\"\")","v":"x"}]
["Mika","Lowlands 2007","Biddinghuizen","2007-08-17",null,"Bravo","Festivaloptreden",8,2007,{"$f":"VLOOKUP(Table1[[#This Row],[Maand (getal)]],Lijst!A:B,2,FALSE)","v":"aug"},{"$f":"IFERROR(IF(ISBLANK('Zoeken in Database'!$D$3),\"x\",IF(SEARCH('Zoeken in Database'!$D$3,Concerten!A682,1),\"x\",\"\")),\"\")","v":"x"},{"$f":"IFERROR(IF(ISBLANK('Zoeken in Database'!$D$4),\"x\",IF(SEARCH('Zoeken in Database'!$D$4,Concerten!B682,1),\"x\",\"\")),\"\")","v":"x"},{"$f":"IFERROR(IF(ISBLANK('Zoeken in Database'!$D$5),\"x\",IF(SEARCH('Zoeken in Database'!$D$5,Concerten!C682,1),\"x\",\"\")),\"\")","v":"x"},{"$f":"IFERROR(IF(ISBLANK('Zoeken in Database'!$D$6),\"x\",IF(SEARCH('Zoeken in Database'!$D$6,Concerten!G682,1),\"x\",\"\")),\"\")","v":"x"},{"$f":"IF(AND(D682>='Zoeken in Database'!$A$7,'Zoeken in Database'!$A$8>=D682),\"x\",\"\")","v":"x"}]
["Bonde Do Rolê","Lowlands 2007","Biddinghuizen","2007-08-17",null,"Lima","Festivaloptreden",8,2007,{"$f":"VLOOKUP(Table1[[#This Row],[Maand (getal)]],Lijst!A:B,2,FALSE)","v":"aug"},{"$f":"IFERROR(IF(ISBLANK('Zoeken in Database'!$D$3),\"x\",IF(SEARCH('Zoeken in Database'!$D$3,Concerten!A683,1),\"x\",\"\")),\"\")","v":"x"},{"$f":"IFERROR(IF(ISBLANK('Zoeken in Database'!$D$4),\"x\",IF(SEARCH('Zoeken in Database'!$D$4,Concerten!B683,1),\"x\",\"\")),\"\")","v":"x"},{"$f":"IFERROR(IF(ISBLANK('Zoeken in Database'!$D$5),\"x\",IF(SEARCH('Zoeken in Database'!$D$5,Concerten!C683,1),\"x\",\"\")),\"\")","v":"x"},{"$f":"IFERROR(IF(ISBLANK('Zoeken in Database'!$D$6),\"x\",IF(SEARCH('Zoeken in Database'!$D$6,Concerten!G683,1),\"x\",\"\")),\"\")","v":"x"},{"$f":"IF(AND(D683>='Zoeken in Database'!$A$7,'Zoeken in Database'!$A$8>=D683),\"x\",\"\")","v":"x"}]
["Basement Jaxx","Lowlands 2007","Biddinghuizen","2007-08-17",null,"Bravo","Festivaloptreden",8,2007,{"$f":"VLOOKUP(Table1[[#This Row],[Maand (getal)]],Lijst!A:B,2,FALSE)","v":"aug"},{"$f":"IFERROR(IF(ISBLANK('Zoeken in Database'!$D$3),\"x\",IF(SEARCH('Zoeken in Database'!$D$3,Concerten!A684,1),\"x\",\"\")),\"\")","v":"x"},{"$f":"IFERROR(IF(ISBLANK('Zoeken in Database'!$D$4),\"x\",IF(SEARCH('Zoeken in Database'!$D$4,Concerten!B684,1),\"x\",\"\")),\"\")","v":"x"},{"$f":"IFERROR(IF(ISBLANK('Zoeken in Database'!$D$5),\"x\",IF(SEARCH('Zoeken in Database'!$D$5,Concerten!C684,1),\"x\",\"\")),\"\")","v":"x"},{"$f":"IFERROR(IF(ISBLANK('Zoeken in Database'!$D$6),\"x\",IF(SEARCH('Zoeken in Database'!$D$6,Concerten!G684,1),\"x\",\"\")),\"\")","v":"x"},{"$f":"IF(AND(D684>='Zoeken in Database'!$A$7,'Zoeken in Database'!$A$8>=D684),\"x\",\"\")","v":"x"}]
["View, The","Lowlands 2007","Biddinghuizen","2007-08-18",null,"India","Festivaloptreden",8,2007,{"$f":"VLOOKUP(Table1[[#This Row],[Maand (getal)]],Lijst!A:B,2,FALSE)","v":"aug"},{"$f":"IFERROR(IF(ISBLANK('Zoeken in Database'!$D$3),\"x\",IF(SEARCH('Zoeken in Database'!$D$3,Concerten!A685,1),\"x\",\"\")),\"\")","v":"x"},{"$f":"IFERROR(IF(ISBLANK('Zoeken in Database'!$D$4),\"x\",IF(SEARCH('Zoeken in Database'!$D$4,Concerten!B685,1),\"x\",\"\")),\"\")","v":"x"},{"$f":"IFERROR(IF(ISBLANK('Zoeken in Database'!$D$5),\"x\",IF(SEARCH('Zoeken in Database'!$D$5,Concerten!C685,1),\"x\",\"\")),\"\")","v":"x"},{"$f":"IFERROR(IF(ISBLANK('Zoeken in Database'!$D$6),\"x\",IF(SEARCH('Zoeken in Database'!$D$6,Concerten!G685,1),\"x\",\"\")),\"\")","v":"x"},{"$f":"IF(AND(D685>='Zoeken in Database'!$A$7,'Zoeken in Database'!$A$8>=D685),\"x\",\"\")","v":"x"}]
["CSS","Lowlands 2007","Biddinghuizen","2007-08-18",null,"Bravo","Festivaloptreden",8,2007,{"$f":"VLOOKUP(Table1[[#This Row],[Maand (getal)]],Lijst!A:B,2,FALSE)","v":"aug"},{"$f":"IFERROR(IF(ISBLANK('Zoeken in Database'!$D$3),\"x\",IF(SEARCH('Zoeken in Database'!$D$3,Concerten!A686,1),\"x\",\"\")),\"\")","v":"x"},{"$f":"IFERROR(IF(ISBLANK('Zoeken in Database'!$D$4),\"x\",IF(SEARCH('Zoeken in Database'!$D$4,Concerten!B686,1),\"x\",\"\")),\"\")","v":"x"},{"$f":"IFERROR(IF(ISBLANK('Zoeken in Database'!$D$5),\"x\",IF(SEARCH('Zoeken in Database'!$D$5,Concerten!C686,1),\"x\",\"\")),\"\")","v":"x"},{"$f":"IFERROR(IF(ISBLANK('Zoeken in Database'!$D$6),\"x\",IF(SEARCH('Zoeken in Database'!$D$6,Concerten!G686,1),\"x\",\"\")),\"\")","v":"x"},{"$f":"IF(AND(D686>='Zoeken in Database'!$A$7,'Zoeken in Database'!$A$8>=D686),\"x\",\"\")","v":"x"}]
["Wolf, Patrick","Lowlands 2007","Biddinghuizen","2007-08-18",null,"India","Festivaloptreden",8,2007,{"$f":"VLOOKUP(Table1[[#This Row],[Maand (getal)]],Lijst!A:B,2,FALSE)","v":"aug"},{"$f":"IFERROR(IF(ISBLANK('Zoeken in Database'!$D$3),\"x\",IF(SEARCH('Zoeken in Database'!$D$3,Concerten!A687,1),\"x\",\"\")),\"\")","v":"x"},{"$f":"IFERROR(IF(ISBLANK('Zoeken in Database'!$D$4),\"x\",IF(SEARCH('Zoeken in Database'!$D$4,Concerten!B687,1),\"x\",\"\")),\"\")","v":"x"},{"$f":"IFERROR(IF(ISBLANK('Zoeken in Database'!$D$5),\"x\",IF(SEARCH('Zoeken in Database'!$D$5,Concerten!C687,1),\"x\",\"\")),\"\")","v":"x"},{"$f":"IFERROR(IF(ISBLANK('Zoeken in Database'!$D$6),\"x\",IF(SEARCH('Zoeken in Database'!$D$6,Concerten!G687,1),\"x\",\"\")),\"\")","v":"x"},{"$f":"IF(AND(D687>='Zoeken in Database'!$A$7,'Zoeken in Database'!$A$8>=D687),\"x\",\"\")","v":"x"}]
["Voicst ","Lowlands 2007","Biddinghuizen","2007-08-18",null,"Essent tent","Festivaloptreden",8,2007,{"$f":"VLOOKUP(Table1[[#This Row],[Maand (getal)]],Lijst!A:B,2,FALSE)","v":"aug"},{"$f":"IFERROR(IF(ISBLANK('Zoeken in Database'!$D$3),\"x\",IF(SEARCH('Zoeken in Database'!$D$3,Concerten!A688,1),\"x\",\"\")),\"\")","v":"x"},{"$f":"IFERROR(IF(ISBLANK('Zoeken in Database'!$D$4),\"x\",IF(SEARCH('Zoeken in Database'!$D$4,Concerten!B688,1),\"x\",\"\")),\"\")","v":"x"},{"$f":"IFERROR(IF(ISBLANK('Zoeken in Database'!$D$5),\"x\",IF(SEARCH('Zoeken in Database'!$D$5,Concerten!C688,1),\"x\",\"\")),\"\")","v":"x"},{"$f":"IFERROR(IF(ISBLANK('Zoeken in Database'!$D$6),\"x\",IF(SEARCH('Zoeken in Database'!$D$6,Concerten!G688,1),\"x\",\"\")),\"\")","v":"x"},{"$f":"IF(AND(D688>='Zoeken in Database'!$A$7,'Zoeken in Database'!$A$8>=D688),\"x\",\"\")","v":"x"}]
["Enemy, The","Lowlands 2007","Biddinghuizen","2007-08-19",null,"India","Festivaloptreden",8,2007,{"$f":"VLOOKUP(Table1[[#This Row],[Maand (getal)]],Lijst!A:B,2,FALSE)","v":"aug"},{"$f":"IFERROR(IF(ISBLANK('Zoeken in Database'!$D$3),\"x\",IF(SEARCH('Zoeken in Database'!$D$3,Concerten!A689,1),\"x\",\"\")),\"\")","v":"x"},{"$f":"IFERROR(IF(ISBLANK('Zoeken in Database'!$D$4),\"x\",IF(SEARCH('Zoeken in Database'!$D$4,Concerten!B689,1),\"x\",\"\")),\"\")","v":"x"},{"$f":"IFERROR(IF(ISBLANK('Zoeken in Database'!$D$5),\"x\",IF(SEARCH('Zoeken in Database'!$D$5,Concerten!C689,1),\"x\",\"\")),\"\")","v":"x"},{"$f":"IFERROR(IF(ISBLANK('Zoeken in Database'!$D$6),\"x\",IF(SEARCH('Zoeken in Database'!$D$6,Concerten!G689,1),\"x\",\"\")),\"\")","v":"x"},{"$f":"IF(AND(D689>='Zoeken in Database'!$A$7,'Zoeken in Database'!$A$8>=D689),\"x\",\"\")","v":"x"}]
["Loney, Dear","Lowlands 2007","Biddinghuizen","2007-08-19",null,"India","Festivaloptreden",8,2007,{"$f":"VLOOKUP(Table1[[#This Row],[Maand (getal)]],Lijst!A:B,2,FALSE)","v":"aug"},{"$f":"IFERROR(IF(ISBLANK('Zoeken in Database'!$D$3),\"x\",IF(SEARCH('Zoeken in Database'!$D$3,Concerten!A690,1),\"x\",\"\")),\"\")","v":"x"},{"$f":"IFERROR(IF(ISBLANK('Zoeken in Database'!$D$4),\"x\",IF(SEARCH('Zoeken in Database'!$D$4,Concerten!B690,1),\"x\",\"\")),\"\")","v":"x"},{"$f":"IFERROR(IF(ISBLANK('Zoeken in Database'!$D$5),\"x\",IF(SEARCH('Zoeken in Database'!$D$5,Concerten!C690,1),\"x\",\"\")),\"\")","v":"x"},{"$f":"IFERROR(IF(ISBLANK('Zoeken in Database'!$D$6),\"x\",IF(SEARCH('Zoeken in Database'!$D$6,Concerten!G690,1),\"x\",\"\")),\"\")","v":"x"},{"$f":"IF(AND(D690>='Zoeken in Database'!$A$7,'Zoeken in Database'!$A$8>=D690),\"x\",\"\")","v":"x"}]
["Shins, The","Lowlands 2007","Biddinghuizen","2007-08-19",null,"Grolsch","Festivaloptreden",8,2007,{"$f":"VLOOKUP(Table1[[#This Row],[Maand (getal)]],Lijst!A:B,2,FALSE)","v":"aug"},{"$f":"IFERROR(IF(ISBLANK('Zoeken in Database'!$D$3),\"x\",IF(SEARCH('Zoeken in Database'!$D$3,Concerten!A691,1),\"x\",\"\")),\"\")","v":"x"},{"$f":"IFERROR(IF(ISBLANK('Zoeken in Database'!$D$4),\"x\",IF(SEARCH('Zoeken in Database'!$D$4,Concerten!B691,1),\"x\",\"\")),\"\")","v":"x"},{"$f":"IFERROR(IF(ISBLANK('Zoeken in Database'!$D$5),\"x\",IF(SEARCH('Zoeken in Database'!$D$5,Concerten!C691,1),\"x\",\"\")),\"\")","v":"x"},{"$f":"IFERROR(IF(ISBLANK('Zoeken in Database'!$D$6),\"x\",IF(SEARCH('Zoeken in Database'!$D$6,Concerten!G691,1),\"x\",\"\")),\"\")","v":"x"},{"$f":"IF(AND(D691>='Zoeken in Database'!$A$7,'Zoeken in Database'!$A$8>=D691),\"x\",\"\")","v":"x"}]
["Nine Inch Nails","Lowlands 2007","Biddinghuizen","2007-08-19","Me, I'm Not \nThe Great Destroyer \nHYPERPOWER! \nThe Beginning of the End \nSurvivalism \nMarch of the Pigs \nPiggy \nBurn \nReptile \nThe Good Soldier \nThe Day the World Went Away \nDead Souls (Joy Division cover) \nThe Hand That Feeds \nWish \n","Grolsch","Festivaloptreden",8,2007,{"$f":"VLOOKUP(Table1[[#This Row],[Maand (getal)]],Lijst!A:B,2,FALSE)","v":"aug"},{"$f":"IFERROR(IF(ISBLANK('Zoeken in Database'!$D$3),\"x\",IF(SEARCH('Zoeken in Database'!$D$3,Concerten!A692,1),\"x\",\"\")),\"\")","v":"x"},{"$f":"IFERROR(IF(ISBLANK('Zoeken in Database'!$D$4),\"x\",IF(SEARCH('Zoeken in Database'!$D$4,Concerten!B692,1),\"x\",\"\")),\"\")","v":"x"},{"$f":"IFERROR(IF(ISBLANK('Zoeken in Database'!$D$5),\"x\",IF(SEARCH('Zoeken in Database'!$D$5,Concerten!C692,1),\"x\",\"\")),\"\")","v":"x"},{"$f":"IFERROR(IF(ISBLANK('Zoeken in Database'!$D$6),\"x\",IF(SEARCH('Zoeken in Database'!$D$6,Concerten!G692,1),\"x\",\"\")),\"\")","v":"x"},{"$f":"IF(AND(D692>='Zoeken in Database'!$A$7,'Zoeken in Database'!$A$8>=D692),\"x\",\"\")","v":"x"}]
["Motörhead","Lowlands 2007","Biddinghuizen","2007-08-19",null,"Grolsch","Festivaloptreden",8,2007,{"$f":"VLOOKUP(Table1[[#This Row],[Maand (getal)]],Lijst!A:B,2,FALSE)","v":"aug"},{"$f":"IFERROR(IF(ISBLANK('Zoeken in Database'!$D$3),\"x\",IF(SEARCH('Zoeken in Database'!$D$3,Concerten!A693,1),\"x\",\"\")),\"\")","v":"x"},{"$f":"IFERROR(IF(ISBLANK('Zoeken in Database'!$D$4),\"x\",IF(SEARCH('Zoeken in Database'!$D$4,Concerten!B693,1),\"x\",\"\")),\"\")","v":"x"},{"$f":"IFERROR(IF(ISBLANK('Zoeken in Database'!$D$5),\"x\",IF(SEARCH('Zoeken in Database'!$D$5,Concerten!C693,1),\"x\",\"\")),\"\")","v":"x"},{"$f":"IFERROR(IF(ISBLANK('Zoeken in Database'!$D$6),\"x\",IF(SEARCH('Zoeken in Database'!$D$6,Concerten!G693,1),\"x\",\"\")),\"\")","v":"x"},{"$f":"IF(AND(D693>='Zoeken in Database'!$A$7,'Zoeken in Database'!$A$8>=D693),\"x\",\"\")","v":"x"}]
["Francis, Stewart","Lowlands 2007","Biddinghuizen","2007-08-19",null,"Juliet","Festivaloptreden",8,2007,{"$f":"VLOOKUP(Table1[[#This Row],[Maand (getal)]],Lijst!A:B,2,FALSE)","v":"aug"},{"$f":"IFERROR(IF(ISBLANK('Zoeken in Database'!$D$3),\"x\",IF(SEARCH('Zoeken in Database'!$D$3,Concerten!A694,1),\"x\",\"\")),\"\")","v":"x"},{"$f":"IFERROR(IF(ISBLANK('Zoeken in Database'!$D$4),\"x\",IF(SEARCH('Zoeken in Database'!$D$4,Concerten!B694,1),\"x\",\"\")),\"\")","v":"x"},{"$f":"IFERROR(IF(ISBLANK('Zoeken in Database'!$D$5),\"x\",IF(SEARCH('Zoeken in Database'!$D$5,Concerten!C694,1),\"x\",\"\")),\"\")","v":"x"},{"$f":"IFERROR(IF(ISBLANK('Zoeken in Database'!$D$6),\"x\",IF(SEARCH('Zoeken in Database'!$D$6,Concerten!G694,1),\"x\",\"\")),\"\")","v":"x"},{"$f":"IF(AND(D694>='Zoeken in Database'!$A$7,'Zoeken in Database'!$A$8>=D694),\"x\",\"\")","v":"x"}]
["Eerden, Klaas van der","Weijertheater","Boxmeer","2007-09-15",null,"Wortels","Theater",9,2007,{"$f":"VLOOKUP(Table1[[#This Row],[Maand (getal)]],Lijst!A:B,2,FALSE)","v":"sep"},{"$f":"IFERROR(IF(ISBLANK('Zoeken in Database'!$D$3),\"x\",IF(SEARCH('Zoeken in Database'!$D$3,Concerten!A695,1),\"x\",\"\")),\"\")","v":"x"},{"$f":"IFERROR(IF(ISBLANK('Zoeken in Database'!$D$4),\"x\",IF(SEARCH('Zoeken in Database'!$D$4,Concerten!B695,1),\"x\",\"\")),\"\")","v":"x"},{"$f":"IFERROR(IF(ISBLANK('Zoeken in Database'!$D$5),\"x\",IF(SEARCH('Zoeken in Database'!$D$5,Concerten!C695,1),\"x\",\"\")),\"\")","v":"x"},{"$f":"IFERROR(IF(ISBLANK('Zoeken in Database'!$D$6),\"x\",IF(SEARCH('Zoeken in Database'!$D$6,Concerten!G695,1),\"x\",\"\")),\"\")","v":"x"},{"$f":"IF(AND(D695>='Zoeken in Database'!$A$7,'Zoeken in Database'!$A$8>=D695),\"x\",\"\")","v":"x"}]
["McRae, Tom","Lux","Nijmegen","2007-10-05",null,null,"Hoofdprogramma",10,2007,{"$f":"VLOOKUP(Table1[[#This Row],[Maand (getal)]],Lijst!A:B,2,FALSE)","v":"okt"},{"$f":"IFERROR(IF(ISBLANK('Zoeken in Database'!$D$3),\"x\",IF(SEARCH('Zoeken in Database'!$D$3,Concerten!A696,1),\"x\",\"\")),\"\")","v":"x"},{"$f":"IFERROR(IF(ISBLANK('Zoeken in Database'!$D$4),\"x\",IF(SEARCH('Zoeken in Database'!$D$4,Concerten!B696,1),\"x\",\"\")),\"\")","v":"x"},{"$f":"IFERROR(IF(ISBLANK('Zoeken in Database'!$D$5),\"x\",IF(SEARCH('Zoeken in Database'!$D$5,Concerten!C696,1),\"x\",\"\")),\"\")","v":"x"},{"$f":"IFERROR(IF(ISBLANK('Zoeken in Database'!$D$6),\"x\",IF(SEARCH('Zoeken in Database'!$D$6,Concerten!G696,1),\"x\",\"\")),\"\")","v":"x"},{"$f":"IF(AND(D696>='Zoeken in Database'!$A$7,'Zoeken in Database'!$A$8>=D696),\"x\",\"\")","v":"x"}]
["Williams, Kathryn","Lux","Nijmegen","2007-10-05",null,null,"Voorprogramma",10,2007,{"$f":"VLOOKUP(Table1[[#This Row],[Maand (getal)]],Lijst!A:B,2,FALSE)","v":"okt"},{"$f":"IFERROR(IF(ISBLANK('Zoeken in Database'!$D$3),\"x\",IF(SEARCH('Zoeken in Database'!$D$3,Concerten!A697,1),\"x\",\"\")),\"\")","v":"x"},{"$f":"IFERROR(IF(ISBLANK('Zoeken in Database'!$D$4),\"x\",IF(SEARCH('Zoeken in Database'!$D$4,Concerten!B697,1),\"x\",\"\")),\"\")","v":"x"},{"$f":"IFERROR(IF(ISBLANK('Zoeken in Database'!$D$5),\"x\",IF(SEARCH('Zoeken in Database'!$D$5,Concerten!C697,1),\"x\",\"\")),\"\")","v":"x"},{"$f":"IFERROR(IF(ISBLANK('Zoeken in Database'!$D$6),\"x\",IF(SEARCH('Zoeken in Database'!$D$6,Concerten!G697,1),\"x\",\"\")),\"\")","v":"x"},{"$f":"IF(AND(D697>='Zoeken in Database'!$A$7,'Zoeken in Database'!$A$8>=D697),\"x\",\"\")","v":"x"}]
["Dolorean","Perron 55","Venlo","2007-11-11",null,null,"Hoofdprogramma",11,2007,{"$f":"VLOOKUP(Table1[[#This Row],[Maand (getal)]],Lijst!A:B,2,FALSE)","v":"nov"},{"$f":"IFERROR(IF(ISBLANK('Zoeken in Database'!$D$3),\"x\",IF(SEARCH('Zoeken in Database'!$D$3,Concerten!A698,1),\"x\",\"\")),\"\")","v":"x"},{"$f":"IFERROR(IF(ISBLANK('Zoeken in Database'!$D$4),\"x\",IF(SEARCH('Zoeken in Database'!$D$4,Concerten!B698,1),\"x\",\"\")),\"\")","v":"x"},{"$f":"IFERROR(IF(ISBLANK('Zoeken in Database'!$D$5),\"x\",IF(SEARCH('Zoeken in Database'!$D$5,Concerten!C698,1),\"x\",\"\")),\"\")","v":"x"},{"$f":"IFERROR(IF(ISBLANK('Zoeken in Database'!$D$6),\"x\",IF(SEARCH('Zoeken in Database'!$D$6,Concerten!G698,1),\"x\",\"\")),\"\")","v":"x"},{"$f":"IF(AND(D698>='Zoeken in Database'!$A$7,'Zoeken in Database'!$A$8>=D698),\"x\",\"\")","v":"x"}]
["Lawson, Davie","Perron 55","Venlo","2007-11-11",null,null,"Voorprogramma",11,2007,{"$f":"VLOOKUP(Table1[[#This Row],[Maand (getal)]],Lijst!A:B,2,FALSE)","v":"nov"},{"$f":"IFERROR(IF(ISBLANK('Zoeken in Database'!$D$3),\"x\",IF(SEARCH('Zoeken in Database'!$D$3,Concerten!A699,1),\"x\",\"\")),\"\")","v":"x"},{"$f":"IFERROR(IF(ISBLANK('Zoeken in Database'!$D$4),\"x\",IF(SEARCH('Zoeken in Database'!$D$4,Concerten!B699,1),\"x\",\"\")),\"\")","v":"x"},{"$f":"IFERROR(IF(ISBLANK('Zoeken in Database'!$D$5),\"x\",IF(SEARCH('Zoeken in Database'!$D$5,Concerten!C699,1),\"x\",\"\")),\"\")","v":"x"},{"$f":"IFERROR(IF(ISBLANK('Zoeken in Database'!$D$6),\"x\",IF(SEARCH('Zoeken in Database'!$D$6,Concerten!G699,1),\"x\",\"\")),\"\")","v":"x"},{"$f":"IF(AND(D699>='Zoeken in Database'!$A$7,'Zoeken in Database'!$A$8>=D699),\"x\",\"\")","v":"x"}]
["Wild Light","Heineken Music Hall","Amsterdam","2007-11-13",null,null,"Voorprogramma",11,2007,{"$f":"VLOOKUP(Table1[[#This Row],[Maand (getal)]],Lijst!A:B,2,FALSE)","v":"nov"},{"$f":"IFERROR(IF(ISBLANK('Zoeken in Database'!$D$3),\"x\",IF(SEARCH('Zoeken in Database'!$D$3,Concerten!A700,1),\"x\",\"\")),\"\")","v":"x"},{"$f":"IFERROR(IF(ISBLANK('Zoeken in Database'!$D$4),\"x\",IF(SEARCH('Zoeken in Database'!$D$4,Concerten!B700,1),\"x\",\"\")),\"\")","v":"x"},{"$f":"IFERROR(IF(ISBLANK('Zoeken in Database'!$D$5),\"x\",IF(SEARCH('Zoeken in Database'!$D$5,Concerten!C700,1),\"x\",\"\")),\"\")","v":"x"},{"$f":"IFERROR(IF(ISBLANK('Zoeken in Database'!$D$6),\"x\",IF(SEARCH('Zoeken in Database'!$D$6,Concerten!G700,1),\"x\",\"\")),\"\")","v":"x"},{"$f":"IF(AND(D700>='Zoeken in Database'!$A$7,'Zoeken in Database'!$A$8>=D700),\"x\",\"\")","v":"x"}]
["Arcade Fire","Heineken Music Hall","Amsterdam","2007-11-13","Black Mirror\nNeighborhood #2 (Laïka)\nNo Cars Go, Haïti\nSleeping in a Submarine\nBlack Wave/Bad Vibrations\nIn the Backseat\nNeon Bible\nAge of Consent\nIntervention\nThe Well and the Lighthouse\nNeighborhood #1 (Tunnels)\n(Antichrist Television Blues)\nNeighborhood #3 (Power Out)\nRebellion (Lies) \n/// \nKeep the Car Running\nWake Up \n",null,"Hoofdprogramma",11,2007,{"$f":"VLOOKUP(Table1[[#This Row],[Maand (getal)]],Lijst!A:B,2,FALSE)","v":"nov"},{"$f":"IFERROR(IF(ISBLANK('Zoeken in Database'!$D$3),\"x\",IF(SEARCH('Zoeken in Database'!$D$3,Concerten!A701,1),\"x\",\"\")),\"\")","v":"x"},{"$f":"IFERROR(IF(ISBLANK('Zoeken in Database'!$D$4),\"x\",IF(SEARCH('Zoeken in Database'!$D$4,Concerten!B701,1),\"x\",\"\")),\"\")","v":"x"},{"$f":"IFERROR(IF(ISBLANK('Zoeken in Database'!$D$5),\"x\",IF(SEARCH('Zoeken in Database'!$D$5,Concerten!C701,1),\"x\",\"\")),\"\")","v":"x"},{"$f":"IFERROR(IF(ISBLANK('Zoeken in Database'!$D$6),\"x\",IF(SEARCH('Zoeken in Database'!$D$6,Concerten!G701,1),\"x\",\"\")),\"\")","v":"x"},{"$f":"IF(AND(D701>='Zoeken in Database'!$A$7,'Zoeken in Database'!$A$8>=D701),\"x\",\"\")","v":"x"}]
["Wainwright, Rufus","Heineken Music Hall","Amsterdam","2007-11-20","01. Release The Stars\n02. Going To A Town\n03. Sanssouci\n04. Rules And Regulations\n05. Cigarettes And Chocolate Milk\n06. The Art Teacher\n07. Tiergaren\n08. Leaving For Paris\n09. Between My Legs\n- - - - - - - - - - - - - -\n10. Matinee Idol\n11. Do I Disappoint You\n12. A Foggy Day\n13. If Love Were All\n14. Beautiful Child\n15. Not Ready To Love\n16. Slideshow\n17. 14th Street\n- - - - - - - - - - - - - - -\n18. I Don't Know What It Is\n19. Poses\n20. Complainte De La Butte\n21. Millbrook - dedicated to best friend Fred who was in the audience\n22. Get Happy\n23. Gay Messiah ",null,"Hoofdprogramma",11,2007,{"$f":"VLOOKUP(Table1[[#This Row],[Maand (getal)]],Lijst!A:B,2,FALSE)","v":"nov"},{"$f":"IFERROR(IF(ISBLANK('Zoeken in Database'!$D$3),\"x\",IF(SEARCH('Zoeken in Database'!$D$3,Concerten!A702,1),\"x\",\"\")),\"\")","v":"x"},{"$f":"IFERROR(IF(ISBLANK('Zoeken in Database'!$D$4),\"x\",IF(SEARCH('Zoeken in Database'!$D$4,Concerten!B702,1),\"x\",\"\")),\"\")","v":"x"},{"$f":"IFERROR(IF(ISBLANK('Zoeken in Database'!$D$5),\"x\",IF(SEARCH('Zoeken in Database'!$D$5,Concerten!C702,1),\"x\",\"\")),\"\")","v":"x"},{"$f":"IFERROR(IF(ISBLANK('Zoeken in Database'!$D$6),\"x\",IF(SEARCH('Zoeken in Database'!$D$6,Concerten!G702,1),\"x\",\"\")),\"\")","v":"x"},{"$f":"IF(AND(D702>='Zoeken in Database'!$A$7,'Zoeken in Database'!$A$8>=D702),\"x\",\"\")","v":"x"}]
["Adams, Ryan","Rai","Amsterdam","2007-11-26","On Stage: 20:27\n\nSet 1:\nPeaceful Valley.\nPlease Do Not Let Me Go.\nA Kiss Before I Go.\nGoodnight Rose.\nRescue Blues.\nWhen The Stars Go Blue.\nWhy Do They Leave.\nEverybody Knows.\nImpromptu song about his unusual smell.\nRip Off.\nThe Sun Also Sets.\nFreeway To The Canyon.\nBartering Lines.\nShakedown On 9th St.\nNightbirds.\nCold Roses.\n\n10:00pm Encore:\nTwo.\nEasy Plateau.","Met de Cardinals","Hoofdprogramma",11,2007,{"$f":"VLOOKUP(Table1[[#This Row],[Maand (getal)]],Lijst!A:B,2,FALSE)","v":"nov"},{"$f":"IFERROR(IF(ISBLANK('Zoeken in Database'!$D$3),\"x\",IF(SEARCH('Zoeken in Database'!$D$3,Concerten!A703,1),\"x\",\"\")),\"\")","v":"x"},{"$f":"IFERROR(IF(ISBLANK('Zoeken in Database'!$D$4),\"x\",IF(SEARCH('Zoeken in Database'!$D$4,Concerten!B703,1),\"x\",\"\")),\"\")","v":"x"},{"$f":"IFERROR(IF(ISBLANK('Zoeken in Database'!$D$5),\"x\",IF(SEARCH('Zoeken in Database'!$D$5,Concerten!C703,1),\"x\",\"\")),\"\")","v":"x"},{"$f":"IFERROR(IF(ISBLANK('Zoeken in Database'!$D$6),\"x\",IF(SEARCH('Zoeken in Database'!$D$6,Concerten!G703,1),\"x\",\"\")),\"\")","v":"x"},{"$f":"IF(AND(D703>='Zoeken in Database'!$A$7,'Zoeken in Database'!$A$8>=D703),\"x\",\"\")","v":"x"}]
["Wal, Jan Jaap van der","Schouwburg Cuijk","Cuijk","2007-11-29",null,null,"Theater",11,2007,{"$f":"VLOOKUP(Table1[[#This Row],[Maand (getal)]],Lijst!A:B,2,FALSE)","v":"nov"},{"$f":"IFERROR(IF(ISBLANK('Zoeken in Database'!$D$3),\"x\",IF(SEARCH('Zoeken in Database'!$D$3,Concerten!A704,1),\"x\",\"\")),\"\")","v":"x"},{"$f":"IFERROR(IF(ISBLANK('Zoeken in Database'!$D$4),\"x\",IF(SEARCH('Zoeken in Database'!$D$4,Concerten!B704,1),\"x\",\"\")),\"\")","v":"x"},{"$f":"IFERROR(IF(ISBLANK('Zoeken in Database'!$D$5),\"x\",IF(SEARCH('Zoeken in Database'!$D$5,Concerten!C704,1),\"x\",\"\")),\"\")","v":"x"},{"$f":"IFERROR(IF(ISBLANK('Zoeken in Database'!$D$6),\"x\",IF(SEARCH('Zoeken in Database'!$D$6,Concerten!G704,1),\"x\",\"\")),\"\")","v":"x"},{"$f":"IF(AND(D704>='Zoeken in Database'!$A$7,'Zoeken in Database'!$A$8>=D704),\"x\",\"\")","v":"x"}]
["Springsteen, Bruce","Gelredome","Arnhem","2007-11-30","Radio Nowhere\nNo Surrender\nLonesome Day\nGypsy Biker\nMagic\nReason to Believe\nCandy's Room\nShe's the One\nLivin' in the Future\nThe Promised Land\nDarlington County\nTunnel of Love\nNight\nDevil's Arcade\nThe Rising\nLast to Die\nLong Walk Home\nBadlands\n\nEncore:\n\nGirls in Their Summer Clothes\nSanta Claus is Comin' to Town\nBorn to Run\nDancing in the Dark\nAmerican Land",null,"Hoofdprogramma",11,2007,{"$f":"VLOOKUP(Table1[[#This Row],[Maand (getal)]],Lijst!A:B,2,FALSE)","v":"nov"},{"$f":"IFERROR(IF(ISBLANK('Zoeken in Database'!$D$3),\"x\",IF(SEARCH('Zoeken in Database'!$D$3,Concerten!A705,1),\"x\",\"\")),\"\")","v":"x"},{"$f":"IFERROR(IF(ISBLANK('Zoeken in Database'!$D$4),\"x\",IF(SEARCH('Zoeken in Database'!$D$4,Concerten!B705,1),\"x\",\"\")),\"\")","v":"x"},{"$f":"IFERROR(IF(ISBLANK('Zoeken in Database'!$D$5),\"x\",IF(SEARCH('Zoeken in Database'!$D$5,Concerten!C705,1),\"x\",\"\")),\"\")","v":"x"},{"$f":"IFERROR(IF(ISBLANK('Zoeken in Database'!$D$6),\"x\",IF(SEARCH('Zoeken in Database'!$D$6,Concerten!G705,1),\"x\",\"\")),\"\")","v":"x"},{"$f":"IF(AND(D705>='Zoeken in Database'!$A$7,'Zoeken in Database'!$A$8>=D705),\"x\",\"\")","v":"x"}]
["NUHR","Schouwburg Cuijk","Cuijk","2007-12-04",null,"Natuurlijke Selectie","Theater",12,2007,{"$f":"VLOOKUP(Table1[[#This Row],[Maand (getal)]],Lijst!A:B,2,FALSE)","v":"dec"},{"$f":"IFERROR(IF(ISBLANK('Zoeken in Database'!$D$3),\"x\",IF(SEARCH('Zoeken in Database'!$D$3,Concerten!A706,1),\"x\",\"\")),\"\")","v":"x"},{"$f":"IFERROR(IF(ISBLANK('Zoeken in Database'!$D$4),\"x\",IF(SEARCH('Zoeken in Database'!$D$4,Concerten!B706,1),\"x\",\"\")),\"\")","v":"x"},{"$f":"IFERROR(IF(ISBLANK('Zoeken in Database'!$D$5),\"x\",IF(SEARCH('Zoeken in Database'!$D$5,Concerten!C706,1),\"x\",\"\")),\"\")","v":"x"},{"$f":"IFERROR(IF(ISBLANK('Zoeken in Database'!$D$6),\"x\",IF(SEARCH('Zoeken in Database'!$D$6,Concerten!G706,1),\"x\",\"\")),\"\")","v":"x"},{"$f":"IF(AND(D706>='Zoeken in Database'!$A$7,'Zoeken in Database'!$A$8>=D706),\"x\",\"\")","v":"x"}]
["Acda en de Munnik","Schouwburg Cuijk","Cuijk","2007-12-08",null,null,"Theater",{"$f":"IF(ISBLANK(D707),\"\",MONTH(D707))","v":12},{"$f":"IF(ISBLANK(D707),\"\",YEAR(D707))","v":2007},{"$f":"VLOOKUP(Table1[[#This Row],[Maand (getal)]],Lijst!A:B,2,FALSE)","v":"dec"},{"$f":"IFERROR(IF(ISBLANK('Zoeken in Database'!$D$3),\"x\",IF(SEARCH('Zoeken in Database'!$D$3,Concerten!A707,1),\"x\",\"\")),\"\")","v":"x"},{"$f":"IFERROR(IF(ISBLANK('Zoeken in Database'!$D$4),\"x\",IF(SEARCH('Zoeken in Database'!$D$4,Concerten!B707,1),\"x\",\"\")),\"\")","v":"x"},{"$f":"IFERROR(IF(ISBLANK('Zoeken in Database'!$D$5),\"x\",IF(SEARCH('Zoeken in Database'!$D$5,Concerten!C707,1),\"x\",\"\")),\"\")","v":"x"},{"$f":"IFERROR(IF(ISBLANK('Zoeken in Database'!$D$6),\"x\",IF(SEARCH('Zoeken in Database'!$D$6,Concerten!G707,1),\"x\",\"\")),\"\")","v":"x"},{"$f":"IF(AND(D707>='Zoeken in Database'!$A$7,'Zoeken in Database'!$A$8>=D707),\"x\",\"\")","v":"x"}]
["Spinvis","Doornroosje","Nijmegen","2007-12-11","Bagagedrager\nAstronaut\nDe talen van mijn tong\nFlamingo\nKindje van God\nHet voordeel van video\nHerfst in Nieuwegein\nLimonadeglazen wodka\nDagen van gras, dagen van stro\nWespen op de appeltaart\nEen nagemaakte gek\nKom in de cockpit\nDe eerste dag\nIk wil alleen maar zwemmen\nIn staat van narcose\n------------------------------------------\nSmalfilm\nVoor ik vergeet\nAan de oevers van de tijd",null,"Hoofdprogramma",12,2007,{"$f":"VLOOKUP(Table1[[#This Row],[Maand (getal)]],Lijst!A:B,2,FALSE)","v":"dec"},{"$f":"IFERROR(IF(ISBLANK('Zoeken in Database'!$D$3),\"x\",IF(SEARCH('Zoeken in Database'!$D$3,Concerten!A708,1),\"x\",\"\")),\"\")","v":"x"},{"$f":"IFERROR(IF(ISBLANK('Zoeken in Database'!$D$4),\"x\",IF(SEARCH('Zoeken in Database'!$D$4,Concerten!B708,1),\"x\",\"\")),\"\")","v":"x"},{"$f":"IFERROR(IF(ISBLANK('Zoeken in Database'!$D$5),\"x\",IF(SEARCH('Zoeken in Database'!$D$5,Concerten!C708,1),\"x\",\"\")),\"\")","v":"x"},{"$f":"IFERROR(IF(ISBLANK('Zoeken in Database'!$D$6),\"x\",IF(SEARCH('Zoeken in Database'!$D$6,Concerten!G708,1),\"x\",\"\")),\"\")","v":"x"},{"$f":"IF(AND(D708>='Zoeken in Database'!$A$7,'Zoeken in Database'!$A$8>=D708),\"x\",\"\")","v":"x"}]
["Madd, The","Doornroosje","Nijmegen","2007-12-11",null,null,"Voorprogramma",12,2007,{"$f":"VLOOKUP(Table1[[#This Row],[Maand (getal)]],Lijst!A:B,2,FALSE)","v":"dec"},{"$f":"IFERROR(IF(ISBLANK('Zoeken in Database'!$D$3),\"x\",IF(SEARCH('Zoeken in Database'!$D$3,Concerten!A709,1),\"x\",\"\")),\"\")","v":"x"},{"$f":"IFERROR(IF(ISBLANK('Zoeken in Database'!$D$4),\"x\",IF(SEARCH('Zoeken in Database'!$D$4,Concerten!B709,1),\"x\",\"\")),\"\")","v":"x"},{"$f":"IFERROR(IF(ISBLANK('Zoeken in Database'!$D$5),\"x\",IF(SEARCH('Zoeken in Database'!$D$5,Concerten!C709,1),\"x\",\"\")),\"\")","v":"x"},{"$f":"IFERROR(IF(ISBLANK('Zoeken in Database'!$D$6),\"x\",IF(SEARCH('Zoeken in Database'!$D$6,Concerten!G709,1),\"x\",\"\")),\"\")","v":"x"},{"$f":"IF(AND(D709>='Zoeken in Database'!$A$7,'Zoeken in Database'!$A$8>=D709),\"x\",\"\")","v":"x"}]
["Camaretten Finale Tournee","Weijertheater","Boxmeer","2007-12-29",null,"Pia Naber, Luc Onderbeke en Vincent Geers","Theater",12,2007,{"$f":"VLOOKUP(Table1[[#This Row],[Maand (getal)]],Lijst!A:B,2,FALSE)","v":"dec"},{"$f":"IFERROR(IF(ISBLANK('Zoeken in Database'!$D$3),\"x\",IF(SEARCH('Zoeken in Database'!$D$3,Concerten!A710,1),\"x\",\"\")),\"\")","v":"x"},{"$f":"IFERROR(IF(ISBLANK('Zoeken in Database'!$D$4),\"x\",IF(SEARCH('Zoeken in Database'!$D$4,Concerten!B710,1),\"x\",\"\")),\"\")","v":"x"},{"$f":"IFERROR(IF(ISBLANK('Zoeken in Database'!$D$5),\"x\",IF(SEARCH('Zoeken in Database'!$D$5,Concerten!C710,1),\"x\",\"\")),\"\")","v":"x"},{"$f":"IFERROR(IF(ISBLANK('Zoeken in Database'!$D$6),\"x\",IF(SEARCH('Zoeken in Database'!$D$6,Concerten!G710,1),\"x\",\"\")),\"\")","v":"x"},{"$f":"IF(AND(D710>='Zoeken in Database'!$A$7,'Zoeken in Database'!$A$8>=D710),\"x\",\"\")","v":"x"}]
["Plien en Bianca","Schouwburg Cuijk","Cuijk","2008-01-15",null,"Wie Dan Allemaal","Theater",1,2008,{"$f":"VLOOKUP(Table1[[#This Row],[Maand (getal)]],Lijst!A:B,2,FALSE)","v":"jan"},{"$f":"IFERROR(IF(ISBLANK('Zoeken in Database'!$D$3),\"x\",IF(SEARCH('Zoeken in Database'!$D$3,Concerten!A711,1),\"x\",\"\")),\"\")","v":"x"},{"$f":"IFERROR(IF(ISBLANK('Zoeken in Database'!$D$4),\"x\",IF(SEARCH('Zoeken in Database'!$D$4,Concerten!B711,1),\"x\",\"\")),\"\")","v":"x"},{"$f":"IFERROR(IF(ISBLANK('Zoeken in Database'!$D$5),\"x\",IF(SEARCH('Zoeken in Database'!$D$5,Concerten!C711,1),\"x\",\"\")),\"\")","v":"x"},{"$f":"IFERROR(IF(ISBLANK('Zoeken in Database'!$D$6),\"x\",IF(SEARCH('Zoeken in Database'!$D$6,Concerten!G711,1),\"x\",\"\")),\"\")","v":"x"},{"$f":"IF(AND(D711>='Zoeken in Database'!$A$7,'Zoeken in Database'!$A$8>=D711),\"x\",\"\")","v":"x"}]
["Solitus","Merleyn","Nijmegen","2008-01-16",null,null,"Voorprogramma",1,2008,{"$f":"VLOOKUP(Table1[[#This Row],[Maand (getal)]],Lijst!A:B,2,FALSE)","v":"jan"},{"$f":"IFERROR(IF(ISBLANK('Zoeken in Database'!$D$3),\"x\",IF(SEARCH('Zoeken in Database'!$D$3,Concerten!A712,1),\"x\",\"\")),\"\")","v":"x"},{"$f":"IFERROR(IF(ISBLANK('Zoeken in Database'!$D$4),\"x\",IF(SEARCH('Zoeken in Database'!$D$4,Concerten!B712,1),\"x\",\"\")),\"\")","v":"x"},{"$f":"IFERROR(IF(ISBLANK('Zoeken in Database'!$D$5),\"x\",IF(SEARCH('Zoeken in Database'!$D$5,Concerten!C712,1),\"x\",\"\")),\"\")","v":"x"},{"$f":"IFERROR(IF(ISBLANK('Zoeken in Database'!$D$6),\"x\",IF(SEARCH('Zoeken in Database'!$D$6,Concerten!G712,1),\"x\",\"\")),\"\")","v":"x"},{"$f":"IF(AND(D712>='Zoeken in Database'!$A$7,'Zoeken in Database'!$A$8>=D712),\"x\",\"\")","v":"x"}]
["Smash The Statues","Merleyn","Nijmegen","2008-01-16",null,null,"Hoofdprogramma",1,2008,{"$f":"VLOOKUP(Table1[[#This Row],[Maand (getal)]],Lijst!A:B,2,FALSE)","v":"jan"},{"$f":"IFERROR(IF(ISBLANK('Zoeken in Database'!$D$3),\"x\",IF(SEARCH('Zoeken in Database'!$D$3,Concerten!A713,1),\"x\",\"\")),\"\")","v":"x"},{"$f":"IFERROR(IF(ISBLANK('Zoeken in Database'!$D$4),\"x\",IF(SEARCH('Zoeken in Database'!$D$4,Concerten!B713,1),\"x\",\"\")),\"\")","v":"x"},{"$f":"IFERROR(IF(ISBLANK('Zoeken in Database'!$D$5),\"x\",IF(SEARCH('Zoeken in Database'!$D$5,Concerten!C713,1),\"x\",\"\")),\"\")","v":"x"},{"$f":"IFERROR(IF(ISBLANK('Zoeken in Database'!$D$6),\"x\",IF(SEARCH('Zoeken in Database'!$D$6,Concerten!G713,1),\"x\",\"\")),\"\")","v":"x"},{"$f":"IF(AND(D713>='Zoeken in Database'!$A$7,'Zoeken in Database'!$A$8>=D713),\"x\",\"\")","v":"x"}]
["Guinevere Leaves","Perron 55","Venlo","2008-01-25",null,null,"Voorprogramma",1,2008,{"$f":"VLOOKUP(Table1[[#This Row],[Maand (getal)]],Lijst!A:B,2,FALSE)","v":"jan"},{"$f":"IFERROR(IF(ISBLANK('Zoeken in Database'!$D$3),\"x\",IF(SEARCH('Zoeken in Database'!$D$3,Concerten!A714,1),\"x\",\"\")),\"\")","v":"x"},{"$f":"IFERROR(IF(ISBLANK('Zoeken in Database'!$D$4),\"x\",IF(SEARCH('Zoeken in Database'!$D$4,Concerten!B714,1),\"x\",\"\")),\"\")","v":"x"},{"$f":"IFERROR(IF(ISBLANK('Zoeken in Database'!$D$5),\"x\",IF(SEARCH('Zoeken in Database'!$D$5,Concerten!C714,1),\"x\",\"\")),\"\")","v":"x"},{"$f":"IFERROR(IF(ISBLANK('Zoeken in Database'!$D$6),\"x\",IF(SEARCH('Zoeken in Database'!$D$6,Concerten!G714,1),\"x\",\"\")),\"\")","v":"x"},{"$f":"IF(AND(D714>='Zoeken in Database'!$A$7,'Zoeken in Database'!$A$8>=D714),\"x\",\"\")","v":"x"}]
["Two Cow Garage","Perron 55","Venlo","2008-01-25",null,null,"Hoofdprogramma",1,2008,{"$f":"VLOOKUP(Table1[[#This Row],[Maand (getal)]],Lijst!A:B,2,FALSE)","v":"jan"},{"$f":"IFERROR(IF(ISBLANK('Zoeken in Database'!$D$3),\"x\",IF(SEARCH('Zoeken in Database'!$D$3,Concerten!A715,1),\"x\",\"\")),\"\")","v":"x"},{"$f":"IFERROR(IF(ISBLANK('Zoeken in Database'!$D$4),\"x\",IF(SEARCH('Zoeken in Database'!$D$4,Concerten!B715,1),\"x\",\"\")),\"\")","v":"x"},{"$f":"IFERROR(IF(ISBLANK('Zoeken in Database'!$D$5),\"x\",IF(SEARCH('Zoeken in Database'!$D$5,Concerten!C715,1),\"x\",\"\")),\"\")","v":"x"},{"$f":"IFERROR(IF(ISBLANK('Zoeken in Database'!$D$6),\"x\",IF(SEARCH('Zoeken in Database'!$D$6,Concerten!G715,1),\"x\",\"\")),\"\")","v":"x"},{"$f":"IF(AND(D715>='Zoeken in Database'!$A$7,'Zoeken in Database'!$A$8>=D715),\"x\",\"\")","v":"x"}]
["Phantom Of The Opera","Majestic Theatre","New York","2008-02-04",null,null,"Theater",2,2008,{"$f":"VLOOKUP(Table1[[#This Row],[Maand (getal)]],Lijst!A:B,2,FALSE)","v":"feb"},{"$f":"IFERROR(IF(ISBLANK('Zoeken in Database'!$D$3),\"x\",IF(SEARCH('Zoeken in Database'!$D$3,Concerten!A716,1),\"x\",\"\")),\"\")","v":"x"},{"$f":"IFERROR(IF(ISBLANK('Zoeken in Database'!$D$4),\"x\",IF(SEARCH('Zoeken in Database'!$D$4,Concerten!B716,1),\"x\",\"\")),\"\")","v":"x"},{"$f":"IFERROR(IF(ISBLANK('Zoeken in Database'!$D$5),\"x\",IF(SEARCH('Zoeken in Database'!$D$5,Concerten!C716,1),\"x\",\"\")),\"\")","v":"x"},{"$f":"IFERROR(IF(ISBLANK('Zoeken in Database'!$D$6),\"x\",IF(SEARCH('Zoeken in Database'!$D$6,Concerten!G716,1),\"x\",\"\")),\"\")","v":"x"},{"$f":"IF(AND(D716>='Zoeken in Database'!$A$7,'Zoeken in Database'!$A$8>=D716),\"x\",\"\")","v":"x"}]
["Gram","De Groene Engel","Oss","2008-02-15",null,null,"Voorprogramma",2,2008,{"$f":"VLOOKUP(Table1[[#This Row],[Maand (getal)]],Lijst!A:B,2,FALSE)","v":"feb"},{"$f":"IFERROR(IF(ISBLANK('Zoeken in Database'!$D$3),\"x\",IF(SEARCH('Zoeken in Database'!$D$3,Concerten!A717,1),\"x\",\"\")),\"\")","v":"x"},{"$f":"IFERROR(IF(ISBLANK('Zoeken in Database'!$D$4),\"x\",IF(SEARCH('Zoeken in Database'!$D$4,Concerten!B717,1),\"x\",\"\")),\"\")","v":"x"},{"$f":"IFERROR(IF(ISBLANK('Zoeken in Database'!$D$5),\"x\",IF(SEARCH('Zoeken in Database'!$D$5,Concerten!C717,1),\"x\",\"\")),\"\")","v":"x"},{"$f":"IFERROR(IF(ISBLANK('Zoeken in Database'!$D$6),\"x\",IF(SEARCH('Zoeken in Database'!$D$6,Concerten!G717,1),\"x\",\"\")),\"\")","v":"x"},{"$f":"IF(AND(D717>='Zoeken in Database'!$A$7,'Zoeken in Database'!$A$8>=D717),\"x\",\"\")","v":"x"}]
["Voicst ","De Groene Engel","Oss","2008-02-15","High\nKickback\nSo Simple\nRocket\nDazzled\nDon't Wrong\nAHA\nPorn\nListen\nCookie\nAlabama\nE-Slick\n2 Devils \nYear A Bit\nChemical\nEveryday\n------\nMixed\nWhatever\nFeelings\n\n",null,"Hoofdprogramma",2,2008,{"$f":"VLOOKUP(Table1[[#This Row],[Maand (getal)]],Lijst!A:B,2,FALSE)","v":"feb"},{"$f":"IFERROR(IF(ISBLANK('Zoeken in Database'!$D$3),\"x\",IF(SEARCH('Zoeken in Database'!$D$3,Concerten!A718,1),\"x\",\"\")),\"\")","v":"x"},{"$f":"IFERROR(IF(ISBLANK('Zoeken in Database'!$D$4),\"x\",IF(SEARCH('Zoeken in Database'!$D$4,Concerten!B718,1),\"x\",\"\")),\"\")","v":"x"},{"$f":"IFERROR(IF(ISBLANK('Zoeken in Database'!$D$5),\"x\",IF(SEARCH('Zoeken in Database'!$D$5,Concerten!C718,1),\"x\",\"\")),\"\")","v":"x"},{"$f":"IFERROR(IF(ISBLANK('Zoeken in Database'!$D$6),\"x\",IF(SEARCH('Zoeken in Database'!$D$6,Concerten!G718,1),\"x\",\"\")),\"\")","v":"x"},{"$f":"IF(AND(D718>='Zoeken in Database'!$A$7,'Zoeken in Database'!$A$8>=D718),\"x\",\"\")","v":"x"}]
["Lucky Fonz III","Doornroosje","Nijmegen","2008-02-22",null,null,"Hoofdprogramma",2,2008,{"$f":"VLOOKUP(Table1[[#This Row],[Maand (getal)]],Lijst!A:B,2,FALSE)","v":"feb"},{"$f":"IFERROR(IF(ISBLANK('Zoeken in Database'!$D$3),\"x\",IF(SEARCH('Zoeken in Database'!$D$3,Concerten!A719,1),\"x\",\"\")),\"\")","v":"x"},{"$f":"IFERROR(IF(ISBLANK('Zoeken in Database'!$D$4),\"x\",IF(SEARCH('Zoeken in Database'!$D$4,Concerten!B719,1),\"x\",\"\")),\"\")","v":"x"},{"$f":"IFERROR(IF(ISBLANK('Zoeken in Database'!$D$5),\"x\",IF(SEARCH('Zoeken in Database'!$D$5,Concerten!C719,1),\"x\",\"\")),\"\")","v":"x"},{"$f":"IFERROR(IF(ISBLANK('Zoeken in Database'!$D$6),\"x\",IF(SEARCH('Zoeken in Database'!$D$6,Concerten!G719,1),\"x\",\"\")),\"\")","v":"x"},{"$f":"IF(AND(D719>='Zoeken in Database'!$A$7,'Zoeken in Database'!$A$8>=D719),\"x\",\"\")","v":"x"}]
["Lawson, Davie","Doornroosje","Nijmegen","2008-02-22",null,null,"Voorprogramma",2,2008,{"$f":"VLOOKUP(Table1[[#This Row],[Maand (getal)]],Lijst!A:B,2,FALSE)","v":"feb"},{"$f":"IFERROR(IF(ISBLANK('Zoeken in Database'!$D$3),\"x\",IF(SEARCH('Zoeken in Database'!$D$3,Concerten!A720,1),\"x\",\"\")),\"\")","v":"x"},{"$f":"IFERROR(IF(ISBLANK('Zoeken in Database'!$D$4),\"x\",IF(SEARCH('Zoeken in Database'!$D$4,Concerten!B720,1),\"x\",\"\")),\"\")","v":"x"},{"$f":"IFERROR(IF(ISBLANK('Zoeken in Database'!$D$5),\"x\",IF(SEARCH('Zoeken in Database'!$D$5,Concerten!C720,1),\"x\",\"\")),\"\")","v":"x"},{"$f":"IFERROR(IF(ISBLANK('Zoeken in Database'!$D$6),\"x\",IF(SEARCH('Zoeken in Database'!$D$6,Concerten!G720,1),\"x\",\"\")),\"\")","v":"x"},{"$f":"IF(AND(D720>='Zoeken in Database'!$A$7,'Zoeken in Database'!$A$8>=D720),\"x\",\"\")","v":"x"}]
["Kim Ki O","Doornroosje","Nijmegen","2008-02-25",null,null,"Voorprogramma",2,2008,{"$f":"VLOOKUP(Table1[[#This Row],[Maand (getal)]],Lijst!A:B,2,FALSE)","v":"feb"},{"$f":"IFERROR(IF(ISBLANK('Zoeken in Database'!$D$3),\"x\",IF(SEARCH('Zoeken in Database'!$D$3,Concerten!A721,1),\"x\",\"\")),\"\")","v":"x"},{"$f":"IFERROR(IF(ISBLANK('Zoeken in Database'!$D$4),\"x\",IF(SEARCH('Zoeken in Database'!$D$4,Concerten!B721,1),\"x\",\"\")),\"\")","v":"x"},{"$f":"IFERROR(IF(ISBLANK('Zoeken in Database'!$D$5),\"x\",IF(SEARCH('Zoeken in Database'!$D$5,Concerten!C721,1),\"x\",\"\")),\"\")","v":"x"},{"$f":"IFERROR(IF(ISBLANK('Zoeken in Database'!$D$6),\"x\",IF(SEARCH('Zoeken in Database'!$D$6,Concerten!G721,1),\"x\",\"\")),\"\")","v":"x"},{"$f":"IF(AND(D721>='Zoeken in Database'!$A$7,'Zoeken in Database'!$A$8>=D721),\"x\",\"\")","v":"x"}]
["Lekman, Jens","Doornroosje","Nijmegen","2008-02-25","I Am Leaving You Because I Don’t Love You\nThe Opposite of Hallelujah\nIt Was A Strange Time In My Life / Put You Arms Around Me\nSipping On The Sweet Nectar\nNew Directions\nBlack Cab\nYou Are The Light\nA Postcard To Nina\nMaple Leaves\nFriday Night At The Drive In Bingo\nShirin\n—\nEncore 1:\nA Sweet Summers Night On Hammer Hill\n\nEncore 2:\nA Little Lost (Arthur Russel cover)\nThe Cold Swedish Winter\nPocketful Of Money",null,"Hoofdprogramma",2,2008,{"$f":"VLOOKUP(Table1[[#This Row],[Maand (getal)]],Lijst!A:B,2,FALSE)","v":"feb"},{"$f":"IFERROR(IF(ISBLANK('Zoeken in Database'!$D$3),\"x\",IF(SEARCH('Zoeken in Database'!$D$3,Concerten!A722,1),\"x\",\"\")),\"\")","v":"x"},{"$f":"IFERROR(IF(ISBLANK('Zoeken in Database'!$D$4),\"x\",IF(SEARCH('Zoeken in Database'!$D$4,Concerten!B722,1),\"x\",\"\")),\"\")","v":"x"},{"$f":"IFERROR(IF(ISBLANK('Zoeken in Database'!$D$5),\"x\",IF(SEARCH('Zoeken in Database'!$D$5,Concerten!C722,1),\"x\",\"\")),\"\")","v":"x"},{"$f":"IFERROR(IF(ISBLANK('Zoeken in Database'!$D$6),\"x\",IF(SEARCH('Zoeken in Database'!$D$6,Concerten!G722,1),\"x\",\"\")),\"\")","v":"x"},{"$f":"IF(AND(D722>='Zoeken in Database'!$A$7,'Zoeken in Database'!$A$8>=D722),\"x\",\"\")","v":"x"}]
["Teitur & Nico Muhly","MC Frits Philips","Eindhoven","2008-03-15",null,"Cross Linx","Festivaloptreden",3,2008,{"$f":"VLOOKUP(Table1[[#This Row],[Maand (getal)]],Lijst!A:B,2,FALSE)","v":"mrt"},{"$f":"IFERROR(IF(ISBLANK('Zoeken in Database'!$D$3),\"x\",IF(SEARCH('Zoeken in Database'!$D$3,Concerten!A723,1),\"x\",\"\")),\"\")","v":"x"},{"$f":"IFERROR(IF(ISBLANK('Zoeken in Database'!$D$4),\"x\",IF(SEARCH('Zoeken in Database'!$D$4,Concerten!B723,1),\"x\",\"\")),\"\")","v":"x"},{"$f":"IFERROR(IF(ISBLANK('Zoeken in Database'!$D$5),\"x\",IF(SEARCH('Zoeken in Database'!$D$5,Concerten!C723,1),\"x\",\"\")),\"\")","v":"x"},{"$f":"IFERROR(IF(ISBLANK('Zoeken in Database'!$D$6),\"x\",IF(SEARCH('Zoeken in Database'!$D$6,Concerten!G723,1),\"x\",\"\")),\"\")","v":"x"},{"$f":"IF(AND(D723>='Zoeken in Database'!$A$7,'Zoeken in Database'!$A$8>=D723),\"x\",\"\")","v":"x"}]
["Eels","MC Frits Philips","Eindhoven","2008-03-15","Dirty Girl\nIt's A Motherfucker\nStrawberry Blonde\n3 Speed\nAfter The Operation\nSouljacker Pt.I\nElizabeth On The Bathroom Floor\nClimbing To The Moon\nMy Beloved Monster\nI Like Birds\nbook reading\nI Need Some Sleep\nThe Sound Of Fear\nbook reading\nLast Stop: This Town\nI Want To Protect You\nFlyswatter\nBus Stop Boxer\nNovocaine For The Soul\nGood Times, Bad Times [Led Zeppelin]\nSomebody Loves You\nSouljacker Pt.II\n-------------------------------------\nI'm Going To Stop Pretending That I Didn't Break Your Heart\n-------------------------------------\nP.S. You Rock My World","Cross Linx","Festivaloptreden",3,2008,{"$f":"VLOOKUP(Table1[[#This Row],[Maand (getal)]],Lijst!A:B,2,FALSE)","v":"mrt"},{"$f":"IFERROR(IF(ISBLANK('Zoeken in Database'!$D$3),\"x\",IF(SEARCH('Zoeken in Database'!$D$3,Concerten!A724,1),\"x\",\"\")),\"\")","v":"x"},{"$f":"IFERROR(IF(ISBLANK('Zoeken in Database'!$D$4),\"x\",IF(SEARCH('Zoeken in Database'!$D$4,Concerten!B724,1),\"x\",\"\")),\"\")","v":"x"},{"$f":"IFERROR(IF(ISBLANK('Zoeken in Database'!$D$5),\"x\",IF(SEARCH('Zoeken in Database'!$D$5,Concerten!C724,1),\"x\",\"\")),\"\")","v":"x"},{"$f":"IFERROR(IF(ISBLANK('Zoeken in Database'!$D$6),\"x\",IF(SEARCH('Zoeken in Database'!$D$6,Concerten!G724,1),\"x\",\"\")),\"\")","v":"x"},{"$f":"IF(AND(D724>='Zoeken in Database'!$A$7,'Zoeken in Database'!$A$8>=D724),\"x\",\"\")","v":"x"}]
["Arends, Daniel","Weijertheater","Boxmeer","2008-04-02",null,"Joko 79","Theater",4,2008,{"$f":"VLOOKUP(Table1[[#This Row],[Maand (getal)]],Lijst!A:B,2,FALSE)","v":"apr"},{"$f":"IFERROR(IF(ISBLANK('Zoeken in Database'!$D$3),\"x\",IF(SEARCH('Zoeken in Database'!$D$3,Concerten!A725,1),\"x\",\"\")),\"\")","v":"x"},{"$f":"IFERROR(IF(ISBLANK('Zoeken in Database'!$D$4),\"x\",IF(SEARCH('Zoeken in Database'!$D$4,Concerten!B725,1),\"x\",\"\")),\"\")","v":"x"},{"$f":"IFERROR(IF(ISBLANK('Zoeken in Database'!$D$5),\"x\",IF(SEARCH('Zoeken in Database'!$D$5,Concerten!C725,1),\"x\",\"\")),\"\")","v":"x"},{"$f":"IFERROR(IF(ISBLANK('Zoeken in Database'!$D$6),\"x\",IF(SEARCH('Zoeken in Database'!$D$6,Concerten!G725,1),\"x\",\"\")),\"\")","v":"x"},{"$f":"IF(AND(D725>='Zoeken in Database'!$A$7,'Zoeken in Database'!$A$8>=D725),\"x\",\"\")","v":"x"}]
["Be Your Own PET","Doornroosje","Nijmegen","2008-04-03",null,null,"Hoofdprogramma",4,2008,{"$f":"VLOOKUP(Table1[[#This Row],[Maand (getal)]],Lijst!A:B,2,FALSE)","v":"apr"},{"$f":"IFERROR(IF(ISBLANK('Zoeken in Database'!$D$3),\"x\",IF(SEARCH('Zoeken in Database'!$D$3,Concerten!A726,1),\"x\",\"\")),\"\")","v":"x"},{"$f":"IFERROR(IF(ISBLANK('Zoeken in Database'!$D$4),\"x\",IF(SEARCH('Zoeken in Database'!$D$4,Concerten!B726,1),\"x\",\"\")),\"\")","v":"x"},{"$f":"IFERROR(IF(ISBLANK('Zoeken in Database'!$D$5),\"x\",IF(SEARCH('Zoeken in Database'!$D$5,Concerten!C726,1),\"x\",\"\")),\"\")","v":"x"},{"$f":"IFERROR(IF(ISBLANK('Zoeken in Database'!$D$6),\"x\",IF(SEARCH('Zoeken in Database'!$D$6,Concerten!G726,1),\"x\",\"\")),\"\")","v":"x"},{"$f":"IF(AND(D726>='Zoeken in Database'!$A$7,'Zoeken in Database'!$A$8>=D726),\"x\",\"\")","v":"x"}]
["Blackbox Revelation, The","Doornroosje","Nijmegen","2008-04-08",null,null,"Voorprogramma",4,2008,{"$f":"VLOOKUP(Table1[[#This Row],[Maand (getal)]],Lijst!A:B,2,FALSE)","v":"apr"},{"$f":"IFERROR(IF(ISBLANK('Zoeken in Database'!$D$3),\"x\",IF(SEARCH('Zoeken in Database'!$D$3,Concerten!A727,1),\"x\",\"\")),\"\")","v":"x"},{"$f":"IFERROR(IF(ISBLANK('Zoeken in Database'!$D$4),\"x\",IF(SEARCH('Zoeken in Database'!$D$4,Concerten!B727,1),\"x\",\"\")),\"\")","v":"x"},{"$f":"IFERROR(IF(ISBLANK('Zoeken in Database'!$D$5),\"x\",IF(SEARCH('Zoeken in Database'!$D$5,Concerten!C727,1),\"x\",\"\")),\"\")","v":"x"},{"$f":"IFERROR(IF(ISBLANK('Zoeken in Database'!$D$6),\"x\",IF(SEARCH('Zoeken in Database'!$D$6,Concerten!G727,1),\"x\",\"\")),\"\")","v":"x"},{"$f":"IF(AND(D727>='Zoeken in Database'!$A$7,'Zoeken in Database'!$A$8>=D727),\"x\",\"\")","v":"x"}]
["dEUS","Doornroosje","Nijmegen","2008-04-08","# When She Comes Down\n# Oh Your God\n# Sun Ra\n# Eternal Woman\n# Instant Street\n# Slow\n# The Architect\n# Fell Off The Floor, Man\n# Favourite Game\n# Smokers Reflect\n# Nothing Really Ends\n# Bad Timing\n# Is A Robot\n# Pocket Revolution\n# Roses\n----\n# The Vanishing of Maria Schneider\n# What We Talk About (When We Talk About Love)\n# Theme From Turnpike\n# Popular Culture",null,"Hoofdprogramma",4,2008,{"$f":"VLOOKUP(Table1[[#This Row],[Maand (getal)]],Lijst!A:B,2,FALSE)","v":"apr"},{"$f":"IFERROR(IF(ISBLANK('Zoeken in Database'!$D$3),\"x\",IF(SEARCH('Zoeken in Database'!$D$3,Concerten!A728,1),\"x\",\"\")),\"\")","v":"x"},{"$f":"IFERROR(IF(ISBLANK('Zoeken in Database'!$D$4),\"x\",IF(SEARCH('Zoeken in Database'!$D$4,Concerten!B728,1),\"x\",\"\")),\"\")","v":"x"},{"$f":"IFERROR(IF(ISBLANK('Zoeken in Database'!$D$5),\"x\",IF(SEARCH('Zoeken in Database'!$D$5,Concerten!C728,1),\"x\",\"\")),\"\")","v":"x"},{"$f":"IFERROR(IF(ISBLANK('Zoeken in Database'!$D$6),\"x\",IF(SEARCH('Zoeken in Database'!$D$6,Concerten!G728,1),\"x\",\"\")),\"\")","v":"x"},{"$f":"IF(AND(D728>='Zoeken in Database'!$A$7,'Zoeken in Database'!$A$8>=D728),\"x\",\"\")","v":"x"}]
["Gerner, Liam","W2","Den Bosch","2008-04-17",null,null,"Voorprogramma",4,2008,{"$f":"VLOOKUP(Table1[[#This Row],[Maand (getal)]],Lijst!A:B,2,FALSE)","v":"apr"},{"$f":"IFERROR(IF(ISBLANK('Zoeken in Database'!$D$3),\"x\",IF(SEARCH('Zoeken in Database'!$D$3,Concerten!A729,1),\"x\",\"\")),\"\")","v":"x"},{"$f":"IFERROR(IF(ISBLANK('Zoeken in Database'!$D$4),\"x\",IF(SEARCH('Zoeken in Database'!$D$4,Concerten!B729,1),\"x\",\"\")),\"\")","v":"x"},{"$f":"IFERROR(IF(ISBLANK('Zoeken in Database'!$D$5),\"x\",IF(SEARCH('Zoeken in Database'!$D$5,Concerten!C729,1),\"x\",\"\")),\"\")","v":"x"},{"$f":"IFERROR(IF(ISBLANK('Zoeken in Database'!$D$6),\"x\",IF(SEARCH('Zoeken in Database'!$D$6,Concerten!G729,1),\"x\",\"\")),\"\")","v":"x"},{"$f":"IF(AND(D729>='Zoeken in Database'!$A$7,'Zoeken in Database'!$A$8>=D729),\"x\",\"\")","v":"x"}]
["Isbell, Jason & The 400 Unit","W2","Den Bosch","2008-04-17","Deze setlist was het niet eens ongeveer maar deze nr's zeker wel gespeeld:\n\nTry \nChicago Promenade \nGrown \nGoddamn Lonely Love \nDown In A Hole \nPsycho Killer \nHurricanes And Hand Grenades \nDanko/Manuel \nDress Blues\nAssassin\nMagician\n----\nIn A Razor Town \nOutfit\n----\nDecoration Day",null,"Hoofdprogramma",4,2008,{"$f":"VLOOKUP(Table1[[#This Row],[Maand (getal)]],Lijst!A:B,2,FALSE)","v":"apr"},{"$f":"IFERROR(IF(ISBLANK('Zoeken in Database'!$D$3),\"x\",IF(SEARCH('Zoeken in Database'!$D$3,Concerten!A730,1),\"x\",\"\")),\"\")","v":"x"},{"$f":"IFERROR(IF(ISBLANK('Zoeken in Database'!$D$4),\"x\",IF(SEARCH('Zoeken in Database'!$D$4,Concerten!B730,1),\"x\",\"\")),\"\")","v":"x"},{"$f":"IFERROR(IF(ISBLANK('Zoeken in Database'!$D$5),\"x\",IF(SEARCH('Zoeken in Database'!$D$5,Concerten!C730,1),\"x\",\"\")),\"\")","v":"x"},{"$f":"IFERROR(IF(ISBLANK('Zoeken in Database'!$D$6),\"x\",IF(SEARCH('Zoeken in Database'!$D$6,Concerten!G730,1),\"x\",\"\")),\"\")","v":"x"},{"$f":"IF(AND(D730>='Zoeken in Database'!$A$7,'Zoeken in Database'!$A$8>=D730),\"x\",\"\")","v":"x"}]
["Cave, Nick","Heineken Music Hall","Amsterdam","2008-04-28","01. Night Of The Lotus Eaters\n02. Dig, Lazarus, Dig!!!\n03. Today's Lesson\n04. Red Right Hand\n05. Tupelo\n06. Midnight Man\n07. The Ship Song\n08. We Call Upon The Author\n09. Your Funeral My Trial\n10. Lie Down Here (& Be My Girl)\n11. Jesus Of The Moon\n12. Deanna\n13. Papa Won't Leave You, Henry\n14. More News From Nowhere\n\nENCORE 1\n15. Into My Arms\n16. The Lyre of Orpheus\n\nENCORE 2\n17. Hard On For Love\n18. Stagger Lee\n",null,"Hoofdprogramma",4,2008,{"$f":"VLOOKUP(Table1[[#This Row],[Maand (getal)]],Lijst!A:B,2,FALSE)","v":"apr"},{"$f":"IFERROR(IF(ISBLANK('Zoeken in Database'!$D$3),\"x\",IF(SEARCH('Zoeken in Database'!$D$3,Concerten!A731,1),\"x\",\"\")),\"\")","v":"x"},{"$f":"IFERROR(IF(ISBLANK('Zoeken in Database'!$D$4),\"x\",IF(SEARCH('Zoeken in Database'!$D$4,Concerten!B731,1),\"x\",\"\")),\"\")","v":"x"},{"$f":"IFERROR(IF(ISBLANK('Zoeken in Database'!$D$5),\"x\",IF(SEARCH('Zoeken in Database'!$D$5,Concerten!C731,1),\"x\",\"\")),\"\")","v":"x"},{"$f":"IFERROR(IF(ISBLANK('Zoeken in Database'!$D$6),\"x\",IF(SEARCH('Zoeken in Database'!$D$6,Concerten!G731,1),\"x\",\"\")),\"\")","v":"x"},{"$f":"IF(AND(D731>='Zoeken in Database'!$A$7,'Zoeken in Database'!$A$8>=D731),\"x\",\"\")","v":"x"}]
["Graney, Dave & Clare Moore","Heineken Music Hall","Amsterdam","2008-04-28",null,null,"Voorprogramma",4,2008,{"$f":"VLOOKUP(Table1[[#This Row],[Maand (getal)]],Lijst!A:B,2,FALSE)","v":"apr"},{"$f":"IFERROR(IF(ISBLANK('Zoeken in Database'!$D$3),\"x\",IF(SEARCH('Zoeken in Database'!$D$3,Concerten!A732,1),\"x\",\"\")),\"\")","v":"x"},{"$f":"IFERROR(IF(ISBLANK('Zoeken in Database'!$D$4),\"x\",IF(SEARCH('Zoeken in Database'!$D$4,Concerten!B732,1),\"x\",\"\")),\"\")","v":"x"},{"$f":"IFERROR(IF(ISBLANK('Zoeken in Database'!$D$5),\"x\",IF(SEARCH('Zoeken in Database'!$D$5,Concerten!C732,1),\"x\",\"\")),\"\")","v":"x"},{"$f":"IFERROR(IF(ISBLANK('Zoeken in Database'!$D$6),\"x\",IF(SEARCH('Zoeken in Database'!$D$6,Concerten!G732,1),\"x\",\"\")),\"\")","v":"x"},{"$f":"IF(AND(D732>='Zoeken in Database'!$A$7,'Zoeken in Database'!$A$8>=D732),\"x\",\"\")","v":"x"}]
["MGMT","Doornroosje","Nijmegen","2008-05-03","weekend wars\nthe youth\nof moons birds and monsters\nfuture reflections\n4th dimensional\npieces of what\nelectric feel\nthe handshake\ntime to pretend\nmetanoia\n__________\nmindless child\nkids\n\n(some more songs were added though) \n",null,"Hoofdprogramma",5,2008,{"$f":"VLOOKUP(Table1[[#This Row],[Maand (getal)]],Lijst!A:B,2,FALSE)","v":"mei"},{"$f":"IFERROR(IF(ISBLANK('Zoeken in Database'!$D$3),\"x\",IF(SEARCH('Zoeken in Database'!$D$3,Concerten!A733,1),\"x\",\"\")),\"\")","v":"x"},{"$f":"IFERROR(IF(ISBLANK('Zoeken in Database'!$D$4),\"x\",IF(SEARCH('Zoeken in Database'!$D$4,Concerten!B733,1),\"x\",\"\")),\"\")","v":"x"},{"$f":"IFERROR(IF(ISBLANK('Zoeken in Database'!$D$5),\"x\",IF(SEARCH('Zoeken in Database'!$D$5,Concerten!C733,1),\"x\",\"\")),\"\")","v":"x"},{"$f":"IFERROR(IF(ISBLANK('Zoeken in Database'!$D$6),\"x\",IF(SEARCH('Zoeken in Database'!$D$6,Concerten!G733,1),\"x\",\"\")),\"\")","v":"x"},{"$f":"IF(AND(D733>='Zoeken in Database'!$A$7,'Zoeken in Database'!$A$8>=D733),\"x\",\"\")","v":"x"}]
["Florence & The Machine","Doornroosje","Nijmegen","2008-05-03",null,null,"Voorprogramma",5,2008,{"$f":"VLOOKUP(Table1[[#This Row],[Maand (getal)]],Lijst!A:B,2,FALSE)","v":"mei"},{"$f":"IFERROR(IF(ISBLANK('Zoeken in Database'!$D$3),\"x\",IF(SEARCH('Zoeken in Database'!$D$3,Concerten!A734,1),\"x\",\"\")),\"\")","v":"x"},{"$f":"IFERROR(IF(ISBLANK('Zoeken in Database'!$D$4),\"x\",IF(SEARCH('Zoeken in Database'!$D$4,Concerten!B734,1),\"x\",\"\")),\"\")","v":"x"},{"$f":"IFERROR(IF(ISBLANK('Zoeken in Database'!$D$5),\"x\",IF(SEARCH('Zoeken in Database'!$D$5,Concerten!C734,1),\"x\",\"\")),\"\")","v":"x"},{"$f":"IFERROR(IF(ISBLANK('Zoeken in Database'!$D$6),\"x\",IF(SEARCH('Zoeken in Database'!$D$6,Concerten!G734,1),\"x\",\"\")),\"\")","v":"x"},{"$f":"IF(AND(D734>='Zoeken in Database'!$A$7,'Zoeken in Database'!$A$8>=D734),\"x\",\"\")","v":"x"}]
["Gravin van Parma, De","Schouwburg Cuijk","Cuijk","2008-05-14",null,"met oa Pierre Bokma en Carice van Houten","Theater",5,2008,{"$f":"VLOOKUP(Table1[[#This Row],[Maand (getal)]],Lijst!A:B,2,FALSE)","v":"mei"},{"$f":"IFERROR(IF(ISBLANK('Zoeken in Database'!$D$3),\"x\",IF(SEARCH('Zoeken in Database'!$D$3,Concerten!A735,1),\"x\",\"\")),\"\")","v":"x"},{"$f":"IFERROR(IF(ISBLANK('Zoeken in Database'!$D$4),\"x\",IF(SEARCH('Zoeken in Database'!$D$4,Concerten!B735,1),\"x\",\"\")),\"\")","v":"x"},{"$f":"IFERROR(IF(ISBLANK('Zoeken in Database'!$D$5),\"x\",IF(SEARCH('Zoeken in Database'!$D$5,Concerten!C735,1),\"x\",\"\")),\"\")","v":"x"},{"$f":"IFERROR(IF(ISBLANK('Zoeken in Database'!$D$6),\"x\",IF(SEARCH('Zoeken in Database'!$D$6,Concerten!G735,1),\"x\",\"\")),\"\")","v":"x"},{"$f":"IF(AND(D735>='Zoeken in Database'!$A$7,'Zoeken in Database'!$A$8>=D735),\"x\",\"\")","v":"x"}]
["Sat2D","Pinkpop 2008","Landgraaf","2008-05-31",null,null,"Festivaloptreden",5,2008,{"$f":"VLOOKUP(Table1[[#This Row],[Maand (getal)]],Lijst!A:B,2,FALSE)","v":"mei"},{"$f":"IFERROR(IF(ISBLANK('Zoeken in Database'!$D$3),\"x\",IF(SEARCH('Zoeken in Database'!$D$3,Concerten!A736,1),\"x\",\"\")),\"\")","v":"x"},{"$f":"IFERROR(IF(ISBLANK('Zoeken in Database'!$D$4),\"x\",IF(SEARCH('Zoeken in Database'!$D$4,Concerten!B736,1),\"x\",\"\")),\"\")","v":"x"},{"$f":"IFERROR(IF(ISBLANK('Zoeken in Database'!$D$5),\"x\",IF(SEARCH('Zoeken in Database'!$D$5,Concerten!C736,1),\"x\",\"\")),\"\")","v":"x"},{"$f":"IFERROR(IF(ISBLANK('Zoeken in Database'!$D$6),\"x\",IF(SEARCH('Zoeken in Database'!$D$6,Concerten!G736,1),\"x\",\"\")),\"\")","v":"x"},{"$f":"IF(AND(D736>='Zoeken in Database'!$A$7,'Zoeken in Database'!$A$8>=D736),\"x\",\"\")","v":"x"}]
["Blood Red Shoes","Pinkpop 2008","Landgraaf","2008-06-01",null,null,"Festivaloptreden",6,2008,{"$f":"VLOOKUP(Table1[[#This Row],[Maand (getal)]],Lijst!A:B,2,FALSE)","v":"jun"},{"$f":"IFERROR(IF(ISBLANK('Zoeken in Database'!$D$3),\"x\",IF(SEARCH('Zoeken in Database'!$D$3,Concerten!A737,1),\"x\",\"\")),\"\")","v":"x"},{"$f":"IFERROR(IF(ISBLANK('Zoeken in Database'!$D$4),\"x\",IF(SEARCH('Zoeken in Database'!$D$4,Concerten!B737,1),\"x\",\"\")),\"\")","v":"x"},{"$f":"IFERROR(IF(ISBLANK('Zoeken in Database'!$D$5),\"x\",IF(SEARCH('Zoeken in Database'!$D$5,Concerten!C737,1),\"x\",\"\")),\"\")","v":"x"},{"$f":"IFERROR(IF(ISBLANK('Zoeken in Database'!$D$6),\"x\",IF(SEARCH('Zoeken in Database'!$D$6,Concerten!G737,1),\"x\",\"\")),\"\")","v":"x"},{"$f":"IF(AND(D737>='Zoeken in Database'!$A$7,'Zoeken in Database'!$A$8>=D737),\"x\",\"\")","v":"x"}]
["Voicst ","Pinkpop 2008","Landgraaf","2008-06-01",null,null,"Festivaloptreden",6,2008,{"$f":"VLOOKUP(Table1[[#This Row],[Maand (getal)]],Lijst!A:B,2,FALSE)","v":"jun"},{"$f":"IFERROR(IF(ISBLANK('Zoeken in Database'!$D$3),\"x\",IF(SEARCH('Zoeken in Database'!$D$3,Concerten!A738,1),\"x\",\"\")),\"\")","v":"x"},{"$f":"IFERROR(IF(ISBLANK('Zoeken in Database'!$D$4),\"x\",IF(SEARCH('Zoeken in Database'!$D$4,Concerten!B738,1),\"x\",\"\")),\"\")","v":"x"},{"$f":"IFERROR(IF(ISBLANK('Zoeken in Database'!$D$5),\"x\",IF(SEARCH('Zoeken in Database'!$D$5,Concerten!C738,1),\"x\",\"\")),\"\")","v":"x"},{"$f":"IFERROR(IF(ISBLANK('Zoeken in Database'!$D$6),\"x\",IF(SEARCH('Zoeken in Database'!$D$6,Concerten!G738,1),\"x\",\"\")),\"\")","v":"x"},{"$f":"IF(AND(D738>='Zoeken in Database'!$A$7,'Zoeken in Database'!$A$8>=D738),\"x\",\"\")","v":"x"}]
["Macdonald, Amy","Pinkpop 2008","Landgraaf","2008-06-01",null,null,"Festivaloptreden",6,2008,{"$f":"VLOOKUP(Table1[[#This Row],[Maand (getal)]],Lijst!A:B,2,FALSE)","v":"jun"},{"$f":"IFERROR(IF(ISBLANK('Zoeken in Database'!$D$3),\"x\",IF(SEARCH('Zoeken in Database'!$D$3,Concerten!A739,1),\"x\",\"\")),\"\")","v":"x"},{"$f":"IFERROR(IF(ISBLANK('Zoeken in Database'!$D$4),\"x\",IF(SEARCH('Zoeken in Database'!$D$4,Concerten!B739,1),\"x\",\"\")),\"\")","v":"x"},{"$f":"IFERROR(IF(ISBLANK('Zoeken in Database'!$D$5),\"x\",IF(SEARCH('Zoeken in Database'!$D$5,Concerten!C739,1),\"x\",\"\")),\"\")","v":"x"},{"$f":"IFERROR(IF(ISBLANK('Zoeken in Database'!$D$6),\"x\",IF(SEARCH('Zoeken in Database'!$D$6,Concerten!G739,1),\"x\",\"\")),\"\")","v":"x"},{"$f":"IF(AND(D739>='Zoeken in Database'!$A$7,'Zoeken in Database'!$A$8>=D739),\"x\",\"\")","v":"x"}]
["Moke","Pinkpop 2008","Landgraaf","2008-06-01",null,null,"Festivaloptreden",6,2008,{"$f":"VLOOKUP(Table1[[#This Row],[Maand (getal)]],Lijst!A:B,2,FALSE)","v":"jun"},{"$f":"IFERROR(IF(ISBLANK('Zoeken in Database'!$D$3),\"x\",IF(SEARCH('Zoeken in Database'!$D$3,Concerten!A740,1),\"x\",\"\")),\"\")","v":"x"},{"$f":"IFERROR(IF(ISBLANK('Zoeken in Database'!$D$4),\"x\",IF(SEARCH('Zoeken in Database'!$D$4,Concerten!B740,1),\"x\",\"\")),\"\")","v":"x"},{"$f":"IFERROR(IF(ISBLANK('Zoeken in Database'!$D$5),\"x\",IF(SEARCH('Zoeken in Database'!$D$5,Concerten!C740,1),\"x\",\"\")),\"\")","v":"x"},{"$f":"IFERROR(IF(ISBLANK('Zoeken in Database'!$D$6),\"x\",IF(SEARCH('Zoeken in Database'!$D$6,Concerten!G740,1),\"x\",\"\")),\"\")","v":"x"},{"$f":"IF(AND(D740>='Zoeken in Database'!$A$7,'Zoeken in Database'!$A$8>=D740),\"x\",\"\")","v":"x"}]
["Stereophonics","Pinkpop 2008","Landgraaf","2008-06-01",null,null,"Festivaloptreden",6,2008,{"$f":"VLOOKUP(Table1[[#This Row],[Maand (getal)]],Lijst!A:B,2,FALSE)","v":"jun"},{"$f":"IFERROR(IF(ISBLANK('Zoeken in Database'!$D$3),\"x\",IF(SEARCH('Zoeken in Database'!$D$3,Concerten!A741,1),\"x\",\"\")),\"\")","v":"x"},{"$f":"IFERROR(IF(ISBLANK('Zoeken in Database'!$D$4),\"x\",IF(SEARCH('Zoeken in Database'!$D$4,Concerten!B741,1),\"x\",\"\")),\"\")","v":"x"},{"$f":"IFERROR(IF(ISBLANK('Zoeken in Database'!$D$5),\"x\",IF(SEARCH('Zoeken in Database'!$D$5,Concerten!C741,1),\"x\",\"\")),\"\")","v":"x"},{"$f":"IFERROR(IF(ISBLANK('Zoeken in Database'!$D$6),\"x\",IF(SEARCH('Zoeken in Database'!$D$6,Concerten!G741,1),\"x\",\"\")),\"\")","v":"x"},{"$f":"IF(AND(D741>='Zoeken in Database'!$A$7,'Zoeken in Database'!$A$8>=D741),\"x\",\"\")","v":"x"}]
["Verve, The","Pinkpop 2008","Landgraaf","2008-06-01",null,null,"Festivaloptreden",6,2008,{"$f":"VLOOKUP(Table1[[#This Row],[Maand (getal)]],Lijst!A:B,2,FALSE)","v":"jun"},{"$f":"IFERROR(IF(ISBLANK('Zoeken in Database'!$D$3),\"x\",IF(SEARCH('Zoeken in Database'!$D$3,Concerten!A742,1),\"x\",\"\")),\"\")","v":"x"},{"$f":"IFERROR(IF(ISBLANK('Zoeken in Database'!$D$4),\"x\",IF(SEARCH('Zoeken in Database'!$D$4,Concerten!B742,1),\"x\",\"\")),\"\")","v":"x"},{"$f":"IFERROR(IF(ISBLANK('Zoeken in Database'!$D$5),\"x\",IF(SEARCH('Zoeken in Database'!$D$5,Concerten!C742,1),\"x\",\"\")),\"\")","v":"x"},{"$f":"IFERROR(IF(ISBLANK('Zoeken in Database'!$D$6),\"x\",IF(SEARCH('Zoeken in Database'!$D$6,Concerten!G742,1),\"x\",\"\")),\"\")","v":"x"},{"$f":"IF(AND(D742>='Zoeken in Database'!$A$7,'Zoeken in Database'!$A$8>=D742),\"x\",\"\")","v":"x"}]
["Foo Fighters","Pinkpop 2008","Landgraaf","2008-06-01",null,null,"Festivaloptreden",6,2008,{"$f":"VLOOKUP(Table1[[#This Row],[Maand (getal)]],Lijst!A:B,2,FALSE)","v":"jun"},{"$f":"IFERROR(IF(ISBLANK('Zoeken in Database'!$D$3),\"x\",IF(SEARCH('Zoeken in Database'!$D$3,Concerten!A743,1),\"x\",\"\")),\"\")","v":"x"},{"$f":"IFERROR(IF(ISBLANK('Zoeken in Database'!$D$4),\"x\",IF(SEARCH('Zoeken in Database'!$D$4,Concerten!B743,1),\"x\",\"\")),\"\")","v":"x"},{"$f":"IFERROR(IF(ISBLANK('Zoeken in Database'!$D$5),\"x\",IF(SEARCH('Zoeken in Database'!$D$5,Concerten!C743,1),\"x\",\"\")),\"\")","v":"x"},{"$f":"IFERROR(IF(ISBLANK('Zoeken in Database'!$D$6),\"x\",IF(SEARCH('Zoeken in Database'!$D$6,Concerten!G743,1),\"x\",\"\")),\"\")","v":"x"},{"$f":"IF(AND(D743>='Zoeken in Database'!$A$7,'Zoeken in Database'!$A$8>=D743),\"x\",\"\")","v":"x"}]
["Watson, Patrick","Pinkpop 2008","Landgraaf","2008-06-02",null,null,"Festivaloptreden",6,2008,{"$f":"VLOOKUP(Table1[[#This Row],[Maand (getal)]],Lijst!A:B,2,FALSE)","v":"jun"},{"$f":"IFERROR(IF(ISBLANK('Zoeken in Database'!$D$3),\"x\",IF(SEARCH('Zoeken in Database'!$D$3,Concerten!A744,1),\"x\",\"\")),\"\")","v":"x"},{"$f":"IFERROR(IF(ISBLANK('Zoeken in Database'!$D$4),\"x\",IF(SEARCH('Zoeken in Database'!$D$4,Concerten!B744,1),\"x\",\"\")),\"\")","v":"x"},{"$f":"IFERROR(IF(ISBLANK('Zoeken in Database'!$D$5),\"x\",IF(SEARCH('Zoeken in Database'!$D$5,Concerten!C744,1),\"x\",\"\")),\"\")","v":"x"},{"$f":"IFERROR(IF(ISBLANK('Zoeken in Database'!$D$6),\"x\",IF(SEARCH('Zoeken in Database'!$D$6,Concerten!G744,1),\"x\",\"\")),\"\")","v":"x"},{"$f":"IF(AND(D744>='Zoeken in Database'!$A$7,'Zoeken in Database'!$A$8>=D744),\"x\",\"\")","v":"x"}]
["Nash, Kate","Pinkpop 2008","Landgraaf","2008-06-02",null,null,"Festivaloptreden",6,2008,{"$f":"VLOOKUP(Table1[[#This Row],[Maand (getal)]],Lijst!A:B,2,FALSE)","v":"jun"},{"$f":"IFERROR(IF(ISBLANK('Zoeken in Database'!$D$3),\"x\",IF(SEARCH('Zoeken in Database'!$D$3,Concerten!A745,1),\"x\",\"\")),\"\")","v":"x"},{"$f":"IFERROR(IF(ISBLANK('Zoeken in Database'!$D$4),\"x\",IF(SEARCH('Zoeken in Database'!$D$4,Concerten!B745,1),\"x\",\"\")),\"\")","v":"x"},{"$f":"IFERROR(IF(ISBLANK('Zoeken in Database'!$D$5),\"x\",IF(SEARCH('Zoeken in Database'!$D$5,Concerten!C745,1),\"x\",\"\")),\"\")","v":"x"},{"$f":"IFERROR(IF(ISBLANK('Zoeken in Database'!$D$6),\"x\",IF(SEARCH('Zoeken in Database'!$D$6,Concerten!G745,1),\"x\",\"\")),\"\")","v":"x"},{"$f":"IF(AND(D745>='Zoeken in Database'!$A$7,'Zoeken in Database'!$A$8>=D745),\"x\",\"\")","v":"x"}]
["Hives, The","Pinkpop 2008","Landgraaf","2008-06-02",null,null,"Festivaloptreden",6,2008,{"$f":"VLOOKUP(Table1[[#This Row],[Maand (getal)]],Lijst!A:B,2,FALSE)","v":"jun"},{"$f":"IFERROR(IF(ISBLANK('Zoeken in Database'!$D$3),\"x\",IF(SEARCH('Zoeken in Database'!$D$3,Concerten!A746,1),\"x\",\"\")),\"\")","v":"x"},{"$f":"IFERROR(IF(ISBLANK('Zoeken in Database'!$D$4),\"x\",IF(SEARCH('Zoeken in Database'!$D$4,Concerten!B746,1),\"x\",\"\")),\"\")","v":"x"},{"$f":"IFERROR(IF(ISBLANK('Zoeken in Database'!$D$5),\"x\",IF(SEARCH('Zoeken in Database'!$D$5,Concerten!C746,1),\"x\",\"\")),\"\")","v":"x"},{"$f":"IFERROR(IF(ISBLANK('Zoeken in Database'!$D$6),\"x\",IF(SEARCH('Zoeken in Database'!$D$6,Concerten!G746,1),\"x\",\"\")),\"\")","v":"x"},{"$f":"IF(AND(D746>='Zoeken in Database'!$A$7,'Zoeken in Database'!$A$8>=D746),\"x\",\"\")","v":"x"}]
["Tankian, Serj","Pinkpop 2008","Landgraaf","2008-06-02",null,null,"Festivaloptreden",6,2008,{"$f":"VLOOKUP(Table1[[#This Row],[Maand (getal)]],Lijst!A:B,2,FALSE)","v":"jun"},{"$f":"IFERROR(IF(ISBLANK('Zoeken in Database'!$D$3),\"x\",IF(SEARCH('Zoeken in Database'!$D$3,Concerten!A747,1),\"x\",\"\")),\"\")","v":"x"},{"$f":"IFERROR(IF(ISBLANK('Zoeken in Database'!$D$4),\"x\",IF(SEARCH('Zoeken in Database'!$D$4,Concerten!B747,1),\"x\",\"\")),\"\")","v":"x"},{"$f":"IFERROR(IF(ISBLANK('Zoeken in Database'!$D$5),\"x\",IF(SEARCH('Zoeken in Database'!$D$5,Concerten!C747,1),\"x\",\"\")),\"\")","v":"x"},{"$f":"IFERROR(IF(ISBLANK('Zoeken in Database'!$D$6),\"x\",IF(SEARCH('Zoeken in Database'!$D$6,Concerten!G747,1),\"x\",\"\")),\"\")","v":"x"},{"$f":"IF(AND(D747>='Zoeken in Database'!$A$7,'Zoeken in Database'!$A$8>=D747),\"x\",\"\")","v":"x"}]
["Counting Crows","Pinkpop 2008","Landgraaf","2008-06-02","Ballet d'Or\nHard Candy\nHanging Tree\nRecovering the Satellites\nColorblind\nCowboys\nRoundhere\nHave You Seen Me Lately\nLong December\nMr Jones\nHIS",null,"Festivaloptreden",6,2008,{"$f":"VLOOKUP(Table1[[#This Row],[Maand (getal)]],Lijst!A:B,2,FALSE)","v":"jun"},{"$f":"IFERROR(IF(ISBLANK('Zoeken in Database'!$D$3),\"x\",IF(SEARCH('Zoeken in Database'!$D$3,Concerten!A748,1),\"x\",\"\")),\"\")","v":"x"},{"$f":"IFERROR(IF(ISBLANK('Zoeken in Database'!$D$4),\"x\",IF(SEARCH('Zoeken in Database'!$D$4,Concerten!B748,1),\"x\",\"\")),\"\")","v":"x"},{"$f":"IFERROR(IF(ISBLANK('Zoeken in Database'!$D$5),\"x\",IF(SEARCH('Zoeken in Database'!$D$5,Concerten!C748,1),\"x\",\"\")),\"\")","v":"x"},{"$f":"IFERROR(IF(ISBLANK('Zoeken in Database'!$D$6),\"x\",IF(SEARCH('Zoeken in Database'!$D$6,Concerten!G748,1),\"x\",\"\")),\"\")","v":"x"},{"$f":"IF(AND(D748>='Zoeken in Database'!$A$7,'Zoeken in Database'!$A$8>=D748),\"x\",\"\")","v":"x"}]
["Rage Against The Machine","Pinkpop 2008","Landgraaf","2008-06-02",null,null,"Festivaloptreden",6,2008,{"$f":"VLOOKUP(Table1[[#This Row],[Maand (getal)]],Lijst!A:B,2,FALSE)","v":"jun"},{"$f":"IFERROR(IF(ISBLANK('Zoeken in Database'!$D$3),\"x\",IF(SEARCH('Zoeken in Database'!$D$3,Concerten!A749,1),\"x\",\"\")),\"\")","v":"x"},{"$f":"IFERROR(IF(ISBLANK('Zoeken in Database'!$D$4),\"x\",IF(SEARCH('Zoeken in Database'!$D$4,Concerten!B749,1),\"x\",\"\")),\"\")","v":"x"},{"$f":"IFERROR(IF(ISBLANK('Zoeken in Database'!$D$5),\"x\",IF(SEARCH('Zoeken in Database'!$D$5,Concerten!C749,1),\"x\",\"\")),\"\")","v":"x"},{"$f":"IFERROR(IF(ISBLANK('Zoeken in Database'!$D$6),\"x\",IF(SEARCH('Zoeken in Database'!$D$6,Concerten!G749,1),\"x\",\"\")),\"\")","v":"x"},{"$f":"IF(AND(D749>='Zoeken in Database'!$A$7,'Zoeken in Database'!$A$8>=D749),\"x\",\"\")","v":"x"}]
["Maxïmo Park","Doornroosje","Nijmegen","2008-06-20",null,null,"Hoofdprogramma",6,2008,{"$f":"VLOOKUP(Table1[[#This Row],[Maand (getal)]],Lijst!A:B,2,FALSE)","v":"jun"},{"$f":"IFERROR(IF(ISBLANK('Zoeken in Database'!$D$3),\"x\",IF(SEARCH('Zoeken in Database'!$D$3,Concerten!A750,1),\"x\",\"\")),\"\")","v":"x"},{"$f":"IFERROR(IF(ISBLANK('Zoeken in Database'!$D$4),\"x\",IF(SEARCH('Zoeken in Database'!$D$4,Concerten!B750,1),\"x\",\"\")),\"\")","v":"x"},{"$f":"IFERROR(IF(ISBLANK('Zoeken in Database'!$D$5),\"x\",IF(SEARCH('Zoeken in Database'!$D$5,Concerten!C750,1),\"x\",\"\")),\"\")","v":"x"},{"$f":"IFERROR(IF(ISBLANK('Zoeken in Database'!$D$6),\"x\",IF(SEARCH('Zoeken in Database'!$D$6,Concerten!G750,1),\"x\",\"\")),\"\")","v":"x"},{"$f":"IF(AND(D750>='Zoeken in Database'!$A$7,'Zoeken in Database'!$A$8>=D750),\"x\",\"\")","v":"x"}]
["Folds, Ben","Paradiso","Amsterdam","2008-06-29","+/-\n\nStill Fighting\nBitches Ain’t Shit\nZack and Sara\nRockin The Suburbs\nHiroshima\nUnderground\nOne Angry Dwarf and 200 Solemn Faces\nNarcolepsy\nAnnie Waits\nLullabye\nArmy\nLanded\nYou To Thank\nLosing Lisa\nEffington\n",null,"Hoofdprogramma",6,2008,{"$f":"VLOOKUP(Table1[[#This Row],[Maand (getal)]],Lijst!A:B,2,FALSE)","v":"jun"},{"$f":"IFERROR(IF(ISBLANK('Zoeken in Database'!$D$3),\"x\",IF(SEARCH('Zoeken in Database'!$D$3,Concerten!A751,1),\"x\",\"\")),\"\")","v":"x"},{"$f":"IFERROR(IF(ISBLANK('Zoeken in Database'!$D$4),\"x\",IF(SEARCH('Zoeken in Database'!$D$4,Concerten!B751,1),\"x\",\"\")),\"\")","v":"x"},{"$f":"IFERROR(IF(ISBLANK('Zoeken in Database'!$D$5),\"x\",IF(SEARCH('Zoeken in Database'!$D$5,Concerten!C751,1),\"x\",\"\")),\"\")","v":"x"},{"$f":"IFERROR(IF(ISBLANK('Zoeken in Database'!$D$6),\"x\",IF(SEARCH('Zoeken in Database'!$D$6,Concerten!G751,1),\"x\",\"\")),\"\")","v":"x"},{"$f":"IF(AND(D751>='Zoeken in Database'!$A$7,'Zoeken in Database'!$A$8>=D751),\"x\",\"\")","v":"x"}]
["Corn Mo","Paradiso","Amsterdam","2008-06-29",null,null,"Voorprogramma",6,2008,{"$f":"VLOOKUP(Table1[[#This Row],[Maand (getal)]],Lijst!A:B,2,FALSE)","v":"jun"},{"$f":"IFERROR(IF(ISBLANK('Zoeken in Database'!$D$3),\"x\",IF(SEARCH('Zoeken in Database'!$D$3,Concerten!A752,1),\"x\",\"\")),\"\")","v":"x"},{"$f":"IFERROR(IF(ISBLANK('Zoeken in Database'!$D$4),\"x\",IF(SEARCH('Zoeken in Database'!$D$4,Concerten!B752,1),\"x\",\"\")),\"\")","v":"x"},{"$f":"IFERROR(IF(ISBLANK('Zoeken in Database'!$D$5),\"x\",IF(SEARCH('Zoeken in Database'!$D$5,Concerten!C752,1),\"x\",\"\")),\"\")","v":"x"},{"$f":"IFERROR(IF(ISBLANK('Zoeken in Database'!$D$6),\"x\",IF(SEARCH('Zoeken in Database'!$D$6,Concerten!G752,1),\"x\",\"\")),\"\")","v":"x"},{"$f":"IF(AND(D752>='Zoeken in Database'!$A$7,'Zoeken in Database'!$A$8>=D752),\"x\",\"\")","v":"x"}]
["Bat For Lashes","Cultuurpark Westergasfabriek","Amsterdam","2008-07-01",null,null,"Voorprogramma",7,2008,{"$f":"VLOOKUP(Table1[[#This Row],[Maand (getal)]],Lijst!A:B,2,FALSE)","v":"jul"},{"$f":"IFERROR(IF(ISBLANK('Zoeken in Database'!$D$3),\"x\",IF(SEARCH('Zoeken in Database'!$D$3,Concerten!A753,1),\"x\",\"\")),\"\")","v":"x"},{"$f":"IFERROR(IF(ISBLANK('Zoeken in Database'!$D$4),\"x\",IF(SEARCH('Zoeken in Database'!$D$4,Concerten!B753,1),\"x\",\"\")),\"\")","v":"x"},{"$f":"IFERROR(IF(ISBLANK('Zoeken in Database'!$D$5),\"x\",IF(SEARCH('Zoeken in Database'!$D$5,Concerten!C753,1),\"x\",\"\")),\"\")","v":"x"},{"$f":"IFERROR(IF(ISBLANK('Zoeken in Database'!$D$6),\"x\",IF(SEARCH('Zoeken in Database'!$D$6,Concerten!G753,1),\"x\",\"\")),\"\")","v":"x"},{"$f":"IF(AND(D753>='Zoeken in Database'!$A$7,'Zoeken in Database'!$A$8>=D753),\"x\",\"\")","v":"x"}]
["Radiohead","Cultuurpark Westergasfabriek","Amsterdam","2008-07-01","Setlist:\n01 Bodysnatchers\n02 All I Need\n03 The Nation Anthem\n04 15 Step\n05 Lucky\n06 Nude\n07 Street Spirit\n08 There There\n09 The Gloaming\n10 Weird Fishes/Arpeggi\n11 Idioteque\n12 Faust Arp\n13 Videotape\n14 Just\n15 Bangers and Mash (before song, Thom puts on safety goggles, “Safety First, Safety first. That’s what I always say” At the end of the song he falls over comically)\n16. Everything In Its Right Place (Thom referring to Bangers and Mash: “That’s showbiz folks. Thats what its like”)\n17. Reckoner\n\nEncore 1\n18. House of Cards\n19. Climbing Up The Walls\n20. A Wolf At The Door\n21. Jigsaw Falling Into Place (Thom: “What’s up Jon Jon? You should tune your guitar. Well, it hasn’t stopped you before”)\n22. Karma Police\n\nEncore 2\n23. Super Collider (Thom: “This is a new song”)\n24. How To Disappear Completely\n25. Planet Telex (Thom: “Thanks Bat For Lashes for supporting us for the past 4 weeks”)\n\n",null,"Hoofdprogramma",7,2008,{"$f":"VLOOKUP(Table1[[#This Row],[Maand (getal)]],Lijst!A:B,2,FALSE)","v":"jul"},{"$f":"IFERROR(IF(ISBLANK('Zoeken in Database'!$D$3),\"x\",IF(SEARCH('Zoeken in Database'!$D$3,Concerten!A754,1),\"x\",\"\")),\"\")","v":"x"},{"$f":"IFERROR(IF(ISBLANK('Zoeken in Database'!$D$4),\"x\",IF(SEARCH('Zoeken in Database'!$D$4,Concerten!B754,1),\"x\",\"\")),\"\")","v":"x"},{"$f":"IFERROR(IF(ISBLANK('Zoeken in Database'!$D$5),\"x\",IF(SEARCH('Zoeken in Database'!$D$5,Concerten!C754,1),\"x\",\"\")),\"\")","v":"x"},{"$f":"IFERROR(IF(ISBLANK('Zoeken in Database'!$D$6),\"x\",IF(SEARCH('Zoeken in Database'!$D$6,Concerten!G754,1),\"x\",\"\")),\"\")","v":"x"},{"$f":"IF(AND(D754>='Zoeken in Database'!$A$7,'Zoeken in Database'!$A$8>=D754),\"x\",\"\")","v":"x"}]
["Bingham, Ryan & The Dead Horses","Sportpark Boshoven","Weert","2008-07-11",null,null,"Voorprogramma",7,2008,{"$f":"VLOOKUP(Table1[[#This Row],[Maand (getal)]],Lijst!A:B,2,FALSE)","v":"jul"},{"$f":"IFERROR(IF(ISBLANK('Zoeken in Database'!$D$3),\"x\",IF(SEARCH('Zoeken in Database'!$D$3,Concerten!A755,1),\"x\",\"\")),\"\")","v":"x"},{"$f":"IFERROR(IF(ISBLANK('Zoeken in Database'!$D$4),\"x\",IF(SEARCH('Zoeken in Database'!$D$4,Concerten!B755,1),\"x\",\"\")),\"\")","v":"x"},{"$f":"IFERROR(IF(ISBLANK('Zoeken in Database'!$D$5),\"x\",IF(SEARCH('Zoeken in Database'!$D$5,Concerten!C755,1),\"x\",\"\")),\"\")","v":"x"},{"$f":"IFERROR(IF(ISBLANK('Zoeken in Database'!$D$6),\"x\",IF(SEARCH('Zoeken in Database'!$D$6,Concerten!G755,1),\"x\",\"\")),\"\")","v":"x"},{"$f":"IF(AND(D755>='Zoeken in Database'!$A$7,'Zoeken in Database'!$A$8>=D755),\"x\",\"\")","v":"x"}]
["Everest","Sportpark Boshoven","Weert","2008-07-11",null,null,"Voorprogramma",7,2008,{"$f":"VLOOKUP(Table1[[#This Row],[Maand (getal)]],Lijst!A:B,2,FALSE)","v":"jul"},{"$f":"IFERROR(IF(ISBLANK('Zoeken in Database'!$D$3),\"x\",IF(SEARCH('Zoeken in Database'!$D$3,Concerten!A756,1),\"x\",\"\")),\"\")","v":"x"},{"$f":"IFERROR(IF(ISBLANK('Zoeken in Database'!$D$4),\"x\",IF(SEARCH('Zoeken in Database'!$D$4,Concerten!B756,1),\"x\",\"\")),\"\")","v":"x"},{"$f":"IFERROR(IF(ISBLANK('Zoeken in Database'!$D$5),\"x\",IF(SEARCH('Zoeken in Database'!$D$5,Concerten!C756,1),\"x\",\"\")),\"\")","v":"x"},{"$f":"IFERROR(IF(ISBLANK('Zoeken in Database'!$D$6),\"x\",IF(SEARCH('Zoeken in Database'!$D$6,Concerten!G756,1),\"x\",\"\")),\"\")","v":"x"},{"$f":"IF(AND(D756>='Zoeken in Database'!$A$7,'Zoeken in Database'!$A$8>=D756),\"x\",\"\")","v":"x"}]
["Waterboys, The","Sportpark Boshoven","Weert","2008-07-11",null,null,"Voorprogramma",7,2008,{"$f":"VLOOKUP(Table1[[#This Row],[Maand (getal)]],Lijst!A:B,2,FALSE)","v":"jul"},{"$f":"IFERROR(IF(ISBLANK('Zoeken in Database'!$D$3),\"x\",IF(SEARCH('Zoeken in Database'!$D$3,Concerten!A757,1),\"x\",\"\")),\"\")","v":"x"},{"$f":"IFERROR(IF(ISBLANK('Zoeken in Database'!$D$4),\"x\",IF(SEARCH('Zoeken in Database'!$D$4,Concerten!B757,1),\"x\",\"\")),\"\")","v":"x"},{"$f":"IFERROR(IF(ISBLANK('Zoeken in Database'!$D$5),\"x\",IF(SEARCH('Zoeken in Database'!$D$5,Concerten!C757,1),\"x\",\"\")),\"\")","v":"x"},{"$f":"IFERROR(IF(ISBLANK('Zoeken in Database'!$D$6),\"x\",IF(SEARCH('Zoeken in Database'!$D$6,Concerten!G757,1),\"x\",\"\")),\"\")","v":"x"},{"$f":"IF(AND(D757>='Zoeken in Database'!$A$7,'Zoeken in Database'!$A$8>=D757),\"x\",\"\")","v":"x"}]
["Young, Neil","Sportpark Boshoven","Weert","2008-07-11","Powderfinger \nMr. Soul \nEverybody Knows This Is Nowhere \nI've Been Waiting For You \nFor The Turnstiles (electric w/band) \nDown By The River \nOh, Lonesome Me \nMother Earth\nThe Needle And The Damage Done \nUnknown Legend \nHeart Of Gold \nOld Man \nGet Back To The Country \nWords \nNo Hidden Path \n--- \nA Day In The Life \n",null,"Hoofdprogramma",7,2008,{"$f":"VLOOKUP(Table1[[#This Row],[Maand (getal)]],Lijst!A:B,2,FALSE)","v":"jul"},{"$f":"IFERROR(IF(ISBLANK('Zoeken in Database'!$D$3),\"x\",IF(SEARCH('Zoeken in Database'!$D$3,Concerten!A758,1),\"x\",\"\")),\"\")","v":"x"},{"$f":"IFERROR(IF(ISBLANK('Zoeken in Database'!$D$4),\"x\",IF(SEARCH('Zoeken in Database'!$D$4,Concerten!B758,1),\"x\",\"\")),\"\")","v":"x"},{"$f":"IFERROR(IF(ISBLANK('Zoeken in Database'!$D$5),\"x\",IF(SEARCH('Zoeken in Database'!$D$5,Concerten!C758,1),\"x\",\"\")),\"\")","v":"x"},{"$f":"IFERROR(IF(ISBLANK('Zoeken in Database'!$D$6),\"x\",IF(SEARCH('Zoeken in Database'!$D$6,Concerten!G758,1),\"x\",\"\")),\"\")","v":"x"},{"$f":"IF(AND(D758>='Zoeken in Database'!$A$7,'Zoeken in Database'!$A$8>=D758),\"x\",\"\")","v":"x"}]
["Cohen, Leonard","Cultuurpark Westergasfabriek","Amsterdam","2008-07-12","Dance Me To The End Of Love \nThe Future \nAin’t No Cure For Love \nBird On The Wire \nEverybody Knows \nIn My Secret Life \nWho By Fire? \nHey That’s No Way To Say Goodbye \nAnthem\n\nTower Of Song \nSuzanne \nGypsy Wife \nBoogie Street \nHallelujah \nDemocracy \nI’m Your Man \nTake This Waltz\n\nSo Long, Marianne \nFirst We Take Manhattan \nSisters Of Mercy \nIf It Be Your Will \nClosing Time \nI Tried To Leave You \nWhither Thou Goest",null,"Hoofdprogramma",7,2008,{"$f":"VLOOKUP(Table1[[#This Row],[Maand (getal)]],Lijst!A:B,2,FALSE)","v":"jul"},{"$f":"IFERROR(IF(ISBLANK('Zoeken in Database'!$D$3),\"x\",IF(SEARCH('Zoeken in Database'!$D$3,Concerten!A759,1),\"x\",\"\")),\"\")","v":"x"},{"$f":"IFERROR(IF(ISBLANK('Zoeken in Database'!$D$4),\"x\",IF(SEARCH('Zoeken in Database'!$D$4,Concerten!B759,1),\"x\",\"\")),\"\")","v":"x"},{"$f":"IFERROR(IF(ISBLANK('Zoeken in Database'!$D$5),\"x\",IF(SEARCH('Zoeken in Database'!$D$5,Concerten!C759,1),\"x\",\"\")),\"\")","v":"x"},{"$f":"IFERROR(IF(ISBLANK('Zoeken in Database'!$D$6),\"x\",IF(SEARCH('Zoeken in Database'!$D$6,Concerten!G759,1),\"x\",\"\")),\"\")","v":"x"},{"$f":"IF(AND(D759>='Zoeken in Database'!$A$7,'Zoeken in Database'!$A$8>=D759),\"x\",\"\")","v":"x"}]
["Voicst ","Vierdaagsefeesten 2008","Nijmegen","2008-07-13",null,"Waalkade","Festivaloptreden",7,2008,{"$f":"VLOOKUP(Table1[[#This Row],[Maand (getal)]],Lijst!A:B,2,FALSE)","v":"jul"},{"$f":"IFERROR(IF(ISBLANK('Zoeken in Database'!$D$3),\"x\",IF(SEARCH('Zoeken in Database'!$D$3,Concerten!A760,1),\"x\",\"\")),\"\")","v":"x"},{"$f":"IFERROR(IF(ISBLANK('Zoeken in Database'!$D$4),\"x\",IF(SEARCH('Zoeken in Database'!$D$4,Concerten!B760,1),\"x\",\"\")),\"\")","v":"x"},{"$f":"IFERROR(IF(ISBLANK('Zoeken in Database'!$D$5),\"x\",IF(SEARCH('Zoeken in Database'!$D$5,Concerten!C760,1),\"x\",\"\")),\"\")","v":"x"},{"$f":"IFERROR(IF(ISBLANK('Zoeken in Database'!$D$6),\"x\",IF(SEARCH('Zoeken in Database'!$D$6,Concerten!G760,1),\"x\",\"\")),\"\")","v":"x"},{"$f":"IF(AND(D760>='Zoeken in Database'!$A$7,'Zoeken in Database'!$A$8>=D760),\"x\",\"\")","v":"x"}]
["Drive-by Truckers","Paradiso","Amsterdam","2008-08-12","Puttin' People on the Moon \n3 Dimes Down \nThat Man I Shot \nSelf Destructive Zones \nHell No, I Ain't Happy \nZip City \nI'm Sorry Houston \nSink Hole \nCheckout Time in Vegas \nGoode's Field Road \nA Ghost To Most \nThe Righteous Path \nWomen Without Whiskey \nDead, Drunk, and Naked \nGuitar Man Upstairs \nRonnie and Neil \nHome Field Advantage \nLookout Mountain \nMarry Me \nLet There Be Rock \nPeople Who Died \n(The Jim Carroll Band cover)",null,"Hoofdprogramma",8,2008,{"$f":"VLOOKUP(Table1[[#This Row],[Maand (getal)]],Lijst!A:B,2,FALSE)","v":"aug"},{"$f":"IFERROR(IF(ISBLANK('Zoeken in Database'!$D$3),\"x\",IF(SEARCH('Zoeken in Database'!$D$3,Concerten!A761,1),\"x\",\"\")),\"\")","v":"x"},{"$f":"IFERROR(IF(ISBLANK('Zoeken in Database'!$D$4),\"x\",IF(SEARCH('Zoeken in Database'!$D$4,Concerten!B761,1),\"x\",\"\")),\"\")","v":"x"},{"$f":"IFERROR(IF(ISBLANK('Zoeken in Database'!$D$5),\"x\",IF(SEARCH('Zoeken in Database'!$D$5,Concerten!C761,1),\"x\",\"\")),\"\")","v":"x"},{"$f":"IFERROR(IF(ISBLANK('Zoeken in Database'!$D$6),\"x\",IF(SEARCH('Zoeken in Database'!$D$6,Concerten!G761,1),\"x\",\"\")),\"\")","v":"x"},{"$f":"IF(AND(D761>='Zoeken in Database'!$A$7,'Zoeken in Database'!$A$8>=D761),\"x\",\"\")","v":"x"}]
["Cave Singers","Paradiso","Amsterdam","2008-08-12",null,null,"Voorprogramma",8,2008,{"$f":"VLOOKUP(Table1[[#This Row],[Maand (getal)]],Lijst!A:B,2,FALSE)","v":"aug"},{"$f":"IFERROR(IF(ISBLANK('Zoeken in Database'!$D$3),\"x\",IF(SEARCH('Zoeken in Database'!$D$3,Concerten!A762,1),\"x\",\"\")),\"\")","v":"x"},{"$f":"IFERROR(IF(ISBLANK('Zoeken in Database'!$D$4),\"x\",IF(SEARCH('Zoeken in Database'!$D$4,Concerten!B762,1),\"x\",\"\")),\"\")","v":"x"},{"$f":"IFERROR(IF(ISBLANK('Zoeken in Database'!$D$5),\"x\",IF(SEARCH('Zoeken in Database'!$D$5,Concerten!C762,1),\"x\",\"\")),\"\")","v":"x"},{"$f":"IFERROR(IF(ISBLANK('Zoeken in Database'!$D$6),\"x\",IF(SEARCH('Zoeken in Database'!$D$6,Concerten!G762,1),\"x\",\"\")),\"\")","v":"x"},{"$f":"IF(AND(D762>='Zoeken in Database'!$A$7,'Zoeken in Database'!$A$8>=D762),\"x\",\"\")","v":"x"}]
["Rollins, Henry ","Lowlands 2008","Biddinghuizen","2008-08-15",null,"India (Spoken Word)","Festivaloptreden",8,2008,{"$f":"VLOOKUP(Table1[[#This Row],[Maand (getal)]],Lijst!A:B,2,FALSE)","v":"aug"},{"$f":"IFERROR(IF(ISBLANK('Zoeken in Database'!$D$3),\"x\",IF(SEARCH('Zoeken in Database'!$D$3,Concerten!A763,1),\"x\",\"\")),\"\")","v":"x"},{"$f":"IFERROR(IF(ISBLANK('Zoeken in Database'!$D$4),\"x\",IF(SEARCH('Zoeken in Database'!$D$4,Concerten!B763,1),\"x\",\"\")),\"\")","v":"x"},{"$f":"IFERROR(IF(ISBLANK('Zoeken in Database'!$D$5),\"x\",IF(SEARCH('Zoeken in Database'!$D$5,Concerten!C763,1),\"x\",\"\")),\"\")","v":"x"},{"$f":"IFERROR(IF(ISBLANK('Zoeken in Database'!$D$6),\"x\",IF(SEARCH('Zoeken in Database'!$D$6,Concerten!G763,1),\"x\",\"\")),\"\")","v":"x"},{"$f":"IF(AND(D763>='Zoeken in Database'!$A$7,'Zoeken in Database'!$A$8>=D763),\"x\",\"\")","v":"x"}]
["Presidents Of The United States Of America","Lowlands 2008","Biddinghuizen","2008-08-15",null,"Alpha","Festivaloptreden",8,2008,{"$f":"VLOOKUP(Table1[[#This Row],[Maand (getal)]],Lijst!A:B,2,FALSE)","v":"aug"},{"$f":"IFERROR(IF(ISBLANK('Zoeken in Database'!$D$3),\"x\",IF(SEARCH('Zoeken in Database'!$D$3,Concerten!A764,1),\"x\",\"\")),\"\")","v":"x"},{"$f":"IFERROR(IF(ISBLANK('Zoeken in Database'!$D$4),\"x\",IF(SEARCH('Zoeken in Database'!$D$4,Concerten!B764,1),\"x\",\"\")),\"\")","v":"x"},{"$f":"IFERROR(IF(ISBLANK('Zoeken in Database'!$D$5),\"x\",IF(SEARCH('Zoeken in Database'!$D$5,Concerten!C764,1),\"x\",\"\")),\"\")","v":"x"},{"$f":"IFERROR(IF(ISBLANK('Zoeken in Database'!$D$6),\"x\",IF(SEARCH('Zoeken in Database'!$D$6,Concerten!G764,1),\"x\",\"\")),\"\")","v":"x"},{"$f":"IF(AND(D764>='Zoeken in Database'!$A$7,'Zoeken in Database'!$A$8>=D764),\"x\",\"\")","v":"x"}]
["National, The","Lowlands 2008","Biddinghuizen","2008-08-15",null,"Grolsch","Festivaloptreden",8,2008,{"$f":"VLOOKUP(Table1[[#This Row],[Maand (getal)]],Lijst!A:B,2,FALSE)","v":"aug"},{"$f":"IFERROR(IF(ISBLANK('Zoeken in Database'!$D$3),\"x\",IF(SEARCH('Zoeken in Database'!$D$3,Concerten!A765,1),\"x\",\"\")),\"\")","v":"x"},{"$f":"IFERROR(IF(ISBLANK('Zoeken in Database'!$D$4),\"x\",IF(SEARCH('Zoeken in Database'!$D$4,Concerten!B765,1),\"x\",\"\")),\"\")","v":"x"},{"$f":"IFERROR(IF(ISBLANK('Zoeken in Database'!$D$5),\"x\",IF(SEARCH('Zoeken in Database'!$D$5,Concerten!C765,1),\"x\",\"\")),\"\")","v":"x"},{"$f":"IFERROR(IF(ISBLANK('Zoeken in Database'!$D$6),\"x\",IF(SEARCH('Zoeken in Database'!$D$6,Concerten!G765,1),\"x\",\"\")),\"\")","v":"x"},{"$f":"IF(AND(D765>='Zoeken in Database'!$A$7,'Zoeken in Database'!$A$8>=D765),\"x\",\"\")","v":"x"}]
["Hot Chip","Lowlands 2008","Biddinghuizen","2008-08-15",null,"Bravo","Festivaloptreden",8,2008,{"$f":"VLOOKUP(Table1[[#This Row],[Maand (getal)]],Lijst!A:B,2,FALSE)","v":"aug"},{"$f":"IFERROR(IF(ISBLANK('Zoeken in Database'!$D$3),\"x\",IF(SEARCH('Zoeken in Database'!$D$3,Concerten!A766,1),\"x\",\"\")),\"\")","v":"x"},{"$f":"IFERROR(IF(ISBLANK('Zoeken in Database'!$D$4),\"x\",IF(SEARCH('Zoeken in Database'!$D$4,Concerten!B766,1),\"x\",\"\")),\"\")","v":"x"},{"$f":"IFERROR(IF(ISBLANK('Zoeken in Database'!$D$5),\"x\",IF(SEARCH('Zoeken in Database'!$D$5,Concerten!C766,1),\"x\",\"\")),\"\")","v":"x"},{"$f":"IFERROR(IF(ISBLANK('Zoeken in Database'!$D$6),\"x\",IF(SEARCH('Zoeken in Database'!$D$6,Concerten!G766,1),\"x\",\"\")),\"\")","v":"x"},{"$f":"IF(AND(D766>='Zoeken in Database'!$A$7,'Zoeken in Database'!$A$8>=D766),\"x\",\"\")","v":"x"}]
["Flaming Lips, The","Lowlands 2008","Biddinghuizen","2008-08-15","Ta! Da! \nRace for the Prize \nThe Yeah Yeah Yeah Song \nMountain Side \nVein of Stars \nThe Firebird Suite \nThe Process \nYoshimi Battles the Pink Robots, Pt. 1 \nPompeii Am Götterdämmerung \nTaps \nThe W.A.N.D. \nDo You Realize?? \n","Grolsch","Festivaloptreden",8,2008,{"$f":"VLOOKUP(Table1[[#This Row],[Maand (getal)]],Lijst!A:B,2,FALSE)","v":"aug"},{"$f":"IFERROR(IF(ISBLANK('Zoeken in Database'!$D$3),\"x\",IF(SEARCH('Zoeken in Database'!$D$3,Concerten!A767,1),\"x\",\"\")),\"\")","v":"x"},{"$f":"IFERROR(IF(ISBLANK('Zoeken in Database'!$D$4),\"x\",IF(SEARCH('Zoeken in Database'!$D$4,Concerten!B767,1),\"x\",\"\")),\"\")","v":"x"},{"$f":"IFERROR(IF(ISBLANK('Zoeken in Database'!$D$5),\"x\",IF(SEARCH('Zoeken in Database'!$D$5,Concerten!C767,1),\"x\",\"\")),\"\")","v":"x"},{"$f":"IFERROR(IF(ISBLANK('Zoeken in Database'!$D$6),\"x\",IF(SEARCH('Zoeken in Database'!$D$6,Concerten!G767,1),\"x\",\"\")),\"\")","v":"x"},{"$f":"IF(AND(D767>='Zoeken in Database'!$A$7,'Zoeken in Database'!$A$8>=D767),\"x\",\"\")","v":"x"}]
["Knijff, Peter de","Lowlands 2008","Biddinghuizen","2008-08-16",null,"Echo I","Festivaloptreden",8,2008,{"$f":"VLOOKUP(Table1[[#This Row],[Maand (getal)]],Lijst!A:B,2,FALSE)","v":"aug"},{"$f":"IFERROR(IF(ISBLANK('Zoeken in Database'!$D$3),\"x\",IF(SEARCH('Zoeken in Database'!$D$3,Concerten!A768,1),\"x\",\"\")),\"\")","v":"x"},{"$f":"IFERROR(IF(ISBLANK('Zoeken in Database'!$D$4),\"x\",IF(SEARCH('Zoeken in Database'!$D$4,Concerten!B768,1),\"x\",\"\")),\"\")","v":"x"},{"$f":"IFERROR(IF(ISBLANK('Zoeken in Database'!$D$5),\"x\",IF(SEARCH('Zoeken in Database'!$D$5,Concerten!C768,1),\"x\",\"\")),\"\")","v":"x"},{"$f":"IFERROR(IF(ISBLANK('Zoeken in Database'!$D$6),\"x\",IF(SEARCH('Zoeken in Database'!$D$6,Concerten!G768,1),\"x\",\"\")),\"\")","v":"x"},{"$f":"IF(AND(D768>='Zoeken in Database'!$A$7,'Zoeken in Database'!$A$8>=D768),\"x\",\"\")","v":"x"}]
["Opposites, The","Lowlands 2008","Biddinghuizen","2008-08-16",null,"Bravo","Festivaloptreden",8,2008,{"$f":"VLOOKUP(Table1[[#This Row],[Maand (getal)]],Lijst!A:B,2,FALSE)","v":"aug"},{"$f":"IFERROR(IF(ISBLANK('Zoeken in Database'!$D$3),\"x\",IF(SEARCH('Zoeken in Database'!$D$3,Concerten!A769,1),\"x\",\"\")),\"\")","v":"x"},{"$f":"IFERROR(IF(ISBLANK('Zoeken in Database'!$D$4),\"x\",IF(SEARCH('Zoeken in Database'!$D$4,Concerten!B769,1),\"x\",\"\")),\"\")","v":"x"},{"$f":"IFERROR(IF(ISBLANK('Zoeken in Database'!$D$5),\"x\",IF(SEARCH('Zoeken in Database'!$D$5,Concerten!C769,1),\"x\",\"\")),\"\")","v":"x"},{"$f":"IFERROR(IF(ISBLANK('Zoeken in Database'!$D$6),\"x\",IF(SEARCH('Zoeken in Database'!$D$6,Concerten!G769,1),\"x\",\"\")),\"\")","v":"x"},{"$f":"IF(AND(D769>='Zoeken in Database'!$A$7,'Zoeken in Database'!$A$8>=D769),\"x\",\"\")","v":"x"}]
["Jeugd Van Tegenwoordig","Lowlands 2008","Biddinghuizen","2008-08-16",null,"Bravo","Festivaloptreden",8,2008,{"$f":"VLOOKUP(Table1[[#This Row],[Maand (getal)]],Lijst!A:B,2,FALSE)","v":"aug"},{"$f":"IFERROR(IF(ISBLANK('Zoeken in Database'!$D$3),\"x\",IF(SEARCH('Zoeken in Database'!$D$3,Concerten!A770,1),\"x\",\"\")),\"\")","v":"x"},{"$f":"IFERROR(IF(ISBLANK('Zoeken in Database'!$D$4),\"x\",IF(SEARCH('Zoeken in Database'!$D$4,Concerten!B770,1),\"x\",\"\")),\"\")","v":"x"},{"$f":"IFERROR(IF(ISBLANK('Zoeken in Database'!$D$5),\"x\",IF(SEARCH('Zoeken in Database'!$D$5,Concerten!C770,1),\"x\",\"\")),\"\")","v":"x"},{"$f":"IFERROR(IF(ISBLANK('Zoeken in Database'!$D$6),\"x\",IF(SEARCH('Zoeken in Database'!$D$6,Concerten!G770,1),\"x\",\"\")),\"\")","v":"x"},{"$f":"IF(AND(D770>='Zoeken in Database'!$A$7,'Zoeken in Database'!$A$8>=D770),\"x\",\"\")","v":"x"}]
["British Sea Power","Lowlands 2008","Biddinghuizen","2008-08-16",null,"India","Festivaloptreden",{"$f":"IF(ISBLANK(D771),\"\",MONTH(D771))","v":8},{"$f":"IF(ISBLANK(D771),\"\",YEAR(D771))","v":2008},{"$f":"VLOOKUP(Table1[[#This Row],[Maand (getal)]],Lijst!A:B,2,FALSE)","v":"aug"},{"$f":"IFERROR(IF(ISBLANK('Zoeken in Database'!$D$3),\"x\",IF(SEARCH('Zoeken in Database'!$D$3,Concerten!A771,1),\"x\",\"\")),\"\")","v":"x"},{"$f":"IFERROR(IF(ISBLANK('Zoeken in Database'!$D$4),\"x\",IF(SEARCH('Zoeken in Database'!$D$4,Concerten!B771,1),\"x\",\"\")),\"\")","v":"x"},{"$f":"IFERROR(IF(ISBLANK('Zoeken in Database'!$D$5),\"x\",IF(SEARCH('Zoeken in Database'!$D$5,Concerten!C771,1),\"x\",\"\")),\"\")","v":"x"},{"$f":"IFERROR(IF(ISBLANK('Zoeken in Database'!$D$6),\"x\",IF(SEARCH('Zoeken in Database'!$D$6,Concerten!G771,1),\"x\",\"\")),\"\")","v":"x"},{"$f":"IF(AND(D771>='Zoeken in Database'!$A$7,'Zoeken in Database'!$A$8>=D771),\"x\",\"\")","v":"x"}]
["Underworld","Lowlands 2008","Biddinghuizen","2008-08-16",null,"Alpha","Festivaloptreden",8,2008,{"$f":"VLOOKUP(Table1[[#This Row],[Maand (getal)]],Lijst!A:B,2,FALSE)","v":"aug"},{"$f":"IFERROR(IF(ISBLANK('Zoeken in Database'!$D$3),\"x\",IF(SEARCH('Zoeken in Database'!$D$3,Concerten!A772,1),\"x\",\"\")),\"\")","v":"x"},{"$f":"IFERROR(IF(ISBLANK('Zoeken in Database'!$D$4),\"x\",IF(SEARCH('Zoeken in Database'!$D$4,Concerten!B772,1),\"x\",\"\")),\"\")","v":"x"},{"$f":"IFERROR(IF(ISBLANK('Zoeken in Database'!$D$5),\"x\",IF(SEARCH('Zoeken in Database'!$D$5,Concerten!C772,1),\"x\",\"\")),\"\")","v":"x"},{"$f":"IFERROR(IF(ISBLANK('Zoeken in Database'!$D$6),\"x\",IF(SEARCH('Zoeken in Database'!$D$6,Concerten!G772,1),\"x\",\"\")),\"\")","v":"x"},{"$f":"IF(AND(D772>='Zoeken in Database'!$A$7,'Zoeken in Database'!$A$8>=D772),\"x\",\"\")","v":"x"}]
["Lucky Fonz III","Lowlands 2008","Biddinghuizen","2008-08-17",null,"India","Festivaloptreden",8,2008,{"$f":"VLOOKUP(Table1[[#This Row],[Maand (getal)]],Lijst!A:B,2,FALSE)","v":"aug"},{"$f":"IFERROR(IF(ISBLANK('Zoeken in Database'!$D$3),\"x\",IF(SEARCH('Zoeken in Database'!$D$3,Concerten!A773,1),\"x\",\"\")),\"\")","v":"x"},{"$f":"IFERROR(IF(ISBLANK('Zoeken in Database'!$D$4),\"x\",IF(SEARCH('Zoeken in Database'!$D$4,Concerten!B773,1),\"x\",\"\")),\"\")","v":"x"},{"$f":"IFERROR(IF(ISBLANK('Zoeken in Database'!$D$5),\"x\",IF(SEARCH('Zoeken in Database'!$D$5,Concerten!C773,1),\"x\",\"\")),\"\")","v":"x"},{"$f":"IFERROR(IF(ISBLANK('Zoeken in Database'!$D$6),\"x\",IF(SEARCH('Zoeken in Database'!$D$6,Concerten!G773,1),\"x\",\"\")),\"\")","v":"x"},{"$f":"IF(AND(D773>='Zoeken in Database'!$A$7,'Zoeken in Database'!$A$8>=D773),\"x\",\"\")","v":"x"}]
["Extince","Lowlands 2008","Biddinghuizen","2008-08-17",null,"Bravo","Festivaloptreden",8,2008,{"$f":"VLOOKUP(Table1[[#This Row],[Maand (getal)]],Lijst!A:B,2,FALSE)","v":"aug"},{"$f":"IFERROR(IF(ISBLANK('Zoeken in Database'!$D$3),\"x\",IF(SEARCH('Zoeken in Database'!$D$3,Concerten!A774,1),\"x\",\"\")),\"\")","v":"x"},{"$f":"IFERROR(IF(ISBLANK('Zoeken in Database'!$D$4),\"x\",IF(SEARCH('Zoeken in Database'!$D$4,Concerten!B774,1),\"x\",\"\")),\"\")","v":"x"},{"$f":"IFERROR(IF(ISBLANK('Zoeken in Database'!$D$5),\"x\",IF(SEARCH('Zoeken in Database'!$D$5,Concerten!C774,1),\"x\",\"\")),\"\")","v":"x"},{"$f":"IFERROR(IF(ISBLANK('Zoeken in Database'!$D$6),\"x\",IF(SEARCH('Zoeken in Database'!$D$6,Concerten!G774,1),\"x\",\"\")),\"\")","v":"x"},{"$f":"IF(AND(D774>='Zoeken in Database'!$A$7,'Zoeken in Database'!$A$8>=D774),\"x\",\"\")","v":"x"}]
["We Are Scientists","Lowlands 2008","Biddinghuizen","2008-08-17",null,"Grolsch","Festivaloptreden",8,2008,{"$f":"VLOOKUP(Table1[[#This Row],[Maand (getal)]],Lijst!A:B,2,FALSE)","v":"aug"},{"$f":"IFERROR(IF(ISBLANK('Zoeken in Database'!$D$3),\"x\",IF(SEARCH('Zoeken in Database'!$D$3,Concerten!A775,1),\"x\",\"\")),\"\")","v":"x"},{"$f":"IFERROR(IF(ISBLANK('Zoeken in Database'!$D$4),\"x\",IF(SEARCH('Zoeken in Database'!$D$4,Concerten!B775,1),\"x\",\"\")),\"\")","v":"x"},{"$f":"IFERROR(IF(ISBLANK('Zoeken in Database'!$D$5),\"x\",IF(SEARCH('Zoeken in Database'!$D$5,Concerten!C775,1),\"x\",\"\")),\"\")","v":"x"},{"$f":"IFERROR(IF(ISBLANK('Zoeken in Database'!$D$6),\"x\",IF(SEARCH('Zoeken in Database'!$D$6,Concerten!G775,1),\"x\",\"\")),\"\")","v":"x"},{"$f":"IF(AND(D775>='Zoeken in Database'!$A$7,'Zoeken in Database'!$A$8>=D775),\"x\",\"\")","v":"x"}]
["Sigur Ros","Lowlands 2008","Biddinghuizen","2008-08-17","01 svefn-g-englar\n02 glósóli\n03 sé lest\n04 ný batterí\n05 við spilum endalaust\n06 hoppípolla\n07 með blóðnasir\n08 festival\n09 sæglópur\n10 inní mér syngur vitleysingur\n11 hafsól\n12 gobbledigook\n----\n13 popplagið ","Grolsch","Festivaloptreden",8,2008,{"$f":"VLOOKUP(Table1[[#This Row],[Maand (getal)]],Lijst!A:B,2,FALSE)","v":"aug"},{"$f":"IFERROR(IF(ISBLANK('Zoeken in Database'!$D$3),\"x\",IF(SEARCH('Zoeken in Database'!$D$3,Concerten!A776,1),\"x\",\"\")),\"\")","v":"x"},{"$f":"IFERROR(IF(ISBLANK('Zoeken in Database'!$D$4),\"x\",IF(SEARCH('Zoeken in Database'!$D$4,Concerten!B776,1),\"x\",\"\")),\"\")","v":"x"},{"$f":"IFERROR(IF(ISBLANK('Zoeken in Database'!$D$5),\"x\",IF(SEARCH('Zoeken in Database'!$D$5,Concerten!C776,1),\"x\",\"\")),\"\")","v":"x"},{"$f":"IFERROR(IF(ISBLANK('Zoeken in Database'!$D$6),\"x\",IF(SEARCH('Zoeken in Database'!$D$6,Concerten!G776,1),\"x\",\"\")),\"\")","v":"x"},{"$f":"IF(AND(D776>='Zoeken in Database'!$A$7,'Zoeken in Database'!$A$8>=D776),\"x\",\"\")","v":"x"}]
["Stray Cats","Heineken Music Hall","Amsterdam","2008-09-03","RUMBLE IN BRIGHTON \n7 NIGHTS TO ROCK \nDOUBLE TALKIN’ BABY \nSOMETHING'S WRONG WITH MY RADIO\nCRY BABY\nLUST N’ LOVE \nSTRAY CAT STRUT \nRUNAWAY BOYS \nSEXY + 17 \nGENE & EDDIE \nGINA \nSWEET GENE VINCENT\nBLAST OFF\nBRING IT BACK AGAIN \nFISHNET STOCKINGS \nROCK THIS TOWN\n------------------------- \nI FOUGHT THE LAW\nBUILT FOR SPEED \n-------------------------\n18 MILES TO MEMPHIS \nPLEASE DON'T TOUCH\n",null,"Hoofdprogramma",9,2008,{"$f":"VLOOKUP(Table1[[#This Row],[Maand (getal)]],Lijst!A:B,2,FALSE)","v":"sep"},{"$f":"IFERROR(IF(ISBLANK('Zoeken in Database'!$D$3),\"x\",IF(SEARCH('Zoeken in Database'!$D$3,Concerten!A777,1),\"x\",\"\")),\"\")","v":"x"},{"$f":"IFERROR(IF(ISBLANK('Zoeken in Database'!$D$4),\"x\",IF(SEARCH('Zoeken in Database'!$D$4,Concerten!B777,1),\"x\",\"\")),\"\")","v":"x"},{"$f":"IFERROR(IF(ISBLANK('Zoeken in Database'!$D$5),\"x\",IF(SEARCH('Zoeken in Database'!$D$5,Concerten!C777,1),\"x\",\"\")),\"\")","v":"x"},{"$f":"IFERROR(IF(ISBLANK('Zoeken in Database'!$D$6),\"x\",IF(SEARCH('Zoeken in Database'!$D$6,Concerten!G777,1),\"x\",\"\")),\"\")","v":"x"},{"$f":"IF(AND(D777>='Zoeken in Database'!$A$7,'Zoeken in Database'!$A$8>=D777),\"x\",\"\")","v":"x"}]
["Hotrod Lincoln","Heineken Music Hall","Amsterdam","2008-09-03",null,null,"Voorprogramma",9,2008,{"$f":"VLOOKUP(Table1[[#This Row],[Maand (getal)]],Lijst!A:B,2,FALSE)","v":"sep"},{"$f":"IFERROR(IF(ISBLANK('Zoeken in Database'!$D$3),\"x\",IF(SEARCH('Zoeken in Database'!$D$3,Concerten!A778,1),\"x\",\"\")),\"\")","v":"x"},{"$f":"IFERROR(IF(ISBLANK('Zoeken in Database'!$D$4),\"x\",IF(SEARCH('Zoeken in Database'!$D$4,Concerten!B778,1),\"x\",\"\")),\"\")","v":"x"},{"$f":"IFERROR(IF(ISBLANK('Zoeken in Database'!$D$5),\"x\",IF(SEARCH('Zoeken in Database'!$D$5,Concerten!C778,1),\"x\",\"\")),\"\")","v":"x"},{"$f":"IFERROR(IF(ISBLANK('Zoeken in Database'!$D$6),\"x\",IF(SEARCH('Zoeken in Database'!$D$6,Concerten!G778,1),\"x\",\"\")),\"\")","v":"x"},{"$f":"IF(AND(D778>='Zoeken in Database'!$A$7,'Zoeken in Database'!$A$8>=D778),\"x\",\"\")","v":"x"}]
["Maassen, Theo","Effenaar","Eindhoven","2008-09-17",null,"Try Out: Zonder Pardon","Theater",9,2008,{"$f":"VLOOKUP(Table1[[#This Row],[Maand (getal)]],Lijst!A:B,2,FALSE)","v":"sep"},{"$f":"IFERROR(IF(ISBLANK('Zoeken in Database'!$D$3),\"x\",IF(SEARCH('Zoeken in Database'!$D$3,Concerten!A779,1),\"x\",\"\")),\"\")","v":"x"},{"$f":"IFERROR(IF(ISBLANK('Zoeken in Database'!$D$4),\"x\",IF(SEARCH('Zoeken in Database'!$D$4,Concerten!B779,1),\"x\",\"\")),\"\")","v":"x"},{"$f":"IFERROR(IF(ISBLANK('Zoeken in Database'!$D$5),\"x\",IF(SEARCH('Zoeken in Database'!$D$5,Concerten!C779,1),\"x\",\"\")),\"\")","v":"x"},{"$f":"IFERROR(IF(ISBLANK('Zoeken in Database'!$D$6),\"x\",IF(SEARCH('Zoeken in Database'!$D$6,Concerten!G779,1),\"x\",\"\")),\"\")","v":"x"},{"$f":"IF(AND(D779>='Zoeken in Database'!$A$7,'Zoeken in Database'!$A$8>=D779),\"x\",\"\")","v":"x"}]
["Best, Brent","Roepaen","Ottersum","2008-09-19",null,"Kapel, solo","Hoofdprogramma",9,2008,{"$f":"VLOOKUP(Table1[[#This Row],[Maand (getal)]],Lijst!A:B,2,FALSE)","v":"sep"},{"$f":"IFERROR(IF(ISBLANK('Zoeken in Database'!$D$3),\"x\",IF(SEARCH('Zoeken in Database'!$D$3,Concerten!A780,1),\"x\",\"\")),\"\")","v":"x"},{"$f":"IFERROR(IF(ISBLANK('Zoeken in Database'!$D$4),\"x\",IF(SEARCH('Zoeken in Database'!$D$4,Concerten!B780,1),\"x\",\"\")),\"\")","v":"x"},{"$f":"IFERROR(IF(ISBLANK('Zoeken in Database'!$D$5),\"x\",IF(SEARCH('Zoeken in Database'!$D$5,Concerten!C780,1),\"x\",\"\")),\"\")","v":"x"},{"$f":"IFERROR(IF(ISBLANK('Zoeken in Database'!$D$6),\"x\",IF(SEARCH('Zoeken in Database'!$D$6,Concerten!G780,1),\"x\",\"\")),\"\")","v":"x"},{"$f":"IF(AND(D780>='Zoeken in Database'!$A$7,'Zoeken in Database'!$A$8>=D780),\"x\",\"\")","v":"x"}]
["Lidell, Jamie","Vereeniging","Nijmegen","2008-11-20","Where'd You Go\nFigured Me Out\nFeel Good\nLittle Bit More\nMusic Will Not\nAnother Day\nGames For Fools\nWait For Me\nSolo\nWhat's The Use\nRope Of Sand\nMultiply\nMultiply(2e keer)",null,"Hoofdprogramma",11,2008,{"$f":"VLOOKUP(Table1[[#This Row],[Maand (getal)]],Lijst!A:B,2,FALSE)","v":"nov"},{"$f":"IFERROR(IF(ISBLANK('Zoeken in Database'!$D$3),\"x\",IF(SEARCH('Zoeken in Database'!$D$3,Concerten!A781,1),\"x\",\"\")),\"\")","v":"x"},{"$f":"IFERROR(IF(ISBLANK('Zoeken in Database'!$D$4),\"x\",IF(SEARCH('Zoeken in Database'!$D$4,Concerten!B781,1),\"x\",\"\")),\"\")","v":"x"},{"$f":"IFERROR(IF(ISBLANK('Zoeken in Database'!$D$5),\"x\",IF(SEARCH('Zoeken in Database'!$D$5,Concerten!C781,1),\"x\",\"\")),\"\")","v":"x"},{"$f":"IFERROR(IF(ISBLANK('Zoeken in Database'!$D$6),\"x\",IF(SEARCH('Zoeken in Database'!$D$6,Concerten!G781,1),\"x\",\"\")),\"\")","v":"x"},{"$f":"IF(AND(D781>='Zoeken in Database'!$A$7,'Zoeken in Database'!$A$8>=D781),\"x\",\"\")","v":"x"}]
["My Toys Like Me","Vereeniging","Nijmegen","2008-11-20",null,null,"Voorprogramma",11,2008,{"$f":"VLOOKUP(Table1[[#This Row],[Maand (getal)]],Lijst!A:B,2,FALSE)","v":"nov"},{"$f":"IFERROR(IF(ISBLANK('Zoeken in Database'!$D$3),\"x\",IF(SEARCH('Zoeken in Database'!$D$3,Concerten!A782,1),\"x\",\"\")),\"\")","v":"x"},{"$f":"IFERROR(IF(ISBLANK('Zoeken in Database'!$D$4),\"x\",IF(SEARCH('Zoeken in Database'!$D$4,Concerten!B782,1),\"x\",\"\")),\"\")","v":"x"},{"$f":"IFERROR(IF(ISBLANK('Zoeken in Database'!$D$5),\"x\",IF(SEARCH('Zoeken in Database'!$D$5,Concerten!C782,1),\"x\",\"\")),\"\")","v":"x"},{"$f":"IFERROR(IF(ISBLANK('Zoeken in Database'!$D$6),\"x\",IF(SEARCH('Zoeken in Database'!$D$6,Concerten!G782,1),\"x\",\"\")),\"\")","v":"x"},{"$f":"IF(AND(D782>='Zoeken in Database'!$A$7,'Zoeken in Database'!$A$8>=D782),\"x\",\"\")","v":"x"}]
["I'm From Barcelona","Doornroosje","Nijmegen","2008-11-23",null,null,"Hoofdprogramma",11,2008,{"$f":"VLOOKUP(Table1[[#This Row],[Maand (getal)]],Lijst!A:B,2,FALSE)","v":"nov"},{"$f":"IFERROR(IF(ISBLANK('Zoeken in Database'!$D$3),\"x\",IF(SEARCH('Zoeken in Database'!$D$3,Concerten!A783,1),\"x\",\"\")),\"\")","v":"x"},{"$f":"IFERROR(IF(ISBLANK('Zoeken in Database'!$D$4),\"x\",IF(SEARCH('Zoeken in Database'!$D$4,Concerten!B783,1),\"x\",\"\")),\"\")","v":"x"},{"$f":"IFERROR(IF(ISBLANK('Zoeken in Database'!$D$5),\"x\",IF(SEARCH('Zoeken in Database'!$D$5,Concerten!C783,1),\"x\",\"\")),\"\")","v":"x"},{"$f":"IFERROR(IF(ISBLANK('Zoeken in Database'!$D$6),\"x\",IF(SEARCH('Zoeken in Database'!$D$6,Concerten!G783,1),\"x\",\"\")),\"\")","v":"x"},{"$f":"IF(AND(D783>='Zoeken in Database'!$A$7,'Zoeken in Database'!$A$8>=D783),\"x\",\"\")","v":"x"}]
["Literatur-jugend","Doornroosje","Nijmegen","2008-11-23",null,null,"Voorprogramma",11,2008,{"$f":"VLOOKUP(Table1[[#This Row],[Maand (getal)]],Lijst!A:B,2,FALSE)","v":"nov"},{"$f":"IFERROR(IF(ISBLANK('Zoeken in Database'!$D$3),\"x\",IF(SEARCH('Zoeken in Database'!$D$3,Concerten!A784,1),\"x\",\"\")),\"\")","v":"x"},{"$f":"IFERROR(IF(ISBLANK('Zoeken in Database'!$D$4),\"x\",IF(SEARCH('Zoeken in Database'!$D$4,Concerten!B784,1),\"x\",\"\")),\"\")","v":"x"},{"$f":"IFERROR(IF(ISBLANK('Zoeken in Database'!$D$5),\"x\",IF(SEARCH('Zoeken in Database'!$D$5,Concerten!C784,1),\"x\",\"\")),\"\")","v":"x"},{"$f":"IFERROR(IF(ISBLANK('Zoeken in Database'!$D$6),\"x\",IF(SEARCH('Zoeken in Database'!$D$6,Concerten!G784,1),\"x\",\"\")),\"\")","v":"x"},{"$f":"IF(AND(D784>='Zoeken in Database'!$A$7,'Zoeken in Database'!$A$8>=D784),\"x\",\"\")","v":"x"}]
["Ottoboy","Doornroosje","Nijmegen","2008-12-17",null,null,"Voorprogramma",12,2008,{"$f":"VLOOKUP(Table1[[#This Row],[Maand (getal)]],Lijst!A:B,2,FALSE)","v":"dec"},{"$f":"IFERROR(IF(ISBLANK('Zoeken in Database'!$D$3),\"x\",IF(SEARCH('Zoeken in Database'!$D$3,Concerten!A785,1),\"x\",\"\")),\"\")","v":"x"},{"$f":"IFERROR(IF(ISBLANK('Zoeken in Database'!$D$4),\"x\",IF(SEARCH('Zoeken in Database'!$D$4,Concerten!B785,1),\"x\",\"\")),\"\")","v":"x"},{"$f":"IFERROR(IF(ISBLANK('Zoeken in Database'!$D$5),\"x\",IF(SEARCH('Zoeken in Database'!$D$5,Concerten!C785,1),\"x\",\"\")),\"\")","v":"x"},{"$f":"IFERROR(IF(ISBLANK('Zoeken in Database'!$D$6),\"x\",IF(SEARCH('Zoeken in Database'!$D$6,Concerten!G785,1),\"x\",\"\")),\"\")","v":"x"},{"$f":"IF(AND(D785>='Zoeken in Database'!$A$7,'Zoeken in Database'!$A$8>=D785),\"x\",\"\")","v":"x"}]
["Manuel, André","Doornroosje","Nijmegen","2008-12-17","Fanfare\nHol\nGoden\nFeest\nDrinkebroer\nPantani\nHoeren \nKraaien\nDorst\nZoogdier\n--------\nJunkie\nVlieger","met de Ketterse Fanfare","Hoofdprogramma",12,2008,{"$f":"VLOOKUP(Table1[[#This Row],[Maand (getal)]],Lijst!A:B,2,FALSE)","v":"dec"},{"$f":"IFERROR(IF(ISBLANK('Zoeken in Database'!$D$3),\"x\",IF(SEARCH('Zoeken in Database'!$D$3,Concerten!A786,1),\"x\",\"\")),\"\")","v":"x"},{"$f":"IFERROR(IF(ISBLANK('Zoeken in Database'!$D$4),\"x\",IF(SEARCH('Zoeken in Database'!$D$4,Concerten!B786,1),\"x\",\"\")),\"\")","v":"x"},{"$f":"IFERROR(IF(ISBLANK('Zoeken in Database'!$D$5),\"x\",IF(SEARCH('Zoeken in Database'!$D$5,Concerten!C786,1),\"x\",\"\")),\"\")","v":"x"},{"$f":"IFERROR(IF(ISBLANK('Zoeken in Database'!$D$6),\"x\",IF(SEARCH('Zoeken in Database'!$D$6,Concerten!G786,1),\"x\",\"\")),\"\")","v":"x"},{"$f":"IF(AND(D786>='Zoeken in Database'!$A$7,'Zoeken in Database'!$A$8>=D786),\"x\",\"\")","v":"x"}]
["Man van la Mancha","Schouwburg Cuijk","Cuijk","2009-01-09",null,null,"Theater",1,2009,{"$f":"VLOOKUP(Table1[[#This Row],[Maand (getal)]],Lijst!A:B,2,FALSE)","v":"jan"},{"$f":"IFERROR(IF(ISBLANK('Zoeken in Database'!$D$3),\"x\",IF(SEARCH('Zoeken in Database'!$D$3,Concerten!A787,1),\"x\",\"\")),\"\")","v":"x"},{"$f":"IFERROR(IF(ISBLANK('Zoeken in Database'!$D$4),\"x\",IF(SEARCH('Zoeken in Database'!$D$4,Concerten!B787,1),\"x\",\"\")),\"\")","v":"x"},{"$f":"IFERROR(IF(ISBLANK('Zoeken in Database'!$D$5),\"x\",IF(SEARCH('Zoeken in Database'!$D$5,Concerten!C787,1),\"x\",\"\")),\"\")","v":"x"},{"$f":"IFERROR(IF(ISBLANK('Zoeken in Database'!$D$6),\"x\",IF(SEARCH('Zoeken in Database'!$D$6,Concerten!G787,1),\"x\",\"\")),\"\")","v":"x"},{"$f":"IF(AND(D787>='Zoeken in Database'!$A$7,'Zoeken in Database'!$A$8>=D787),\"x\",\"\")","v":"x"}]
["Room Eleven","Roepaen","Ottersum","2009-02-15",null,"Kapel, Mmm Gumbo Theatertour","Hoofdprogramma",2,2009,{"$f":"VLOOKUP(Table1[[#This Row],[Maand (getal)]],Lijst!A:B,2,FALSE)","v":"feb"},{"$f":"IFERROR(IF(ISBLANK('Zoeken in Database'!$D$3),\"x\",IF(SEARCH('Zoeken in Database'!$D$3,Concerten!A788,1),\"x\",\"\")),\"\")","v":"x"},{"$f":"IFERROR(IF(ISBLANK('Zoeken in Database'!$D$4),\"x\",IF(SEARCH('Zoeken in Database'!$D$4,Concerten!B788,1),\"x\",\"\")),\"\")","v":"x"},{"$f":"IFERROR(IF(ISBLANK('Zoeken in Database'!$D$5),\"x\",IF(SEARCH('Zoeken in Database'!$D$5,Concerten!C788,1),\"x\",\"\")),\"\")","v":"x"},{"$f":"IFERROR(IF(ISBLANK('Zoeken in Database'!$D$6),\"x\",IF(SEARCH('Zoeken in Database'!$D$6,Concerten!G788,1),\"x\",\"\")),\"\")","v":"x"},{"$f":"IF(AND(D788>='Zoeken in Database'!$A$7,'Zoeken in Database'!$A$8>=D788),\"x\",\"\")","v":"x"}]
["Johan","Roepaen","Ottersum","2009-03-22",null,"Kapel","Hoofdprogramma",3,2009,{"$f":"VLOOKUP(Table1[[#This Row],[Maand (getal)]],Lijst!A:B,2,FALSE)","v":"mrt"},{"$f":"IFERROR(IF(ISBLANK('Zoeken in Database'!$D$3),\"x\",IF(SEARCH('Zoeken in Database'!$D$3,Concerten!A789,1),\"x\",\"\")),\"\")","v":"x"},{"$f":"IFERROR(IF(ISBLANK('Zoeken in Database'!$D$4),\"x\",IF(SEARCH('Zoeken in Database'!$D$4,Concerten!B789,1),\"x\",\"\")),\"\")","v":"x"},{"$f":"IFERROR(IF(ISBLANK('Zoeken in Database'!$D$5),\"x\",IF(SEARCH('Zoeken in Database'!$D$5,Concerten!C789,1),\"x\",\"\")),\"\")","v":"x"},{"$f":"IFERROR(IF(ISBLANK('Zoeken in Database'!$D$6),\"x\",IF(SEARCH('Zoeken in Database'!$D$6,Concerten!G789,1),\"x\",\"\")),\"\")","v":"x"},{"$f":"IF(AND(D789>='Zoeken in Database'!$A$7,'Zoeken in Database'!$A$8>=D789),\"x\",\"\")","v":"x"}]
["Tarzan","Circustheater","Scheveningen","2009-03-29",null,null,"Theater",3,2009,{"$f":"VLOOKUP(Table1[[#This Row],[Maand (getal)]],Lijst!A:B,2,FALSE)","v":"mrt"},{"$f":"IFERROR(IF(ISBLANK('Zoeken in Database'!$D$3),\"x\",IF(SEARCH('Zoeken in Database'!$D$3,Concerten!A790,1),\"x\",\"\")),\"\")","v":"x"},{"$f":"IFERROR(IF(ISBLANK('Zoeken in Database'!$D$4),\"x\",IF(SEARCH('Zoeken in Database'!$D$4,Concerten!B790,1),\"x\",\"\")),\"\")","v":"x"},{"$f":"IFERROR(IF(ISBLANK('Zoeken in Database'!$D$5),\"x\",IF(SEARCH('Zoeken in Database'!$D$5,Concerten!C790,1),\"x\",\"\")),\"\")","v":"x"},{"$f":"IFERROR(IF(ISBLANK('Zoeken in Database'!$D$6),\"x\",IF(SEARCH('Zoeken in Database'!$D$6,Concerten!G790,1),\"x\",\"\")),\"\")","v":"x"},{"$f":"IF(AND(D790>='Zoeken in Database'!$A$7,'Zoeken in Database'!$A$8>=D790),\"x\",\"\")","v":"x"}]
["Real Danger, The","Melkweg","Amsterdam","2009-04-24",null,"The Max","Voorprogramma",4,2009,{"$f":"VLOOKUP(Table1[[#This Row],[Maand (getal)]],Lijst!A:B,2,FALSE)","v":"apr"},{"$f":"IFERROR(IF(ISBLANK('Zoeken in Database'!$D$3),\"x\",IF(SEARCH('Zoeken in Database'!$D$3,Concerten!A791,1),\"x\",\"\")),\"\")","v":"x"},{"$f":"IFERROR(IF(ISBLANK('Zoeken in Database'!$D$4),\"x\",IF(SEARCH('Zoeken in Database'!$D$4,Concerten!B791,1),\"x\",\"\")),\"\")","v":"x"},{"$f":"IFERROR(IF(ISBLANK('Zoeken in Database'!$D$5),\"x\",IF(SEARCH('Zoeken in Database'!$D$5,Concerten!C791,1),\"x\",\"\")),\"\")","v":"x"},{"$f":"IFERROR(IF(ISBLANK('Zoeken in Database'!$D$6),\"x\",IF(SEARCH('Zoeken in Database'!$D$6,Concerten!G791,1),\"x\",\"\")),\"\")","v":"x"},{"$f":"IF(AND(D791>='Zoeken in Database'!$A$7,'Zoeken in Database'!$A$8>=D791),\"x\",\"\")","v":"x"}]
["Living End, The ","Melkweg","Amsterdam","2009-04-24",null,"The Max","Hoofdprogramma",4,2009,{"$f":"VLOOKUP(Table1[[#This Row],[Maand (getal)]],Lijst!A:B,2,FALSE)","v":"apr"},{"$f":"IFERROR(IF(ISBLANK('Zoeken in Database'!$D$3),\"x\",IF(SEARCH('Zoeken in Database'!$D$3,Concerten!A792,1),\"x\",\"\")),\"\")","v":"x"},{"$f":"IFERROR(IF(ISBLANK('Zoeken in Database'!$D$4),\"x\",IF(SEARCH('Zoeken in Database'!$D$4,Concerten!B792,1),\"x\",\"\")),\"\")","v":"x"},{"$f":"IFERROR(IF(ISBLANK('Zoeken in Database'!$D$5),\"x\",IF(SEARCH('Zoeken in Database'!$D$5,Concerten!C792,1),\"x\",\"\")),\"\")","v":"x"},{"$f":"IFERROR(IF(ISBLANK('Zoeken in Database'!$D$6),\"x\",IF(SEARCH('Zoeken in Database'!$D$6,Concerten!G792,1),\"x\",\"\")),\"\")","v":"x"},{"$f":"IF(AND(D792>='Zoeken in Database'!$A$7,'Zoeken in Database'!$A$8>=D792),\"x\",\"\")","v":"x"}]
["Of No Avail","Box","Boxmeer","2009-05-02",null,null,"Hoofdprogramma",5,2009,{"$f":"VLOOKUP(Table1[[#This Row],[Maand (getal)]],Lijst!A:B,2,FALSE)","v":"mei"},{"$f":"IFERROR(IF(ISBLANK('Zoeken in Database'!$D$3),\"x\",IF(SEARCH('Zoeken in Database'!$D$3,Concerten!A793,1),\"x\",\"\")),\"\")","v":"x"},{"$f":"IFERROR(IF(ISBLANK('Zoeken in Database'!$D$4),\"x\",IF(SEARCH('Zoeken in Database'!$D$4,Concerten!B793,1),\"x\",\"\")),\"\")","v":"x"},{"$f":"IFERROR(IF(ISBLANK('Zoeken in Database'!$D$5),\"x\",IF(SEARCH('Zoeken in Database'!$D$5,Concerten!C793,1),\"x\",\"\")),\"\")","v":"x"},{"$f":"IFERROR(IF(ISBLANK('Zoeken in Database'!$D$6),\"x\",IF(SEARCH('Zoeken in Database'!$D$6,Concerten!G793,1),\"x\",\"\")),\"\")","v":"x"},{"$f":"IF(AND(D793>='Zoeken in Database'!$A$7,'Zoeken in Database'!$A$8>=D793),\"x\",\"\")","v":"x"}]
["Blind Pilot","Ahoy","Rotterdam","2009-05-04",null,null,"Voorprogramma",5,2009,{"$f":"VLOOKUP(Table1[[#This Row],[Maand (getal)]],Lijst!A:B,2,FALSE)","v":"mei"},{"$f":"IFERROR(IF(ISBLANK('Zoeken in Database'!$D$3),\"x\",IF(SEARCH('Zoeken in Database'!$D$3,Concerten!A794,1),\"x\",\"\")),\"\")","v":"x"},{"$f":"IFERROR(IF(ISBLANK('Zoeken in Database'!$D$4),\"x\",IF(SEARCH('Zoeken in Database'!$D$4,Concerten!B794,1),\"x\",\"\")),\"\")","v":"x"},{"$f":"IFERROR(IF(ISBLANK('Zoeken in Database'!$D$5),\"x\",IF(SEARCH('Zoeken in Database'!$D$5,Concerten!C794,1),\"x\",\"\")),\"\")","v":"x"},{"$f":"IFERROR(IF(ISBLANK('Zoeken in Database'!$D$6),\"x\",IF(SEARCH('Zoeken in Database'!$D$6,Concerten!G794,1),\"x\",\"\")),\"\")","v":"x"},{"$f":"IF(AND(D794>='Zoeken in Database'!$A$7,'Zoeken in Database'!$A$8>=D794),\"x\",\"\")","v":"x"}]
["Hold Steady, The","Ahoy","Rotterdam","2009-05-04",null,null,"Voorprogramma",5,2009,{"$f":"VLOOKUP(Table1[[#This Row],[Maand (getal)]],Lijst!A:B,2,FALSE)","v":"mei"},{"$f":"IFERROR(IF(ISBLANK('Zoeken in Database'!$D$3),\"x\",IF(SEARCH('Zoeken in Database'!$D$3,Concerten!A795,1),\"x\",\"\")),\"\")","v":"x"},{"$f":"IFERROR(IF(ISBLANK('Zoeken in Database'!$D$4),\"x\",IF(SEARCH('Zoeken in Database'!$D$4,Concerten!B795,1),\"x\",\"\")),\"\")","v":"x"},{"$f":"IFERROR(IF(ISBLANK('Zoeken in Database'!$D$5),\"x\",IF(SEARCH('Zoeken in Database'!$D$5,Concerten!C795,1),\"x\",\"\")),\"\")","v":"x"},{"$f":"IFERROR(IF(ISBLANK('Zoeken in Database'!$D$6),\"x\",IF(SEARCH('Zoeken in Database'!$D$6,Concerten!G795,1),\"x\",\"\")),\"\")","v":"x"},{"$f":"IF(AND(D795>='Zoeken in Database'!$A$7,'Zoeken in Database'!$A$8>=D795),\"x\",\"\")","v":"x"}]
["Counting Crows","Ahoy","Rotterdam","2009-05-04","01 Cowboys\n02 Children in Bloom\n03 Miami\n04 Up All Night\n05 Angels of the Silences\n06 Catapult\n07 Time And Time Again\n08 Mr. Jones\n09 Colorblind\n10 On Almost Any Sunday Morning\n11 Anna Begins\n12 New Frontier\n13 Hanging Tree\n14 A Long December\n15 Come Around\n----------------------\n16 Washington Square\n17 Holiday in Spain ",null,"Hoofdprogramma",5,2009,{"$f":"VLOOKUP(Table1[[#This Row],[Maand (getal)]],Lijst!A:B,2,FALSE)","v":"mei"},{"$f":"IFERROR(IF(ISBLANK('Zoeken in Database'!$D$3),\"x\",IF(SEARCH('Zoeken in Database'!$D$3,Concerten!A796,1),\"x\",\"\")),\"\")","v":"x"},{"$f":"IFERROR(IF(ISBLANK('Zoeken in Database'!$D$4),\"x\",IF(SEARCH('Zoeken in Database'!$D$4,Concerten!B796,1),\"x\",\"\")),\"\")","v":"x"},{"$f":"IFERROR(IF(ISBLANK('Zoeken in Database'!$D$5),\"x\",IF(SEARCH('Zoeken in Database'!$D$5,Concerten!C796,1),\"x\",\"\")),\"\")","v":"x"},{"$f":"IFERROR(IF(ISBLANK('Zoeken in Database'!$D$6),\"x\",IF(SEARCH('Zoeken in Database'!$D$6,Concerten!G796,1),\"x\",\"\")),\"\")","v":"x"},{"$f":"IF(AND(D796>='Zoeken in Database'!$A$7,'Zoeken in Database'!$A$8>=D796),\"x\",\"\")","v":"x"}]
["Johan","Doornroosje","Nijmegen","2009-05-20","Easy\nTonight\nPergola\nI Feel Fine\nComes A Time\nReceiving End\nIn The Dark\nHere\nOver\nTogether Now\nMaria\nWorld Game #10\nDay Is Done\nStaring At The Sun\nWhy Don't We\n-------------------\nEverybody Knows\nShe's Got A Way With Men",null,"Hoofdprogramma",5,2009,{"$f":"VLOOKUP(Table1[[#This Row],[Maand (getal)]],Lijst!A:B,2,FALSE)","v":"mei"},{"$f":"IFERROR(IF(ISBLANK('Zoeken in Database'!$D$3),\"x\",IF(SEARCH('Zoeken in Database'!$D$3,Concerten!A797,1),\"x\",\"\")),\"\")","v":"x"},{"$f":"IFERROR(IF(ISBLANK('Zoeken in Database'!$D$4),\"x\",IF(SEARCH('Zoeken in Database'!$D$4,Concerten!B797,1),\"x\",\"\")),\"\")","v":"x"},{"$f":"IFERROR(IF(ISBLANK('Zoeken in Database'!$D$5),\"x\",IF(SEARCH('Zoeken in Database'!$D$5,Concerten!C797,1),\"x\",\"\")),\"\")","v":"x"},{"$f":"IFERROR(IF(ISBLANK('Zoeken in Database'!$D$6),\"x\",IF(SEARCH('Zoeken in Database'!$D$6,Concerten!G797,1),\"x\",\"\")),\"\")","v":"x"},{"$f":"IF(AND(D797>='Zoeken in Database'!$A$7,'Zoeken in Database'!$A$8>=D797),\"x\",\"\")","v":"x"}]
["Knol, Tim","Doornroosje","Nijmegen","2009-05-20",null,null,"Voorprogramma",5,2009,{"$f":"VLOOKUP(Table1[[#This Row],[Maand (getal)]],Lijst!A:B,2,FALSE)","v":"mei"},{"$f":"IFERROR(IF(ISBLANK('Zoeken in Database'!$D$3),\"x\",IF(SEARCH('Zoeken in Database'!$D$3,Concerten!A798,1),\"x\",\"\")),\"\")","v":"x"},{"$f":"IFERROR(IF(ISBLANK('Zoeken in Database'!$D$4),\"x\",IF(SEARCH('Zoeken in Database'!$D$4,Concerten!B798,1),\"x\",\"\")),\"\")","v":"x"},{"$f":"IFERROR(IF(ISBLANK('Zoeken in Database'!$D$5),\"x\",IF(SEARCH('Zoeken in Database'!$D$5,Concerten!C798,1),\"x\",\"\")),\"\")","v":"x"},{"$f":"IFERROR(IF(ISBLANK('Zoeken in Database'!$D$6),\"x\",IF(SEARCH('Zoeken in Database'!$D$6,Concerten!G798,1),\"x\",\"\")),\"\")","v":"x"},{"$f":"IF(AND(D798>='Zoeken in Database'!$A$7,'Zoeken in Database'!$A$8>=D798),\"x\",\"\")","v":"x"}]
["Of No Avail","Merleyn","Nijmegen","2009-05-23",null,null,"Hoofdprogramma",5,2009,{"$f":"VLOOKUP(Table1[[#This Row],[Maand (getal)]],Lijst!A:B,2,FALSE)","v":"mei"},{"$f":"IFERROR(IF(ISBLANK('Zoeken in Database'!$D$3),\"x\",IF(SEARCH('Zoeken in Database'!$D$3,Concerten!A799,1),\"x\",\"\")),\"\")","v":"x"},{"$f":"IFERROR(IF(ISBLANK('Zoeken in Database'!$D$4),\"x\",IF(SEARCH('Zoeken in Database'!$D$4,Concerten!B799,1),\"x\",\"\")),\"\")","v":"x"},{"$f":"IFERROR(IF(ISBLANK('Zoeken in Database'!$D$5),\"x\",IF(SEARCH('Zoeken in Database'!$D$5,Concerten!C799,1),\"x\",\"\")),\"\")","v":"x"},{"$f":"IFERROR(IF(ISBLANK('Zoeken in Database'!$D$6),\"x\",IF(SEARCH('Zoeken in Database'!$D$6,Concerten!G799,1),\"x\",\"\")),\"\")","v":"x"},{"$f":"IF(AND(D799>='Zoeken in Database'!$A$7,'Zoeken in Database'!$A$8>=D799),\"x\",\"\")","v":"x"}]
["Solex","Effenaar","Eindhoven","2009-05-25",null,null,"Voorprogramma",5,2009,{"$f":"VLOOKUP(Table1[[#This Row],[Maand (getal)]],Lijst!A:B,2,FALSE)","v":"mei"},{"$f":"IFERROR(IF(ISBLANK('Zoeken in Database'!$D$3),\"x\",IF(SEARCH('Zoeken in Database'!$D$3,Concerten!A800,1),\"x\",\"\")),\"\")","v":"x"},{"$f":"IFERROR(IF(ISBLANK('Zoeken in Database'!$D$4),\"x\",IF(SEARCH('Zoeken in Database'!$D$4,Concerten!B800,1),\"x\",\"\")),\"\")","v":"x"},{"$f":"IFERROR(IF(ISBLANK('Zoeken in Database'!$D$5),\"x\",IF(SEARCH('Zoeken in Database'!$D$5,Concerten!C800,1),\"x\",\"\")),\"\")","v":"x"},{"$f":"IFERROR(IF(ISBLANK('Zoeken in Database'!$D$6),\"x\",IF(SEARCH('Zoeken in Database'!$D$6,Concerten!G800,1),\"x\",\"\")),\"\")","v":"x"},{"$f":"IF(AND(D800>='Zoeken in Database'!$A$7,'Zoeken in Database'!$A$8>=D800),\"x\",\"\")","v":"x"}]
["My Bloody Valentine","Effenaar","Eindhoven","2009-05-25","I Only Said\nWhen You Sleep\nYou Never Should\nWhen You Wake\nCigarette In Your Bed\nCome In Alone\nOnly Shallow\nThorn\nNothing Much To Lose\nTo Here Knows When\nSlow\nSoon\nFeed Me With Your Kiss\nYou Made Me Realise",null,"Hoofdprogramma",5,2009,{"$f":"VLOOKUP(Table1[[#This Row],[Maand (getal)]],Lijst!A:B,2,FALSE)","v":"mei"},{"$f":"IFERROR(IF(ISBLANK('Zoeken in Database'!$D$3),\"x\",IF(SEARCH('Zoeken in Database'!$D$3,Concerten!A801,1),\"x\",\"\")),\"\")","v":"x"},{"$f":"IFERROR(IF(ISBLANK('Zoeken in Database'!$D$4),\"x\",IF(SEARCH('Zoeken in Database'!$D$4,Concerten!B801,1),\"x\",\"\")),\"\")","v":"x"},{"$f":"IFERROR(IF(ISBLANK('Zoeken in Database'!$D$5),\"x\",IF(SEARCH('Zoeken in Database'!$D$5,Concerten!C801,1),\"x\",\"\")),\"\")","v":"x"},{"$f":"IFERROR(IF(ISBLANK('Zoeken in Database'!$D$6),\"x\",IF(SEARCH('Zoeken in Database'!$D$6,Concerten!G801,1),\"x\",\"\")),\"\")","v":"x"},{"$f":"IF(AND(D801>='Zoeken in Database'!$A$7,'Zoeken in Database'!$A$8>=D801),\"x\",\"\")","v":"x"}]
["Antillectual","Doornroosje","Nijmegen","2009-06-10",null,null,"Voorprogramma",6,2009,{"$f":"VLOOKUP(Table1[[#This Row],[Maand (getal)]],Lijst!A:B,2,FALSE)","v":"jun"},{"$f":"IFERROR(IF(ISBLANK('Zoeken in Database'!$D$3),\"x\",IF(SEARCH('Zoeken in Database'!$D$3,Concerten!A802,1),\"x\",\"\")),\"\")","v":"x"},{"$f":"IFERROR(IF(ISBLANK('Zoeken in Database'!$D$4),\"x\",IF(SEARCH('Zoeken in Database'!$D$4,Concerten!B802,1),\"x\",\"\")),\"\")","v":"x"},{"$f":"IFERROR(IF(ISBLANK('Zoeken in Database'!$D$5),\"x\",IF(SEARCH('Zoeken in Database'!$D$5,Concerten!C802,1),\"x\",\"\")),\"\")","v":"x"},{"$f":"IFERROR(IF(ISBLANK('Zoeken in Database'!$D$6),\"x\",IF(SEARCH('Zoeken in Database'!$D$6,Concerten!G802,1),\"x\",\"\")),\"\")","v":"x"},{"$f":"IF(AND(D802>='Zoeken in Database'!$A$7,'Zoeken in Database'!$A$8>=D802),\"x\",\"\")","v":"x"}]
["Gaslight Anthem, The","Doornroosje","Nijmegen","2009-06-10","High Lonesome\nWooderson\nOld White Lincoln\nEven Cowgirls Get The Blues\nWe Came To Dance\n'59 Sound\nFilm Noir\nSenor & The Queen\nI'da Called You Woody, Joe\nAngry Johnny & The Radio\nMiles Davis And The Cool\nBoomboxes & Dictionaries\nHere's Lookin At You Kid\n-----\nMeet Me By The Rivers Edge\nBLue Jeans & White Tshirts\nCasanova, Baby!\nBackseats\n",null,"Hoofdprogramma",6,2009,{"$f":"VLOOKUP(Table1[[#This Row],[Maand (getal)]],Lijst!A:B,2,FALSE)","v":"jun"},{"$f":"IFERROR(IF(ISBLANK('Zoeken in Database'!$D$3),\"x\",IF(SEARCH('Zoeken in Database'!$D$3,Concerten!A803,1),\"x\",\"\")),\"\")","v":"x"},{"$f":"IFERROR(IF(ISBLANK('Zoeken in Database'!$D$4),\"x\",IF(SEARCH('Zoeken in Database'!$D$4,Concerten!B803,1),\"x\",\"\")),\"\")","v":"x"},{"$f":"IFERROR(IF(ISBLANK('Zoeken in Database'!$D$5),\"x\",IF(SEARCH('Zoeken in Database'!$D$5,Concerten!C803,1),\"x\",\"\")),\"\")","v":"x"},{"$f":"IFERROR(IF(ISBLANK('Zoeken in Database'!$D$6),\"x\",IF(SEARCH('Zoeken in Database'!$D$6,Concerten!G803,1),\"x\",\"\")),\"\")","v":"x"},{"$f":"IF(AND(D803>='Zoeken in Database'!$A$7,'Zoeken in Database'!$A$8>=D803),\"x\",\"\")","v":"x"}]
["Staat, De","Op de Toffel 2009","Vierlingsbeek","2009-06-21",null,"Het Ene Podium","Festivaloptreden",6,2009,{"$f":"VLOOKUP(Table1[[#This Row],[Maand (getal)]],Lijst!A:B,2,FALSE)","v":"jun"},{"$f":"IFERROR(IF(ISBLANK('Zoeken in Database'!$D$3),\"x\",IF(SEARCH('Zoeken in Database'!$D$3,Concerten!A804,1),\"x\",\"\")),\"\")","v":"x"},{"$f":"IFERROR(IF(ISBLANK('Zoeken in Database'!$D$4),\"x\",IF(SEARCH('Zoeken in Database'!$D$4,Concerten!B804,1),\"x\",\"\")),\"\")","v":"x"},{"$f":"IFERROR(IF(ISBLANK('Zoeken in Database'!$D$5),\"x\",IF(SEARCH('Zoeken in Database'!$D$5,Concerten!C804,1),\"x\",\"\")),\"\")","v":"x"},{"$f":"IFERROR(IF(ISBLANK('Zoeken in Database'!$D$6),\"x\",IF(SEARCH('Zoeken in Database'!$D$6,Concerten!G804,1),\"x\",\"\")),\"\")","v":"x"},{"$f":"IF(AND(D804>='Zoeken in Database'!$A$7,'Zoeken in Database'!$A$8>=D804),\"x\",\"\")","v":"x"}]
["101's, The","Op de Toffel 2009","Vierlingsbeek","2009-06-21",null,"Het Ene Podium","Festivaloptreden",6,2009,{"$f":"VLOOKUP(Table1[[#This Row],[Maand (getal)]],Lijst!A:B,2,FALSE)","v":"jun"},{"$f":"IFERROR(IF(ISBLANK('Zoeken in Database'!$D$3),\"x\",IF(SEARCH('Zoeken in Database'!$D$3,Concerten!A805,1),\"x\",\"\")),\"\")","v":"x"},{"$f":"IFERROR(IF(ISBLANK('Zoeken in Database'!$D$4),\"x\",IF(SEARCH('Zoeken in Database'!$D$4,Concerten!B805,1),\"x\",\"\")),\"\")","v":"x"},{"$f":"IFERROR(IF(ISBLANK('Zoeken in Database'!$D$5),\"x\",IF(SEARCH('Zoeken in Database'!$D$5,Concerten!C805,1),\"x\",\"\")),\"\")","v":"x"},{"$f":"IFERROR(IF(ISBLANK('Zoeken in Database'!$D$6),\"x\",IF(SEARCH('Zoeken in Database'!$D$6,Concerten!G805,1),\"x\",\"\")),\"\")","v":"x"},{"$f":"IF(AND(D805>='Zoeken in Database'!$A$7,'Zoeken in Database'!$A$8>=D805),\"x\",\"\")","v":"x"}]
["Spades, The","Op de Toffel 2009","Vierlingsbeek","2009-06-21",null,"Het Ene Podium","Festivaloptreden",6,2009,{"$f":"VLOOKUP(Table1[[#This Row],[Maand (getal)]],Lijst!A:B,2,FALSE)","v":"jun"},{"$f":"IFERROR(IF(ISBLANK('Zoeken in Database'!$D$3),\"x\",IF(SEARCH('Zoeken in Database'!$D$3,Concerten!A806,1),\"x\",\"\")),\"\")","v":"x"},{"$f":"IFERROR(IF(ISBLANK('Zoeken in Database'!$D$4),\"x\",IF(SEARCH('Zoeken in Database'!$D$4,Concerten!B806,1),\"x\",\"\")),\"\")","v":"x"},{"$f":"IFERROR(IF(ISBLANK('Zoeken in Database'!$D$5),\"x\",IF(SEARCH('Zoeken in Database'!$D$5,Concerten!C806,1),\"x\",\"\")),\"\")","v":"x"},{"$f":"IFERROR(IF(ISBLANK('Zoeken in Database'!$D$6),\"x\",IF(SEARCH('Zoeken in Database'!$D$6,Concerten!G806,1),\"x\",\"\")),\"\")","v":"x"},{"$f":"IF(AND(D806>='Zoeken in Database'!$A$7,'Zoeken in Database'!$A$8>=D806),\"x\",\"\")","v":"x"}]
["Death Letters, The","Op de Toffel 2009","Vierlingsbeek","2009-06-21",null,"Het Andere Podium","Festivaloptreden",6,2009,{"$f":"VLOOKUP(Table1[[#This Row],[Maand (getal)]],Lijst!A:B,2,FALSE)","v":"jun"},{"$f":"IFERROR(IF(ISBLANK('Zoeken in Database'!$D$3),\"x\",IF(SEARCH('Zoeken in Database'!$D$3,Concerten!A807,1),\"x\",\"\")),\"\")","v":"x"},{"$f":"IFERROR(IF(ISBLANK('Zoeken in Database'!$D$4),\"x\",IF(SEARCH('Zoeken in Database'!$D$4,Concerten!B807,1),\"x\",\"\")),\"\")","v":"x"},{"$f":"IFERROR(IF(ISBLANK('Zoeken in Database'!$D$5),\"x\",IF(SEARCH('Zoeken in Database'!$D$5,Concerten!C807,1),\"x\",\"\")),\"\")","v":"x"},{"$f":"IFERROR(IF(ISBLANK('Zoeken in Database'!$D$6),\"x\",IF(SEARCH('Zoeken in Database'!$D$6,Concerten!G807,1),\"x\",\"\")),\"\")","v":"x"},{"$f":"IF(AND(D807>='Zoeken in Database'!$A$7,'Zoeken in Database'!$A$8>=D807),\"x\",\"\")","v":"x"}]
["Circle J.","Op de Toffel 2009","Vierlingsbeek","2009-06-21",null,"Het Ene Podium","Festivaloptreden",6,2009,{"$f":"VLOOKUP(Table1[[#This Row],[Maand (getal)]],Lijst!A:B,2,FALSE)","v":"jun"},{"$f":"IFERROR(IF(ISBLANK('Zoeken in Database'!$D$3),\"x\",IF(SEARCH('Zoeken in Database'!$D$3,Concerten!A808,1),\"x\",\"\")),\"\")","v":"x"},{"$f":"IFERROR(IF(ISBLANK('Zoeken in Database'!$D$4),\"x\",IF(SEARCH('Zoeken in Database'!$D$4,Concerten!B808,1),\"x\",\"\")),\"\")","v":"x"},{"$f":"IFERROR(IF(ISBLANK('Zoeken in Database'!$D$5),\"x\",IF(SEARCH('Zoeken in Database'!$D$5,Concerten!C808,1),\"x\",\"\")),\"\")","v":"x"},{"$f":"IFERROR(IF(ISBLANK('Zoeken in Database'!$D$6),\"x\",IF(SEARCH('Zoeken in Database'!$D$6,Concerten!G808,1),\"x\",\"\")),\"\")","v":"x"},{"$f":"IF(AND(D808>='Zoeken in Database'!$A$7,'Zoeken in Database'!$A$8>=D808),\"x\",\"\")","v":"x"}]
["Sabine","O13","Tilburg","2009-06-23",null,"Kai's Afstudeerpresentatie","Festivaloptreden",6,2009,{"$f":"VLOOKUP(Table1[[#This Row],[Maand (getal)]],Lijst!A:B,2,FALSE)","v":"jun"},{"$f":"IFERROR(IF(ISBLANK('Zoeken in Database'!$D$3),\"x\",IF(SEARCH('Zoeken in Database'!$D$3,Concerten!A809,1),\"x\",\"\")),\"\")","v":"x"},{"$f":"IFERROR(IF(ISBLANK('Zoeken in Database'!$D$4),\"x\",IF(SEARCH('Zoeken in Database'!$D$4,Concerten!B809,1),\"x\",\"\")),\"\")","v":"x"},{"$f":"IFERROR(IF(ISBLANK('Zoeken in Database'!$D$5),\"x\",IF(SEARCH('Zoeken in Database'!$D$5,Concerten!C809,1),\"x\",\"\")),\"\")","v":"x"},{"$f":"IFERROR(IF(ISBLANK('Zoeken in Database'!$D$6),\"x\",IF(SEARCH('Zoeken in Database'!$D$6,Concerten!G809,1),\"x\",\"\")),\"\")","v":"x"},{"$f":"IF(AND(D809>='Zoeken in Database'!$A$7,'Zoeken in Database'!$A$8>=D809),\"x\",\"\")","v":"x"}]
["Sean Walsh Band","O13","Tilburg","2009-06-23",null,"Kai's Afstudeerpresentatie","Festivaloptreden",6,2009,{"$f":"VLOOKUP(Table1[[#This Row],[Maand (getal)]],Lijst!A:B,2,FALSE)","v":"jun"},{"$f":"IFERROR(IF(ISBLANK('Zoeken in Database'!$D$3),\"x\",IF(SEARCH('Zoeken in Database'!$D$3,Concerten!A810,1),\"x\",\"\")),\"\")","v":"x"},{"$f":"IFERROR(IF(ISBLANK('Zoeken in Database'!$D$4),\"x\",IF(SEARCH('Zoeken in Database'!$D$4,Concerten!B810,1),\"x\",\"\")),\"\")","v":"x"},{"$f":"IFERROR(IF(ISBLANK('Zoeken in Database'!$D$5),\"x\",IF(SEARCH('Zoeken in Database'!$D$5,Concerten!C810,1),\"x\",\"\")),\"\")","v":"x"},{"$f":"IFERROR(IF(ISBLANK('Zoeken in Database'!$D$6),\"x\",IF(SEARCH('Zoeken in Database'!$D$6,Concerten!G810,1),\"x\",\"\")),\"\")","v":"x"},{"$f":"IF(AND(D810>='Zoeken in Database'!$A$7,'Zoeken in Database'!$A$8>=D810),\"x\",\"\")","v":"x"}]
["Jess","O13","Tilburg","2009-06-23",null,"Kai's Afstudeerpresentatie","Festivaloptreden",6,2009,{"$f":"VLOOKUP(Table1[[#This Row],[Maand (getal)]],Lijst!A:B,2,FALSE)","v":"jun"},{"$f":"IFERROR(IF(ISBLANK('Zoeken in Database'!$D$3),\"x\",IF(SEARCH('Zoeken in Database'!$D$3,Concerten!A811,1),\"x\",\"\")),\"\")","v":"x"},{"$f":"IFERROR(IF(ISBLANK('Zoeken in Database'!$D$4),\"x\",IF(SEARCH('Zoeken in Database'!$D$4,Concerten!B811,1),\"x\",\"\")),\"\")","v":"x"},{"$f":"IFERROR(IF(ISBLANK('Zoeken in Database'!$D$5),\"x\",IF(SEARCH('Zoeken in Database'!$D$5,Concerten!C811,1),\"x\",\"\")),\"\")","v":"x"},{"$f":"IFERROR(IF(ISBLANK('Zoeken in Database'!$D$6),\"x\",IF(SEARCH('Zoeken in Database'!$D$6,Concerten!G811,1),\"x\",\"\")),\"\")","v":"x"},{"$f":"IF(AND(D811>='Zoeken in Database'!$A$7,'Zoeken in Database'!$A$8>=D811),\"x\",\"\")","v":"x"}]
["Blood Red Shoes","Valkhof Affaire 2009","Nijmegen","2009-07-19",null,"Saddlespan","Festivaloptreden",7,2009,{"$f":"VLOOKUP(Table1[[#This Row],[Maand (getal)]],Lijst!A:B,2,FALSE)","v":"jul"},{"$f":"IFERROR(IF(ISBLANK('Zoeken in Database'!$D$3),\"x\",IF(SEARCH('Zoeken in Database'!$D$3,Concerten!A812,1),\"x\",\"\")),\"\")","v":"x"},{"$f":"IFERROR(IF(ISBLANK('Zoeken in Database'!$D$4),\"x\",IF(SEARCH('Zoeken in Database'!$D$4,Concerten!B812,1),\"x\",\"\")),\"\")","v":"x"},{"$f":"IFERROR(IF(ISBLANK('Zoeken in Database'!$D$5),\"x\",IF(SEARCH('Zoeken in Database'!$D$5,Concerten!C812,1),\"x\",\"\")),\"\")","v":"x"},{"$f":"IFERROR(IF(ISBLANK('Zoeken in Database'!$D$6),\"x\",IF(SEARCH('Zoeken in Database'!$D$6,Concerten!G812,1),\"x\",\"\")),\"\")","v":"x"},{"$f":"IF(AND(D812>='Zoeken in Database'!$A$7,'Zoeken in Database'!$A$8>=D812),\"x\",\"\")","v":"x"}]
["Lucky Fonz III","Stevenskerk","Nijmegen","2009-07-20",null,null,"Hoofdprogramma",7,2009,{"$f":"VLOOKUP(Table1[[#This Row],[Maand (getal)]],Lijst!A:B,2,FALSE)","v":"jul"},{"$f":"IFERROR(IF(ISBLANK('Zoeken in Database'!$D$3),\"x\",IF(SEARCH('Zoeken in Database'!$D$3,Concerten!A813,1),\"x\",\"\")),\"\")","v":"x"},{"$f":"IFERROR(IF(ISBLANK('Zoeken in Database'!$D$4),\"x\",IF(SEARCH('Zoeken in Database'!$D$4,Concerten!B813,1),\"x\",\"\")),\"\")","v":"x"},{"$f":"IFERROR(IF(ISBLANK('Zoeken in Database'!$D$5),\"x\",IF(SEARCH('Zoeken in Database'!$D$5,Concerten!C813,1),\"x\",\"\")),\"\")","v":"x"},{"$f":"IFERROR(IF(ISBLANK('Zoeken in Database'!$D$6),\"x\",IF(SEARCH('Zoeken in Database'!$D$6,Concerten!G813,1),\"x\",\"\")),\"\")","v":"x"},{"$f":"IF(AND(D813>='Zoeken in Database'!$A$7,'Zoeken in Database'!$A$8>=D813),\"x\",\"\")","v":"x"}]
["Portugal. The Man","Valkhof Affaire 2009","Nijmegen","2009-07-22",null,"Saddlespan","Festivaloptreden",7,2009,{"$f":"VLOOKUP(Table1[[#This Row],[Maand (getal)]],Lijst!A:B,2,FALSE)","v":"jul"},{"$f":"IFERROR(IF(ISBLANK('Zoeken in Database'!$D$3),\"x\",IF(SEARCH('Zoeken in Database'!$D$3,Concerten!A814,1),\"x\",\"\")),\"\")","v":"x"},{"$f":"IFERROR(IF(ISBLANK('Zoeken in Database'!$D$4),\"x\",IF(SEARCH('Zoeken in Database'!$D$4,Concerten!B814,1),\"x\",\"\")),\"\")","v":"x"},{"$f":"IFERROR(IF(ISBLANK('Zoeken in Database'!$D$5),\"x\",IF(SEARCH('Zoeken in Database'!$D$5,Concerten!C814,1),\"x\",\"\")),\"\")","v":"x"},{"$f":"IFERROR(IF(ISBLANK('Zoeken in Database'!$D$6),\"x\",IF(SEARCH('Zoeken in Database'!$D$6,Concerten!G814,1),\"x\",\"\")),\"\")","v":"x"},{"$f":"IF(AND(D814>='Zoeken in Database'!$A$7,'Zoeken in Database'!$A$8>=D814),\"x\",\"\")","v":"x"}]
["Go Back To The Zoo","Valkhof Affaire 2009","Nijmegen","2009-07-24",null,"Barbarossa Ruine","Festivaloptreden",7,2009,{"$f":"VLOOKUP(Table1[[#This Row],[Maand (getal)]],Lijst!A:B,2,FALSE)","v":"jul"},{"$f":"IFERROR(IF(ISBLANK('Zoeken in Database'!$D$3),\"x\",IF(SEARCH('Zoeken in Database'!$D$3,Concerten!A815,1),\"x\",\"\")),\"\")","v":"x"},{"$f":"IFERROR(IF(ISBLANK('Zoeken in Database'!$D$4),\"x\",IF(SEARCH('Zoeken in Database'!$D$4,Concerten!B815,1),\"x\",\"\")),\"\")","v":"x"},{"$f":"IFERROR(IF(ISBLANK('Zoeken in Database'!$D$5),\"x\",IF(SEARCH('Zoeken in Database'!$D$5,Concerten!C815,1),\"x\",\"\")),\"\")","v":"x"},{"$f":"IFERROR(IF(ISBLANK('Zoeken in Database'!$D$6),\"x\",IF(SEARCH('Zoeken in Database'!$D$6,Concerten!G815,1),\"x\",\"\")),\"\")","v":"x"},{"$f":"IF(AND(D815>='Zoeken in Database'!$A$7,'Zoeken in Database'!$A$8>=D815),\"x\",\"\")","v":"x"}]
["Johan","Valkhof Affaire 2009","Nijmegen","2009-07-24",null,"Saddlespan","Festivaloptreden",7,2009,{"$f":"VLOOKUP(Table1[[#This Row],[Maand (getal)]],Lijst!A:B,2,FALSE)","v":"jul"},{"$f":"IFERROR(IF(ISBLANK('Zoeken in Database'!$D$3),\"x\",IF(SEARCH('Zoeken in Database'!$D$3,Concerten!A816,1),\"x\",\"\")),\"\")","v":"x"},{"$f":"IFERROR(IF(ISBLANK('Zoeken in Database'!$D$4),\"x\",IF(SEARCH('Zoeken in Database'!$D$4,Concerten!B816,1),\"x\",\"\")),\"\")","v":"x"},{"$f":"IFERROR(IF(ISBLANK('Zoeken in Database'!$D$5),\"x\",IF(SEARCH('Zoeken in Database'!$D$5,Concerten!C816,1),\"x\",\"\")),\"\")","v":"x"},{"$f":"IFERROR(IF(ISBLANK('Zoeken in Database'!$D$6),\"x\",IF(SEARCH('Zoeken in Database'!$D$6,Concerten!G816,1),\"x\",\"\")),\"\")","v":"x"},{"$f":"IF(AND(D816>='Zoeken in Database'!$A$7,'Zoeken in Database'!$A$8>=D816),\"x\",\"\")","v":"x"}]
["Haunts","Valkhof Affaire 2009","Nijmegen","2009-07-24",null,"Saddlespan","Festivaloptreden",7,2009,{"$f":"VLOOKUP(Table1[[#This Row],[Maand (getal)]],Lijst!A:B,2,FALSE)","v":"jul"},{"$f":"IFERROR(IF(ISBLANK('Zoeken in Database'!$D$3),\"x\",IF(SEARCH('Zoeken in Database'!$D$3,Concerten!A817,1),\"x\",\"\")),\"\")","v":"x"},{"$f":"IFERROR(IF(ISBLANK('Zoeken in Database'!$D$4),\"x\",IF(SEARCH('Zoeken in Database'!$D$4,Concerten!B817,1),\"x\",\"\")),\"\")","v":"x"},{"$f":"IFERROR(IF(ISBLANK('Zoeken in Database'!$D$5),\"x\",IF(SEARCH('Zoeken in Database'!$D$5,Concerten!C817,1),\"x\",\"\")),\"\")","v":"x"},{"$f":"IFERROR(IF(ISBLANK('Zoeken in Database'!$D$6),\"x\",IF(SEARCH('Zoeken in Database'!$D$6,Concerten!G817,1),\"x\",\"\")),\"\")","v":"x"},{"$f":"IF(AND(D817>='Zoeken in Database'!$A$7,'Zoeken in Database'!$A$8>=D817),\"x\",\"\")","v":"x"}]
["Cold War Kids","Valkhof Affaire 2009","Nijmegen","2009-07-24",null,"Saddlespan","Festivaloptreden",7,2009,{"$f":"VLOOKUP(Table1[[#This Row],[Maand (getal)]],Lijst!A:B,2,FALSE)","v":"jul"},{"$f":"IFERROR(IF(ISBLANK('Zoeken in Database'!$D$3),\"x\",IF(SEARCH('Zoeken in Database'!$D$3,Concerten!A818,1),\"x\",\"\")),\"\")","v":"x"},{"$f":"IFERROR(IF(ISBLANK('Zoeken in Database'!$D$4),\"x\",IF(SEARCH('Zoeken in Database'!$D$4,Concerten!B818,1),\"x\",\"\")),\"\")","v":"x"},{"$f":"IFERROR(IF(ISBLANK('Zoeken in Database'!$D$5),\"x\",IF(SEARCH('Zoeken in Database'!$D$5,Concerten!C818,1),\"x\",\"\")),\"\")","v":"x"},{"$f":"IFERROR(IF(ISBLANK('Zoeken in Database'!$D$6),\"x\",IF(SEARCH('Zoeken in Database'!$D$6,Concerten!G818,1),\"x\",\"\")),\"\")","v":"x"},{"$f":"IF(AND(D818>='Zoeken in Database'!$A$7,'Zoeken in Database'!$A$8>=D818),\"x\",\"\")","v":"x"}]
["Wintersleep","Valkhof Affaire 2009","Nijmegen","2009-07-24",null,"Saddlespan","Festivaloptreden",7,2009,{"$f":"VLOOKUP(Table1[[#This Row],[Maand (getal)]],Lijst!A:B,2,FALSE)","v":"jul"},{"$f":"IFERROR(IF(ISBLANK('Zoeken in Database'!$D$3),\"x\",IF(SEARCH('Zoeken in Database'!$D$3,Concerten!A819,1),\"x\",\"\")),\"\")","v":"x"},{"$f":"IFERROR(IF(ISBLANK('Zoeken in Database'!$D$4),\"x\",IF(SEARCH('Zoeken in Database'!$D$4,Concerten!B819,1),\"x\",\"\")),\"\")","v":"x"},{"$f":"IFERROR(IF(ISBLANK('Zoeken in Database'!$D$5),\"x\",IF(SEARCH('Zoeken in Database'!$D$5,Concerten!C819,1),\"x\",\"\")),\"\")","v":"x"},{"$f":"IFERROR(IF(ISBLANK('Zoeken in Database'!$D$6),\"x\",IF(SEARCH('Zoeken in Database'!$D$6,Concerten!G819,1),\"x\",\"\")),\"\")","v":"x"},{"$f":"IF(AND(D819>='Zoeken in Database'!$A$7,'Zoeken in Database'!$A$8>=D819),\"x\",\"\")","v":"x"}]
["Avidan, Asaf & the Mojos","Haldern Pop 2009","Haldern","2009-08-14",null,"Hauptbuhne","Festivaloptreden",8,2009,{"$f":"VLOOKUP(Table1[[#This Row],[Maand (getal)]],Lijst!A:B,2,FALSE)","v":"aug"},{"$f":"IFERROR(IF(ISBLANK('Zoeken in Database'!$D$3),\"x\",IF(SEARCH('Zoeken in Database'!$D$3,Concerten!A820,1),\"x\",\"\")),\"\")","v":"x"},{"$f":"IFERROR(IF(ISBLANK('Zoeken in Database'!$D$4),\"x\",IF(SEARCH('Zoeken in Database'!$D$4,Concerten!B820,1),\"x\",\"\")),\"\")","v":"x"},{"$f":"IFERROR(IF(ISBLANK('Zoeken in Database'!$D$5),\"x\",IF(SEARCH('Zoeken in Database'!$D$5,Concerten!C820,1),\"x\",\"\")),\"\")","v":"x"},{"$f":"IFERROR(IF(ISBLANK('Zoeken in Database'!$D$6),\"x\",IF(SEARCH('Zoeken in Database'!$D$6,Concerten!G820,1),\"x\",\"\")),\"\")","v":"x"},{"$f":"IF(AND(D820>='Zoeken in Database'!$A$7,'Zoeken in Database'!$A$8>=D820),\"x\",\"\")","v":"x"}]
["Port O' Brien","Haldern Pop 2009","Haldern","2009-08-14",null,"Hauptbuhne","Festivaloptreden",8,2009,{"$f":"VLOOKUP(Table1[[#This Row],[Maand (getal)]],Lijst!A:B,2,FALSE)","v":"aug"},{"$f":"IFERROR(IF(ISBLANK('Zoeken in Database'!$D$3),\"x\",IF(SEARCH('Zoeken in Database'!$D$3,Concerten!A821,1),\"x\",\"\")),\"\")","v":"x"},{"$f":"IFERROR(IF(ISBLANK('Zoeken in Database'!$D$4),\"x\",IF(SEARCH('Zoeken in Database'!$D$4,Concerten!B821,1),\"x\",\"\")),\"\")","v":"x"},{"$f":"IFERROR(IF(ISBLANK('Zoeken in Database'!$D$5),\"x\",IF(SEARCH('Zoeken in Database'!$D$5,Concerten!C821,1),\"x\",\"\")),\"\")","v":"x"},{"$f":"IFERROR(IF(ISBLANK('Zoeken in Database'!$D$6),\"x\",IF(SEARCH('Zoeken in Database'!$D$6,Concerten!G821,1),\"x\",\"\")),\"\")","v":"x"},{"$f":"IF(AND(D821>='Zoeken in Database'!$A$7,'Zoeken in Database'!$A$8>=D821),\"x\",\"\")","v":"x"}]
["Loney, Dear","Haldern Pop 2009","Haldern","2009-08-14",null,"Hauptbuhne","Festivaloptreden",8,2009,{"$f":"VLOOKUP(Table1[[#This Row],[Maand (getal)]],Lijst!A:B,2,FALSE)","v":"aug"},{"$f":"IFERROR(IF(ISBLANK('Zoeken in Database'!$D$3),\"x\",IF(SEARCH('Zoeken in Database'!$D$3,Concerten!A822,1),\"x\",\"\")),\"\")","v":"x"},{"$f":"IFERROR(IF(ISBLANK('Zoeken in Database'!$D$4),\"x\",IF(SEARCH('Zoeken in Database'!$D$4,Concerten!B822,1),\"x\",\"\")),\"\")","v":"x"},{"$f":"IFERROR(IF(ISBLANK('Zoeken in Database'!$D$5),\"x\",IF(SEARCH('Zoeken in Database'!$D$5,Concerten!C822,1),\"x\",\"\")),\"\")","v":"x"},{"$f":"IFERROR(IF(ISBLANK('Zoeken in Database'!$D$6),\"x\",IF(SEARCH('Zoeken in Database'!$D$6,Concerten!G822,1),\"x\",\"\")),\"\")","v":"x"},{"$f":"IF(AND(D822>='Zoeken in Database'!$A$7,'Zoeken in Database'!$A$8>=D822),\"x\",\"\")","v":"x"}]
["Temper Trap, The","Haldern Pop 2009","Haldern","2009-08-14",null,"Spiegelzelt","Festivaloptreden",8,2009,{"$f":"VLOOKUP(Table1[[#This Row],[Maand (getal)]],Lijst!A:B,2,FALSE)","v":"aug"},{"$f":"IFERROR(IF(ISBLANK('Zoeken in Database'!$D$3),\"x\",IF(SEARCH('Zoeken in Database'!$D$3,Concerten!A823,1),\"x\",\"\")),\"\")","v":"x"},{"$f":"IFERROR(IF(ISBLANK('Zoeken in Database'!$D$4),\"x\",IF(SEARCH('Zoeken in Database'!$D$4,Concerten!B823,1),\"x\",\"\")),\"\")","v":"x"},{"$f":"IFERROR(IF(ISBLANK('Zoeken in Database'!$D$5),\"x\",IF(SEARCH('Zoeken in Database'!$D$5,Concerten!C823,1),\"x\",\"\")),\"\")","v":"x"},{"$f":"IFERROR(IF(ISBLANK('Zoeken in Database'!$D$6),\"x\",IF(SEARCH('Zoeken in Database'!$D$6,Concerten!G823,1),\"x\",\"\")),\"\")","v":"x"},{"$f":"IF(AND(D823>='Zoeken in Database'!$A$7,'Zoeken in Database'!$A$8>=D823),\"x\",\"\")","v":"x"}]
["Woodpigeon","Haldern Pop 2009","Haldern","2009-08-14",null,"Spiegelzelt","Festivaloptreden",8,2009,{"$f":"VLOOKUP(Table1[[#This Row],[Maand (getal)]],Lijst!A:B,2,FALSE)","v":"aug"},{"$f":"IFERROR(IF(ISBLANK('Zoeken in Database'!$D$3),\"x\",IF(SEARCH('Zoeken in Database'!$D$3,Concerten!A824,1),\"x\",\"\")),\"\")","v":"x"},{"$f":"IFERROR(IF(ISBLANK('Zoeken in Database'!$D$4),\"x\",IF(SEARCH('Zoeken in Database'!$D$4,Concerten!B824,1),\"x\",\"\")),\"\")","v":"x"},{"$f":"IFERROR(IF(ISBLANK('Zoeken in Database'!$D$5),\"x\",IF(SEARCH('Zoeken in Database'!$D$5,Concerten!C824,1),\"x\",\"\")),\"\")","v":"x"},{"$f":"IFERROR(IF(ISBLANK('Zoeken in Database'!$D$6),\"x\",IF(SEARCH('Zoeken in Database'!$D$6,Concerten!G824,1),\"x\",\"\")),\"\")","v":"x"},{"$f":"IF(AND(D824>='Zoeken in Database'!$A$7,'Zoeken in Database'!$A$8>=D824),\"x\",\"\")","v":"x"}]
["Maccabees, The","Haldern Pop 2009","Haldern","2009-08-15",null,"Hauptbuhne","Festivaloptreden",8,2009,{"$f":"VLOOKUP(Table1[[#This Row],[Maand (getal)]],Lijst!A:B,2,FALSE)","v":"aug"},{"$f":"IFERROR(IF(ISBLANK('Zoeken in Database'!$D$3),\"x\",IF(SEARCH('Zoeken in Database'!$D$3,Concerten!A825,1),\"x\",\"\")),\"\")","v":"x"},{"$f":"IFERROR(IF(ISBLANK('Zoeken in Database'!$D$4),\"x\",IF(SEARCH('Zoeken in Database'!$D$4,Concerten!B825,1),\"x\",\"\")),\"\")","v":"x"},{"$f":"IFERROR(IF(ISBLANK('Zoeken in Database'!$D$5),\"x\",IF(SEARCH('Zoeken in Database'!$D$5,Concerten!C825,1),\"x\",\"\")),\"\")","v":"x"},{"$f":"IFERROR(IF(ISBLANK('Zoeken in Database'!$D$6),\"x\",IF(SEARCH('Zoeken in Database'!$D$6,Concerten!G825,1),\"x\",\"\")),\"\")","v":"x"},{"$f":"IF(AND(D825>='Zoeken in Database'!$A$7,'Zoeken in Database'!$A$8>=D825),\"x\",\"\")","v":"x"}]
["Thermals, The","Haldern Pop 2009","Haldern","2009-08-15","Returning to the Fold \nI Let It Go \nHow We Know \nI Called Out Your Name \nBack to Gray \nWhen I Was Afraid \nHere's Your Future \nTest Pattern \nOur Trip \n100% (Sonic Youth cover) \nWe Were Sick \nIt's Trivia \nI Can't Let Go \nA Passing Feeling \nNo Culture Icons \nGoddamn the Light \nSt. Rosa and the Swallows \nA Pillar of Salt \nNow We Can See\n","Hauptbuhne","Festivaloptreden",8,2009,{"$f":"VLOOKUP(Table1[[#This Row],[Maand (getal)]],Lijst!A:B,2,FALSE)","v":"aug"},{"$f":"IFERROR(IF(ISBLANK('Zoeken in Database'!$D$3),\"x\",IF(SEARCH('Zoeken in Database'!$D$3,Concerten!A826,1),\"x\",\"\")),\"\")","v":"x"},{"$f":"IFERROR(IF(ISBLANK('Zoeken in Database'!$D$4),\"x\",IF(SEARCH('Zoeken in Database'!$D$4,Concerten!B826,1),\"x\",\"\")),\"\")","v":"x"},{"$f":"IFERROR(IF(ISBLANK('Zoeken in Database'!$D$5),\"x\",IF(SEARCH('Zoeken in Database'!$D$5,Concerten!C826,1),\"x\",\"\")),\"\")","v":"x"},{"$f":"IFERROR(IF(ISBLANK('Zoeken in Database'!$D$6),\"x\",IF(SEARCH('Zoeken in Database'!$D$6,Concerten!G826,1),\"x\",\"\")),\"\")","v":"x"},{"$f":"IF(AND(D826>='Zoeken in Database'!$A$7,'Zoeken in Database'!$A$8>=D826),\"x\",\"\")","v":"x"}]
["Grizzly Bear","Haldern Pop 2009","Haldern","2009-08-15",null,"Hauptbuhne","Festivaloptreden",8,2009,{"$f":"VLOOKUP(Table1[[#This Row],[Maand (getal)]],Lijst!A:B,2,FALSE)","v":"aug"},{"$f":"IFERROR(IF(ISBLANK('Zoeken in Database'!$D$3),\"x\",IF(SEARCH('Zoeken in Database'!$D$3,Concerten!A827,1),\"x\",\"\")),\"\")","v":"x"},{"$f":"IFERROR(IF(ISBLANK('Zoeken in Database'!$D$4),\"x\",IF(SEARCH('Zoeken in Database'!$D$4,Concerten!B827,1),\"x\",\"\")),\"\")","v":"x"},{"$f":"IFERROR(IF(ISBLANK('Zoeken in Database'!$D$5),\"x\",IF(SEARCH('Zoeken in Database'!$D$5,Concerten!C827,1),\"x\",\"\")),\"\")","v":"x"},{"$f":"IFERROR(IF(ISBLANK('Zoeken in Database'!$D$6),\"x\",IF(SEARCH('Zoeken in Database'!$D$6,Concerten!G827,1),\"x\",\"\")),\"\")","v":"x"},{"$f":"IF(AND(D827>='Zoeken in Database'!$A$7,'Zoeken in Database'!$A$8>=D827),\"x\",\"\")","v":"x"}]
["Bird, Andrew","Haldern Pop 2009","Haldern","2009-08-15",null,"Hauptbuhne","Festivaloptreden",8,2009,{"$f":"VLOOKUP(Table1[[#This Row],[Maand (getal)]],Lijst!A:B,2,FALSE)","v":"aug"},{"$f":"IFERROR(IF(ISBLANK('Zoeken in Database'!$D$3),\"x\",IF(SEARCH('Zoeken in Database'!$D$3,Concerten!A828,1),\"x\",\"\")),\"\")","v":"x"},{"$f":"IFERROR(IF(ISBLANK('Zoeken in Database'!$D$4),\"x\",IF(SEARCH('Zoeken in Database'!$D$4,Concerten!B828,1),\"x\",\"\")),\"\")","v":"x"},{"$f":"IFERROR(IF(ISBLANK('Zoeken in Database'!$D$5),\"x\",IF(SEARCH('Zoeken in Database'!$D$5,Concerten!C828,1),\"x\",\"\")),\"\")","v":"x"},{"$f":"IFERROR(IF(ISBLANK('Zoeken in Database'!$D$6),\"x\",IF(SEARCH('Zoeken in Database'!$D$6,Concerten!G828,1),\"x\",\"\")),\"\")","v":"x"},{"$f":"IF(AND(D828>='Zoeken in Database'!$A$7,'Zoeken in Database'!$A$8>=D828),\"x\",\"\")","v":"x"}]
["Bon Iver","Haldern Pop 2009","Haldern","2009-08-15",null,"Hauptbuhne","Festivaloptreden",8,2009,{"$f":"VLOOKUP(Table1[[#This Row],[Maand (getal)]],Lijst!A:B,2,FALSE)","v":"aug"},{"$f":"IFERROR(IF(ISBLANK('Zoeken in Database'!$D$3),\"x\",IF(SEARCH('Zoeken in Database'!$D$3,Concerten!A829,1),\"x\",\"\")),\"\")","v":"x"},{"$f":"IFERROR(IF(ISBLANK('Zoeken in Database'!$D$4),\"x\",IF(SEARCH('Zoeken in Database'!$D$4,Concerten!B829,1),\"x\",\"\")),\"\")","v":"x"},{"$f":"IFERROR(IF(ISBLANK('Zoeken in Database'!$D$5),\"x\",IF(SEARCH('Zoeken in Database'!$D$5,Concerten!C829,1),\"x\",\"\")),\"\")","v":"x"},{"$f":"IFERROR(IF(ISBLANK('Zoeken in Database'!$D$6),\"x\",IF(SEARCH('Zoeken in Database'!$D$6,Concerten!G829,1),\"x\",\"\")),\"\")","v":"x"},{"$f":"IF(AND(D829>='Zoeken in Database'!$A$7,'Zoeken in Database'!$A$8>=D829),\"x\",\"\")","v":"x"}]
["Roosbeef","Lowlands 2009","Biddinghuizen","2009-08-21",null,"India","Festivaloptreden",8,2009,{"$f":"VLOOKUP(Table1[[#This Row],[Maand (getal)]],Lijst!A:B,2,FALSE)","v":"aug"},{"$f":"IFERROR(IF(ISBLANK('Zoeken in Database'!$D$3),\"x\",IF(SEARCH('Zoeken in Database'!$D$3,Concerten!A830,1),\"x\",\"\")),\"\")","v":"x"},{"$f":"IFERROR(IF(ISBLANK('Zoeken in Database'!$D$4),\"x\",IF(SEARCH('Zoeken in Database'!$D$4,Concerten!B830,1),\"x\",\"\")),\"\")","v":"x"},{"$f":"IFERROR(IF(ISBLANK('Zoeken in Database'!$D$5),\"x\",IF(SEARCH('Zoeken in Database'!$D$5,Concerten!C830,1),\"x\",\"\")),\"\")","v":"x"},{"$f":"IFERROR(IF(ISBLANK('Zoeken in Database'!$D$6),\"x\",IF(SEARCH('Zoeken in Database'!$D$6,Concerten!G830,1),\"x\",\"\")),\"\")","v":"x"},{"$f":"IF(AND(D830>='Zoeken in Database'!$A$7,'Zoeken in Database'!$A$8>=D830),\"x\",\"\")","v":"x"}]
["La Roux","Lowlands 2009","Biddinghuizen","2009-08-21",null,"India","Festivaloptreden",8,2009,{"$f":"VLOOKUP(Table1[[#This Row],[Maand (getal)]],Lijst!A:B,2,FALSE)","v":"aug"},{"$f":"IFERROR(IF(ISBLANK('Zoeken in Database'!$D$3),\"x\",IF(SEARCH('Zoeken in Database'!$D$3,Concerten!A831,1),\"x\",\"\")),\"\")","v":"x"},{"$f":"IFERROR(IF(ISBLANK('Zoeken in Database'!$D$4),\"x\",IF(SEARCH('Zoeken in Database'!$D$4,Concerten!B831,1),\"x\",\"\")),\"\")","v":"x"},{"$f":"IFERROR(IF(ISBLANK('Zoeken in Database'!$D$5),\"x\",IF(SEARCH('Zoeken in Database'!$D$5,Concerten!C831,1),\"x\",\"\")),\"\")","v":"x"},{"$f":"IFERROR(IF(ISBLANK('Zoeken in Database'!$D$6),\"x\",IF(SEARCH('Zoeken in Database'!$D$6,Concerten!G831,1),\"x\",\"\")),\"\")","v":"x"},{"$f":"IF(AND(D831>='Zoeken in Database'!$A$7,'Zoeken in Database'!$A$8>=D831),\"x\",\"\")","v":"x"}]
["Passion Pit","Lowlands 2009","Biddinghuizen","2009-08-21",null,"India","Festivaloptreden",8,2009,{"$f":"VLOOKUP(Table1[[#This Row],[Maand (getal)]],Lijst!A:B,2,FALSE)","v":"aug"},{"$f":"IFERROR(IF(ISBLANK('Zoeken in Database'!$D$3),\"x\",IF(SEARCH('Zoeken in Database'!$D$3,Concerten!A832,1),\"x\",\"\")),\"\")","v":"x"},{"$f":"IFERROR(IF(ISBLANK('Zoeken in Database'!$D$4),\"x\",IF(SEARCH('Zoeken in Database'!$D$4,Concerten!B832,1),\"x\",\"\")),\"\")","v":"x"},{"$f":"IFERROR(IF(ISBLANK('Zoeken in Database'!$D$5),\"x\",IF(SEARCH('Zoeken in Database'!$D$5,Concerten!C832,1),\"x\",\"\")),\"\")","v":"x"},{"$f":"IFERROR(IF(ISBLANK('Zoeken in Database'!$D$6),\"x\",IF(SEARCH('Zoeken in Database'!$D$6,Concerten!G832,1),\"x\",\"\")),\"\")","v":"x"},{"$f":"IF(AND(D832>='Zoeken in Database'!$A$7,'Zoeken in Database'!$A$8>=D832),\"x\",\"\")","v":"x"}]
["Allen, Lily","Lowlands 2009","Biddinghuizen","2009-08-21",null,"Alpha","Festivaloptreden",8,2009,{"$f":"VLOOKUP(Table1[[#This Row],[Maand (getal)]],Lijst!A:B,2,FALSE)","v":"aug"},{"$f":"IFERROR(IF(ISBLANK('Zoeken in Database'!$D$3),\"x\",IF(SEARCH('Zoeken in Database'!$D$3,Concerten!A833,1),\"x\",\"\")),\"\")","v":"x"},{"$f":"IFERROR(IF(ISBLANK('Zoeken in Database'!$D$4),\"x\",IF(SEARCH('Zoeken in Database'!$D$4,Concerten!B833,1),\"x\",\"\")),\"\")","v":"x"},{"$f":"IFERROR(IF(ISBLANK('Zoeken in Database'!$D$5),\"x\",IF(SEARCH('Zoeken in Database'!$D$5,Concerten!C833,1),\"x\",\"\")),\"\")","v":"x"},{"$f":"IFERROR(IF(ISBLANK('Zoeken in Database'!$D$6),\"x\",IF(SEARCH('Zoeken in Database'!$D$6,Concerten!G833,1),\"x\",\"\")),\"\")","v":"x"},{"$f":"IF(AND(D833>='Zoeken in Database'!$A$7,'Zoeken in Database'!$A$8>=D833),\"x\",\"\")","v":"x"}]
["Lowlands Zingt","Lowlands 2009","Biddinghuizen","2009-08-22",null,"Alpha","Festivaloptreden",8,2009,{"$f":"VLOOKUP(Table1[[#This Row],[Maand (getal)]],Lijst!A:B,2,FALSE)","v":"aug"},{"$f":"IFERROR(IF(ISBLANK('Zoeken in Database'!$D$3),\"x\",IF(SEARCH('Zoeken in Database'!$D$3,Concerten!A834,1),\"x\",\"\")),\"\")","v":"x"},{"$f":"IFERROR(IF(ISBLANK('Zoeken in Database'!$D$4),\"x\",IF(SEARCH('Zoeken in Database'!$D$4,Concerten!B834,1),\"x\",\"\")),\"\")","v":"x"},{"$f":"IFERROR(IF(ISBLANK('Zoeken in Database'!$D$5),\"x\",IF(SEARCH('Zoeken in Database'!$D$5,Concerten!C834,1),\"x\",\"\")),\"\")","v":"x"},{"$f":"IFERROR(IF(ISBLANK('Zoeken in Database'!$D$6),\"x\",IF(SEARCH('Zoeken in Database'!$D$6,Concerten!G834,1),\"x\",\"\")),\"\")","v":"x"},{"$f":"IF(AND(D834>='Zoeken in Database'!$A$7,'Zoeken in Database'!$A$8>=D834),\"x\",\"\")","v":"x"}]
["Meijer, Bart","Lowlands 2009","Biddinghuizen","2009-08-22",null,"Echo","Festivaloptreden",{"$f":"IF(ISBLANK(D835),\"\",MONTH(D835))","v":8},{"$f":"IF(ISBLANK(D835),\"\",YEAR(D835))","v":2009},{"$f":"VLOOKUP(Table1[[#This Row],[Maand (getal)]],Lijst!A:B,2,FALSE)","v":"aug"},{"$f":"IFERROR(IF(ISBLANK('Zoeken in Database'!$D$3),\"x\",IF(SEARCH('Zoeken in Database'!$D$3,Concerten!A835,1),\"x\",\"\")),\"\")","v":"x"},{"$f":"IFERROR(IF(ISBLANK('Zoeken in Database'!$D$4),\"x\",IF(SEARCH('Zoeken in Database'!$D$4,Concerten!B835,1),\"x\",\"\")),\"\")","v":"x"},{"$f":"IFERROR(IF(ISBLANK('Zoeken in Database'!$D$5),\"x\",IF(SEARCH('Zoeken in Database'!$D$5,Concerten!C835,1),\"x\",\"\")),\"\")","v":"x"},{"$f":"IFERROR(IF(ISBLANK('Zoeken in Database'!$D$6),\"x\",IF(SEARCH('Zoeken in Database'!$D$6,Concerten!G835,1),\"x\",\"\")),\"\")","v":"x"},{"$f":"IF(AND(D835>='Zoeken in Database'!$A$7,'Zoeken in Database'!$A$8>=D835),\"x\",\"\")","v":"x"}]
["Living End, The ","Lowlands 2009","Biddinghuizen","2009-08-22",null,"Alpha","Festivaloptreden",8,2009,{"$f":"VLOOKUP(Table1[[#This Row],[Maand (getal)]],Lijst!A:B,2,FALSE)","v":"aug"},{"$f":"IFERROR(IF(ISBLANK('Zoeken in Database'!$D$3),\"x\",IF(SEARCH('Zoeken in Database'!$D$3,Concerten!A836,1),\"x\",\"\")),\"\")","v":"x"},{"$f":"IFERROR(IF(ISBLANK('Zoeken in Database'!$D$4),\"x\",IF(SEARCH('Zoeken in Database'!$D$4,Concerten!B836,1),\"x\",\"\")),\"\")","v":"x"},{"$f":"IFERROR(IF(ISBLANK('Zoeken in Database'!$D$5),\"x\",IF(SEARCH('Zoeken in Database'!$D$5,Concerten!C836,1),\"x\",\"\")),\"\")","v":"x"},{"$f":"IFERROR(IF(ISBLANK('Zoeken in Database'!$D$6),\"x\",IF(SEARCH('Zoeken in Database'!$D$6,Concerten!G836,1),\"x\",\"\")),\"\")","v":"x"},{"$f":"IF(AND(D836>='Zoeken in Database'!$A$7,'Zoeken in Database'!$A$8>=D836),\"x\",\"\")","v":"x"}]
["Them Crooked Vultures","Lowlands 2009","Biddinghuizen","2009-08-22","Elephants \nDead End Friends \nGunman \nScumbag Blues \nMind Eraser, No Chaser \nCaligulove \nSpinning In Daffodils \nNew Fang \nNo One Loves Me & Neither Do I \n","Grolsch","Festivaloptreden",8,2009,{"$f":"VLOOKUP(Table1[[#This Row],[Maand (getal)]],Lijst!A:B,2,FALSE)","v":"aug"},{"$f":"IFERROR(IF(ISBLANK('Zoeken in Database'!$D$3),\"x\",IF(SEARCH('Zoeken in Database'!$D$3,Concerten!A837,1),\"x\",\"\")),\"\")","v":"x"},{"$f":"IFERROR(IF(ISBLANK('Zoeken in Database'!$D$4),\"x\",IF(SEARCH('Zoeken in Database'!$D$4,Concerten!B837,1),\"x\",\"\")),\"\")","v":"x"},{"$f":"IFERROR(IF(ISBLANK('Zoeken in Database'!$D$5),\"x\",IF(SEARCH('Zoeken in Database'!$D$5,Concerten!C837,1),\"x\",\"\")),\"\")","v":"x"},{"$f":"IFERROR(IF(ISBLANK('Zoeken in Database'!$D$6),\"x\",IF(SEARCH('Zoeken in Database'!$D$6,Concerten!G837,1),\"x\",\"\")),\"\")","v":"x"},{"$f":"IF(AND(D837>='Zoeken in Database'!$A$7,'Zoeken in Database'!$A$8>=D837),\"x\",\"\")","v":"x"}]
["Williams III, Hank and Assjack","Lowlands 2009","Biddinghuizen","2009-08-22",null,"India","Festivaloptreden",8,2009,{"$f":"VLOOKUP(Table1[[#This Row],[Maand (getal)]],Lijst!A:B,2,FALSE)","v":"aug"},{"$f":"IFERROR(IF(ISBLANK('Zoeken in Database'!$D$3),\"x\",IF(SEARCH('Zoeken in Database'!$D$3,Concerten!A838,1),\"x\",\"\")),\"\")","v":"x"},{"$f":"IFERROR(IF(ISBLANK('Zoeken in Database'!$D$4),\"x\",IF(SEARCH('Zoeken in Database'!$D$4,Concerten!B838,1),\"x\",\"\")),\"\")","v":"x"},{"$f":"IFERROR(IF(ISBLANK('Zoeken in Database'!$D$5),\"x\",IF(SEARCH('Zoeken in Database'!$D$5,Concerten!C838,1),\"x\",\"\")),\"\")","v":"x"},{"$f":"IFERROR(IF(ISBLANK('Zoeken in Database'!$D$6),\"x\",IF(SEARCH('Zoeken in Database'!$D$6,Concerten!G838,1),\"x\",\"\")),\"\")","v":"x"},{"$f":"IF(AND(D838>='Zoeken in Database'!$A$7,'Zoeken in Database'!$A$8>=D838),\"x\",\"\")","v":"x"}]
["Arends, Daniel","Lowlands 2009","Biddinghuizen","2009-08-22",null,"Juliet","Festivaloptreden",8,2009,{"$f":"VLOOKUP(Table1[[#This Row],[Maand (getal)]],Lijst!A:B,2,FALSE)","v":"aug"},{"$f":"IFERROR(IF(ISBLANK('Zoeken in Database'!$D$3),\"x\",IF(SEARCH('Zoeken in Database'!$D$3,Concerten!A839,1),\"x\",\"\")),\"\")","v":"x"},{"$f":"IFERROR(IF(ISBLANK('Zoeken in Database'!$D$4),\"x\",IF(SEARCH('Zoeken in Database'!$D$4,Concerten!B839,1),\"x\",\"\")),\"\")","v":"x"},{"$f":"IFERROR(IF(ISBLANK('Zoeken in Database'!$D$5),\"x\",IF(SEARCH('Zoeken in Database'!$D$5,Concerten!C839,1),\"x\",\"\")),\"\")","v":"x"},{"$f":"IFERROR(IF(ISBLANK('Zoeken in Database'!$D$6),\"x\",IF(SEARCH('Zoeken in Database'!$D$6,Concerten!G839,1),\"x\",\"\")),\"\")","v":"x"},{"$f":"IF(AND(D839>='Zoeken in Database'!$A$7,'Zoeken in Database'!$A$8>=D839),\"x\",\"\")","v":"x"}]
["Vampire Weekend","Lowlands 2009","Biddinghuizen","2009-08-23",null,"Grolsch","Festivaloptreden",8,2009,{"$f":"VLOOKUP(Table1[[#This Row],[Maand (getal)]],Lijst!A:B,2,FALSE)","v":"aug"},{"$f":"IFERROR(IF(ISBLANK('Zoeken in Database'!$D$3),\"x\",IF(SEARCH('Zoeken in Database'!$D$3,Concerten!A840,1),\"x\",\"\")),\"\")","v":"x"},{"$f":"IFERROR(IF(ISBLANK('Zoeken in Database'!$D$4),\"x\",IF(SEARCH('Zoeken in Database'!$D$4,Concerten!B840,1),\"x\",\"\")),\"\")","v":"x"},{"$f":"IFERROR(IF(ISBLANK('Zoeken in Database'!$D$5),\"x\",IF(SEARCH('Zoeken in Database'!$D$5,Concerten!C840,1),\"x\",\"\")),\"\")","v":"x"},{"$f":"IFERROR(IF(ISBLANK('Zoeken in Database'!$D$6),\"x\",IF(SEARCH('Zoeken in Database'!$D$6,Concerten!G840,1),\"x\",\"\")),\"\")","v":"x"},{"$f":"IF(AND(D840>='Zoeken in Database'!$A$7,'Zoeken in Database'!$A$8>=D840),\"x\",\"\")","v":"x"}]
["Eagles Of Death Metal","Lowlands 2009","Biddinghuizen","2009-08-23","I Only Want You \nDon't Speak (I Came To Make A Bang!) \nBad Dream Mama \nHeart On \nCherry Cola \nSecret Plans \nEnglish Girl \nI Gotta Feeling (Just Nineteen) \nAlready Died \nStuck In The Metal (Stealers Wheel cover) \nAnything 'Cept the Truth \nWhorehoppin' (Shit, Goddamn) \nWannabe in L.A. \nI Want You So Hard (Boy's Bad News) \nSpeaking in Tongues\n","Alpha","Festivaloptreden",8,2009,{"$f":"VLOOKUP(Table1[[#This Row],[Maand (getal)]],Lijst!A:B,2,FALSE)","v":"aug"},{"$f":"IFERROR(IF(ISBLANK('Zoeken in Database'!$D$3),\"x\",IF(SEARCH('Zoeken in Database'!$D$3,Concerten!A841,1),\"x\",\"\")),\"\")","v":"x"},{"$f":"IFERROR(IF(ISBLANK('Zoeken in Database'!$D$4),\"x\",IF(SEARCH('Zoeken in Database'!$D$4,Concerten!B841,1),\"x\",\"\")),\"\")","v":"x"},{"$f":"IFERROR(IF(ISBLANK('Zoeken in Database'!$D$5),\"x\",IF(SEARCH('Zoeken in Database'!$D$5,Concerten!C841,1),\"x\",\"\")),\"\")","v":"x"},{"$f":"IFERROR(IF(ISBLANK('Zoeken in Database'!$D$6),\"x\",IF(SEARCH('Zoeken in Database'!$D$6,Concerten!G841,1),\"x\",\"\")),\"\")","v":"x"},{"$f":"IF(AND(D841>='Zoeken in Database'!$A$7,'Zoeken in Database'!$A$8>=D841),\"x\",\"\")","v":"x"}]
["Florence & The Machine","Lowlands 2009","Biddinghuizen","2009-08-23",null,"Charlie","Festivaloptreden",8,2009,{"$f":"VLOOKUP(Table1[[#This Row],[Maand (getal)]],Lijst!A:B,2,FALSE)","v":"aug"},{"$f":"IFERROR(IF(ISBLANK('Zoeken in Database'!$D$3),\"x\",IF(SEARCH('Zoeken in Database'!$D$3,Concerten!A842,1),\"x\",\"\")),\"\")","v":"x"},{"$f":"IFERROR(IF(ISBLANK('Zoeken in Database'!$D$4),\"x\",IF(SEARCH('Zoeken in Database'!$D$4,Concerten!B842,1),\"x\",\"\")),\"\")","v":"x"},{"$f":"IFERROR(IF(ISBLANK('Zoeken in Database'!$D$5),\"x\",IF(SEARCH('Zoeken in Database'!$D$5,Concerten!C842,1),\"x\",\"\")),\"\")","v":"x"},{"$f":"IFERROR(IF(ISBLANK('Zoeken in Database'!$D$6),\"x\",IF(SEARCH('Zoeken in Database'!$D$6,Concerten!G842,1),\"x\",\"\")),\"\")","v":"x"},{"$f":"IF(AND(D842>='Zoeken in Database'!$A$7,'Zoeken in Database'!$A$8>=D842),\"x\",\"\")","v":"x"}]
["Velde, Bram van der","Lowlands 2009","Biddinghuizen","2009-08-23",null,"Mike","Festivaloptreden",8,2009,{"$f":"VLOOKUP(Table1[[#This Row],[Maand (getal)]],Lijst!A:B,2,FALSE)","v":"aug"},{"$f":"IFERROR(IF(ISBLANK('Zoeken in Database'!$D$3),\"x\",IF(SEARCH('Zoeken in Database'!$D$3,Concerten!A843,1),\"x\",\"\")),\"\")","v":"x"},{"$f":"IFERROR(IF(ISBLANK('Zoeken in Database'!$D$4),\"x\",IF(SEARCH('Zoeken in Database'!$D$4,Concerten!B843,1),\"x\",\"\")),\"\")","v":"x"},{"$f":"IFERROR(IF(ISBLANK('Zoeken in Database'!$D$5),\"x\",IF(SEARCH('Zoeken in Database'!$D$5,Concerten!C843,1),\"x\",\"\")),\"\")","v":"x"},{"$f":"IFERROR(IF(ISBLANK('Zoeken in Database'!$D$6),\"x\",IF(SEARCH('Zoeken in Database'!$D$6,Concerten!G843,1),\"x\",\"\")),\"\")","v":"x"},{"$f":"IF(AND(D843>='Zoeken in Database'!$A$7,'Zoeken in Database'!$A$8>=D843),\"x\",\"\")","v":"x"}]
["Rolo Tomassi","Lowlands 2009","Biddinghuizen","2009-08-23",null,"Charlie","Festivaloptreden",8,2009,{"$f":"VLOOKUP(Table1[[#This Row],[Maand (getal)]],Lijst!A:B,2,FALSE)","v":"aug"},{"$f":"IFERROR(IF(ISBLANK('Zoeken in Database'!$D$3),\"x\",IF(SEARCH('Zoeken in Database'!$D$3,Concerten!A844,1),\"x\",\"\")),\"\")","v":"x"},{"$f":"IFERROR(IF(ISBLANK('Zoeken in Database'!$D$4),\"x\",IF(SEARCH('Zoeken in Database'!$D$4,Concerten!B844,1),\"x\",\"\")),\"\")","v":"x"},{"$f":"IFERROR(IF(ISBLANK('Zoeken in Database'!$D$5),\"x\",IF(SEARCH('Zoeken in Database'!$D$5,Concerten!C844,1),\"x\",\"\")),\"\")","v":"x"},{"$f":"IFERROR(IF(ISBLANK('Zoeken in Database'!$D$6),\"x\",IF(SEARCH('Zoeken in Database'!$D$6,Concerten!G844,1),\"x\",\"\")),\"\")","v":"x"},{"$f":"IF(AND(D844>='Zoeken in Database'!$A$7,'Zoeken in Database'!$A$8>=D844),\"x\",\"\")","v":"x"}]
["Baskery","Lowlands 2009","Biddinghuizen","2009-08-23",null,"Lima","Festivaloptreden",8,2009,{"$f":"VLOOKUP(Table1[[#This Row],[Maand (getal)]],Lijst!A:B,2,FALSE)","v":"aug"},{"$f":"IFERROR(IF(ISBLANK('Zoeken in Database'!$D$3),\"x\",IF(SEARCH('Zoeken in Database'!$D$3,Concerten!A845,1),\"x\",\"\")),\"\")","v":"x"},{"$f":"IFERROR(IF(ISBLANK('Zoeken in Database'!$D$4),\"x\",IF(SEARCH('Zoeken in Database'!$D$4,Concerten!B845,1),\"x\",\"\")),\"\")","v":"x"},{"$f":"IFERROR(IF(ISBLANK('Zoeken in Database'!$D$5),\"x\",IF(SEARCH('Zoeken in Database'!$D$5,Concerten!C845,1),\"x\",\"\")),\"\")","v":"x"},{"$f":"IFERROR(IF(ISBLANK('Zoeken in Database'!$D$6),\"x\",IF(SEARCH('Zoeken in Database'!$D$6,Concerten!G845,1),\"x\",\"\")),\"\")","v":"x"},{"$f":"IF(AND(D845>='Zoeken in Database'!$A$7,'Zoeken in Database'!$A$8>=D845),\"x\",\"\")","v":"x"}]
["Das Pop","Doornroosje","Nijmegen","2009-10-08","Fool For Love\nSaturday Night Part 1\nTired\nYou\nFeelgood\nThe One\nYou Don't Wanna Know?\nGirl Be A Man\nSaturday Night Part 2\nWings\nTry Again\nUnderground\nNever Get Enough\n-----------\nLet Me In\nVery Good Year (Sinatra)\n",null,"Hoofdprogramma",10,2009,{"$f":"VLOOKUP(Table1[[#This Row],[Maand (getal)]],Lijst!A:B,2,FALSE)","v":"okt"},{"$f":"IFERROR(IF(ISBLANK('Zoeken in Database'!$D$3),\"x\",IF(SEARCH('Zoeken in Database'!$D$3,Concerten!A846,1),\"x\",\"\")),\"\")","v":"x"},{"$f":"IFERROR(IF(ISBLANK('Zoeken in Database'!$D$4),\"x\",IF(SEARCH('Zoeken in Database'!$D$4,Concerten!B846,1),\"x\",\"\")),\"\")","v":"x"},{"$f":"IFERROR(IF(ISBLANK('Zoeken in Database'!$D$5),\"x\",IF(SEARCH('Zoeken in Database'!$D$5,Concerten!C846,1),\"x\",\"\")),\"\")","v":"x"},{"$f":"IFERROR(IF(ISBLANK('Zoeken in Database'!$D$6),\"x\",IF(SEARCH('Zoeken in Database'!$D$6,Concerten!G846,1),\"x\",\"\")),\"\")","v":"x"},{"$f":"IF(AND(D846>='Zoeken in Database'!$A$7,'Zoeken in Database'!$A$8>=D846),\"x\",\"\")","v":"x"}]
["Hickey Underworld, The","Doornroosje","Nijmegen","2009-10-08",null,null,"Voorprogramma",10,2009,{"$f":"VLOOKUP(Table1[[#This Row],[Maand (getal)]],Lijst!A:B,2,FALSE)","v":"okt"},{"$f":"IFERROR(IF(ISBLANK('Zoeken in Database'!$D$3),\"x\",IF(SEARCH('Zoeken in Database'!$D$3,Concerten!A847,1),\"x\",\"\")),\"\")","v":"x"},{"$f":"IFERROR(IF(ISBLANK('Zoeken in Database'!$D$4),\"x\",IF(SEARCH('Zoeken in Database'!$D$4,Concerten!B847,1),\"x\",\"\")),\"\")","v":"x"},{"$f":"IFERROR(IF(ISBLANK('Zoeken in Database'!$D$5),\"x\",IF(SEARCH('Zoeken in Database'!$D$5,Concerten!C847,1),\"x\",\"\")),\"\")","v":"x"},{"$f":"IFERROR(IF(ISBLANK('Zoeken in Database'!$D$6),\"x\",IF(SEARCH('Zoeken in Database'!$D$6,Concerten!G847,1),\"x\",\"\")),\"\")","v":"x"},{"$f":"IF(AND(D847>='Zoeken in Database'!$A$7,'Zoeken in Database'!$A$8>=D847),\"x\",\"\")","v":"x"}]
["Green Day","Ahoy","Rotterdam","2009-10-16","1.Song of the Century \n2.21st Century Breakdown\n3.Know Your Enemy \n4.East Jesus Nowhere \n5.Holiday \n6.Before The Lobotomy \n7.The Static Age \n8.Are We The Waiting \n9.St. Jimmy \n10.Boulevard Of Broken Dreams\n11.Hitchin' A Ride \n12.When I Come Around \n13.Brain Stew \n14.Jaded \n15.Welcome To Paradise\n16.Longview \n17.Basket Case \n18.She \n19.King For A Day / Shout (The Rolling Stones cover) \n20.21 Guns \n21.Minority \n\nEncore:\n22.American Idiot \n23.Jesus Of Suburbia \n\nEncore 2:\n24.Wake Me Up When September Ends (Acoustic) \n25.Good Riddance (Time Of Your Life) (Acoustic)",null,"Hoofdprogramma",10,2009,{"$f":"VLOOKUP(Table1[[#This Row],[Maand (getal)]],Lijst!A:B,2,FALSE)","v":"okt"},{"$f":"IFERROR(IF(ISBLANK('Zoeken in Database'!$D$3),\"x\",IF(SEARCH('Zoeken in Database'!$D$3,Concerten!A848,1),\"x\",\"\")),\"\")","v":"x"},{"$f":"IFERROR(IF(ISBLANK('Zoeken in Database'!$D$4),\"x\",IF(SEARCH('Zoeken in Database'!$D$4,Concerten!B848,1),\"x\",\"\")),\"\")","v":"x"},{"$f":"IFERROR(IF(ISBLANK('Zoeken in Database'!$D$5),\"x\",IF(SEARCH('Zoeken in Database'!$D$5,Concerten!C848,1),\"x\",\"\")),\"\")","v":"x"},{"$f":"IFERROR(IF(ISBLANK('Zoeken in Database'!$D$6),\"x\",IF(SEARCH('Zoeken in Database'!$D$6,Concerten!G848,1),\"x\",\"\")),\"\")","v":"x"},{"$f":"IF(AND(D848>='Zoeken in Database'!$A$7,'Zoeken in Database'!$A$8>=D848),\"x\",\"\")","v":"x"}]
["Mike & Thomas","Schouwburg Cuijk","Cuijk","2009-10-17",null,null,"Theater",10,2009,{"$f":"VLOOKUP(Table1[[#This Row],[Maand (getal)]],Lijst!A:B,2,FALSE)","v":"okt"},{"$f":"IFERROR(IF(ISBLANK('Zoeken in Database'!$D$3),\"x\",IF(SEARCH('Zoeken in Database'!$D$3,Concerten!A849,1),\"x\",\"\")),\"\")","v":"x"},{"$f":"IFERROR(IF(ISBLANK('Zoeken in Database'!$D$4),\"x\",IF(SEARCH('Zoeken in Database'!$D$4,Concerten!B849,1),\"x\",\"\")),\"\")","v":"x"},{"$f":"IFERROR(IF(ISBLANK('Zoeken in Database'!$D$5),\"x\",IF(SEARCH('Zoeken in Database'!$D$5,Concerten!C849,1),\"x\",\"\")),\"\")","v":"x"},{"$f":"IFERROR(IF(ISBLANK('Zoeken in Database'!$D$6),\"x\",IF(SEARCH('Zoeken in Database'!$D$6,Concerten!G849,1),\"x\",\"\")),\"\")","v":"x"},{"$f":"IF(AND(D849>='Zoeken in Database'!$A$7,'Zoeken in Database'!$A$8>=D849),\"x\",\"\")","v":"x"}]
["Glotzbach, Harry","Weijertheater","Boxmeer","2009-10-21",null,"Pura Vida","Theater",10,2009,{"$f":"VLOOKUP(Table1[[#This Row],[Maand (getal)]],Lijst!A:B,2,FALSE)","v":"okt"},{"$f":"IFERROR(IF(ISBLANK('Zoeken in Database'!$D$3),\"x\",IF(SEARCH('Zoeken in Database'!$D$3,Concerten!A850,1),\"x\",\"\")),\"\")","v":"x"},{"$f":"IFERROR(IF(ISBLANK('Zoeken in Database'!$D$4),\"x\",IF(SEARCH('Zoeken in Database'!$D$4,Concerten!B850,1),\"x\",\"\")),\"\")","v":"x"},{"$f":"IFERROR(IF(ISBLANK('Zoeken in Database'!$D$5),\"x\",IF(SEARCH('Zoeken in Database'!$D$5,Concerten!C850,1),\"x\",\"\")),\"\")","v":"x"},{"$f":"IFERROR(IF(ISBLANK('Zoeken in Database'!$D$6),\"x\",IF(SEARCH('Zoeken in Database'!$D$6,Concerten!G850,1),\"x\",\"\")),\"\")","v":"x"},{"$f":"IF(AND(D850>='Zoeken in Database'!$A$7,'Zoeken in Database'!$A$8>=D850),\"x\",\"\")","v":"x"}]
["Doll And The Kicks","Vereeniging","Nijmegen","2009-11-09",null,null,"Voorprogramma",11,2009,{"$f":"VLOOKUP(Table1[[#This Row],[Maand (getal)]],Lijst!A:B,2,FALSE)","v":"nov"},{"$f":"IFERROR(IF(ISBLANK('Zoeken in Database'!$D$3),\"x\",IF(SEARCH('Zoeken in Database'!$D$3,Concerten!A851,1),\"x\",\"\")),\"\")","v":"x"},{"$f":"IFERROR(IF(ISBLANK('Zoeken in Database'!$D$4),\"x\",IF(SEARCH('Zoeken in Database'!$D$4,Concerten!B851,1),\"x\",\"\")),\"\")","v":"x"},{"$f":"IFERROR(IF(ISBLANK('Zoeken in Database'!$D$5),\"x\",IF(SEARCH('Zoeken in Database'!$D$5,Concerten!C851,1),\"x\",\"\")),\"\")","v":"x"},{"$f":"IFERROR(IF(ISBLANK('Zoeken in Database'!$D$6),\"x\",IF(SEARCH('Zoeken in Database'!$D$6,Concerten!G851,1),\"x\",\"\")),\"\")","v":"x"},{"$f":"IF(AND(D851>='Zoeken in Database'!$A$7,'Zoeken in Database'!$A$8>=D851),\"x\",\"\")","v":"x"}]
["Morrissey","Vereeniging","Nijmegen","2009-11-09"," 01. This Charming Man (The Smiths cover)\n 02. Black Cloud\n 03. When Last I Spoke To Carol\n 04. Is It Really So Strange? (The Smiths cover)\n 05. First Of The Gang To Die\n 06. Ganglord\n 07. Cemetry Gates (The Smiths cover)\n 08. I'm Throwing My Arms Around Paris\n 09. Ask (The Smiths cover)\n 10. Teenage Dad On His Estate\n 11. One Day Goodbye Will Be Farewell\n 12. Death At One's Elbow (The Smiths cover)\n 13. Because Of My Poor Education\n 14. The World Is Full Of Crashing Bores\n 15. The Loop\n 16. How Soon Is Now? (The Smiths cover)\n 17. Irish Blood, English Heart\n 18. I'm OK By Myself\n Encore:\n 19. Something Is Squeezing My Skull\n",null,"Hoofdprogramma",11,2009,{"$f":"VLOOKUP(Table1[[#This Row],[Maand (getal)]],Lijst!A:B,2,FALSE)","v":"nov"},{"$f":"IFERROR(IF(ISBLANK('Zoeken in Database'!$D$3),\"x\",IF(SEARCH('Zoeken in Database'!$D$3,Concerten!A852,1),\"x\",\"\")),\"\")","v":"x"},{"$f":"IFERROR(IF(ISBLANK('Zoeken in Database'!$D$4),\"x\",IF(SEARCH('Zoeken in Database'!$D$4,Concerten!B852,1),\"x\",\"\")),\"\")","v":"x"},{"$f":"IFERROR(IF(ISBLANK('Zoeken in Database'!$D$5),\"x\",IF(SEARCH('Zoeken in Database'!$D$5,Concerten!C852,1),\"x\",\"\")),\"\")","v":"x"},{"$f":"IFERROR(IF(ISBLANK('Zoeken in Database'!$D$6),\"x\",IF(SEARCH('Zoeken in Database'!$D$6,Concerten!G852,1),\"x\",\"\")),\"\")","v":"x"},{"$f":"IF(AND(D852>='Zoeken in Database'!$A$7,'Zoeken in Database'!$A$8>=D852),\"x\",\"\")","v":"x"}]
["Eerden, Klaas van der","Weijertheater","Boxmeer","2009-11-14",null,"Schwalbe (try out)","Theater",11,2009,{"$f":"VLOOKUP(Table1[[#This Row],[Maand (getal)]],Lijst!A:B,2,FALSE)","v":"nov"},{"$f":"IFERROR(IF(ISBLANK('Zoeken in Database'!$D$3),\"x\",IF(SEARCH('Zoeken in Database'!$D$3,Concerten!A853,1),\"x\",\"\")),\"\")","v":"x"},{"$f":"IFERROR(IF(ISBLANK('Zoeken in Database'!$D$4),\"x\",IF(SEARCH('Zoeken in Database'!$D$4,Concerten!B853,1),\"x\",\"\")),\"\")","v":"x"},{"$f":"IFERROR(IF(ISBLANK('Zoeken in Database'!$D$5),\"x\",IF(SEARCH('Zoeken in Database'!$D$5,Concerten!C853,1),\"x\",\"\")),\"\")","v":"x"},{"$f":"IFERROR(IF(ISBLANK('Zoeken in Database'!$D$6),\"x\",IF(SEARCH('Zoeken in Database'!$D$6,Concerten!G853,1),\"x\",\"\")),\"\")","v":"x"},{"$f":"IF(AND(D853>='Zoeken in Database'!$A$7,'Zoeken in Database'!$A$8>=D853),\"x\",\"\")","v":"x"}]
["Wilco","Effenaar","Eindhoven","2009-11-17","1. Ashes Of American Flags \n2. Bull Black Nova\n3. You Are My Face \n4. I Am Trying To Break Your Heart \n5. One Wing\n6. A Shot In The Arm \n7. Cars Can't Escape \n8. Wishful Thinking \n9. Impossible Germany \n10. How To Fight Loneliness \n11. I'll Fight\n12. War On War \n13. Jesus, Etc. \n14. Handshake Drugs \n15. Sonny Feeling\n16. Hate It Here \n17. Walken \n18. I'm The Man Who Loves You \n19. Hummingbird \n\nEncore 1:\n20. Happy Birthday (to VC moderator Brianne)\n21. Via Chicago \n22. Spiders (Kidsmoke) \n\nEncore 2:\n23. You Never Know\n24. Kingpin \n25. Heavy Metal Drummer \n26. Casino Queen \n27. Outtasite (Outta Mind)",null,"Hoofdprogramma",11,2009,{"$f":"VLOOKUP(Table1[[#This Row],[Maand (getal)]],Lijst!A:B,2,FALSE)","v":"nov"},{"$f":"IFERROR(IF(ISBLANK('Zoeken in Database'!$D$3),\"x\",IF(SEARCH('Zoeken in Database'!$D$3,Concerten!A854,1),\"x\",\"\")),\"\")","v":"x"},{"$f":"IFERROR(IF(ISBLANK('Zoeken in Database'!$D$4),\"x\",IF(SEARCH('Zoeken in Database'!$D$4,Concerten!B854,1),\"x\",\"\")),\"\")","v":"x"},{"$f":"IFERROR(IF(ISBLANK('Zoeken in Database'!$D$5),\"x\",IF(SEARCH('Zoeken in Database'!$D$5,Concerten!C854,1),\"x\",\"\")),\"\")","v":"x"},{"$f":"IFERROR(IF(ISBLANK('Zoeken in Database'!$D$6),\"x\",IF(SEARCH('Zoeken in Database'!$D$6,Concerten!G854,1),\"x\",\"\")),\"\")","v":"x"},{"$f":"IF(AND(D854>='Zoeken in Database'!$A$7,'Zoeken in Database'!$A$8>=D854),\"x\",\"\")","v":"x"}]
["Latebirds, The","Effenaar","Eindhoven","2009-11-17",null,null,"Voorprogramma",11,2009,{"$f":"VLOOKUP(Table1[[#This Row],[Maand (getal)]],Lijst!A:B,2,FALSE)","v":"nov"},{"$f":"IFERROR(IF(ISBLANK('Zoeken in Database'!$D$3),\"x\",IF(SEARCH('Zoeken in Database'!$D$3,Concerten!A855,1),\"x\",\"\")),\"\")","v":"x"},{"$f":"IFERROR(IF(ISBLANK('Zoeken in Database'!$D$4),\"x\",IF(SEARCH('Zoeken in Database'!$D$4,Concerten!B855,1),\"x\",\"\")),\"\")","v":"x"},{"$f":"IFERROR(IF(ISBLANK('Zoeken in Database'!$D$5),\"x\",IF(SEARCH('Zoeken in Database'!$D$5,Concerten!C855,1),\"x\",\"\")),\"\")","v":"x"},{"$f":"IFERROR(IF(ISBLANK('Zoeken in Database'!$D$6),\"x\",IF(SEARCH('Zoeken in Database'!$D$6,Concerten!G855,1),\"x\",\"\")),\"\")","v":"x"},{"$f":"IF(AND(D855>='Zoeken in Database'!$A$7,'Zoeken in Database'!$A$8>=D855),\"x\",\"\")","v":"x"}]
["Moss","Merleyn","Nijmegen","2009-11-18","Intro\nApparatos\nAngry Young Man\nI Apologise (dear simon)\nThe Comfort\nNokia\nNew Arms\nThe Brick Moon\nPreviously Unreleased\nSee No Evil\nDon't Be A Hero\nI Like The Chemistry\nSilent Hill\nSing Along\n--\nNew Arms\nSee no Evil\nBrick Moon\nPreviously Unreleased",null,"Hoofdprogramma",11,2009,{"$f":"VLOOKUP(Table1[[#This Row],[Maand (getal)]],Lijst!A:B,2,FALSE)","v":"nov"},{"$f":"IFERROR(IF(ISBLANK('Zoeken in Database'!$D$3),\"x\",IF(SEARCH('Zoeken in Database'!$D$3,Concerten!A856,1),\"x\",\"\")),\"\")","v":"x"},{"$f":"IFERROR(IF(ISBLANK('Zoeken in Database'!$D$4),\"x\",IF(SEARCH('Zoeken in Database'!$D$4,Concerten!B856,1),\"x\",\"\")),\"\")","v":"x"},{"$f":"IFERROR(IF(ISBLANK('Zoeken in Database'!$D$5),\"x\",IF(SEARCH('Zoeken in Database'!$D$5,Concerten!C856,1),\"x\",\"\")),\"\")","v":"x"},{"$f":"IFERROR(IF(ISBLANK('Zoeken in Database'!$D$6),\"x\",IF(SEARCH('Zoeken in Database'!$D$6,Concerten!G856,1),\"x\",\"\")),\"\")","v":"x"},{"$f":"IF(AND(D856>='Zoeken in Database'!$A$7,'Zoeken in Database'!$A$8>=D856),\"x\",\"\")","v":"x"}]
["Awkward I","Merleyn","Nijmegen","2009-11-18",null,"solo","Voorprogramma",11,2009,{"$f":"VLOOKUP(Table1[[#This Row],[Maand (getal)]],Lijst!A:B,2,FALSE)","v":"nov"},{"$f":"IFERROR(IF(ISBLANK('Zoeken in Database'!$D$3),\"x\",IF(SEARCH('Zoeken in Database'!$D$3,Concerten!A857,1),\"x\",\"\")),\"\")","v":"x"},{"$f":"IFERROR(IF(ISBLANK('Zoeken in Database'!$D$4),\"x\",IF(SEARCH('Zoeken in Database'!$D$4,Concerten!B857,1),\"x\",\"\")),\"\")","v":"x"},{"$f":"IFERROR(IF(ISBLANK('Zoeken in Database'!$D$5),\"x\",IF(SEARCH('Zoeken in Database'!$D$5,Concerten!C857,1),\"x\",\"\")),\"\")","v":"x"},{"$f":"IFERROR(IF(ISBLANK('Zoeken in Database'!$D$6),\"x\",IF(SEARCH('Zoeken in Database'!$D$6,Concerten!G857,1),\"x\",\"\")),\"\")","v":"x"},{"$f":"IF(AND(D857>='Zoeken in Database'!$A$7,'Zoeken in Database'!$A$8>=D857),\"x\",\"\")","v":"x"}]
["Soldaat, Anne","De Pul","Uden","2009-11-29","Born 2 Perform\nMovin\\ Mensteuatie\n2 Sidez\nDa Love I Had\nPillow Talk\nTeenage View\nMy Grrl No Mind\nSon O/A Gun\nMother O/A Lie\nSurely Justice\nMr. Randalph\nWhen You Cry\nWildlife\nRubitin\nWe Love Danger\n-------\nanne solo?\nGoing South",null,"Hoofdprogramma",11,2009,{"$f":"VLOOKUP(Table1[[#This Row],[Maand (getal)]],Lijst!A:B,2,FALSE)","v":"nov"},{"$f":"IFERROR(IF(ISBLANK('Zoeken in Database'!$D$3),\"x\",IF(SEARCH('Zoeken in Database'!$D$3,Concerten!A858,1),\"x\",\"\")),\"\")","v":"x"},{"$f":"IFERROR(IF(ISBLANK('Zoeken in Database'!$D$4),\"x\",IF(SEARCH('Zoeken in Database'!$D$4,Concerten!B858,1),\"x\",\"\")),\"\")","v":"x"},{"$f":"IFERROR(IF(ISBLANK('Zoeken in Database'!$D$5),\"x\",IF(SEARCH('Zoeken in Database'!$D$5,Concerten!C858,1),\"x\",\"\")),\"\")","v":"x"},{"$f":"IFERROR(IF(ISBLANK('Zoeken in Database'!$D$6),\"x\",IF(SEARCH('Zoeken in Database'!$D$6,Concerten!G858,1),\"x\",\"\")),\"\")","v":"x"},{"$f":"IF(AND(D858>='Zoeken in Database'!$A$7,'Zoeken in Database'!$A$8>=D858),\"x\",\"\")","v":"x"}]
["York, Dee Dee","De Pul","Uden","2009-11-29",null,null,"Voorprogramma",11,2009,{"$f":"VLOOKUP(Table1[[#This Row],[Maand (getal)]],Lijst!A:B,2,FALSE)","v":"nov"},{"$f":"IFERROR(IF(ISBLANK('Zoeken in Database'!$D$3),\"x\",IF(SEARCH('Zoeken in Database'!$D$3,Concerten!A859,1),\"x\",\"\")),\"\")","v":"x"},{"$f":"IFERROR(IF(ISBLANK('Zoeken in Database'!$D$4),\"x\",IF(SEARCH('Zoeken in Database'!$D$4,Concerten!B859,1),\"x\",\"\")),\"\")","v":"x"},{"$f":"IFERROR(IF(ISBLANK('Zoeken in Database'!$D$5),\"x\",IF(SEARCH('Zoeken in Database'!$D$5,Concerten!C859,1),\"x\",\"\")),\"\")","v":"x"},{"$f":"IFERROR(IF(ISBLANK('Zoeken in Database'!$D$6),\"x\",IF(SEARCH('Zoeken in Database'!$D$6,Concerten!G859,1),\"x\",\"\")),\"\")","v":"x"},{"$f":"IF(AND(D859>='Zoeken in Database'!$A$7,'Zoeken in Database'!$A$8>=D859),\"x\",\"\")","v":"x"}]
["Full Monty, The","Schouwburg Cuijk","Cuijk","2009-12-01",null,null,"Theater",12,2009,{"$f":"VLOOKUP(Table1[[#This Row],[Maand (getal)]],Lijst!A:B,2,FALSE)","v":"dec"},{"$f":"IFERROR(IF(ISBLANK('Zoeken in Database'!$D$3),\"x\",IF(SEARCH('Zoeken in Database'!$D$3,Concerten!A860,1),\"x\",\"\")),\"\")","v":"x"},{"$f":"IFERROR(IF(ISBLANK('Zoeken in Database'!$D$4),\"x\",IF(SEARCH('Zoeken in Database'!$D$4,Concerten!B860,1),\"x\",\"\")),\"\")","v":"x"},{"$f":"IFERROR(IF(ISBLANK('Zoeken in Database'!$D$5),\"x\",IF(SEARCH('Zoeken in Database'!$D$5,Concerten!C860,1),\"x\",\"\")),\"\")","v":"x"},{"$f":"IFERROR(IF(ISBLANK('Zoeken in Database'!$D$6),\"x\",IF(SEARCH('Zoeken in Database'!$D$6,Concerten!G860,1),\"x\",\"\")),\"\")","v":"x"},{"$f":"IF(AND(D860>='Zoeken in Database'!$A$7,'Zoeken in Database'!$A$8>=D860),\"x\",\"\")","v":"x"}]
["Wal, Jan Jaap van der","Schouwburg Cuijk","Cuijk","2009-12-03",null,"Oudejaarsvoorstelling 2009","Theater",12,2009,{"$f":"VLOOKUP(Table1[[#This Row],[Maand (getal)]],Lijst!A:B,2,FALSE)","v":"dec"},{"$f":"IFERROR(IF(ISBLANK('Zoeken in Database'!$D$3),\"x\",IF(SEARCH('Zoeken in Database'!$D$3,Concerten!A861,1),\"x\",\"\")),\"\")","v":"x"},{"$f":"IFERROR(IF(ISBLANK('Zoeken in Database'!$D$4),\"x\",IF(SEARCH('Zoeken in Database'!$D$4,Concerten!B861,1),\"x\",\"\")),\"\")","v":"x"},{"$f":"IFERROR(IF(ISBLANK('Zoeken in Database'!$D$5),\"x\",IF(SEARCH('Zoeken in Database'!$D$5,Concerten!C861,1),\"x\",\"\")),\"\")","v":"x"},{"$f":"IFERROR(IF(ISBLANK('Zoeken in Database'!$D$6),\"x\",IF(SEARCH('Zoeken in Database'!$D$6,Concerten!G861,1),\"x\",\"\")),\"\")","v":"x"},{"$f":"IF(AND(D861>='Zoeken in Database'!$A$7,'Zoeken in Database'!$A$8>=D861),\"x\",\"\")","v":"x"}]
["McCartney, Paul","Gelredome","Arnhem","2009-12-09","Magical Mystery Tour \nDrive My Car \nJet \nOnly Mama Knows \nFlaming Pie \nGot To Get You Into My Life \nLet Me Roll It / Foxy Lady \nHighway \nThe Long and Winding Road \n(I Want to) Come Home \nMy Love \nBlackbird \nHere Today \nDance Tonight \nAnd I Love Her \nMrs Vandebilt \nEleanor Rigby \nBand on the Run \nOb-La-Di, Ob-La-Da \nSing the Changes \nBack in the U.S.S.R. \nSomething \nI've Got a Feeling \nPaperback Writer \nA Day In The Life \nLet It Be \nLive and Let Die \nHey Jude \n\nEncore 1: \nDay Tripper \nLady Madonna \nGet Back \n\nEncore 2: \nYesterday \nHelter Skelter \nSgt. Pepper's Lonely Hearts Club Band (Reprise) \nThe End\n",null,"Hoofdprogramma",12,2009,{"$f":"VLOOKUP(Table1[[#This Row],[Maand (getal)]],Lijst!A:B,2,FALSE)","v":"dec"},{"$f":"IFERROR(IF(ISBLANK('Zoeken in Database'!$D$3),\"x\",IF(SEARCH('Zoeken in Database'!$D$3,Concerten!A862,1),\"x\",\"\")),\"\")","v":"x"},{"$f":"IFERROR(IF(ISBLANK('Zoeken in Database'!$D$4),\"x\",IF(SEARCH('Zoeken in Database'!$D$4,Concerten!B862,1),\"x\",\"\")),\"\")","v":"x"},{"$f":"IFERROR(IF(ISBLANK('Zoeken in Database'!$D$5),\"x\",IF(SEARCH('Zoeken in Database'!$D$5,Concerten!C862,1),\"x\",\"\")),\"\")","v":"x"},{"$f":"IFERROR(IF(ISBLANK('Zoeken in Database'!$D$6),\"x\",IF(SEARCH('Zoeken in Database'!$D$6,Concerten!G862,1),\"x\",\"\")),\"\")","v":"x"},{"$f":"IF(AND(D862>='Zoeken in Database'!$A$7,'Zoeken in Database'!$A$8>=D862),\"x\",\"\")","v":"x"}]
["Ninasmemmen","Willem I","Arnhem","2009-12-11",null,null,"Voorprogramma",12,2009,{"$f":"VLOOKUP(Table1[[#This Row],[Maand (getal)]],Lijst!A:B,2,FALSE)","v":"dec"},{"$f":"IFERROR(IF(ISBLANK('Zoeken in Database'!$D$3),\"x\",IF(SEARCH('Zoeken in Database'!$D$3,Concerten!A863,1),\"x\",\"\")),\"\")","v":"x"},{"$f":"IFERROR(IF(ISBLANK('Zoeken in Database'!$D$4),\"x\",IF(SEARCH('Zoeken in Database'!$D$4,Concerten!B863,1),\"x\",\"\")),\"\")","v":"x"},{"$f":"IFERROR(IF(ISBLANK('Zoeken in Database'!$D$5),\"x\",IF(SEARCH('Zoeken in Database'!$D$5,Concerten!C863,1),\"x\",\"\")),\"\")","v":"x"},{"$f":"IFERROR(IF(ISBLANK('Zoeken in Database'!$D$6),\"x\",IF(SEARCH('Zoeken in Database'!$D$6,Concerten!G863,1),\"x\",\"\")),\"\")","v":"x"},{"$f":"IF(AND(D863>='Zoeken in Database'!$A$7,'Zoeken in Database'!$A$8>=D863),\"x\",\"\")","v":"x"}]
["Landes, Dawn","Doornroosje","Nijmegen","2010-02-22",null,null,"Voorprogramma",2,2010,{"$f":"VLOOKUP(Table1[[#This Row],[Maand (getal)]],Lijst!A:B,2,FALSE)","v":"feb"},{"$f":"IFERROR(IF(ISBLANK('Zoeken in Database'!$D$3),\"x\",IF(SEARCH('Zoeken in Database'!$D$3,Concerten!A864,1),\"x\",\"\")),\"\")","v":"x"},{"$f":"IFERROR(IF(ISBLANK('Zoeken in Database'!$D$4),\"x\",IF(SEARCH('Zoeken in Database'!$D$4,Concerten!B864,1),\"x\",\"\")),\"\")","v":"x"},{"$f":"IFERROR(IF(ISBLANK('Zoeken in Database'!$D$5),\"x\",IF(SEARCH('Zoeken in Database'!$D$5,Concerten!C864,1),\"x\",\"\")),\"\")","v":"x"},{"$f":"IFERROR(IF(ISBLANK('Zoeken in Database'!$D$6),\"x\",IF(SEARCH('Zoeken in Database'!$D$6,Concerten!G864,1),\"x\",\"\")),\"\")","v":"x"},{"$f":"IF(AND(D864>='Zoeken in Database'!$A$7,'Zoeken in Database'!$A$8>=D864),\"x\",\"\")","v":"x"}]
["Ritter, Josh","Doornroosje","Nijmegen","2010-02-22",null,null,"Hoofdprogramma",2,2010,{"$f":"VLOOKUP(Table1[[#This Row],[Maand (getal)]],Lijst!A:B,2,FALSE)","v":"feb"},{"$f":"IFERROR(IF(ISBLANK('Zoeken in Database'!$D$3),\"x\",IF(SEARCH('Zoeken in Database'!$D$3,Concerten!A865,1),\"x\",\"\")),\"\")","v":"x"},{"$f":"IFERROR(IF(ISBLANK('Zoeken in Database'!$D$4),\"x\",IF(SEARCH('Zoeken in Database'!$D$4,Concerten!B865,1),\"x\",\"\")),\"\")","v":"x"},{"$f":"IFERROR(IF(ISBLANK('Zoeken in Database'!$D$5),\"x\",IF(SEARCH('Zoeken in Database'!$D$5,Concerten!C865,1),\"x\",\"\")),\"\")","v":"x"},{"$f":"IFERROR(IF(ISBLANK('Zoeken in Database'!$D$6),\"x\",IF(SEARCH('Zoeken in Database'!$D$6,Concerten!G865,1),\"x\",\"\")),\"\")","v":"x"},{"$f":"IF(AND(D865>='Zoeken in Database'!$A$7,'Zoeken in Database'!$A$8>=D865),\"x\",\"\")","v":"x"}]
["Acda en de Munnik","Schouwburg Cuijk","Cuijk","2010-02-26","alleen maar hier\ndan leef ik toch nog een keer\nezra\nhet is wat het is\nik blijf jouw leven lang bij mij\nkom nog even niet naar hier\nmisschien nog wel het meest\nover en uit\nsally\nverkeerd verbonden\nalles gaat voorbij\neerste helmersstraat\ngroeten uit maaiveld\nhet regent zonnestralen\nik denk je hier bij mij\nlaat me slapen\nmooi liedje\nren lenny ren\nschoolplein\nvondelpark vannacht\nals het vuur gedoofd is\neva\nheel veel lieve mensen\nhm hm ja ja\nik wou dat je een vreemde was\nlopen tot de zon komt\nmorgen is ze weg\nrode wijn\nstel dat we wel\nze zegt steeds liefje\n",null,"Theater",2,2010,{"$f":"VLOOKUP(Table1[[#This Row],[Maand (getal)]],Lijst!A:B,2,FALSE)","v":"feb"},{"$f":"IFERROR(IF(ISBLANK('Zoeken in Database'!$D$3),\"x\",IF(SEARCH('Zoeken in Database'!$D$3,Concerten!A866,1),\"x\",\"\")),\"\")","v":"x"},{"$f":"IFERROR(IF(ISBLANK('Zoeken in Database'!$D$4),\"x\",IF(SEARCH('Zoeken in Database'!$D$4,Concerten!B866,1),\"x\",\"\")),\"\")","v":"x"},{"$f":"IFERROR(IF(ISBLANK('Zoeken in Database'!$D$5),\"x\",IF(SEARCH('Zoeken in Database'!$D$5,Concerten!C866,1),\"x\",\"\")),\"\")","v":"x"},{"$f":"IFERROR(IF(ISBLANK('Zoeken in Database'!$D$6),\"x\",IF(SEARCH('Zoeken in Database'!$D$6,Concerten!G866,1),\"x\",\"\")),\"\")","v":"x"},{"$f":"IF(AND(D866>='Zoeken in Database'!$A$7,'Zoeken in Database'!$A$8>=D866),\"x\",\"\")","v":"x"}]
["Gelukkige Huisvrouw, De","Schouwburg Cuijk","Cuijk","2010-03-03",null,null,"Theater",3,2010,{"$f":"VLOOKUP(Table1[[#This Row],[Maand (getal)]],Lijst!A:B,2,FALSE)","v":"mrt"},{"$f":"IFERROR(IF(ISBLANK('Zoeken in Database'!$D$3),\"x\",IF(SEARCH('Zoeken in Database'!$D$3,Concerten!A867,1),\"x\",\"\")),\"\")","v":"x"},{"$f":"IFERROR(IF(ISBLANK('Zoeken in Database'!$D$4),\"x\",IF(SEARCH('Zoeken in Database'!$D$4,Concerten!B867,1),\"x\",\"\")),\"\")","v":"x"},{"$f":"IFERROR(IF(ISBLANK('Zoeken in Database'!$D$5),\"x\",IF(SEARCH('Zoeken in Database'!$D$5,Concerten!C867,1),\"x\",\"\")),\"\")","v":"x"},{"$f":"IFERROR(IF(ISBLANK('Zoeken in Database'!$D$6),\"x\",IF(SEARCH('Zoeken in Database'!$D$6,Concerten!G867,1),\"x\",\"\")),\"\")","v":"x"},{"$f":"IF(AND(D867>='Zoeken in Database'!$A$7,'Zoeken in Database'!$A$8>=D867),\"x\",\"\")","v":"x"}]
["Isbells","Perron 55","Venlo","2010-04-02",null,null,"Hoofdprogramma",4,2010,{"$f":"VLOOKUP(Table1[[#This Row],[Maand (getal)]],Lijst!A:B,2,FALSE)","v":"apr"},{"$f":"IFERROR(IF(ISBLANK('Zoeken in Database'!$D$3),\"x\",IF(SEARCH('Zoeken in Database'!$D$3,Concerten!A868,1),\"x\",\"\")),\"\")","v":"x"},{"$f":"IFERROR(IF(ISBLANK('Zoeken in Database'!$D$4),\"x\",IF(SEARCH('Zoeken in Database'!$D$4,Concerten!B868,1),\"x\",\"\")),\"\")","v":"x"},{"$f":"IFERROR(IF(ISBLANK('Zoeken in Database'!$D$5),\"x\",IF(SEARCH('Zoeken in Database'!$D$5,Concerten!C868,1),\"x\",\"\")),\"\")","v":"x"},{"$f":"IFERROR(IF(ISBLANK('Zoeken in Database'!$D$6),\"x\",IF(SEARCH('Zoeken in Database'!$D$6,Concerten!G868,1),\"x\",\"\")),\"\")","v":"x"},{"$f":"IF(AND(D868>='Zoeken in Database'!$A$7,'Zoeken in Database'!$A$8>=D868),\"x\",\"\")","v":"x"}]
["Woody and Paul","Perron 55","Venlo","2010-04-02",null,null,"Voorprogramma",4,2010,{"$f":"VLOOKUP(Table1[[#This Row],[Maand (getal)]],Lijst!A:B,2,FALSE)","v":"apr"},{"$f":"IFERROR(IF(ISBLANK('Zoeken in Database'!$D$3),\"x\",IF(SEARCH('Zoeken in Database'!$D$3,Concerten!A869,1),\"x\",\"\")),\"\")","v":"x"},{"$f":"IFERROR(IF(ISBLANK('Zoeken in Database'!$D$4),\"x\",IF(SEARCH('Zoeken in Database'!$D$4,Concerten!B869,1),\"x\",\"\")),\"\")","v":"x"},{"$f":"IFERROR(IF(ISBLANK('Zoeken in Database'!$D$5),\"x\",IF(SEARCH('Zoeken in Database'!$D$5,Concerten!C869,1),\"x\",\"\")),\"\")","v":"x"},{"$f":"IFERROR(IF(ISBLANK('Zoeken in Database'!$D$6),\"x\",IF(SEARCH('Zoeken in Database'!$D$6,Concerten!G869,1),\"x\",\"\")),\"\")","v":"x"},{"$f":"IF(AND(D869>='Zoeken in Database'!$A$7,'Zoeken in Database'!$A$8>=D869),\"x\",\"\")","v":"x"}]
["Lohues, Daniel","Lux","Nijmegen","2010-04-10",null,"Allennig IV","Hoofdprogramma",4,2010,{"$f":"VLOOKUP(Table1[[#This Row],[Maand (getal)]],Lijst!A:B,2,FALSE)","v":"apr"},{"$f":"IFERROR(IF(ISBLANK('Zoeken in Database'!$D$3),\"x\",IF(SEARCH('Zoeken in Database'!$D$3,Concerten!A870,1),\"x\",\"\")),\"\")","v":"x"},{"$f":"IFERROR(IF(ISBLANK('Zoeken in Database'!$D$4),\"x\",IF(SEARCH('Zoeken in Database'!$D$4,Concerten!B870,1),\"x\",\"\")),\"\")","v":"x"},{"$f":"IFERROR(IF(ISBLANK('Zoeken in Database'!$D$5),\"x\",IF(SEARCH('Zoeken in Database'!$D$5,Concerten!C870,1),\"x\",\"\")),\"\")","v":"x"},{"$f":"IFERROR(IF(ISBLANK('Zoeken in Database'!$D$6),\"x\",IF(SEARCH('Zoeken in Database'!$D$6,Concerten!G870,1),\"x\",\"\")),\"\")","v":"x"},{"$f":"IF(AND(D870>='Zoeken in Database'!$A$7,'Zoeken in Database'!$A$8>=D870),\"x\",\"\")","v":"x"}]
["Frightened Rabbit","Paradiso","Amsterdam","2010-04-11",null,"Paradiso Bovenzaal","Hoofdprogramma",4,2010,{"$f":"VLOOKUP(Table1[[#This Row],[Maand (getal)]],Lijst!A:B,2,FALSE)","v":"apr"},{"$f":"IFERROR(IF(ISBLANK('Zoeken in Database'!$D$3),\"x\",IF(SEARCH('Zoeken in Database'!$D$3,Concerten!A871,1),\"x\",\"\")),\"\")","v":"x"},{"$f":"IFERROR(IF(ISBLANK('Zoeken in Database'!$D$4),\"x\",IF(SEARCH('Zoeken in Database'!$D$4,Concerten!B871,1),\"x\",\"\")),\"\")","v":"x"},{"$f":"IFERROR(IF(ISBLANK('Zoeken in Database'!$D$5),\"x\",IF(SEARCH('Zoeken in Database'!$D$5,Concerten!C871,1),\"x\",\"\")),\"\")","v":"x"},{"$f":"IFERROR(IF(ISBLANK('Zoeken in Database'!$D$6),\"x\",IF(SEARCH('Zoeken in Database'!$D$6,Concerten!G871,1),\"x\",\"\")),\"\")","v":"x"},{"$f":"IF(AND(D871>='Zoeken in Database'!$A$7,'Zoeken in Database'!$A$8>=D871),\"x\",\"\")","v":"x"}]
["Knol, Tim","Roepaen","Ottersum","2010-04-18",null,"Nightclub & Band","Hoofdprogramma",4,2010,{"$f":"VLOOKUP(Table1[[#This Row],[Maand (getal)]],Lijst!A:B,2,FALSE)","v":"apr"},{"$f":"IFERROR(IF(ISBLANK('Zoeken in Database'!$D$3),\"x\",IF(SEARCH('Zoeken in Database'!$D$3,Concerten!A872,1),\"x\",\"\")),\"\")","v":"x"},{"$f":"IFERROR(IF(ISBLANK('Zoeken in Database'!$D$4),\"x\",IF(SEARCH('Zoeken in Database'!$D$4,Concerten!B872,1),\"x\",\"\")),\"\")","v":"x"},{"$f":"IFERROR(IF(ISBLANK('Zoeken in Database'!$D$5),\"x\",IF(SEARCH('Zoeken in Database'!$D$5,Concerten!C872,1),\"x\",\"\")),\"\")","v":"x"},{"$f":"IFERROR(IF(ISBLANK('Zoeken in Database'!$D$6),\"x\",IF(SEARCH('Zoeken in Database'!$D$6,Concerten!G872,1),\"x\",\"\")),\"\")","v":"x"},{"$f":"IF(AND(D872>='Zoeken in Database'!$A$7,'Zoeken in Database'!$A$8>=D872),\"x\",\"\")","v":"x"}]
["Reflecting Elephants, The","Roepaen","Ottersum","2010-04-18",null,"Nightclub","Voorprogramma",4,2010,{"$f":"VLOOKUP(Table1[[#This Row],[Maand (getal)]],Lijst!A:B,2,FALSE)","v":"apr"},{"$f":"IFERROR(IF(ISBLANK('Zoeken in Database'!$D$3),\"x\",IF(SEARCH('Zoeken in Database'!$D$3,Concerten!A873,1),\"x\",\"\")),\"\")","v":"x"},{"$f":"IFERROR(IF(ISBLANK('Zoeken in Database'!$D$4),\"x\",IF(SEARCH('Zoeken in Database'!$D$4,Concerten!B873,1),\"x\",\"\")),\"\")","v":"x"},{"$f":"IFERROR(IF(ISBLANK('Zoeken in Database'!$D$5),\"x\",IF(SEARCH('Zoeken in Database'!$D$5,Concerten!C873,1),\"x\",\"\")),\"\")","v":"x"},{"$f":"IFERROR(IF(ISBLANK('Zoeken in Database'!$D$6),\"x\",IF(SEARCH('Zoeken in Database'!$D$6,Concerten!G873,1),\"x\",\"\")),\"\")","v":"x"},{"$f":"IF(AND(D873>='Zoeken in Database'!$A$7,'Zoeken in Database'!$A$8>=D873),\"x\",\"\")","v":"x"}]
["Midlake","Doornroosje","Nijmegen","2010-04-27",null,null,"Hoofdprogramma",4,2010,{"$f":"VLOOKUP(Table1[[#This Row],[Maand (getal)]],Lijst!A:B,2,FALSE)","v":"apr"},{"$f":"IFERROR(IF(ISBLANK('Zoeken in Database'!$D$3),\"x\",IF(SEARCH('Zoeken in Database'!$D$3,Concerten!A874,1),\"x\",\"\")),\"\")","v":"x"},{"$f":"IFERROR(IF(ISBLANK('Zoeken in Database'!$D$4),\"x\",IF(SEARCH('Zoeken in Database'!$D$4,Concerten!B874,1),\"x\",\"\")),\"\")","v":"x"},{"$f":"IFERROR(IF(ISBLANK('Zoeken in Database'!$D$5),\"x\",IF(SEARCH('Zoeken in Database'!$D$5,Concerten!C874,1),\"x\",\"\")),\"\")","v":"x"},{"$f":"IFERROR(IF(ISBLANK('Zoeken in Database'!$D$6),\"x\",IF(SEARCH('Zoeken in Database'!$D$6,Concerten!G874,1),\"x\",\"\")),\"\")","v":"x"},{"$f":"IF(AND(D874>='Zoeken in Database'!$A$7,'Zoeken in Database'!$A$8>=D874),\"x\",\"\")","v":"x"}]
["Black Atlantic, The","Doornroosje","Nijmegen","2010-04-27",null,null,"Voorprogramma",4,2010,{"$f":"VLOOKUP(Table1[[#This Row],[Maand (getal)]],Lijst!A:B,2,FALSE)","v":"apr"},{"$f":"IFERROR(IF(ISBLANK('Zoeken in Database'!$D$3),\"x\",IF(SEARCH('Zoeken in Database'!$D$3,Concerten!A875,1),\"x\",\"\")),\"\")","v":"x"},{"$f":"IFERROR(IF(ISBLANK('Zoeken in Database'!$D$4),\"x\",IF(SEARCH('Zoeken in Database'!$D$4,Concerten!B875,1),\"x\",\"\")),\"\")","v":"x"},{"$f":"IFERROR(IF(ISBLANK('Zoeken in Database'!$D$5),\"x\",IF(SEARCH('Zoeken in Database'!$D$5,Concerten!C875,1),\"x\",\"\")),\"\")","v":"x"},{"$f":"IFERROR(IF(ISBLANK('Zoeken in Database'!$D$6),\"x\",IF(SEARCH('Zoeken in Database'!$D$6,Concerten!G875,1),\"x\",\"\")),\"\")","v":"x"},{"$f":"IF(AND(D875>='Zoeken in Database'!$A$7,'Zoeken in Database'!$A$8>=D875),\"x\",\"\")","v":"x"}]
["She & Him","Melkweg","Amsterdam","2010-05-06",null,"The Max","Hoofdprogramma",5,2010,{"$f":"VLOOKUP(Table1[[#This Row],[Maand (getal)]],Lijst!A:B,2,FALSE)","v":"mei"},{"$f":"IFERROR(IF(ISBLANK('Zoeken in Database'!$D$3),\"x\",IF(SEARCH('Zoeken in Database'!$D$3,Concerten!A876,1),\"x\",\"\")),\"\")","v":"x"},{"$f":"IFERROR(IF(ISBLANK('Zoeken in Database'!$D$4),\"x\",IF(SEARCH('Zoeken in Database'!$D$4,Concerten!B876,1),\"x\",\"\")),\"\")","v":"x"},{"$f":"IFERROR(IF(ISBLANK('Zoeken in Database'!$D$5),\"x\",IF(SEARCH('Zoeken in Database'!$D$5,Concerten!C876,1),\"x\",\"\")),\"\")","v":"x"},{"$f":"IFERROR(IF(ISBLANK('Zoeken in Database'!$D$6),\"x\",IF(SEARCH('Zoeken in Database'!$D$6,Concerten!G876,1),\"x\",\"\")),\"\")","v":"x"},{"$f":"IF(AND(D876>='Zoeken in Database'!$A$7,'Zoeken in Database'!$A$8>=D876),\"x\",\"\")","v":"x"}]
["Chapin Sisters, The","Melkweg","Amsterdam","2010-05-06",null,"The Max","Voorprogramma",5,2010,{"$f":"VLOOKUP(Table1[[#This Row],[Maand (getal)]],Lijst!A:B,2,FALSE)","v":"mei"},{"$f":"IFERROR(IF(ISBLANK('Zoeken in Database'!$D$3),\"x\",IF(SEARCH('Zoeken in Database'!$D$3,Concerten!A877,1),\"x\",\"\")),\"\")","v":"x"},{"$f":"IFERROR(IF(ISBLANK('Zoeken in Database'!$D$4),\"x\",IF(SEARCH('Zoeken in Database'!$D$4,Concerten!B877,1),\"x\",\"\")),\"\")","v":"x"},{"$f":"IFERROR(IF(ISBLANK('Zoeken in Database'!$D$5),\"x\",IF(SEARCH('Zoeken in Database'!$D$5,Concerten!C877,1),\"x\",\"\")),\"\")","v":"x"},{"$f":"IFERROR(IF(ISBLANK('Zoeken in Database'!$D$6),\"x\",IF(SEARCH('Zoeken in Database'!$D$6,Concerten!G877,1),\"x\",\"\")),\"\")","v":"x"},{"$f":"IF(AND(D877>='Zoeken in Database'!$A$7,'Zoeken in Database'!$A$8>=D877),\"x\",\"\")","v":"x"}]
["Newman, Randy","MC Frits Philips","Eindhoven","2010-05-12","1.It's Money That I Love (2:53) \n2.Yellow Man (2:08) \n3.Living Without You (2:14) \n4.Short People (2:17) \n5.Birmingham (2:23) \n6.Marie (2:44) \n7.Mama Told Me Not To Come (4:44) \n8.The Girls In My Life (Part 1) (3:55) \n9.The World Isn't Fair (2:58) \n10.Bad News From Home (2:45) \n11.You Can Leave Your Hat On (4:29) \n12.I'm Dead (But I Don't Know It) (3:52) \n13.Harps And Angels (4:47) \n14.Real Emotional Girl (2:10) \n15.The Great Nations Of Europe (3:32) \n16.Guilty (2:43) \n17.Political Science (2:19) \n18.Last Night I Had A Dream (2:18) \n19.Love Story (3:25) \n20.In Germany Before The War (3:21) \n21.Baltimore (2:56) \n22.Simon Smith And The Amazing Dancing Bear (5:19) \n23.You've Got A Friend In Me (2:07) \n24.Losing You (2:21) \n25.Lonely At The Top (2:19) \n26.Dixie Flyer (4:11) \n27.God's Song (That's Why I Love Mankind) (4:29) \n28.Rednecks (3:07) \n29.I Miss You (3:47) \n30.Rollin' (2:26) \n31.I Love L.A. (2:28) \n32.Same Girl (2:35) \n33.Laugh And Be Happy (2:19) \n34.Feels Like Home (5:09) \n35.Sail Away (3:27) \n36.I Think It's Going To Rain Today (3:30) \n37.I Want Everyone To Like Me (2:25) \n",null,"Hoofdprogramma",5,2010,{"$f":"VLOOKUP(Table1[[#This Row],[Maand (getal)]],Lijst!A:B,2,FALSE)","v":"mei"},{"$f":"IFERROR(IF(ISBLANK('Zoeken in Database'!$D$3),\"x\",IF(SEARCH('Zoeken in Database'!$D$3,Concerten!A878,1),\"x\",\"\")),\"\")","v":"x"},{"$f":"IFERROR(IF(ISBLANK('Zoeken in Database'!$D$4),\"x\",IF(SEARCH('Zoeken in Database'!$D$4,Concerten!B878,1),\"x\",\"\")),\"\")","v":"x"},{"$f":"IFERROR(IF(ISBLANK('Zoeken in Database'!$D$5),\"x\",IF(SEARCH('Zoeken in Database'!$D$5,Concerten!C878,1),\"x\",\"\")),\"\")","v":"x"},{"$f":"IFERROR(IF(ISBLANK('Zoeken in Database'!$D$6),\"x\",IF(SEARCH('Zoeken in Database'!$D$6,Concerten!G878,1),\"x\",\"\")),\"\")","v":"x"},{"$f":"IF(AND(D878>='Zoeken in Database'!$A$7,'Zoeken in Database'!$A$8>=D878),\"x\",\"\")","v":"x"}]
["New Pornographers, The","Melkweg","Amsterdam","2010-05-23","Setlist:\n\nMoves\nUp In The Dark\nUse It\nThe Laws Have Changed\nCrash Years\nAll the Old Showstoppers\nDromen Zijn Bedrog (Kathryn Calder en publiek)\nSweet Talk, Sweet Talk\nChallengers\nTestament To Youth In Verse\nYour Hands (Together)\nMy Rights Versus Yours\nThe Body Says No\nAdventures In Solitude\n?\nA Bite Out Of My Bed\nThe Bones Of An Idol\nThe Slow Descent Into Alcoholism\nTwin Cinema\nThe Bleeding Heart Show\nToegift:\n\nMass Romantic\nSing Me Spanish Techno\n","Oude Zaal","Hoofdprogramma",5,2010,{"$f":"VLOOKUP(Table1[[#This Row],[Maand (getal)]],Lijst!A:B,2,FALSE)","v":"mei"},{"$f":"IFERROR(IF(ISBLANK('Zoeken in Database'!$D$3),\"x\",IF(SEARCH('Zoeken in Database'!$D$3,Concerten!A879,1),\"x\",\"\")),\"\")","v":"x"},{"$f":"IFERROR(IF(ISBLANK('Zoeken in Database'!$D$4),\"x\",IF(SEARCH('Zoeken in Database'!$D$4,Concerten!B879,1),\"x\",\"\")),\"\")","v":"x"},{"$f":"IFERROR(IF(ISBLANK('Zoeken in Database'!$D$5),\"x\",IF(SEARCH('Zoeken in Database'!$D$5,Concerten!C879,1),\"x\",\"\")),\"\")","v":"x"},{"$f":"IFERROR(IF(ISBLANK('Zoeken in Database'!$D$6),\"x\",IF(SEARCH('Zoeken in Database'!$D$6,Concerten!G879,1),\"x\",\"\")),\"\")","v":"x"},{"$f":"IF(AND(D879>='Zoeken in Database'!$A$7,'Zoeken in Database'!$A$8>=D879),\"x\",\"\")","v":"x"}]
["Here We Go Magic","Melkweg","Amsterdam","2010-05-23",null,"Oude Zaal","Voorprogramma",5,2010,{"$f":"VLOOKUP(Table1[[#This Row],[Maand (getal)]],Lijst!A:B,2,FALSE)","v":"mei"},{"$f":"IFERROR(IF(ISBLANK('Zoeken in Database'!$D$3),\"x\",IF(SEARCH('Zoeken in Database'!$D$3,Concerten!A880,1),\"x\",\"\")),\"\")","v":"x"},{"$f":"IFERROR(IF(ISBLANK('Zoeken in Database'!$D$4),\"x\",IF(SEARCH('Zoeken in Database'!$D$4,Concerten!B880,1),\"x\",\"\")),\"\")","v":"x"},{"$f":"IFERROR(IF(ISBLANK('Zoeken in Database'!$D$5),\"x\",IF(SEARCH('Zoeken in Database'!$D$5,Concerten!C880,1),\"x\",\"\")),\"\")","v":"x"},{"$f":"IFERROR(IF(ISBLANK('Zoeken in Database'!$D$6),\"x\",IF(SEARCH('Zoeken in Database'!$D$6,Concerten!G880,1),\"x\",\"\")),\"\")","v":"x"},{"$f":"IF(AND(D880>='Zoeken in Database'!$A$7,'Zoeken in Database'!$A$8>=D880),\"x\",\"\")","v":"x"}]
["Balthazar","Merleyn","Nijmegen","2010-06-17",null,null,"Hoofdprogramma",6,2010,{"$f":"VLOOKUP(Table1[[#This Row],[Maand (getal)]],Lijst!A:B,2,FALSE)","v":"jun"},{"$f":"IFERROR(IF(ISBLANK('Zoeken in Database'!$D$3),\"x\",IF(SEARCH('Zoeken in Database'!$D$3,Concerten!A881,1),\"x\",\"\")),\"\")","v":"x"},{"$f":"IFERROR(IF(ISBLANK('Zoeken in Database'!$D$4),\"x\",IF(SEARCH('Zoeken in Database'!$D$4,Concerten!B881,1),\"x\",\"\")),\"\")","v":"x"},{"$f":"IFERROR(IF(ISBLANK('Zoeken in Database'!$D$5),\"x\",IF(SEARCH('Zoeken in Database'!$D$5,Concerten!C881,1),\"x\",\"\")),\"\")","v":"x"},{"$f":"IFERROR(IF(ISBLANK('Zoeken in Database'!$D$6),\"x\",IF(SEARCH('Zoeken in Database'!$D$6,Concerten!G881,1),\"x\",\"\")),\"\")","v":"x"},{"$f":"IF(AND(D881>='Zoeken in Database'!$A$7,'Zoeken in Database'!$A$8>=D881),\"x\",\"\")","v":"x"}]
["Stone Temple Pilots","Gelredome","Arnhem","2010-06-23",null,null,"Voorprogramma",6,2010,{"$f":"VLOOKUP(Table1[[#This Row],[Maand (getal)]],Lijst!A:B,2,FALSE)","v":"jun"},{"$f":"IFERROR(IF(ISBLANK('Zoeken in Database'!$D$3),\"x\",IF(SEARCH('Zoeken in Database'!$D$3,Concerten!A882,1),\"x\",\"\")),\"\")","v":"x"},{"$f":"IFERROR(IF(ISBLANK('Zoeken in Database'!$D$4),\"x\",IF(SEARCH('Zoeken in Database'!$D$4,Concerten!B882,1),\"x\",\"\")),\"\")","v":"x"},{"$f":"IFERROR(IF(ISBLANK('Zoeken in Database'!$D$5),\"x\",IF(SEARCH('Zoeken in Database'!$D$5,Concerten!C882,1),\"x\",\"\")),\"\")","v":"x"},{"$f":"IFERROR(IF(ISBLANK('Zoeken in Database'!$D$6),\"x\",IF(SEARCH('Zoeken in Database'!$D$6,Concerten!G882,1),\"x\",\"\")),\"\")","v":"x"},{"$f":"IF(AND(D882>='Zoeken in Database'!$A$7,'Zoeken in Database'!$A$8>=D882),\"x\",\"\")","v":"x"}]
["Aerosmith","Gelredome","Arnhem","2010-06-23","Love in Elevator\nBack in the Saddle\nFalling in Love (Is Hard on the Knees)\nEat the Rich\nPink\nLivin’ on the Edge\nWhat It Takes\nRag doll\nCryin'\nMama Kin\nStop Messin’ Around (Fleetwood Mac cover) \nI Don't Wanna Miss a Thing\nSweet Emotion\nBaby Please Don't Go (Big Joe Williams cover)\nDraw the Line\n-----------------------\nDream On\nWalk This Way\nToys in the Attic",null,"Hoofdprogramma",6,2010,{"$f":"VLOOKUP(Table1[[#This Row],[Maand (getal)]],Lijst!A:B,2,FALSE)","v":"jun"},{"$f":"IFERROR(IF(ISBLANK('Zoeken in Database'!$D$3),\"x\",IF(SEARCH('Zoeken in Database'!$D$3,Concerten!A883,1),\"x\",\"\")),\"\")","v":"x"},{"$f":"IFERROR(IF(ISBLANK('Zoeken in Database'!$D$4),\"x\",IF(SEARCH('Zoeken in Database'!$D$4,Concerten!B883,1),\"x\",\"\")),\"\")","v":"x"},{"$f":"IFERROR(IF(ISBLANK('Zoeken in Database'!$D$5),\"x\",IF(SEARCH('Zoeken in Database'!$D$5,Concerten!C883,1),\"x\",\"\")),\"\")","v":"x"},{"$f":"IFERROR(IF(ISBLANK('Zoeken in Database'!$D$6),\"x\",IF(SEARCH('Zoeken in Database'!$D$6,Concerten!G883,1),\"x\",\"\")),\"\")","v":"x"},{"$f":"IF(AND(D883>='Zoeken in Database'!$A$7,'Zoeken in Database'!$A$8>=D883),\"x\",\"\")","v":"x"}]
["Broken Records","Tivoli Oudegracht","Utrecht","2010-07-07",null,null,"Voorprogramma",7,2010,{"$f":"VLOOKUP(Table1[[#This Row],[Maand (getal)]],Lijst!A:B,2,FALSE)","v":"jul"},{"$f":"IFERROR(IF(ISBLANK('Zoeken in Database'!$D$3),\"x\",IF(SEARCH('Zoeken in Database'!$D$3,Concerten!A884,1),\"x\",\"\")),\"\")","v":"x"},{"$f":"IFERROR(IF(ISBLANK('Zoeken in Database'!$D$4),\"x\",IF(SEARCH('Zoeken in Database'!$D$4,Concerten!B884,1),\"x\",\"\")),\"\")","v":"x"},{"$f":"IFERROR(IF(ISBLANK('Zoeken in Database'!$D$5),\"x\",IF(SEARCH('Zoeken in Database'!$D$5,Concerten!C884,1),\"x\",\"\")),\"\")","v":"x"},{"$f":"IFERROR(IF(ISBLANK('Zoeken in Database'!$D$6),\"x\",IF(SEARCH('Zoeken in Database'!$D$6,Concerten!G884,1),\"x\",\"\")),\"\")","v":"x"},{"$f":"IF(AND(D884>='Zoeken in Database'!$A$7,'Zoeken in Database'!$A$8>=D884),\"x\",\"\")","v":"x"}]
["National, The","Tivoli Oudegracht","Utrecht","2010-07-07","Runaway  \nMistaken for Strangers  \nAnyone's Ghost  \nBloodbuzz Ohio  \nSecret Meeting  \nSlow Show  \nSqualor Victoria  \nAfraid of Everyone  \nLittle Faith  \nAll The Wine  \nAvailable  \nCardinal Song  \nSorrow  \nConversation 16  \nApartment Story  \nAbel  \nEngland  \nFake Empire  \n----------\nYou Were A Kindness  \nLemonworld  \nMr. November  \nTerrible Love  ",null,"Hoofdprogramma",7,2010,{"$f":"VLOOKUP(Table1[[#This Row],[Maand (getal)]],Lijst!A:B,2,FALSE)","v":"jul"},{"$f":"IFERROR(IF(ISBLANK('Zoeken in Database'!$D$3),\"x\",IF(SEARCH('Zoeken in Database'!$D$3,Concerten!A885,1),\"x\",\"\")),\"\")","v":"x"},{"$f":"IFERROR(IF(ISBLANK('Zoeken in Database'!$D$4),\"x\",IF(SEARCH('Zoeken in Database'!$D$4,Concerten!B885,1),\"x\",\"\")),\"\")","v":"x"},{"$f":"IFERROR(IF(ISBLANK('Zoeken in Database'!$D$5),\"x\",IF(SEARCH('Zoeken in Database'!$D$5,Concerten!C885,1),\"x\",\"\")),\"\")","v":"x"},{"$f":"IFERROR(IF(ISBLANK('Zoeken in Database'!$D$6),\"x\",IF(SEARCH('Zoeken in Database'!$D$6,Concerten!G885,1),\"x\",\"\")),\"\")","v":"x"},{"$f":"IF(AND(D885>='Zoeken in Database'!$A$7,'Zoeken in Database'!$A$8>=D885),\"x\",\"\")","v":"x"}]
["Blow, The","Paradiso","Amsterdam","2010-08-05",null,null,"Voorprogramma",8,2010,{"$f":"VLOOKUP(Table1[[#This Row],[Maand (getal)]],Lijst!A:B,2,FALSE)","v":"aug"},{"$f":"IFERROR(IF(ISBLANK('Zoeken in Database'!$D$3),\"x\",IF(SEARCH('Zoeken in Database'!$D$3,Concerten!A886,1),\"x\",\"\")),\"\")","v":"x"},{"$f":"IFERROR(IF(ISBLANK('Zoeken in Database'!$D$4),\"x\",IF(SEARCH('Zoeken in Database'!$D$4,Concerten!B886,1),\"x\",\"\")),\"\")","v":"x"},{"$f":"IFERROR(IF(ISBLANK('Zoeken in Database'!$D$5),\"x\",IF(SEARCH('Zoeken in Database'!$D$5,Concerten!C886,1),\"x\",\"\")),\"\")","v":"x"},{"$f":"IFERROR(IF(ISBLANK('Zoeken in Database'!$D$6),\"x\",IF(SEARCH('Zoeken in Database'!$D$6,Concerten!G886,1),\"x\",\"\")),\"\")","v":"x"},{"$f":"IF(AND(D886>='Zoeken in Database'!$A$7,'Zoeken in Database'!$A$8>=D886),\"x\",\"\")","v":"x"}]
["Lekman, Jens","Paradiso","Amsterdam","2010-08-05","Golden Key \nThe Opposite Of Hallelujah \nArgument with Myself \nThe End Of The World Is Bigger Than Love \nDandruff on your Shoulder \nAnd I Remember Every Kiss \nYour Arms Around Me \nBlack Cab \nA Handful of Feathers \nNew Directions \nA Sweet Summer's Night On Hammer Hill \nInto Eternity \nSipping On The Sweet Nectar \nEncore:\nA Postcard To Nina \nMaple Leaves \n",null,"Hoofdprogramma",8,2010,{"$f":"VLOOKUP(Table1[[#This Row],[Maand (getal)]],Lijst!A:B,2,FALSE)","v":"aug"},{"$f":"IFERROR(IF(ISBLANK('Zoeken in Database'!$D$3),\"x\",IF(SEARCH('Zoeken in Database'!$D$3,Concerten!A887,1),\"x\",\"\")),\"\")","v":"x"},{"$f":"IFERROR(IF(ISBLANK('Zoeken in Database'!$D$4),\"x\",IF(SEARCH('Zoeken in Database'!$D$4,Concerten!B887,1),\"x\",\"\")),\"\")","v":"x"},{"$f":"IFERROR(IF(ISBLANK('Zoeken in Database'!$D$5),\"x\",IF(SEARCH('Zoeken in Database'!$D$5,Concerten!C887,1),\"x\",\"\")),\"\")","v":"x"},{"$f":"IFERROR(IF(ISBLANK('Zoeken in Database'!$D$6),\"x\",IF(SEARCH('Zoeken in Database'!$D$6,Concerten!G887,1),\"x\",\"\")),\"\")","v":"x"},{"$f":"IF(AND(D887>='Zoeken in Database'!$A$7,'Zoeken in Database'!$A$8>=D887),\"x\",\"\")","v":"x"}]
["Ford, David","Haldern Pop 2010","Haldern","2010-08-12",null,"Spiegelzelt","Festivaloptreden",8,2010,{"$f":"VLOOKUP(Table1[[#This Row],[Maand (getal)]],Lijst!A:B,2,FALSE)","v":"aug"},{"$f":"IFERROR(IF(ISBLANK('Zoeken in Database'!$D$3),\"x\",IF(SEARCH('Zoeken in Database'!$D$3,Concerten!A888,1),\"x\",\"\")),\"\")","v":"x"},{"$f":"IFERROR(IF(ISBLANK('Zoeken in Database'!$D$4),\"x\",IF(SEARCH('Zoeken in Database'!$D$4,Concerten!B888,1),\"x\",\"\")),\"\")","v":"x"},{"$f":"IFERROR(IF(ISBLANK('Zoeken in Database'!$D$5),\"x\",IF(SEARCH('Zoeken in Database'!$D$5,Concerten!C888,1),\"x\",\"\")),\"\")","v":"x"},{"$f":"IFERROR(IF(ISBLANK('Zoeken in Database'!$D$6),\"x\",IF(SEARCH('Zoeken in Database'!$D$6,Concerten!G888,1),\"x\",\"\")),\"\")","v":"x"},{"$f":"IF(AND(D888>='Zoeken in Database'!$A$7,'Zoeken in Database'!$A$8>=D888),\"x\",\"\")","v":"x"}]
["Cymbals Eat Guitars","Haldern Pop 2010","Haldern","2010-08-12",null,"Spiegelzelt","Festivaloptreden",8,2010,{"$f":"VLOOKUP(Table1[[#This Row],[Maand (getal)]],Lijst!A:B,2,FALSE)","v":"aug"},{"$f":"IFERROR(IF(ISBLANK('Zoeken in Database'!$D$3),\"x\",IF(SEARCH('Zoeken in Database'!$D$3,Concerten!A889,1),\"x\",\"\")),\"\")","v":"x"},{"$f":"IFERROR(IF(ISBLANK('Zoeken in Database'!$D$4),\"x\",IF(SEARCH('Zoeken in Database'!$D$4,Concerten!B889,1),\"x\",\"\")),\"\")","v":"x"},{"$f":"IFERROR(IF(ISBLANK('Zoeken in Database'!$D$5),\"x\",IF(SEARCH('Zoeken in Database'!$D$5,Concerten!C889,1),\"x\",\"\")),\"\")","v":"x"},{"$f":"IFERROR(IF(ISBLANK('Zoeken in Database'!$D$6),\"x\",IF(SEARCH('Zoeken in Database'!$D$6,Concerten!G889,1),\"x\",\"\")),\"\")","v":"x"},{"$f":"IF(AND(D889>='Zoeken in Database'!$A$7,'Zoeken in Database'!$A$8>=D889),\"x\",\"\")","v":"x"}]
["Beach House","Haldern Pop 2010","Haldern","2010-08-12",null,"Spiegelzelt","Festivaloptreden",8,2010,{"$f":"VLOOKUP(Table1[[#This Row],[Maand (getal)]],Lijst!A:B,2,FALSE)","v":"aug"},{"$f":"IFERROR(IF(ISBLANK('Zoeken in Database'!$D$3),\"x\",IF(SEARCH('Zoeken in Database'!$D$3,Concerten!A890,1),\"x\",\"\")),\"\")","v":"x"},{"$f":"IFERROR(IF(ISBLANK('Zoeken in Database'!$D$4),\"x\",IF(SEARCH('Zoeken in Database'!$D$4,Concerten!B890,1),\"x\",\"\")),\"\")","v":"x"},{"$f":"IFERROR(IF(ISBLANK('Zoeken in Database'!$D$5),\"x\",IF(SEARCH('Zoeken in Database'!$D$5,Concerten!C890,1),\"x\",\"\")),\"\")","v":"x"},{"$f":"IFERROR(IF(ISBLANK('Zoeken in Database'!$D$6),\"x\",IF(SEARCH('Zoeken in Database'!$D$6,Concerten!G890,1),\"x\",\"\")),\"\")","v":"x"},{"$f":"IF(AND(D890>='Zoeken in Database'!$A$7,'Zoeken in Database'!$A$8>=D890),\"x\",\"\")","v":"x"}]
["Marling, Laura","Haldern Pop 2010","Haldern","2010-08-13",null,"Spiegelzelt","Festivaloptreden",8,2010,{"$f":"VLOOKUP(Table1[[#This Row],[Maand (getal)]],Lijst!A:B,2,FALSE)","v":"aug"},{"$f":"IFERROR(IF(ISBLANK('Zoeken in Database'!$D$3),\"x\",IF(SEARCH('Zoeken in Database'!$D$3,Concerten!A891,1),\"x\",\"\")),\"\")","v":"x"},{"$f":"IFERROR(IF(ISBLANK('Zoeken in Database'!$D$4),\"x\",IF(SEARCH('Zoeken in Database'!$D$4,Concerten!B891,1),\"x\",\"\")),\"\")","v":"x"},{"$f":"IFERROR(IF(ISBLANK('Zoeken in Database'!$D$5),\"x\",IF(SEARCH('Zoeken in Database'!$D$5,Concerten!C891,1),\"x\",\"\")),\"\")","v":"x"},{"$f":"IFERROR(IF(ISBLANK('Zoeken in Database'!$D$6),\"x\",IF(SEARCH('Zoeken in Database'!$D$6,Concerten!G891,1),\"x\",\"\")),\"\")","v":"x"},{"$f":"IF(AND(D891>='Zoeken in Database'!$A$7,'Zoeken in Database'!$A$8>=D891),\"x\",\"\")","v":"x"}]
["Triggerfinger","Haldern Pop 2010","Haldern","2010-08-13","Intro \nInner Peace \nShort Term Memory Love \nHunt You Down \nFirst Taste \nIs It \nOn My Knees \nSoon","Hauptbuhne","Festivaloptreden",8,2010,{"$f":"VLOOKUP(Table1[[#This Row],[Maand (getal)]],Lijst!A:B,2,FALSE)","v":"aug"},{"$f":"IFERROR(IF(ISBLANK('Zoeken in Database'!$D$3),\"x\",IF(SEARCH('Zoeken in Database'!$D$3,Concerten!A892,1),\"x\",\"\")),\"\")","v":"x"},{"$f":"IFERROR(IF(ISBLANK('Zoeken in Database'!$D$4),\"x\",IF(SEARCH('Zoeken in Database'!$D$4,Concerten!B892,1),\"x\",\"\")),\"\")","v":"x"},{"$f":"IFERROR(IF(ISBLANK('Zoeken in Database'!$D$5),\"x\",IF(SEARCH('Zoeken in Database'!$D$5,Concerten!C892,1),\"x\",\"\")),\"\")","v":"x"},{"$f":"IFERROR(IF(ISBLANK('Zoeken in Database'!$D$6),\"x\",IF(SEARCH('Zoeken in Database'!$D$6,Concerten!G892,1),\"x\",\"\")),\"\")","v":"x"},{"$f":"IF(AND(D892>='Zoeken in Database'!$A$7,'Zoeken in Database'!$A$8>=D892),\"x\",\"\")","v":"x"}]
["Detroit Social Club","Haldern Pop 2010","Haldern","2010-08-13",null,"Hauptbuhne","Festivaloptreden",8,2010,{"$f":"VLOOKUP(Table1[[#This Row],[Maand (getal)]],Lijst!A:B,2,FALSE)","v":"aug"},{"$f":"IFERROR(IF(ISBLANK('Zoeken in Database'!$D$3),\"x\",IF(SEARCH('Zoeken in Database'!$D$3,Concerten!A893,1),\"x\",\"\")),\"\")","v":"x"},{"$f":"IFERROR(IF(ISBLANK('Zoeken in Database'!$D$4),\"x\",IF(SEARCH('Zoeken in Database'!$D$4,Concerten!B893,1),\"x\",\"\")),\"\")","v":"x"},{"$f":"IFERROR(IF(ISBLANK('Zoeken in Database'!$D$5),\"x\",IF(SEARCH('Zoeken in Database'!$D$5,Concerten!C893,1),\"x\",\"\")),\"\")","v":"x"},{"$f":"IFERROR(IF(ISBLANK('Zoeken in Database'!$D$6),\"x\",IF(SEARCH('Zoeken in Database'!$D$6,Concerten!G893,1),\"x\",\"\")),\"\")","v":"x"},{"$f":"IF(AND(D893>='Zoeken in Database'!$A$7,'Zoeken in Database'!$A$8>=D893),\"x\",\"\")","v":"x"}]
["Mumford & Sons","Haldern Pop 2010","Haldern","2010-08-13","Sigh No More \nAwake My Soul \nWinter Winds \nRoll Away Your Stone \nNothing Is Written \nWhite Blank Page \nLittle Lion Man \nLover Of The Light \nThistle & Weeds \nTimshel \nThe Cave \nDust Bowl Dance","Hauptbuhne","Festivaloptreden",8,2010,{"$f":"VLOOKUP(Table1[[#This Row],[Maand (getal)]],Lijst!A:B,2,FALSE)","v":"aug"},{"$f":"IFERROR(IF(ISBLANK('Zoeken in Database'!$D$3),\"x\",IF(SEARCH('Zoeken in Database'!$D$3,Concerten!A894,1),\"x\",\"\")),\"\")","v":"x"},{"$f":"IFERROR(IF(ISBLANK('Zoeken in Database'!$D$4),\"x\",IF(SEARCH('Zoeken in Database'!$D$4,Concerten!B894,1),\"x\",\"\")),\"\")","v":"x"},{"$f":"IFERROR(IF(ISBLANK('Zoeken in Database'!$D$5),\"x\",IF(SEARCH('Zoeken in Database'!$D$5,Concerten!C894,1),\"x\",\"\")),\"\")","v":"x"},{"$f":"IFERROR(IF(ISBLANK('Zoeken in Database'!$D$6),\"x\",IF(SEARCH('Zoeken in Database'!$D$6,Concerten!G894,1),\"x\",\"\")),\"\")","v":"x"},{"$f":"IF(AND(D894>='Zoeken in Database'!$A$7,'Zoeken in Database'!$A$8>=D894),\"x\",\"\")","v":"x"}]
["Young Rebel Set, The","Haldern Pop 2010","Haldern","2010-08-14",null,"Hauptbuhne","Festivaloptreden",8,2010,{"$f":"VLOOKUP(Table1[[#This Row],[Maand (getal)]],Lijst!A:B,2,FALSE)","v":"aug"},{"$f":"IFERROR(IF(ISBLANK('Zoeken in Database'!$D$3),\"x\",IF(SEARCH('Zoeken in Database'!$D$3,Concerten!A895,1),\"x\",\"\")),\"\")","v":"x"},{"$f":"IFERROR(IF(ISBLANK('Zoeken in Database'!$D$4),\"x\",IF(SEARCH('Zoeken in Database'!$D$4,Concerten!B895,1),\"x\",\"\")),\"\")","v":"x"},{"$f":"IFERROR(IF(ISBLANK('Zoeken in Database'!$D$5),\"x\",IF(SEARCH('Zoeken in Database'!$D$5,Concerten!C895,1),\"x\",\"\")),\"\")","v":"x"},{"$f":"IFERROR(IF(ISBLANK('Zoeken in Database'!$D$6),\"x\",IF(SEARCH('Zoeken in Database'!$D$6,Concerten!G895,1),\"x\",\"\")),\"\")","v":"x"},{"$f":"IF(AND(D895>='Zoeken in Database'!$A$7,'Zoeken in Database'!$A$8>=D895),\"x\",\"\")","v":"x"}]
["Portugal. The Man","Haldern Pop 2010","Haldern","2010-08-14",null,"Hauptbuhne","Festivaloptreden",8,2010,{"$f":"VLOOKUP(Table1[[#This Row],[Maand (getal)]],Lijst!A:B,2,FALSE)","v":"aug"},{"$f":"IFERROR(IF(ISBLANK('Zoeken in Database'!$D$3),\"x\",IF(SEARCH('Zoeken in Database'!$D$3,Concerten!A896,1),\"x\",\"\")),\"\")","v":"x"},{"$f":"IFERROR(IF(ISBLANK('Zoeken in Database'!$D$4),\"x\",IF(SEARCH('Zoeken in Database'!$D$4,Concerten!B896,1),\"x\",\"\")),\"\")","v":"x"},{"$f":"IFERROR(IF(ISBLANK('Zoeken in Database'!$D$5),\"x\",IF(SEARCH('Zoeken in Database'!$D$5,Concerten!C896,1),\"x\",\"\")),\"\")","v":"x"},{"$f":"IFERROR(IF(ISBLANK('Zoeken in Database'!$D$6),\"x\",IF(SEARCH('Zoeken in Database'!$D$6,Concerten!G896,1),\"x\",\"\")),\"\")","v":"x"},{"$f":"IF(AND(D896>='Zoeken in Database'!$A$7,'Zoeken in Database'!$A$8>=D896),\"x\",\"\")","v":"x"}]
["Fanfarlo","Haldern Pop 2010","Haldern","2010-08-14",null,"Hauptbuhne","Festivaloptreden",8,2010,{"$f":"VLOOKUP(Table1[[#This Row],[Maand (getal)]],Lijst!A:B,2,FALSE)","v":"aug"},{"$f":"IFERROR(IF(ISBLANK('Zoeken in Database'!$D$3),\"x\",IF(SEARCH('Zoeken in Database'!$D$3,Concerten!A897,1),\"x\",\"\")),\"\")","v":"x"},{"$f":"IFERROR(IF(ISBLANK('Zoeken in Database'!$D$4),\"x\",IF(SEARCH('Zoeken in Database'!$D$4,Concerten!B897,1),\"x\",\"\")),\"\")","v":"x"},{"$f":"IFERROR(IF(ISBLANK('Zoeken in Database'!$D$5),\"x\",IF(SEARCH('Zoeken in Database'!$D$5,Concerten!C897,1),\"x\",\"\")),\"\")","v":"x"},{"$f":"IFERROR(IF(ISBLANK('Zoeken in Database'!$D$6),\"x\",IF(SEARCH('Zoeken in Database'!$D$6,Concerten!G897,1),\"x\",\"\")),\"\")","v":"x"},{"$f":"IF(AND(D897>='Zoeken in Database'!$A$7,'Zoeken in Database'!$A$8>=D897),\"x\",\"\")","v":"x"}]
["Frightened Rabbit","Haldern Pop 2010","Haldern","2010-08-14","The Modern Leper \nNothing Like You \nThe Loneliness \nThe Twist \nThe Wrestle \nOld Old Fashioned \nSwim Until You Can't See Land \nMy Backwards Walk \nGood Arms vs. Bad Arms \nLiving In Colour \nKeep Yourself Warm","Hauptbuhne","Festivaloptreden",8,2010,{"$f":"VLOOKUP(Table1[[#This Row],[Maand (getal)]],Lijst!A:B,2,FALSE)","v":"aug"},{"$f":"IFERROR(IF(ISBLANK('Zoeken in Database'!$D$3),\"x\",IF(SEARCH('Zoeken in Database'!$D$3,Concerten!A898,1),\"x\",\"\")),\"\")","v":"x"},{"$f":"IFERROR(IF(ISBLANK('Zoeken in Database'!$D$4),\"x\",IF(SEARCH('Zoeken in Database'!$D$4,Concerten!B898,1),\"x\",\"\")),\"\")","v":"x"},{"$f":"IFERROR(IF(ISBLANK('Zoeken in Database'!$D$5),\"x\",IF(SEARCH('Zoeken in Database'!$D$5,Concerten!C898,1),\"x\",\"\")),\"\")","v":"x"},{"$f":"IFERROR(IF(ISBLANK('Zoeken in Database'!$D$6),\"x\",IF(SEARCH('Zoeken in Database'!$D$6,Concerten!G898,1),\"x\",\"\")),\"\")","v":"x"},{"$f":"IF(AND(D898>='Zoeken in Database'!$A$7,'Zoeken in Database'!$A$8>=D898),\"x\",\"\")","v":"x"}]
["Tallest Man On Earth, The","Haldern Pop 2010","Haldern","2010-08-14","The Wild Hunt \nThousand Ways \nI Won't Be Found \nThe Gardener \nLove Is All \nWhere Do My Bluebirds Fly \nYou're Going Back \nKing of Spain","Hauptbuhne","Festivaloptreden",{"$f":"IF(ISBLANK(D899),\"\",MONTH(D899))","v":8},{"$f":"IF(ISBLANK(D899),\"\",YEAR(D899))","v":2010},{"$f":"VLOOKUP(Table1[[#This Row],[Maand (getal)]],Lijst!A:B,2,FALSE)","v":"aug"},{"$f":"IFERROR(IF(ISBLANK('Zoeken in Database'!$D$3),\"x\",IF(SEARCH('Zoeken in Database'!$D$3,Concerten!A899,1),\"x\",\"\")),\"\")","v":"x"},{"$f":"IFERROR(IF(ISBLANK('Zoeken in Database'!$D$4),\"x\",IF(SEARCH('Zoeken in Database'!$D$4,Concerten!B899,1),\"x\",\"\")),\"\")","v":"x"},{"$f":"IFERROR(IF(ISBLANK('Zoeken in Database'!$D$5),\"x\",IF(SEARCH('Zoeken in Database'!$D$5,Concerten!C899,1),\"x\",\"\")),\"\")","v":"x"},{"$f":"IFERROR(IF(ISBLANK('Zoeken in Database'!$D$6),\"x\",IF(SEARCH('Zoeken in Database'!$D$6,Concerten!G899,1),\"x\",\"\")),\"\")","v":"x"},{"$f":"IF(AND(D899>='Zoeken in Database'!$A$7,'Zoeken in Database'!$A$8>=D899),\"x\",\"\")","v":"x"}]
["Yeasayer","Haldern Pop 2010","Haldern","2010-08-14","Tightrope \nWait For The Summer \nRome \n2080 \nSunrise \nO.N.E. \nMondegreen \nMadder Red \nAmbling Alp","Hauptbuhne","Festivaloptreden",8,2010,{"$f":"VLOOKUP(Table1[[#This Row],[Maand (getal)]],Lijst!A:B,2,FALSE)","v":"aug"},{"$f":"IFERROR(IF(ISBLANK('Zoeken in Database'!$D$3),\"x\",IF(SEARCH('Zoeken in Database'!$D$3,Concerten!A900,1),\"x\",\"\")),\"\")","v":"x"},{"$f":"IFERROR(IF(ISBLANK('Zoeken in Database'!$D$4),\"x\",IF(SEARCH('Zoeken in Database'!$D$4,Concerten!B900,1),\"x\",\"\")),\"\")","v":"x"},{"$f":"IFERROR(IF(ISBLANK('Zoeken in Database'!$D$5),\"x\",IF(SEARCH('Zoeken in Database'!$D$5,Concerten!C900,1),\"x\",\"\")),\"\")","v":"x"},{"$f":"IFERROR(IF(ISBLANK('Zoeken in Database'!$D$6),\"x\",IF(SEARCH('Zoeken in Database'!$D$6,Concerten!G900,1),\"x\",\"\")),\"\")","v":"x"},{"$f":"IF(AND(D900>='Zoeken in Database'!$A$7,'Zoeken in Database'!$A$8>=D900),\"x\",\"\")","v":"x"}]
["National, The","Haldern Pop 2010","Haldern","2010-08-14","Afraid Of Everyone \nMistaken For Strangers \nAnyone's Ghost \nBloodbuzz Ohio \nSlow Show \nSqualor Victoria \nConversation 16 \nVanderlyle Crybaby Geeks \nAbel \nApartment Story \nSorrow \nEngland \nFake Empire \nMr. November \nEncore:\nRunaway \nTerrible Love \nAbout Today","Hauptbuhne","Festivaloptreden",8,2010,{"$f":"VLOOKUP(Table1[[#This Row],[Maand (getal)]],Lijst!A:B,2,FALSE)","v":"aug"},{"$f":"IFERROR(IF(ISBLANK('Zoeken in Database'!$D$3),\"x\",IF(SEARCH('Zoeken in Database'!$D$3,Concerten!A901,1),\"x\",\"\")),\"\")","v":"x"},{"$f":"IFERROR(IF(ISBLANK('Zoeken in Database'!$D$4),\"x\",IF(SEARCH('Zoeken in Database'!$D$4,Concerten!B901,1),\"x\",\"\")),\"\")","v":"x"},{"$f":"IFERROR(IF(ISBLANK('Zoeken in Database'!$D$5),\"x\",IF(SEARCH('Zoeken in Database'!$D$5,Concerten!C901,1),\"x\",\"\")),\"\")","v":"x"},{"$f":"IFERROR(IF(ISBLANK('Zoeken in Database'!$D$6),\"x\",IF(SEARCH('Zoeken in Database'!$D$6,Concerten!G901,1),\"x\",\"\")),\"\")","v":"x"},{"$f":"IF(AND(D901>='Zoeken in Database'!$A$7,'Zoeken in Database'!$A$8>=D901),\"x\",\"\")","v":"x"}]
["Villagers","Haldern Pop 2010","Haldern","2010-08-14",null,"Spiegelzelt","Festivaloptreden",8,2010,{"$f":"VLOOKUP(Table1[[#This Row],[Maand (getal)]],Lijst!A:B,2,FALSE)","v":"aug"},{"$f":"IFERROR(IF(ISBLANK('Zoeken in Database'!$D$3),\"x\",IF(SEARCH('Zoeken in Database'!$D$3,Concerten!A902,1),\"x\",\"\")),\"\")","v":"x"},{"$f":"IFERROR(IF(ISBLANK('Zoeken in Database'!$D$4),\"x\",IF(SEARCH('Zoeken in Database'!$D$4,Concerten!B902,1),\"x\",\"\")),\"\")","v":"x"},{"$f":"IFERROR(IF(ISBLANK('Zoeken in Database'!$D$5),\"x\",IF(SEARCH('Zoeken in Database'!$D$5,Concerten!C902,1),\"x\",\"\")),\"\")","v":"x"},{"$f":"IFERROR(IF(ISBLANK('Zoeken in Database'!$D$6),\"x\",IF(SEARCH('Zoeken in Database'!$D$6,Concerten!G902,1),\"x\",\"\")),\"\")","v":"x"},{"$f":"IF(AND(D902>='Zoeken in Database'!$A$7,'Zoeken in Database'!$A$8>=D902),\"x\",\"\")","v":"x"}]
["Bear In Heaven","Haldern Pop 2010","Haldern","2010-08-14",null,"Spiegelzelt","Festivaloptreden",8,2010,{"$f":"VLOOKUP(Table1[[#This Row],[Maand (getal)]],Lijst!A:B,2,FALSE)","v":"aug"},{"$f":"IFERROR(IF(ISBLANK('Zoeken in Database'!$D$3),\"x\",IF(SEARCH('Zoeken in Database'!$D$3,Concerten!A903,1),\"x\",\"\")),\"\")","v":"x"},{"$f":"IFERROR(IF(ISBLANK('Zoeken in Database'!$D$4),\"x\",IF(SEARCH('Zoeken in Database'!$D$4,Concerten!B903,1),\"x\",\"\")),\"\")","v":"x"},{"$f":"IFERROR(IF(ISBLANK('Zoeken in Database'!$D$5),\"x\",IF(SEARCH('Zoeken in Database'!$D$5,Concerten!C903,1),\"x\",\"\")),\"\")","v":"x"},{"$f":"IFERROR(IF(ISBLANK('Zoeken in Database'!$D$6),\"x\",IF(SEARCH('Zoeken in Database'!$D$6,Concerten!G903,1),\"x\",\"\")),\"\")","v":"x"},{"$f":"IF(AND(D903>='Zoeken in Database'!$A$7,'Zoeken in Database'!$A$8>=D903),\"x\",\"\")","v":"x"}]
["Frightened Rabbit","Lowlands 2010","Biddinghuizen","2010-08-20","The Modern Leper \nNothing Like You \nThe Loneliness and the Scream \nThe Wrestle \nOld Old Fashioned \nSwim Until You Can't See Land \nThe Twist \nMy Backwards Walk \nLiving in Colour \nKeep Yourself Warm\n","Charlie","Festivaloptreden",8,2010,{"$f":"VLOOKUP(Table1[[#This Row],[Maand (getal)]],Lijst!A:B,2,FALSE)","v":"aug"},{"$f":"IFERROR(IF(ISBLANK('Zoeken in Database'!$D$3),\"x\",IF(SEARCH('Zoeken in Database'!$D$3,Concerten!A904,1),\"x\",\"\")),\"\")","v":"x"},{"$f":"IFERROR(IF(ISBLANK('Zoeken in Database'!$D$4),\"x\",IF(SEARCH('Zoeken in Database'!$D$4,Concerten!B904,1),\"x\",\"\")),\"\")","v":"x"},{"$f":"IFERROR(IF(ISBLANK('Zoeken in Database'!$D$5),\"x\",IF(SEARCH('Zoeken in Database'!$D$5,Concerten!C904,1),\"x\",\"\")),\"\")","v":"x"},{"$f":"IFERROR(IF(ISBLANK('Zoeken in Database'!$D$6),\"x\",IF(SEARCH('Zoeken in Database'!$D$6,Concerten!G904,1),\"x\",\"\")),\"\")","v":"x"},{"$f":"IF(AND(D904>='Zoeken in Database'!$A$7,'Zoeken in Database'!$A$8>=D904),\"x\",\"\")","v":"x"}]
["Broken Bells","Lowlands 2010","Biddinghuizen","2010-08-20",null,"Alpha","Festivaloptreden",8,2010,{"$f":"VLOOKUP(Table1[[#This Row],[Maand (getal)]],Lijst!A:B,2,FALSE)","v":"aug"},{"$f":"IFERROR(IF(ISBLANK('Zoeken in Database'!$D$3),\"x\",IF(SEARCH('Zoeken in Database'!$D$3,Concerten!A905,1),\"x\",\"\")),\"\")","v":"x"},{"$f":"IFERROR(IF(ISBLANK('Zoeken in Database'!$D$4),\"x\",IF(SEARCH('Zoeken in Database'!$D$4,Concerten!B905,1),\"x\",\"\")),\"\")","v":"x"},{"$f":"IFERROR(IF(ISBLANK('Zoeken in Database'!$D$5),\"x\",IF(SEARCH('Zoeken in Database'!$D$5,Concerten!C905,1),\"x\",\"\")),\"\")","v":"x"},{"$f":"IFERROR(IF(ISBLANK('Zoeken in Database'!$D$6),\"x\",IF(SEARCH('Zoeken in Database'!$D$6,Concerten!G905,1),\"x\",\"\")),\"\")","v":"x"},{"$f":"IF(AND(D905>='Zoeken in Database'!$A$7,'Zoeken in Database'!$A$8>=D905),\"x\",\"\")","v":"x"}]
["Jonsi","Lowlands 2010","Biddinghuizen","2010-08-20","Icicle Sleeves \nKolniður \nSinking Friendships \nTornado \nGo Do \nBoy Lilikoi \nAnimal Arithmetic \nAround Us \nSticks and Stones \nGrow Till Tall","Grolsch","Festivaloptreden",8,2010,{"$f":"VLOOKUP(Table1[[#This Row],[Maand (getal)]],Lijst!A:B,2,FALSE)","v":"aug"},{"$f":"IFERROR(IF(ISBLANK('Zoeken in Database'!$D$3),\"x\",IF(SEARCH('Zoeken in Database'!$D$3,Concerten!A906,1),\"x\",\"\")),\"\")","v":"x"},{"$f":"IFERROR(IF(ISBLANK('Zoeken in Database'!$D$4),\"x\",IF(SEARCH('Zoeken in Database'!$D$4,Concerten!B906,1),\"x\",\"\")),\"\")","v":"x"},{"$f":"IFERROR(IF(ISBLANK('Zoeken in Database'!$D$5),\"x\",IF(SEARCH('Zoeken in Database'!$D$5,Concerten!C906,1),\"x\",\"\")),\"\")","v":"x"},{"$f":"IFERROR(IF(ISBLANK('Zoeken in Database'!$D$6),\"x\",IF(SEARCH('Zoeken in Database'!$D$6,Concerten!G906,1),\"x\",\"\")),\"\")","v":"x"},{"$f":"IF(AND(D906>='Zoeken in Database'!$A$7,'Zoeken in Database'!$A$8>=D906),\"x\",\"\")","v":"x"}]
["Blink 182","Lowlands 2010","Biddinghuizen","2010-08-20","Dumpweed \nFeeling This \nThe Rock Show \nWhat's My Age Again? \nI Miss You \nStay Together For The Kids \nDown \nAlways \nFirst Date \nMan Overboard \nAll The Small Things \nEncore:\nDrum Solo \nDammit \nFamily Reunion","Alpha","Festivaloptreden",8,2010,{"$f":"VLOOKUP(Table1[[#This Row],[Maand (getal)]],Lijst!A:B,2,FALSE)","v":"aug"},{"$f":"IFERROR(IF(ISBLANK('Zoeken in Database'!$D$3),\"x\",IF(SEARCH('Zoeken in Database'!$D$3,Concerten!A907,1),\"x\",\"\")),\"\")","v":"x"},{"$f":"IFERROR(IF(ISBLANK('Zoeken in Database'!$D$4),\"x\",IF(SEARCH('Zoeken in Database'!$D$4,Concerten!B907,1),\"x\",\"\")),\"\")","v":"x"},{"$f":"IFERROR(IF(ISBLANK('Zoeken in Database'!$D$5),\"x\",IF(SEARCH('Zoeken in Database'!$D$5,Concerten!C907,1),\"x\",\"\")),\"\")","v":"x"},{"$f":"IFERROR(IF(ISBLANK('Zoeken in Database'!$D$6),\"x\",IF(SEARCH('Zoeken in Database'!$D$6,Concerten!G907,1),\"x\",\"\")),\"\")","v":"x"},{"$f":"IF(AND(D907>='Zoeken in Database'!$A$7,'Zoeken in Database'!$A$8>=D907),\"x\",\"\")","v":"x"}]
["News Of Comedy","Lowlands 2010","Biddinghuizen","2010-08-20","Wilko Terwijn, Bob Maclaren, Harry Glotzbach, Martijn Oosterhuis, Bram van der Velde en Ronald Snijders","Juliet","Festivaloptreden",8,2010,{"$f":"VLOOKUP(Table1[[#This Row],[Maand (getal)]],Lijst!A:B,2,FALSE)","v":"aug"},{"$f":"IFERROR(IF(ISBLANK('Zoeken in Database'!$D$3),\"x\",IF(SEARCH('Zoeken in Database'!$D$3,Concerten!A908,1),\"x\",\"\")),\"\")","v":"x"},{"$f":"IFERROR(IF(ISBLANK('Zoeken in Database'!$D$4),\"x\",IF(SEARCH('Zoeken in Database'!$D$4,Concerten!B908,1),\"x\",\"\")),\"\")","v":"x"},{"$f":"IFERROR(IF(ISBLANK('Zoeken in Database'!$D$5),\"x\",IF(SEARCH('Zoeken in Database'!$D$5,Concerten!C908,1),\"x\",\"\")),\"\")","v":"x"},{"$f":"IFERROR(IF(ISBLANK('Zoeken in Database'!$D$6),\"x\",IF(SEARCH('Zoeken in Database'!$D$6,Concerten!G908,1),\"x\",\"\")),\"\")","v":"x"},{"$f":"IF(AND(D908>='Zoeken in Database'!$A$7,'Zoeken in Database'!$A$8>=D908),\"x\",\"\")","v":"x"}]
["Knol, Tim","Lowlands 2010","Biddinghuizen","2010-08-21",null,"India","Festivaloptreden",8,2010,{"$f":"VLOOKUP(Table1[[#This Row],[Maand (getal)]],Lijst!A:B,2,FALSE)","v":"aug"},{"$f":"IFERROR(IF(ISBLANK('Zoeken in Database'!$D$3),\"x\",IF(SEARCH('Zoeken in Database'!$D$3,Concerten!A909,1),\"x\",\"\")),\"\")","v":"x"},{"$f":"IFERROR(IF(ISBLANK('Zoeken in Database'!$D$4),\"x\",IF(SEARCH('Zoeken in Database'!$D$4,Concerten!B909,1),\"x\",\"\")),\"\")","v":"x"},{"$f":"IFERROR(IF(ISBLANK('Zoeken in Database'!$D$5),\"x\",IF(SEARCH('Zoeken in Database'!$D$5,Concerten!C909,1),\"x\",\"\")),\"\")","v":"x"},{"$f":"IFERROR(IF(ISBLANK('Zoeken in Database'!$D$6),\"x\",IF(SEARCH('Zoeken in Database'!$D$6,Concerten!G909,1),\"x\",\"\")),\"\")","v":"x"},{"$f":"IF(AND(D909>='Zoeken in Database'!$A$7,'Zoeken in Database'!$A$8>=D909),\"x\",\"\")","v":"x"}]
["Hoop, Jesca","Lowlands 2010","Biddinghuizen","2010-08-21",null,"Lima","Festivaloptreden",8,2010,{"$f":"VLOOKUP(Table1[[#This Row],[Maand (getal)]],Lijst!A:B,2,FALSE)","v":"aug"},{"$f":"IFERROR(IF(ISBLANK('Zoeken in Database'!$D$3),\"x\",IF(SEARCH('Zoeken in Database'!$D$3,Concerten!A910,1),\"x\",\"\")),\"\")","v":"x"},{"$f":"IFERROR(IF(ISBLANK('Zoeken in Database'!$D$4),\"x\",IF(SEARCH('Zoeken in Database'!$D$4,Concerten!B910,1),\"x\",\"\")),\"\")","v":"x"},{"$f":"IFERROR(IF(ISBLANK('Zoeken in Database'!$D$5),\"x\",IF(SEARCH('Zoeken in Database'!$D$5,Concerten!C910,1),\"x\",\"\")),\"\")","v":"x"},{"$f":"IFERROR(IF(ISBLANK('Zoeken in Database'!$D$6),\"x\",IF(SEARCH('Zoeken in Database'!$D$6,Concerten!G910,1),\"x\",\"\")),\"\")","v":"x"},{"$f":"IF(AND(D910>='Zoeken in Database'!$A$7,'Zoeken in Database'!$A$8>=D910),\"x\",\"\")","v":"x"}]
["Parow, Jack","Lowlands 2010","Biddinghuizen","2010-08-21",null,"3FM Onstage","Festivaloptreden",8,2010,{"$f":"VLOOKUP(Table1[[#This Row],[Maand (getal)]],Lijst!A:B,2,FALSE)","v":"aug"},{"$f":"IFERROR(IF(ISBLANK('Zoeken in Database'!$D$3),\"x\",IF(SEARCH('Zoeken in Database'!$D$3,Concerten!A911,1),\"x\",\"\")),\"\")","v":"x"},{"$f":"IFERROR(IF(ISBLANK('Zoeken in Database'!$D$4),\"x\",IF(SEARCH('Zoeken in Database'!$D$4,Concerten!B911,1),\"x\",\"\")),\"\")","v":"x"},{"$f":"IFERROR(IF(ISBLANK('Zoeken in Database'!$D$5),\"x\",IF(SEARCH('Zoeken in Database'!$D$5,Concerten!C911,1),\"x\",\"\")),\"\")","v":"x"},{"$f":"IFERROR(IF(ISBLANK('Zoeken in Database'!$D$6),\"x\",IF(SEARCH('Zoeken in Database'!$D$6,Concerten!G911,1),\"x\",\"\")),\"\")","v":"x"},{"$f":"IF(AND(D911>='Zoeken in Database'!$A$7,'Zoeken in Database'!$A$8>=D911),\"x\",\"\")","v":"x"}]
["Admiral Freebee","Lowlands 2010","Biddinghuizen","2010-08-21",null,"India","Festivaloptreden",8,2010,{"$f":"VLOOKUP(Table1[[#This Row],[Maand (getal)]],Lijst!A:B,2,FALSE)","v":"aug"},{"$f":"IFERROR(IF(ISBLANK('Zoeken in Database'!$D$3),\"x\",IF(SEARCH('Zoeken in Database'!$D$3,Concerten!A912,1),\"x\",\"\")),\"\")","v":"x"},{"$f":"IFERROR(IF(ISBLANK('Zoeken in Database'!$D$4),\"x\",IF(SEARCH('Zoeken in Database'!$D$4,Concerten!B912,1),\"x\",\"\")),\"\")","v":"x"},{"$f":"IFERROR(IF(ISBLANK('Zoeken in Database'!$D$5),\"x\",IF(SEARCH('Zoeken in Database'!$D$5,Concerten!C912,1),\"x\",\"\")),\"\")","v":"x"},{"$f":"IFERROR(IF(ISBLANK('Zoeken in Database'!$D$6),\"x\",IF(SEARCH('Zoeken in Database'!$D$6,Concerten!G912,1),\"x\",\"\")),\"\")","v":"x"},{"$f":"IF(AND(D912>='Zoeken in Database'!$A$7,'Zoeken in Database'!$A$8>=D912),\"x\",\"\")","v":"x"}]
["LCD Soundsystem","Lowlands 2010","Biddinghuizen","2010-08-21",null,"Grolsch","Festivaloptreden",8,2010,{"$f":"VLOOKUP(Table1[[#This Row],[Maand (getal)]],Lijst!A:B,2,FALSE)","v":"aug"},{"$f":"IFERROR(IF(ISBLANK('Zoeken in Database'!$D$3),\"x\",IF(SEARCH('Zoeken in Database'!$D$3,Concerten!A913,1),\"x\",\"\")),\"\")","v":"x"},{"$f":"IFERROR(IF(ISBLANK('Zoeken in Database'!$D$4),\"x\",IF(SEARCH('Zoeken in Database'!$D$4,Concerten!B913,1),\"x\",\"\")),\"\")","v":"x"},{"$f":"IFERROR(IF(ISBLANK('Zoeken in Database'!$D$5),\"x\",IF(SEARCH('Zoeken in Database'!$D$5,Concerten!C913,1),\"x\",\"\")),\"\")","v":"x"},{"$f":"IFERROR(IF(ISBLANK('Zoeken in Database'!$D$6),\"x\",IF(SEARCH('Zoeken in Database'!$D$6,Concerten!G913,1),\"x\",\"\")),\"\")","v":"x"},{"$f":"IF(AND(D913>='Zoeken in Database'!$A$7,'Zoeken in Database'!$A$8>=D913),\"x\",\"\")","v":"x"}]
["Hoof, Jan van","Lowlands 2010","Biddinghuizen","2010-08-22",null,"Echo","Festivaloptreden",8,2010,{"$f":"VLOOKUP(Table1[[#This Row],[Maand (getal)]],Lijst!A:B,2,FALSE)","v":"aug"},{"$f":"IFERROR(IF(ISBLANK('Zoeken in Database'!$D$3),\"x\",IF(SEARCH('Zoeken in Database'!$D$3,Concerten!A914,1),\"x\",\"\")),\"\")","v":"x"},{"$f":"IFERROR(IF(ISBLANK('Zoeken in Database'!$D$4),\"x\",IF(SEARCH('Zoeken in Database'!$D$4,Concerten!B914,1),\"x\",\"\")),\"\")","v":"x"},{"$f":"IFERROR(IF(ISBLANK('Zoeken in Database'!$D$5),\"x\",IF(SEARCH('Zoeken in Database'!$D$5,Concerten!C914,1),\"x\",\"\")),\"\")","v":"x"},{"$f":"IFERROR(IF(ISBLANK('Zoeken in Database'!$D$6),\"x\",IF(SEARCH('Zoeken in Database'!$D$6,Concerten!G914,1),\"x\",\"\")),\"\")","v":"x"},{"$f":"IF(AND(D914>='Zoeken in Database'!$A$7,'Zoeken in Database'!$A$8>=D914),\"x\",\"\")","v":"x"}]
["National, The","Lowlands 2010","Biddinghuizen","2010-08-22","Runaway \nMistaken For Strangers \nBloodbuzz Ohio \nAnyone's Ghost \nSlow Show \nSqualor Victoria \nAfraid Of Everyone \nAvailable \nCardinal Song \nConversation 16 \nApartment Story \nAbel \nEngland \nFake Empire \nMr. November \nTerrible Love","Grolsch","Festivaloptreden",8,2010,{"$f":"VLOOKUP(Table1[[#This Row],[Maand (getal)]],Lijst!A:B,2,FALSE)","v":"aug"},{"$f":"IFERROR(IF(ISBLANK('Zoeken in Database'!$D$3),\"x\",IF(SEARCH('Zoeken in Database'!$D$3,Concerten!A915,1),\"x\",\"\")),\"\")","v":"x"},{"$f":"IFERROR(IF(ISBLANK('Zoeken in Database'!$D$4),\"x\",IF(SEARCH('Zoeken in Database'!$D$4,Concerten!B915,1),\"x\",\"\")),\"\")","v":"x"},{"$f":"IFERROR(IF(ISBLANK('Zoeken in Database'!$D$5),\"x\",IF(SEARCH('Zoeken in Database'!$D$5,Concerten!C915,1),\"x\",\"\")),\"\")","v":"x"},{"$f":"IFERROR(IF(ISBLANK('Zoeken in Database'!$D$6),\"x\",IF(SEARCH('Zoeken in Database'!$D$6,Concerten!G915,1),\"x\",\"\")),\"\")","v":"x"},{"$f":"IF(AND(D915>='Zoeken in Database'!$A$7,'Zoeken in Database'!$A$8>=D915),\"x\",\"\")","v":"x"}]
["Hot Chip","Lowlands 2010","Biddinghuizen","2010-08-22",null,"Bravo","Festivaloptreden",8,2010,{"$f":"VLOOKUP(Table1[[#This Row],[Maand (getal)]],Lijst!A:B,2,FALSE)","v":"aug"},{"$f":"IFERROR(IF(ISBLANK('Zoeken in Database'!$D$3),\"x\",IF(SEARCH('Zoeken in Database'!$D$3,Concerten!A916,1),\"x\",\"\")),\"\")","v":"x"},{"$f":"IFERROR(IF(ISBLANK('Zoeken in Database'!$D$4),\"x\",IF(SEARCH('Zoeken in Database'!$D$4,Concerten!B916,1),\"x\",\"\")),\"\")","v":"x"},{"$f":"IFERROR(IF(ISBLANK('Zoeken in Database'!$D$5),\"x\",IF(SEARCH('Zoeken in Database'!$D$5,Concerten!C916,1),\"x\",\"\")),\"\")","v":"x"},{"$f":"IFERROR(IF(ISBLANK('Zoeken in Database'!$D$6),\"x\",IF(SEARCH('Zoeken in Database'!$D$6,Concerten!G916,1),\"x\",\"\")),\"\")","v":"x"},{"$f":"IF(AND(D916>='Zoeken in Database'!$A$7,'Zoeken in Database'!$A$8>=D916),\"x\",\"\")","v":"x"}]
["Pop, Stefan","Lowlands 2010","Biddinghuizen","2010-08-22",null,"Mike","Festivaloptreden",8,2010,{"$f":"VLOOKUP(Table1[[#This Row],[Maand (getal)]],Lijst!A:B,2,FALSE)","v":"aug"},{"$f":"IFERROR(IF(ISBLANK('Zoeken in Database'!$D$3),\"x\",IF(SEARCH('Zoeken in Database'!$D$3,Concerten!A917,1),\"x\",\"\")),\"\")","v":"x"},{"$f":"IFERROR(IF(ISBLANK('Zoeken in Database'!$D$4),\"x\",IF(SEARCH('Zoeken in Database'!$D$4,Concerten!B917,1),\"x\",\"\")),\"\")","v":"x"},{"$f":"IFERROR(IF(ISBLANK('Zoeken in Database'!$D$5),\"x\",IF(SEARCH('Zoeken in Database'!$D$5,Concerten!C917,1),\"x\",\"\")),\"\")","v":"x"},{"$f":"IFERROR(IF(ISBLANK('Zoeken in Database'!$D$6),\"x\",IF(SEARCH('Zoeken in Database'!$D$6,Concerten!G917,1),\"x\",\"\")),\"\")","v":"x"},{"$f":"IF(AND(D917>='Zoeken in Database'!$A$7,'Zoeken in Database'!$A$8>=D917),\"x\",\"\")","v":"x"}]
["Gold, Alice","Paradiso","Biddinghuizen","2010-08-30",null,null,"Voorprogramma",8,2010,{"$f":"VLOOKUP(Table1[[#This Row],[Maand (getal)]],Lijst!A:B,2,FALSE)","v":"aug"},{"$f":"IFERROR(IF(ISBLANK('Zoeken in Database'!$D$3),\"x\",IF(SEARCH('Zoeken in Database'!$D$3,Concerten!A918,1),\"x\",\"\")),\"\")","v":"x"},{"$f":"IFERROR(IF(ISBLANK('Zoeken in Database'!$D$4),\"x\",IF(SEARCH('Zoeken in Database'!$D$4,Concerten!B918,1),\"x\",\"\")),\"\")","v":"x"},{"$f":"IFERROR(IF(ISBLANK('Zoeken in Database'!$D$5),\"x\",IF(SEARCH('Zoeken in Database'!$D$5,Concerten!C918,1),\"x\",\"\")),\"\")","v":"x"},{"$f":"IFERROR(IF(ISBLANK('Zoeken in Database'!$D$6),\"x\",IF(SEARCH('Zoeken in Database'!$D$6,Concerten!G918,1),\"x\",\"\")),\"\")","v":"x"},{"$f":"IF(AND(D918>='Zoeken in Database'!$A$7,'Zoeken in Database'!$A$8>=D918),\"x\",\"\")","v":"x"}]
["Eels","Paradiso","Amsterdam","2010-08-30","Daisies Of The Galaxy\nWhat I Have To Offer\nEnd Times\nPrizefighter\nShe Said Yeah [The Rolling Stones]\nGone Man\nSummer In The City [The Lovin' Spoonful]\nTremendous Dynamite\nIn My Dreams\nIn My Younger Days\nParadise Blues\nJungle Telegraph\nMy Beloved Monster\nSpectacular Girl\nFresh Blood\nDog Faced Boy\nThat Look You Gave That Guy\nSouljacker Pt.I\nTalkin' Bout Knuckles\nMr. E’s Beautiful Blues\nI Like Birds\nSummertime [Gershwin - in Billy Stewart version]\nLooking Up\n-------------------------------------\nI Like The Way This Is Going\nThat's Not Her Way\n-------------------------------------\nBaby Loves Me\n-------------------------------------\nOh So Lovely\n",null,"Hoofdprogramma",8,2010,{"$f":"VLOOKUP(Table1[[#This Row],[Maand (getal)]],Lijst!A:B,2,FALSE)","v":"aug"},{"$f":"IFERROR(IF(ISBLANK('Zoeken in Database'!$D$3),\"x\",IF(SEARCH('Zoeken in Database'!$D$3,Concerten!A919,1),\"x\",\"\")),\"\")","v":"x"},{"$f":"IFERROR(IF(ISBLANK('Zoeken in Database'!$D$4),\"x\",IF(SEARCH('Zoeken in Database'!$D$4,Concerten!B919,1),\"x\",\"\")),\"\")","v":"x"},{"$f":"IFERROR(IF(ISBLANK('Zoeken in Database'!$D$5),\"x\",IF(SEARCH('Zoeken in Database'!$D$5,Concerten!C919,1),\"x\",\"\")),\"\")","v":"x"},{"$f":"IFERROR(IF(ISBLANK('Zoeken in Database'!$D$6),\"x\",IF(SEARCH('Zoeken in Database'!$D$6,Concerten!G919,1),\"x\",\"\")),\"\")","v":"x"},{"$f":"IF(AND(D919>='Zoeken in Database'!$A$7,'Zoeken in Database'!$A$8>=D919),\"x\",\"\")","v":"x"}]
["I Am Oak","Kersenboomgaard","Lent","2010-09-19",null,"ihkv De Oversteek","Hoofdprogramma",9,2010,{"$f":"VLOOKUP(Table1[[#This Row],[Maand (getal)]],Lijst!A:B,2,FALSE)","v":"sep"},{"$f":"IFERROR(IF(ISBLANK('Zoeken in Database'!$D$3),\"x\",IF(SEARCH('Zoeken in Database'!$D$3,Concerten!A920,1),\"x\",\"\")),\"\")","v":"x"},{"$f":"IFERROR(IF(ISBLANK('Zoeken in Database'!$D$4),\"x\",IF(SEARCH('Zoeken in Database'!$D$4,Concerten!B920,1),\"x\",\"\")),\"\")","v":"x"},{"$f":"IFERROR(IF(ISBLANK('Zoeken in Database'!$D$5),\"x\",IF(SEARCH('Zoeken in Database'!$D$5,Concerten!C920,1),\"x\",\"\")),\"\")","v":"x"},{"$f":"IFERROR(IF(ISBLANK('Zoeken in Database'!$D$6),\"x\",IF(SEARCH('Zoeken in Database'!$D$6,Concerten!G920,1),\"x\",\"\")),\"\")","v":"x"},{"$f":"IF(AND(D920>='Zoeken in Database'!$A$7,'Zoeken in Database'!$A$8>=D920),\"x\",\"\")","v":"x"}]
["Morning Benders, The","Haldernpopbar","Haldern","2010-09-21",null,null,"Hoofdprogramma",9,2010,{"$f":"VLOOKUP(Table1[[#This Row],[Maand (getal)]],Lijst!A:B,2,FALSE)","v":"sep"},{"$f":"IFERROR(IF(ISBLANK('Zoeken in Database'!$D$3),\"x\",IF(SEARCH('Zoeken in Database'!$D$3,Concerten!A921,1),\"x\",\"\")),\"\")","v":"x"},{"$f":"IFERROR(IF(ISBLANK('Zoeken in Database'!$D$4),\"x\",IF(SEARCH('Zoeken in Database'!$D$4,Concerten!B921,1),\"x\",\"\")),\"\")","v":"x"},{"$f":"IFERROR(IF(ISBLANK('Zoeken in Database'!$D$5),\"x\",IF(SEARCH('Zoeken in Database'!$D$5,Concerten!C921,1),\"x\",\"\")),\"\")","v":"x"},{"$f":"IFERROR(IF(ISBLANK('Zoeken in Database'!$D$6),\"x\",IF(SEARCH('Zoeken in Database'!$D$6,Concerten!G921,1),\"x\",\"\")),\"\")","v":"x"},{"$f":"IF(AND(D921>='Zoeken in Database'!$A$7,'Zoeken in Database'!$A$8>=D921),\"x\",\"\")","v":"x"}]
["Calvi, Anna","Vredenburg Leidsche Rijn","Utrecht","2010-10-20",null,null,"Voorprogramma",10,2010,{"$f":"VLOOKUP(Table1[[#This Row],[Maand (getal)]],Lijst!A:B,2,FALSE)","v":"okt"},{"$f":"IFERROR(IF(ISBLANK('Zoeken in Database'!$D$3),\"x\",IF(SEARCH('Zoeken in Database'!$D$3,Concerten!A922,1),\"x\",\"\")),\"\")","v":"x"},{"$f":"IFERROR(IF(ISBLANK('Zoeken in Database'!$D$4),\"x\",IF(SEARCH('Zoeken in Database'!$D$4,Concerten!B922,1),\"x\",\"\")),\"\")","v":"x"},{"$f":"IFERROR(IF(ISBLANK('Zoeken in Database'!$D$5),\"x\",IF(SEARCH('Zoeken in Database'!$D$5,Concerten!C922,1),\"x\",\"\")),\"\")","v":"x"},{"$f":"IFERROR(IF(ISBLANK('Zoeken in Database'!$D$6),\"x\",IF(SEARCH('Zoeken in Database'!$D$6,Concerten!G922,1),\"x\",\"\")),\"\")","v":"x"},{"$f":"IF(AND(D922>='Zoeken in Database'!$A$7,'Zoeken in Database'!$A$8>=D922),\"x\",\"\")","v":"x"}]
["Grinderman","Vredenburg Leidsche Rijn","Utrecht","2010-10-20","1.  Mickey Mouse And The Goodbye Man \n2.  Worm Tamer \n3.  Get It On \n4.  Heathen Child \n5.  Palaces Of Montezuma \n6.  Evil \n7.  When My Baby Comes \n8.  What I Know \n9.  Honey Bee (Let's Fly To Mars) \n10. Kitchenette \n11. No Pussy Blues \n12. Bellringer Blues \n-------------------------------------------------------------\n13. When My Love Comes Down \n14. Man in the Moon \n15. Go Tell the Women \n16. Love Bomb \n17. Grinderman \n",null,"Hoofdprogramma",10,2010,{"$f":"VLOOKUP(Table1[[#This Row],[Maand (getal)]],Lijst!A:B,2,FALSE)","v":"okt"},{"$f":"IFERROR(IF(ISBLANK('Zoeken in Database'!$D$3),\"x\",IF(SEARCH('Zoeken in Database'!$D$3,Concerten!A923,1),\"x\",\"\")),\"\")","v":"x"},{"$f":"IFERROR(IF(ISBLANK('Zoeken in Database'!$D$4),\"x\",IF(SEARCH('Zoeken in Database'!$D$4,Concerten!B923,1),\"x\",\"\")),\"\")","v":"x"},{"$f":"IFERROR(IF(ISBLANK('Zoeken in Database'!$D$5),\"x\",IF(SEARCH('Zoeken in Database'!$D$5,Concerten!C923,1),\"x\",\"\")),\"\")","v":"x"},{"$f":"IFERROR(IF(ISBLANK('Zoeken in Database'!$D$6),\"x\",IF(SEARCH('Zoeken in Database'!$D$6,Concerten!G923,1),\"x\",\"\")),\"\")","v":"x"},{"$f":"IF(AND(D923>='Zoeken in Database'!$A$7,'Zoeken in Database'!$A$8>=D923),\"x\",\"\")","v":"x"}]
["Nona Mez","Mezz","Breda","2010-11-05",null,"ihkv Ik Zie U Graag","Festivaloptreden",11,2010,{"$f":"VLOOKUP(Table1[[#This Row],[Maand (getal)]],Lijst!A:B,2,FALSE)","v":"nov"},{"$f":"IFERROR(IF(ISBLANK('Zoeken in Database'!$D$3),\"x\",IF(SEARCH('Zoeken in Database'!$D$3,Concerten!A924,1),\"x\",\"\")),\"\")","v":"x"},{"$f":"IFERROR(IF(ISBLANK('Zoeken in Database'!$D$4),\"x\",IF(SEARCH('Zoeken in Database'!$D$4,Concerten!B924,1),\"x\",\"\")),\"\")","v":"x"},{"$f":"IFERROR(IF(ISBLANK('Zoeken in Database'!$D$5),\"x\",IF(SEARCH('Zoeken in Database'!$D$5,Concerten!C924,1),\"x\",\"\")),\"\")","v":"x"},{"$f":"IFERROR(IF(ISBLANK('Zoeken in Database'!$D$6),\"x\",IF(SEARCH('Zoeken in Database'!$D$6,Concerten!G924,1),\"x\",\"\")),\"\")","v":"x"},{"$f":"IF(AND(D924>='Zoeken in Database'!$A$7,'Zoeken in Database'!$A$8>=D924),\"x\",\"\")","v":"x"}]
["Arquettes","Mezz","Breda","2010-11-05",null,"ihkv Ik Zie U Graag","Festivaloptreden",11,2010,{"$f":"VLOOKUP(Table1[[#This Row],[Maand (getal)]],Lijst!A:B,2,FALSE)","v":"nov"},{"$f":"IFERROR(IF(ISBLANK('Zoeken in Database'!$D$3),\"x\",IF(SEARCH('Zoeken in Database'!$D$3,Concerten!A925,1),\"x\",\"\")),\"\")","v":"x"},{"$f":"IFERROR(IF(ISBLANK('Zoeken in Database'!$D$4),\"x\",IF(SEARCH('Zoeken in Database'!$D$4,Concerten!B925,1),\"x\",\"\")),\"\")","v":"x"},{"$f":"IFERROR(IF(ISBLANK('Zoeken in Database'!$D$5),\"x\",IF(SEARCH('Zoeken in Database'!$D$5,Concerten!C925,1),\"x\",\"\")),\"\")","v":"x"},{"$f":"IFERROR(IF(ISBLANK('Zoeken in Database'!$D$6),\"x\",IF(SEARCH('Zoeken in Database'!$D$6,Concerten!G925,1),\"x\",\"\")),\"\")","v":"x"},{"$f":"IF(AND(D925>='Zoeken in Database'!$A$7,'Zoeken in Database'!$A$8>=D925),\"x\",\"\")","v":"x"}]
["School Is Cool","Mezz","Breda","2010-11-05",null,"ihkv Ik Zie U Graag","Festivaloptreden",11,2010,{"$f":"VLOOKUP(Table1[[#This Row],[Maand (getal)]],Lijst!A:B,2,FALSE)","v":"nov"},{"$f":"IFERROR(IF(ISBLANK('Zoeken in Database'!$D$3),\"x\",IF(SEARCH('Zoeken in Database'!$D$3,Concerten!A926,1),\"x\",\"\")),\"\")","v":"x"},{"$f":"IFERROR(IF(ISBLANK('Zoeken in Database'!$D$4),\"x\",IF(SEARCH('Zoeken in Database'!$D$4,Concerten!B926,1),\"x\",\"\")),\"\")","v":"x"},{"$f":"IFERROR(IF(ISBLANK('Zoeken in Database'!$D$5),\"x\",IF(SEARCH('Zoeken in Database'!$D$5,Concerten!C926,1),\"x\",\"\")),\"\")","v":"x"},{"$f":"IFERROR(IF(ISBLANK('Zoeken in Database'!$D$6),\"x\",IF(SEARCH('Zoeken in Database'!$D$6,Concerten!G926,1),\"x\",\"\")),\"\")","v":"x"},{"$f":"IF(AND(D926>='Zoeken in Database'!$A$7,'Zoeken in Database'!$A$8>=D926),\"x\",\"\")","v":"x"}]
["Balthazar","Mezz","Breda","2010-11-05",null,"ihkv Ik Zie U Graag","Festivaloptreden",11,2010,{"$f":"VLOOKUP(Table1[[#This Row],[Maand (getal)]],Lijst!A:B,2,FALSE)","v":"nov"},{"$f":"IFERROR(IF(ISBLANK('Zoeken in Database'!$D$3),\"x\",IF(SEARCH('Zoeken in Database'!$D$3,Concerten!A927,1),\"x\",\"\")),\"\")","v":"x"},{"$f":"IFERROR(IF(ISBLANK('Zoeken in Database'!$D$4),\"x\",IF(SEARCH('Zoeken in Database'!$D$4,Concerten!B927,1),\"x\",\"\")),\"\")","v":"x"},{"$f":"IFERROR(IF(ISBLANK('Zoeken in Database'!$D$5),\"x\",IF(SEARCH('Zoeken in Database'!$D$5,Concerten!C927,1),\"x\",\"\")),\"\")","v":"x"},{"$f":"IFERROR(IF(ISBLANK('Zoeken in Database'!$D$6),\"x\",IF(SEARCH('Zoeken in Database'!$D$6,Concerten!G927,1),\"x\",\"\")),\"\")","v":"x"},{"$f":"IF(AND(D927>='Zoeken in Database'!$A$7,'Zoeken in Database'!$A$8>=D927),\"x\",\"\")","v":"x"}]
["Netherlands, The","Luxor Live","Arnhem","2010-11-06",null,"Gesel XL","Festivaloptreden",11,2010,{"$f":"VLOOKUP(Table1[[#This Row],[Maand (getal)]],Lijst!A:B,2,FALSE)","v":"nov"},{"$f":"IFERROR(IF(ISBLANK('Zoeken in Database'!$D$3),\"x\",IF(SEARCH('Zoeken in Database'!$D$3,Concerten!A928,1),\"x\",\"\")),\"\")","v":"x"},{"$f":"IFERROR(IF(ISBLANK('Zoeken in Database'!$D$4),\"x\",IF(SEARCH('Zoeken in Database'!$D$4,Concerten!B928,1),\"x\",\"\")),\"\")","v":"x"},{"$f":"IFERROR(IF(ISBLANK('Zoeken in Database'!$D$5),\"x\",IF(SEARCH('Zoeken in Database'!$D$5,Concerten!C928,1),\"x\",\"\")),\"\")","v":"x"},{"$f":"IFERROR(IF(ISBLANK('Zoeken in Database'!$D$6),\"x\",IF(SEARCH('Zoeken in Database'!$D$6,Concerten!G928,1),\"x\",\"\")),\"\")","v":"x"},{"$f":"IF(AND(D928>='Zoeken in Database'!$A$7,'Zoeken in Database'!$A$8>=D928),\"x\",\"\")","v":"x"}]
["Mekanik, The","Luxor Live","Arnhem","2010-11-06",null,"Gesel XL","Festivaloptreden",11,2010,{"$f":"VLOOKUP(Table1[[#This Row],[Maand (getal)]],Lijst!A:B,2,FALSE)","v":"nov"},{"$f":"IFERROR(IF(ISBLANK('Zoeken in Database'!$D$3),\"x\",IF(SEARCH('Zoeken in Database'!$D$3,Concerten!A929,1),\"x\",\"\")),\"\")","v":"x"},{"$f":"IFERROR(IF(ISBLANK('Zoeken in Database'!$D$4),\"x\",IF(SEARCH('Zoeken in Database'!$D$4,Concerten!B929,1),\"x\",\"\")),\"\")","v":"x"},{"$f":"IFERROR(IF(ISBLANK('Zoeken in Database'!$D$5),\"x\",IF(SEARCH('Zoeken in Database'!$D$5,Concerten!C929,1),\"x\",\"\")),\"\")","v":"x"},{"$f":"IFERROR(IF(ISBLANK('Zoeken in Database'!$D$6),\"x\",IF(SEARCH('Zoeken in Database'!$D$6,Concerten!G929,1),\"x\",\"\")),\"\")","v":"x"},{"$f":"IF(AND(D929>='Zoeken in Database'!$A$7,'Zoeken in Database'!$A$8>=D929),\"x\",\"\")","v":"x"}]
["Routines, The","Luxor Live","Arnhem","2010-11-06",null,"Gesel XL","Festivaloptreden",11,2010,{"$f":"VLOOKUP(Table1[[#This Row],[Maand (getal)]],Lijst!A:B,2,FALSE)","v":"nov"},{"$f":"IFERROR(IF(ISBLANK('Zoeken in Database'!$D$3),\"x\",IF(SEARCH('Zoeken in Database'!$D$3,Concerten!A930,1),\"x\",\"\")),\"\")","v":"x"},{"$f":"IFERROR(IF(ISBLANK('Zoeken in Database'!$D$4),\"x\",IF(SEARCH('Zoeken in Database'!$D$4,Concerten!B930,1),\"x\",\"\")),\"\")","v":"x"},{"$f":"IFERROR(IF(ISBLANK('Zoeken in Database'!$D$5),\"x\",IF(SEARCH('Zoeken in Database'!$D$5,Concerten!C930,1),\"x\",\"\")),\"\")","v":"x"},{"$f":"IFERROR(IF(ISBLANK('Zoeken in Database'!$D$6),\"x\",IF(SEARCH('Zoeken in Database'!$D$6,Concerten!G930,1),\"x\",\"\")),\"\")","v":"x"},{"$f":"IF(AND(D930>='Zoeken in Database'!$A$7,'Zoeken in Database'!$A$8>=D930),\"x\",\"\")","v":"x"}]
["Lebbis","Weijertheater","Boxmeer","2010-11-13",null,"Branding (Unplugged)","Theater",11,2010,{"$f":"VLOOKUP(Table1[[#This Row],[Maand (getal)]],Lijst!A:B,2,FALSE)","v":"nov"},{"$f":"IFERROR(IF(ISBLANK('Zoeken in Database'!$D$3),\"x\",IF(SEARCH('Zoeken in Database'!$D$3,Concerten!A931,1),\"x\",\"\")),\"\")","v":"x"},{"$f":"IFERROR(IF(ISBLANK('Zoeken in Database'!$D$4),\"x\",IF(SEARCH('Zoeken in Database'!$D$4,Concerten!B931,1),\"x\",\"\")),\"\")","v":"x"},{"$f":"IFERROR(IF(ISBLANK('Zoeken in Database'!$D$5),\"x\",IF(SEARCH('Zoeken in Database'!$D$5,Concerten!C931,1),\"x\",\"\")),\"\")","v":"x"},{"$f":"IFERROR(IF(ISBLANK('Zoeken in Database'!$D$6),\"x\",IF(SEARCH('Zoeken in Database'!$D$6,Concerten!G931,1),\"x\",\"\")),\"\")","v":"x"},{"$f":"IF(AND(D931>='Zoeken in Database'!$A$7,'Zoeken in Database'!$A$8>=D931),\"x\",\"\")","v":"x"}]
["Blof","Parkstad Limburg Theater","Heerlen","2010-11-14","*onmogelijk rood\n*aanzoek\n*wat jij denkt\n*dichterbij\n*hou vol hou vast\n*mens\n*meer van jou\n*we doen wat we kunnen \n*kust\n*donker hart\n*punt\n*harder dan ik hebben kan\n*hard tegen hard\n*was jij maar hier\n*omarm\n*hier\n*wijd open\n*dansen aan zee\n*blauwe ruis\n*holiday in spain \n*alles is liefde \n\nopm.: na Omarm ben ik gegaan.","Limburgzaal","Hoofdprogramma",11,2010,{"$f":"VLOOKUP(Table1[[#This Row],[Maand (getal)]],Lijst!A:B,2,FALSE)","v":"nov"},{"$f":"IFERROR(IF(ISBLANK('Zoeken in Database'!$D$3),\"x\",IF(SEARCH('Zoeken in Database'!$D$3,Concerten!A932,1),\"x\",\"\")),\"\")","v":"x"},{"$f":"IFERROR(IF(ISBLANK('Zoeken in Database'!$D$4),\"x\",IF(SEARCH('Zoeken in Database'!$D$4,Concerten!B932,1),\"x\",\"\")),\"\")","v":"x"},{"$f":"IFERROR(IF(ISBLANK('Zoeken in Database'!$D$5),\"x\",IF(SEARCH('Zoeken in Database'!$D$5,Concerten!C932,1),\"x\",\"\")),\"\")","v":"x"},{"$f":"IFERROR(IF(ISBLANK('Zoeken in Database'!$D$6),\"x\",IF(SEARCH('Zoeken in Database'!$D$6,Concerten!G932,1),\"x\",\"\")),\"\")","v":"x"},{"$f":"IF(AND(D932>='Zoeken in Database'!$A$7,'Zoeken in Database'!$A$8>=D932),\"x\",\"\")","v":"x"}]
["Le Duc, Patrick","Parkstad Limburg Theater","Heerlen","2010-11-14",null,"Limburgzaal","Voorprogramma",11,2010,{"$f":"VLOOKUP(Table1[[#This Row],[Maand (getal)]],Lijst!A:B,2,FALSE)","v":"nov"},{"$f":"IFERROR(IF(ISBLANK('Zoeken in Database'!$D$3),\"x\",IF(SEARCH('Zoeken in Database'!$D$3,Concerten!A933,1),\"x\",\"\")),\"\")","v":"x"},{"$f":"IFERROR(IF(ISBLANK('Zoeken in Database'!$D$4),\"x\",IF(SEARCH('Zoeken in Database'!$D$4,Concerten!B933,1),\"x\",\"\")),\"\")","v":"x"},{"$f":"IFERROR(IF(ISBLANK('Zoeken in Database'!$D$5),\"x\",IF(SEARCH('Zoeken in Database'!$D$5,Concerten!C933,1),\"x\",\"\")),\"\")","v":"x"},{"$f":"IFERROR(IF(ISBLANK('Zoeken in Database'!$D$6),\"x\",IF(SEARCH('Zoeken in Database'!$D$6,Concerten!G933,1),\"x\",\"\")),\"\")","v":"x"},{"$f":"IF(AND(D933>='Zoeken in Database'!$A$7,'Zoeken in Database'!$A$8>=D933),\"x\",\"\")","v":"x"}]
["Gorillaz","Heineken Music Hall","Amsterdam","2010-11-15","Orchestral Intro \nWelcome to the World of the Plastic Beach \n(with Hypnotic Brass Ensemble)\nLast Living Souls \n19/2000 \n(with Rosie Wilson)\nStylo \n(with Bobby Womack) (and Bootie Brown)\nOn Melancholy Hill \nRhinestone Eyes \nKids With Guns \n(with Neneh Cherry)\nSuperfast Jellyfish \n(with De La Soul)\nTomorrow Comes Today \nEmpire Ants \n(with Yukimi Nagano)\nBroken \n(with Hypnotic Brass Ensemble) (Extended)\nDirty Harry \n(with Bootie Brown)\nEl Mañana \nWhite Flag \n(with Kano) (and Bashy)\nTo Binge \n(with Yukimi Nagano)\nDARE \n(with Rosie Wilson)\nGlitter Freeze \nPunk \nPlastic Beach \nEncore:\nCloud of Unknowing \n(with Bobby Womack)\nFeel Good Inc. \n(with De La Soul)\nClint Eastwood \n(with Bashy) (and Kano)\nDon't Get Lost In Heaven \nDemon Days \n(with Hypnotic Brass Ensemble) (and Bobby Womack)\n",null,"Hoofdprogramma",11,2010,{"$f":"VLOOKUP(Table1[[#This Row],[Maand (getal)]],Lijst!A:B,2,FALSE)","v":"nov"},{"$f":"IFERROR(IF(ISBLANK('Zoeken in Database'!$D$3),\"x\",IF(SEARCH('Zoeken in Database'!$D$3,Concerten!A934,1),\"x\",\"\")),\"\")","v":"x"},{"$f":"IFERROR(IF(ISBLANK('Zoeken in Database'!$D$4),\"x\",IF(SEARCH('Zoeken in Database'!$D$4,Concerten!B934,1),\"x\",\"\")),\"\")","v":"x"},{"$f":"IFERROR(IF(ISBLANK('Zoeken in Database'!$D$5),\"x\",IF(SEARCH('Zoeken in Database'!$D$5,Concerten!C934,1),\"x\",\"\")),\"\")","v":"x"},{"$f":"IFERROR(IF(ISBLANK('Zoeken in Database'!$D$6),\"x\",IF(SEARCH('Zoeken in Database'!$D$6,Concerten!G934,1),\"x\",\"\")),\"\")","v":"x"},{"$f":"IF(AND(D934>='Zoeken in Database'!$A$7,'Zoeken in Database'!$A$8>=D934),\"x\",\"\")","v":"x"}]
["De La Soul","Heineken Music Hall","Amsterdam","2010-11-15",null,null,"Voorprogramma",11,2010,{"$f":"VLOOKUP(Table1[[#This Row],[Maand (getal)]],Lijst!A:B,2,FALSE)","v":"nov"},{"$f":"IFERROR(IF(ISBLANK('Zoeken in Database'!$D$3),\"x\",IF(SEARCH('Zoeken in Database'!$D$3,Concerten!A935,1),\"x\",\"\")),\"\")","v":"x"},{"$f":"IFERROR(IF(ISBLANK('Zoeken in Database'!$D$4),\"x\",IF(SEARCH('Zoeken in Database'!$D$4,Concerten!B935,1),\"x\",\"\")),\"\")","v":"x"},{"$f":"IFERROR(IF(ISBLANK('Zoeken in Database'!$D$5),\"x\",IF(SEARCH('Zoeken in Database'!$D$5,Concerten!C935,1),\"x\",\"\")),\"\")","v":"x"},{"$f":"IFERROR(IF(ISBLANK('Zoeken in Database'!$D$6),\"x\",IF(SEARCH('Zoeken in Database'!$D$6,Concerten!G935,1),\"x\",\"\")),\"\")","v":"x"},{"$f":"IF(AND(D935>='Zoeken in Database'!$A$7,'Zoeken in Database'!$A$8>=D935),\"x\",\"\")","v":"x"}]
["Little Dragon","Heineken Music Hall","Amsterdam","2010-11-15",null,null,"Voorprogramma",11,2010,{"$f":"VLOOKUP(Table1[[#This Row],[Maand (getal)]],Lijst!A:B,2,FALSE)","v":"nov"},{"$f":"IFERROR(IF(ISBLANK('Zoeken in Database'!$D$3),\"x\",IF(SEARCH('Zoeken in Database'!$D$3,Concerten!A936,1),\"x\",\"\")),\"\")","v":"x"},{"$f":"IFERROR(IF(ISBLANK('Zoeken in Database'!$D$4),\"x\",IF(SEARCH('Zoeken in Database'!$D$4,Concerten!B936,1),\"x\",\"\")),\"\")","v":"x"},{"$f":"IFERROR(IF(ISBLANK('Zoeken in Database'!$D$5),\"x\",IF(SEARCH('Zoeken in Database'!$D$5,Concerten!C936,1),\"x\",\"\")),\"\")","v":"x"},{"$f":"IFERROR(IF(ISBLANK('Zoeken in Database'!$D$6),\"x\",IF(SEARCH('Zoeken in Database'!$D$6,Concerten!G936,1),\"x\",\"\")),\"\")","v":"x"},{"$f":"IF(AND(D936>='Zoeken in Database'!$A$7,'Zoeken in Database'!$A$8>=D936),\"x\",\"\")","v":"x"}]
["Jeremiah, Jonathan","Paradiso","Amsterdam","2010-11-18",null,null,"Voorprogramma",11,2010,{"$f":"VLOOKUP(Table1[[#This Row],[Maand (getal)]],Lijst!A:B,2,FALSE)","v":"nov"},{"$f":"IFERROR(IF(ISBLANK('Zoeken in Database'!$D$3),\"x\",IF(SEARCH('Zoeken in Database'!$D$3,Concerten!A937,1),\"x\",\"\")),\"\")","v":"x"},{"$f":"IFERROR(IF(ISBLANK('Zoeken in Database'!$D$4),\"x\",IF(SEARCH('Zoeken in Database'!$D$4,Concerten!B937,1),\"x\",\"\")),\"\")","v":"x"},{"$f":"IFERROR(IF(ISBLANK('Zoeken in Database'!$D$5),\"x\",IF(SEARCH('Zoeken in Database'!$D$5,Concerten!C937,1),\"x\",\"\")),\"\")","v":"x"},{"$f":"IFERROR(IF(ISBLANK('Zoeken in Database'!$D$6),\"x\",IF(SEARCH('Zoeken in Database'!$D$6,Concerten!G937,1),\"x\",\"\")),\"\")","v":"x"},{"$f":"IF(AND(D937>='Zoeken in Database'!$A$7,'Zoeken in Database'!$A$8>=D937),\"x\",\"\")","v":"x"}]
["Badly Drawn Boy","Paradiso","Amsterdam","2010-11-18",null,null,"Hoofdprogramma",11,2010,{"$f":"VLOOKUP(Table1[[#This Row],[Maand (getal)]],Lijst!A:B,2,FALSE)","v":"nov"},{"$f":"IFERROR(IF(ISBLANK('Zoeken in Database'!$D$3),\"x\",IF(SEARCH('Zoeken in Database'!$D$3,Concerten!A938,1),\"x\",\"\")),\"\")","v":"x"},{"$f":"IFERROR(IF(ISBLANK('Zoeken in Database'!$D$4),\"x\",IF(SEARCH('Zoeken in Database'!$D$4,Concerten!B938,1),\"x\",\"\")),\"\")","v":"x"},{"$f":"IFERROR(IF(ISBLANK('Zoeken in Database'!$D$5),\"x\",IF(SEARCH('Zoeken in Database'!$D$5,Concerten!C938,1),\"x\",\"\")),\"\")","v":"x"},{"$f":"IFERROR(IF(ISBLANK('Zoeken in Database'!$D$6),\"x\",IF(SEARCH('Zoeken in Database'!$D$6,Concerten!G938,1),\"x\",\"\")),\"\")","v":"x"},{"$f":"IF(AND(D938>='Zoeken in Database'!$A$7,'Zoeken in Database'!$A$8>=D938),\"x\",\"\")","v":"x"}]
["Grant, John","Effenaar","Eindhoven","2010-11-27",null,"Kleine zaal","Hoofdprogramma",11,2010,{"$f":"VLOOKUP(Table1[[#This Row],[Maand (getal)]],Lijst!A:B,2,FALSE)","v":"nov"},{"$f":"IFERROR(IF(ISBLANK('Zoeken in Database'!$D$3),\"x\",IF(SEARCH('Zoeken in Database'!$D$3,Concerten!A939,1),\"x\",\"\")),\"\")","v":"x"},{"$f":"IFERROR(IF(ISBLANK('Zoeken in Database'!$D$4),\"x\",IF(SEARCH('Zoeken in Database'!$D$4,Concerten!B939,1),\"x\",\"\")),\"\")","v":"x"},{"$f":"IFERROR(IF(ISBLANK('Zoeken in Database'!$D$5),\"x\",IF(SEARCH('Zoeken in Database'!$D$5,Concerten!C939,1),\"x\",\"\")),\"\")","v":"x"},{"$f":"IFERROR(IF(ISBLANK('Zoeken in Database'!$D$6),\"x\",IF(SEARCH('Zoeken in Database'!$D$6,Concerten!G939,1),\"x\",\"\")),\"\")","v":"x"},{"$f":"IF(AND(D939>='Zoeken in Database'!$A$7,'Zoeken in Database'!$A$8>=D939),\"x\",\"\")","v":"x"}]
["Alessi's Ark","Effenaar","Eindhoven","2010-11-27",null,"Kleine zaal","Voorprogramma",{"$f":"IF(ISBLANK(D940),\"\",MONTH(D940))","v":11},{"$f":"IF(ISBLANK(D940),\"\",YEAR(D940))","v":2010},{"$f":"VLOOKUP(Table1[[#This Row],[Maand (getal)]],Lijst!A:B,2,FALSE)","v":"nov"},{"$f":"IFERROR(IF(ISBLANK('Zoeken in Database'!$D$3),\"x\",IF(SEARCH('Zoeken in Database'!$D$3,Concerten!A940,1),\"x\",\"\")),\"\")","v":"x"},{"$f":"IFERROR(IF(ISBLANK('Zoeken in Database'!$D$4),\"x\",IF(SEARCH('Zoeken in Database'!$D$4,Concerten!B940,1),\"x\",\"\")),\"\")","v":"x"},{"$f":"IFERROR(IF(ISBLANK('Zoeken in Database'!$D$5),\"x\",IF(SEARCH('Zoeken in Database'!$D$5,Concerten!C940,1),\"x\",\"\")),\"\")","v":"x"},{"$f":"IFERROR(IF(ISBLANK('Zoeken in Database'!$D$6),\"x\",IF(SEARCH('Zoeken in Database'!$D$6,Concerten!G940,1),\"x\",\"\")),\"\")","v":"x"},{"$f":"IF(AND(D940>='Zoeken in Database'!$A$7,'Zoeken in Database'!$A$8>=D940),\"x\",\"\")","v":"x"}]
["Special, Duke","Paradiso","Amsterdam","2010-12-03",null,null,"Voorprogramma",12,2010,{"$f":"VLOOKUP(Table1[[#This Row],[Maand (getal)]],Lijst!A:B,2,FALSE)","v":"dec"},{"$f":"IFERROR(IF(ISBLANK('Zoeken in Database'!$D$3),\"x\",IF(SEARCH('Zoeken in Database'!$D$3,Concerten!A941,1),\"x\",\"\")),\"\")","v":"x"},{"$f":"IFERROR(IF(ISBLANK('Zoeken in Database'!$D$4),\"x\",IF(SEARCH('Zoeken in Database'!$D$4,Concerten!B941,1),\"x\",\"\")),\"\")","v":"x"},{"$f":"IFERROR(IF(ISBLANK('Zoeken in Database'!$D$5),\"x\",IF(SEARCH('Zoeken in Database'!$D$5,Concerten!C941,1),\"x\",\"\")),\"\")","v":"x"},{"$f":"IFERROR(IF(ISBLANK('Zoeken in Database'!$D$6),\"x\",IF(SEARCH('Zoeken in Database'!$D$6,Concerten!G941,1),\"x\",\"\")),\"\")","v":"x"},{"$f":"IF(AND(D941>='Zoeken in Database'!$A$7,'Zoeken in Database'!$A$8>=D941),\"x\",\"\")","v":"x"}]
["Frames, The","Paradiso","Amsterdam","2010-12-03","Headlong \nSeven Day Mile \nGod Bless Mom \nThe Stars Are Underground \nWhat Happens When The Heart Just Stops > Pure Imagination (Willy Wonka) > Caravan (Van Morrison) \nFinally \nHappy \nLay Me Down \nRent Day Blues \nPavement Tune \nStar Star > Hotellounge (dEUS) > Most Beautiful Widow In Town (Sparklehorse) \nRevelate \nPeople Get Ready \nUnderglass \nFriends and Foe \nSanta Maria \nYou Can't Hide Your Love \nFitzcarraldo \nHeyday (Mic Christopher) \nDevil Town (Daniel Johnston) > Boobies",null,"Hoofdprogramma",12,2010,{"$f":"VLOOKUP(Table1[[#This Row],[Maand (getal)]],Lijst!A:B,2,FALSE)","v":"dec"},{"$f":"IFERROR(IF(ISBLANK('Zoeken in Database'!$D$3),\"x\",IF(SEARCH('Zoeken in Database'!$D$3,Concerten!A942,1),\"x\",\"\")),\"\")","v":"x"},{"$f":"IFERROR(IF(ISBLANK('Zoeken in Database'!$D$4),\"x\",IF(SEARCH('Zoeken in Database'!$D$4,Concerten!B942,1),\"x\",\"\")),\"\")","v":"x"},{"$f":"IFERROR(IF(ISBLANK('Zoeken in Database'!$D$5),\"x\",IF(SEARCH('Zoeken in Database'!$D$5,Concerten!C942,1),\"x\",\"\")),\"\")","v":"x"},{"$f":"IFERROR(IF(ISBLANK('Zoeken in Database'!$D$6),\"x\",IF(SEARCH('Zoeken in Database'!$D$6,Concerten!G942,1),\"x\",\"\")),\"\")","v":"x"},{"$f":"IF(AND(D942>='Zoeken in Database'!$A$7,'Zoeken in Database'!$A$8>=D942),\"x\",\"\")","v":"x"}]
["Urinetown","Schouwburg Cuijk","Cuijk","2011-02-01",null,null,"Theater",2,2011,{"$f":"VLOOKUP(Table1[[#This Row],[Maand (getal)]],Lijst!A:B,2,FALSE)","v":"feb"},{"$f":"IFERROR(IF(ISBLANK('Zoeken in Database'!$D$3),\"x\",IF(SEARCH('Zoeken in Database'!$D$3,Concerten!A943,1),\"x\",\"\")),\"\")","v":"x"},{"$f":"IFERROR(IF(ISBLANK('Zoeken in Database'!$D$4),\"x\",IF(SEARCH('Zoeken in Database'!$D$4,Concerten!B943,1),\"x\",\"\")),\"\")","v":"x"},{"$f":"IFERROR(IF(ISBLANK('Zoeken in Database'!$D$5),\"x\",IF(SEARCH('Zoeken in Database'!$D$5,Concerten!C943,1),\"x\",\"\")),\"\")","v":"x"},{"$f":"IFERROR(IF(ISBLANK('Zoeken in Database'!$D$6),\"x\",IF(SEARCH('Zoeken in Database'!$D$6,Concerten!G943,1),\"x\",\"\")),\"\")","v":"x"},{"$f":"IF(AND(D943>='Zoeken in Database'!$A$7,'Zoeken in Database'!$A$8>=D943),\"x\",\"\")","v":"x"}]
["Twin Shadow","Merleyn","Nijmegen","2011-02-05","Shooting Holes at the Moon \nTyrant Destroyed \nWhen We're Dancing \nI Can't Wait \nSlow \nYellow Balloon \nCastles in the Snow \nForget \nAt My Heels \nTether Beat",null,"Hoofdprogramma",2,2011,{"$f":"VLOOKUP(Table1[[#This Row],[Maand (getal)]],Lijst!A:B,2,FALSE)","v":"feb"},{"$f":"IFERROR(IF(ISBLANK('Zoeken in Database'!$D$3),\"x\",IF(SEARCH('Zoeken in Database'!$D$3,Concerten!A944,1),\"x\",\"\")),\"\")","v":"x"},{"$f":"IFERROR(IF(ISBLANK('Zoeken in Database'!$D$4),\"x\",IF(SEARCH('Zoeken in Database'!$D$4,Concerten!B944,1),\"x\",\"\")),\"\")","v":"x"},{"$f":"IFERROR(IF(ISBLANK('Zoeken in Database'!$D$5),\"x\",IF(SEARCH('Zoeken in Database'!$D$5,Concerten!C944,1),\"x\",\"\")),\"\")","v":"x"},{"$f":"IFERROR(IF(ISBLANK('Zoeken in Database'!$D$6),\"x\",IF(SEARCH('Zoeken in Database'!$D$6,Concerten!G944,1),\"x\",\"\")),\"\")","v":"x"},{"$f":"IF(AND(D944>='Zoeken in Database'!$A$7,'Zoeken in Database'!$A$8>=D944),\"x\",\"\")","v":"x"}]
["Weaver, Ben","Roepaen","Ottersum","2011-02-13",null,"Nightclub","Voorprogramma",2,2011,{"$f":"VLOOKUP(Table1[[#This Row],[Maand (getal)]],Lijst!A:B,2,FALSE)","v":"feb"},{"$f":"IFERROR(IF(ISBLANK('Zoeken in Database'!$D$3),\"x\",IF(SEARCH('Zoeken in Database'!$D$3,Concerten!A945,1),\"x\",\"\")),\"\")","v":"x"},{"$f":"IFERROR(IF(ISBLANK('Zoeken in Database'!$D$4),\"x\",IF(SEARCH('Zoeken in Database'!$D$4,Concerten!B945,1),\"x\",\"\")),\"\")","v":"x"},{"$f":"IFERROR(IF(ISBLANK('Zoeken in Database'!$D$5),\"x\",IF(SEARCH('Zoeken in Database'!$D$5,Concerten!C945,1),\"x\",\"\")),\"\")","v":"x"},{"$f":"IFERROR(IF(ISBLANK('Zoeken in Database'!$D$6),\"x\",IF(SEARCH('Zoeken in Database'!$D$6,Concerten!G945,1),\"x\",\"\")),\"\")","v":"x"},{"$f":"IF(AND(D945>='Zoeken in Database'!$A$7,'Zoeken in Database'!$A$8>=D945),\"x\",\"\")","v":"x"}]
["Dolorean","Roepaen","Ottersum","2011-02-13",null,"Nightclub","Hoofdprogramma",2,2011,{"$f":"VLOOKUP(Table1[[#This Row],[Maand (getal)]],Lijst!A:B,2,FALSE)","v":"feb"},{"$f":"IFERROR(IF(ISBLANK('Zoeken in Database'!$D$3),\"x\",IF(SEARCH('Zoeken in Database'!$D$3,Concerten!A946,1),\"x\",\"\")),\"\")","v":"x"},{"$f":"IFERROR(IF(ISBLANK('Zoeken in Database'!$D$4),\"x\",IF(SEARCH('Zoeken in Database'!$D$4,Concerten!B946,1),\"x\",\"\")),\"\")","v":"x"},{"$f":"IFERROR(IF(ISBLANK('Zoeken in Database'!$D$5),\"x\",IF(SEARCH('Zoeken in Database'!$D$5,Concerten!C946,1),\"x\",\"\")),\"\")","v":"x"},{"$f":"IFERROR(IF(ISBLANK('Zoeken in Database'!$D$6),\"x\",IF(SEARCH('Zoeken in Database'!$D$6,Concerten!G946,1),\"x\",\"\")),\"\")","v":"x"},{"$f":"IF(AND(D946>='Zoeken in Database'!$A$7,'Zoeken in Database'!$A$8>=D946),\"x\",\"\")","v":"x"}]
["National, The","MC Frits Philips","Eindhoven","2011-02-18","Runaway \nAnyone's Ghost \nBrainy \nBloodbuzz Ohio \nSlow Show \nSqualor Victoria \nAfraid Of Everyone \nConversation 16 \nLemonworld \nApartment Story \nSorrow \nAbel \nWasp Nest \nEngland \nFake Empire \n----------------\nThe Geese of Beverly Road \nMr. November \nTerrible Love \nVanderlyle Crybaby Geeks\n","Crosslinx 2011","Festivaloptreden",2,2011,{"$f":"VLOOKUP(Table1[[#This Row],[Maand (getal)]],Lijst!A:B,2,FALSE)","v":"feb"},{"$f":"IFERROR(IF(ISBLANK('Zoeken in Database'!$D$3),\"x\",IF(SEARCH('Zoeken in Database'!$D$3,Concerten!A947,1),\"x\",\"\")),\"\")","v":"x"},{"$f":"IFERROR(IF(ISBLANK('Zoeken in Database'!$D$4),\"x\",IF(SEARCH('Zoeken in Database'!$D$4,Concerten!B947,1),\"x\",\"\")),\"\")","v":"x"},{"$f":"IFERROR(IF(ISBLANK('Zoeken in Database'!$D$5),\"x\",IF(SEARCH('Zoeken in Database'!$D$5,Concerten!C947,1),\"x\",\"\")),\"\")","v":"x"},{"$f":"IFERROR(IF(ISBLANK('Zoeken in Database'!$D$6),\"x\",IF(SEARCH('Zoeken in Database'!$D$6,Concerten!G947,1),\"x\",\"\")),\"\")","v":"x"},{"$f":"IF(AND(D947>='Zoeken in Database'!$A$7,'Zoeken in Database'!$A$8>=D947),\"x\",\"\")","v":"x"}]
["Etten, Sharon van","MC Frits Philips","Eindhoven","2011-02-18",null,"Crosslinx 2011","Festivaloptreden",2,2011,{"$f":"VLOOKUP(Table1[[#This Row],[Maand (getal)]],Lijst!A:B,2,FALSE)","v":"feb"},{"$f":"IFERROR(IF(ISBLANK('Zoeken in Database'!$D$3),\"x\",IF(SEARCH('Zoeken in Database'!$D$3,Concerten!A948,1),\"x\",\"\")),\"\")","v":"x"},{"$f":"IFERROR(IF(ISBLANK('Zoeken in Database'!$D$4),\"x\",IF(SEARCH('Zoeken in Database'!$D$4,Concerten!B948,1),\"x\",\"\")),\"\")","v":"x"},{"$f":"IFERROR(IF(ISBLANK('Zoeken in Database'!$D$5),\"x\",IF(SEARCH('Zoeken in Database'!$D$5,Concerten!C948,1),\"x\",\"\")),\"\")","v":"x"},{"$f":"IFERROR(IF(ISBLANK('Zoeken in Database'!$D$6),\"x\",IF(SEARCH('Zoeken in Database'!$D$6,Concerten!G948,1),\"x\",\"\")),\"\")","v":"x"},{"$f":"IF(AND(D948>='Zoeken in Database'!$A$7,'Zoeken in Database'!$A$8>=D948),\"x\",\"\")","v":"x"}]
["Bright Eyes","Paradiso","Amsterdam","2011-02-21","Firewall \nJejune Stars \nTake It Easy (Love Nothing) \nFour Winds \nCleanse Song \nNo One Would Riot For Less \nOld Soul Song (For The New World Order) \nArc of Time (Time Code) \nApproximate Sunlight \nHaile Selassie \nFalling Out of Love at This Volume \nBowl Of Oranges \nCartoon Blues \nBeginner's Mind \nPoison Oak \nA Machine Spiritual (In the People's Key) \nSomething Vague \nShell Games \nThe Calendar Hung Itself \nEncore:\nGold Mine Gutted \nLover I Don't Have To Love \nOne for You, One for Me\n",null,"Hoofdprogramma",2,2011,{"$f":"VLOOKUP(Table1[[#This Row],[Maand (getal)]],Lijst!A:B,2,FALSE)","v":"feb"},{"$f":"IFERROR(IF(ISBLANK('Zoeken in Database'!$D$3),\"x\",IF(SEARCH('Zoeken in Database'!$D$3,Concerten!A949,1),\"x\",\"\")),\"\")","v":"x"},{"$f":"IFERROR(IF(ISBLANK('Zoeken in Database'!$D$4),\"x\",IF(SEARCH('Zoeken in Database'!$D$4,Concerten!B949,1),\"x\",\"\")),\"\")","v":"x"},{"$f":"IFERROR(IF(ISBLANK('Zoeken in Database'!$D$5),\"x\",IF(SEARCH('Zoeken in Database'!$D$5,Concerten!C949,1),\"x\",\"\")),\"\")","v":"x"},{"$f":"IFERROR(IF(ISBLANK('Zoeken in Database'!$D$6),\"x\",IF(SEARCH('Zoeken in Database'!$D$6,Concerten!G949,1),\"x\",\"\")),\"\")","v":"x"},{"$f":"IF(AND(D949>='Zoeken in Database'!$A$7,'Zoeken in Database'!$A$8>=D949),\"x\",\"\")","v":"x"}]
["Paulusma","Vredenburg Leeuwenbergh","Utrecht","2011-03-04",null,"Carice presenteerd...","Voorprogramma",3,2011,{"$f":"VLOOKUP(Table1[[#This Row],[Maand (getal)]],Lijst!A:B,2,FALSE)","v":"mrt"},{"$f":"IFERROR(IF(ISBLANK('Zoeken in Database'!$D$3),\"x\",IF(SEARCH('Zoeken in Database'!$D$3,Concerten!A950,1),\"x\",\"\")),\"\")","v":"x"},{"$f":"IFERROR(IF(ISBLANK('Zoeken in Database'!$D$4),\"x\",IF(SEARCH('Zoeken in Database'!$D$4,Concerten!B950,1),\"x\",\"\")),\"\")","v":"x"},{"$f":"IFERROR(IF(ISBLANK('Zoeken in Database'!$D$5),\"x\",IF(SEARCH('Zoeken in Database'!$D$5,Concerten!C950,1),\"x\",\"\")),\"\")","v":"x"},{"$f":"IFERROR(IF(ISBLANK('Zoeken in Database'!$D$6),\"x\",IF(SEARCH('Zoeken in Database'!$D$6,Concerten!G950,1),\"x\",\"\")),\"\")","v":"x"},{"$f":"IF(AND(D950>='Zoeken in Database'!$A$7,'Zoeken in Database'!$A$8>=D950),\"x\",\"\")","v":"x"}]
["Harcourt, Ed","Vredenburg Leeuwenbergh","Utrecht","2011-03-04",null,"Carice presenteerd...","Hoofdprogramma",3,2011,{"$f":"VLOOKUP(Table1[[#This Row],[Maand (getal)]],Lijst!A:B,2,FALSE)","v":"mrt"},{"$f":"IFERROR(IF(ISBLANK('Zoeken in Database'!$D$3),\"x\",IF(SEARCH('Zoeken in Database'!$D$3,Concerten!A951,1),\"x\",\"\")),\"\")","v":"x"},{"$f":"IFERROR(IF(ISBLANK('Zoeken in Database'!$D$4),\"x\",IF(SEARCH('Zoeken in Database'!$D$4,Concerten!B951,1),\"x\",\"\")),\"\")","v":"x"},{"$f":"IFERROR(IF(ISBLANK('Zoeken in Database'!$D$5),\"x\",IF(SEARCH('Zoeken in Database'!$D$5,Concerten!C951,1),\"x\",\"\")),\"\")","v":"x"},{"$f":"IFERROR(IF(ISBLANK('Zoeken in Database'!$D$6),\"x\",IF(SEARCH('Zoeken in Database'!$D$6,Concerten!G951,1),\"x\",\"\")),\"\")","v":"x"},{"$f":"IF(AND(D951>='Zoeken in Database'!$A$7,'Zoeken in Database'!$A$8>=D951),\"x\",\"\")","v":"x"}]
["Folds, Ben","Paradiso","Amsterdam","2011-03-07","1. Levi Johnstons’s Blues\n2. Doc Pomus\n3. Gone\n4. Belinda\n5. Sleazy (Ke$ha cover)\n6. You To Thank\n7. Cologne\n8. Saskia Hamilton\n9. Bastard\n10. Still Fighting It\n11. Songs Of Love (met Kate Miller-Heidke)\n12. From Above (met Kate Miller-Heidke)\n13. You Don’t Know Me (met Kate Miller-Heidke)\n14. Effington\n15. Landed\n16. Fred Jones Part 2\n17. Song For The Dumped\n18. Evaporated\n19. Annie Waits\n20. Bitch Went Nuts\n21. Zak And Sara\n22. Hiroshima\n23. Kate\n24. Rockin’The Suburbs\n25. Not The Same\n\nToegift\n26. Chopsticks (Liz Phair cover, gedeeltelijk)\n27. Philosophy\n28. Army",null,"Hoofdprogramma",3,2011,{"$f":"VLOOKUP(Table1[[#This Row],[Maand (getal)]],Lijst!A:B,2,FALSE)","v":"mrt"},{"$f":"IFERROR(IF(ISBLANK('Zoeken in Database'!$D$3),\"x\",IF(SEARCH('Zoeken in Database'!$D$3,Concerten!A952,1),\"x\",\"\")),\"\")","v":"x"},{"$f":"IFERROR(IF(ISBLANK('Zoeken in Database'!$D$4),\"x\",IF(SEARCH('Zoeken in Database'!$D$4,Concerten!B952,1),\"x\",\"\")),\"\")","v":"x"},{"$f":"IFERROR(IF(ISBLANK('Zoeken in Database'!$D$5),\"x\",IF(SEARCH('Zoeken in Database'!$D$5,Concerten!C952,1),\"x\",\"\")),\"\")","v":"x"},{"$f":"IFERROR(IF(ISBLANK('Zoeken in Database'!$D$6),\"x\",IF(SEARCH('Zoeken in Database'!$D$6,Concerten!G952,1),\"x\",\"\")),\"\")","v":"x"},{"$f":"IF(AND(D952>='Zoeken in Database'!$A$7,'Zoeken in Database'!$A$8>=D952),\"x\",\"\")","v":"x"}]
["Miller-Heidke, Kate","Paradiso","Amsterdam","2011-03-07",null,null,"Voorprogramma",3,2011,{"$f":"VLOOKUP(Table1[[#This Row],[Maand (getal)]],Lijst!A:B,2,FALSE)","v":"mrt"},{"$f":"IFERROR(IF(ISBLANK('Zoeken in Database'!$D$3),\"x\",IF(SEARCH('Zoeken in Database'!$D$3,Concerten!A953,1),\"x\",\"\")),\"\")","v":"x"},{"$f":"IFERROR(IF(ISBLANK('Zoeken in Database'!$D$4),\"x\",IF(SEARCH('Zoeken in Database'!$D$4,Concerten!B953,1),\"x\",\"\")),\"\")","v":"x"},{"$f":"IFERROR(IF(ISBLANK('Zoeken in Database'!$D$5),\"x\",IF(SEARCH('Zoeken in Database'!$D$5,Concerten!C953,1),\"x\",\"\")),\"\")","v":"x"},{"$f":"IFERROR(IF(ISBLANK('Zoeken in Database'!$D$6),\"x\",IF(SEARCH('Zoeken in Database'!$D$6,Concerten!G953,1),\"x\",\"\")),\"\")","v":"x"},{"$f":"IF(AND(D953>='Zoeken in Database'!$A$7,'Zoeken in Database'!$A$8>=D953),\"x\",\"\")","v":"x"}]
["Wolfendale","Luxor Live","Arnhem","2011-04-08",null,null,"Voorprogramma",4,2011,{"$f":"VLOOKUP(Table1[[#This Row],[Maand (getal)]],Lijst!A:B,2,FALSE)","v":"apr"},{"$f":"IFERROR(IF(ISBLANK('Zoeken in Database'!$D$3),\"x\",IF(SEARCH('Zoeken in Database'!$D$3,Concerten!A954,1),\"x\",\"\")),\"\")","v":"x"},{"$f":"IFERROR(IF(ISBLANK('Zoeken in Database'!$D$4),\"x\",IF(SEARCH('Zoeken in Database'!$D$4,Concerten!B954,1),\"x\",\"\")),\"\")","v":"x"},{"$f":"IFERROR(IF(ISBLANK('Zoeken in Database'!$D$5),\"x\",IF(SEARCH('Zoeken in Database'!$D$5,Concerten!C954,1),\"x\",\"\")),\"\")","v":"x"},{"$f":"IFERROR(IF(ISBLANK('Zoeken in Database'!$D$6),\"x\",IF(SEARCH('Zoeken in Database'!$D$6,Concerten!G954,1),\"x\",\"\")),\"\")","v":"x"},{"$f":"IF(AND(D954>='Zoeken in Database'!$A$7,'Zoeken in Database'!$A$8>=D954),\"x\",\"\")","v":"x"}]
["Coral, The","Luxor Live","Arnhem","2011-04-08",null,null,"Hoofdprogramma",4,2011,{"$f":"VLOOKUP(Table1[[#This Row],[Maand (getal)]],Lijst!A:B,2,FALSE)","v":"apr"},{"$f":"IFERROR(IF(ISBLANK('Zoeken in Database'!$D$3),\"x\",IF(SEARCH('Zoeken in Database'!$D$3,Concerten!A955,1),\"x\",\"\")),\"\")","v":"x"},{"$f":"IFERROR(IF(ISBLANK('Zoeken in Database'!$D$4),\"x\",IF(SEARCH('Zoeken in Database'!$D$4,Concerten!B955,1),\"x\",\"\")),\"\")","v":"x"},{"$f":"IFERROR(IF(ISBLANK('Zoeken in Database'!$D$5),\"x\",IF(SEARCH('Zoeken in Database'!$D$5,Concerten!C955,1),\"x\",\"\")),\"\")","v":"x"},{"$f":"IFERROR(IF(ISBLANK('Zoeken in Database'!$D$6),\"x\",IF(SEARCH('Zoeken in Database'!$D$6,Concerten!G955,1),\"x\",\"\")),\"\")","v":"x"},{"$f":"IF(AND(D955>='Zoeken in Database'!$A$7,'Zoeken in Database'!$A$8>=D955),\"x\",\"\")","v":"x"}]
["Arthur, Joseph","Roepaen","Ottersum","2011-05-07",null,"Nightclub","Hoofdprogramma",5,2011,{"$f":"VLOOKUP(Table1[[#This Row],[Maand (getal)]],Lijst!A:B,2,FALSE)","v":"mei"},{"$f":"IFERROR(IF(ISBLANK('Zoeken in Database'!$D$3),\"x\",IF(SEARCH('Zoeken in Database'!$D$3,Concerten!A956,1),\"x\",\"\")),\"\")","v":"x"},{"$f":"IFERROR(IF(ISBLANK('Zoeken in Database'!$D$4),\"x\",IF(SEARCH('Zoeken in Database'!$D$4,Concerten!B956,1),\"x\",\"\")),\"\")","v":"x"},{"$f":"IFERROR(IF(ISBLANK('Zoeken in Database'!$D$5),\"x\",IF(SEARCH('Zoeken in Database'!$D$5,Concerten!C956,1),\"x\",\"\")),\"\")","v":"x"},{"$f":"IFERROR(IF(ISBLANK('Zoeken in Database'!$D$6),\"x\",IF(SEARCH('Zoeken in Database'!$D$6,Concerten!G956,1),\"x\",\"\")),\"\")","v":"x"},{"$f":"IF(AND(D956>='Zoeken in Database'!$A$7,'Zoeken in Database'!$A$8>=D956),\"x\",\"\")","v":"x"}]
["Stith, DM","MC Frits Philips","Eindhoven","2011-05-21",null,null,"Voorprogramma",5,2011,{"$f":"VLOOKUP(Table1[[#This Row],[Maand (getal)]],Lijst!A:B,2,FALSE)","v":"mei"},{"$f":"IFERROR(IF(ISBLANK('Zoeken in Database'!$D$3),\"x\",IF(SEARCH('Zoeken in Database'!$D$3,Concerten!A957,1),\"x\",\"\")),\"\")","v":"x"},{"$f":"IFERROR(IF(ISBLANK('Zoeken in Database'!$D$4),\"x\",IF(SEARCH('Zoeken in Database'!$D$4,Concerten!B957,1),\"x\",\"\")),\"\")","v":"x"},{"$f":"IFERROR(IF(ISBLANK('Zoeken in Database'!$D$5),\"x\",IF(SEARCH('Zoeken in Database'!$D$5,Concerten!C957,1),\"x\",\"\")),\"\")","v":"x"},{"$f":"IFERROR(IF(ISBLANK('Zoeken in Database'!$D$6),\"x\",IF(SEARCH('Zoeken in Database'!$D$6,Concerten!G957,1),\"x\",\"\")),\"\")","v":"x"},{"$f":"IF(AND(D957>='Zoeken in Database'!$A$7,'Zoeken in Database'!$A$8>=D957),\"x\",\"\")","v":"x"}]
["Stevens, Sufjan","MC Frits Philips","Eindhoven","2011-05-21","Seven Swans \nToo Much \nAge of Adz \nHeirloom \nI Walked \nNow That I'm Older \nGet Real Get Right \nSister \nVesuvius \nEnchanting Ghost \nI Want To Be Well \nFutile Devices \nImpossible Soul \nEncore:\nChicago",null,"Hoofdprogramma",5,2011,{"$f":"VLOOKUP(Table1[[#This Row],[Maand (getal)]],Lijst!A:B,2,FALSE)","v":"mei"},{"$f":"IFERROR(IF(ISBLANK('Zoeken in Database'!$D$3),\"x\",IF(SEARCH('Zoeken in Database'!$D$3,Concerten!A958,1),\"x\",\"\")),\"\")","v":"x"},{"$f":"IFERROR(IF(ISBLANK('Zoeken in Database'!$D$4),\"x\",IF(SEARCH('Zoeken in Database'!$D$4,Concerten!B958,1),\"x\",\"\")),\"\")","v":"x"},{"$f":"IFERROR(IF(ISBLANK('Zoeken in Database'!$D$5),\"x\",IF(SEARCH('Zoeken in Database'!$D$5,Concerten!C958,1),\"x\",\"\")),\"\")","v":"x"},{"$f":"IFERROR(IF(ISBLANK('Zoeken in Database'!$D$6),\"x\",IF(SEARCH('Zoeken in Database'!$D$6,Concerten!G958,1),\"x\",\"\")),\"\")","v":"x"},{"$f":"IF(AND(D958>='Zoeken in Database'!$A$7,'Zoeken in Database'!$A$8>=D958),\"x\",\"\")","v":"x"}]
["Walkmen, The","Melkweg","Amsterdam","2011-05-24","New Song \n(Hamilton Leithauser solo)\n138th Street \n(Hamilton Leithauser solo)\nOn The Water \nWoe Is Me \nBlue As Your Blood \nJuveniles \nWhile I Shovel The Snow \nDonde Esta La Playa \nWake Up \nWe've Been Had \nAngela Surf City \nIn The New Year \nEncore:\nThe Rat \nAll Hands And The Cook \n","Oude Zaal","Hoofdprogramma",5,2011,{"$f":"VLOOKUP(Table1[[#This Row],[Maand (getal)]],Lijst!A:B,2,FALSE)","v":"mei"},{"$f":"IFERROR(IF(ISBLANK('Zoeken in Database'!$D$3),\"x\",IF(SEARCH('Zoeken in Database'!$D$3,Concerten!A959,1),\"x\",\"\")),\"\")","v":"x"},{"$f":"IFERROR(IF(ISBLANK('Zoeken in Database'!$D$4),\"x\",IF(SEARCH('Zoeken in Database'!$D$4,Concerten!B959,1),\"x\",\"\")),\"\")","v":"x"},{"$f":"IFERROR(IF(ISBLANK('Zoeken in Database'!$D$5),\"x\",IF(SEARCH('Zoeken in Database'!$D$5,Concerten!C959,1),\"x\",\"\")),\"\")","v":"x"},{"$f":"IFERROR(IF(ISBLANK('Zoeken in Database'!$D$6),\"x\",IF(SEARCH('Zoeken in Database'!$D$6,Concerten!G959,1),\"x\",\"\")),\"\")","v":"x"},{"$f":"IF(AND(D959>='Zoeken in Database'!$A$7,'Zoeken in Database'!$A$8>=D959),\"x\",\"\")","v":"x"}]
["Royal Bangs","Melkweg","Amsterdam","2011-05-24",null,"Oude Zaal","Voorprogramma",5,2011,{"$f":"VLOOKUP(Table1[[#This Row],[Maand (getal)]],Lijst!A:B,2,FALSE)","v":"mei"},{"$f":"IFERROR(IF(ISBLANK('Zoeken in Database'!$D$3),\"x\",IF(SEARCH('Zoeken in Database'!$D$3,Concerten!A960,1),\"x\",\"\")),\"\")","v":"x"},{"$f":"IFERROR(IF(ISBLANK('Zoeken in Database'!$D$4),\"x\",IF(SEARCH('Zoeken in Database'!$D$4,Concerten!B960,1),\"x\",\"\")),\"\")","v":"x"},{"$f":"IFERROR(IF(ISBLANK('Zoeken in Database'!$D$5),\"x\",IF(SEARCH('Zoeken in Database'!$D$5,Concerten!C960,1),\"x\",\"\")),\"\")","v":"x"},{"$f":"IFERROR(IF(ISBLANK('Zoeken in Database'!$D$6),\"x\",IF(SEARCH('Zoeken in Database'!$D$6,Concerten!G960,1),\"x\",\"\")),\"\")","v":"x"},{"$f":"IF(AND(D960>='Zoeken in Database'!$A$7,'Zoeken in Database'!$A$8>=D960),\"x\",\"\")","v":"x"}]
["Diamond, Neil","Ahoy","Rotterdam","2011-06-09","#01; Soolaimon\n#02; Beautiful Noise\n#03; Love on the Rocks\n#04Hello Again\n#05; Forever in Blue Jeans\n#06; Shilo\n#07; Red Red Wine Full original version only)\n#08; Solitary Man\n#09; Cherry Cherry (Band Intros)\n#10; Glory Road\n#11; Ain't no Sunshine\n#12; I'm a Believer (new version)\n#13; I'm a Believer (old version)\n#14; You Don't bring me Flowers (with Linda)\n#15; Crunchy Granola Suite\n#16; Sweet Caroline\n#17; Sweet Caroline (reprise)\n#18; Morningside\n#19; Holly Holy\n#20; Hell Yeah\n#21; I Am.. I Said..\nWalk Off\n#22 Cracklin' Rosie\n#23; Brother Love\n#24 I've been this way before\n",null,"Hoofdprogramma",6,2011,{"$f":"VLOOKUP(Table1[[#This Row],[Maand (getal)]],Lijst!A:B,2,FALSE)","v":"jun"},{"$f":"IFERROR(IF(ISBLANK('Zoeken in Database'!$D$3),\"x\",IF(SEARCH('Zoeken in Database'!$D$3,Concerten!A961,1),\"x\",\"\")),\"\")","v":"x"},{"$f":"IFERROR(IF(ISBLANK('Zoeken in Database'!$D$4),\"x\",IF(SEARCH('Zoeken in Database'!$D$4,Concerten!B961,1),\"x\",\"\")),\"\")","v":"x"},{"$f":"IFERROR(IF(ISBLANK('Zoeken in Database'!$D$5),\"x\",IF(SEARCH('Zoeken in Database'!$D$5,Concerten!C961,1),\"x\",\"\")),\"\")","v":"x"},{"$f":"IFERROR(IF(ISBLANK('Zoeken in Database'!$D$6),\"x\",IF(SEARCH('Zoeken in Database'!$D$6,Concerten!G961,1),\"x\",\"\")),\"\")","v":"x"},{"$f":"IF(AND(D961>='Zoeken in Database'!$A$7,'Zoeken in Database'!$A$8>=D961),\"x\",\"\")","v":"x"}]
["Ballonblazer","Parkstad Limburg Theater","Heerlen","2011-06-20",null,null,"Voorprogramma",6,2011,{"$f":"VLOOKUP(Table1[[#This Row],[Maand (getal)]],Lijst!A:B,2,FALSE)","v":"jun"},{"$f":"IFERROR(IF(ISBLANK('Zoeken in Database'!$D$3),\"x\",IF(SEARCH('Zoeken in Database'!$D$3,Concerten!A962,1),\"x\",\"\")),\"\")","v":"x"},{"$f":"IFERROR(IF(ISBLANK('Zoeken in Database'!$D$4),\"x\",IF(SEARCH('Zoeken in Database'!$D$4,Concerten!B962,1),\"x\",\"\")),\"\")","v":"x"},{"$f":"IFERROR(IF(ISBLANK('Zoeken in Database'!$D$5),\"x\",IF(SEARCH('Zoeken in Database'!$D$5,Concerten!C962,1),\"x\",\"\")),\"\")","v":"x"},{"$f":"IFERROR(IF(ISBLANK('Zoeken in Database'!$D$6),\"x\",IF(SEARCH('Zoeken in Database'!$D$6,Concerten!G962,1),\"x\",\"\")),\"\")","v":"x"},{"$f":"IF(AND(D962>='Zoeken in Database'!$A$7,'Zoeken in Database'!$A$8>=D962),\"x\",\"\")","v":"x"}]
["Hoop, Jesca","Parkstad Limburg Theater","Heerlen","2011-06-20",null,null,"Voorprogramma",6,2011,{"$f":"VLOOKUP(Table1[[#This Row],[Maand (getal)]],Lijst!A:B,2,FALSE)","v":"jun"},{"$f":"IFERROR(IF(ISBLANK('Zoeken in Database'!$D$3),\"x\",IF(SEARCH('Zoeken in Database'!$D$3,Concerten!A963,1),\"x\",\"\")),\"\")","v":"x"},{"$f":"IFERROR(IF(ISBLANK('Zoeken in Database'!$D$4),\"x\",IF(SEARCH('Zoeken in Database'!$D$4,Concerten!B963,1),\"x\",\"\")),\"\")","v":"x"},{"$f":"IFERROR(IF(ISBLANK('Zoeken in Database'!$D$5),\"x\",IF(SEARCH('Zoeken in Database'!$D$5,Concerten!C963,1),\"x\",\"\")),\"\")","v":"x"},{"$f":"IFERROR(IF(ISBLANK('Zoeken in Database'!$D$6),\"x\",IF(SEARCH('Zoeken in Database'!$D$6,Concerten!G963,1),\"x\",\"\")),\"\")","v":"x"},{"$f":"IF(AND(D963>='Zoeken in Database'!$A$7,'Zoeken in Database'!$A$8>=D963),\"x\",\"\")","v":"x"}]
["Eels","Parkstad Limburg Theater","Heerlen","2011-06-20","In Gratitude for This Magnificent Day \nThat's Not Really Funny \nFlyswatter \nSomebody's Watching You \n(Sly & The Family Stone cover)\nGrace Kelly Blues \nPacking Blankets \nPrizefighter \nMy Beloved Monster \nFresh Feeling \nThat's Not Her Way \nTremendous Dynamite \nI Like the Way This Is Going \nClimbing to the Moon \nThis Is Where It Gets Good \nSaturday Morning \nThat Look You Give That Guy \nHot Fun in the Summertime \n(Sly & The Family Stone cover)\n(Band Introduction) Talkin 'Bout Knuckles \nNovocaine for the Soul \nSouljacker, Part I \nI Like Birds \nBeginner's Luck \nLosing Streak \nEncore:\nLast Stop: This Town \nP.S. You Rock My World \nEncore 2:\nFresh Blood \nLooking Up\n",null,"Hoofdprogramma",6,2011,{"$f":"VLOOKUP(Table1[[#This Row],[Maand (getal)]],Lijst!A:B,2,FALSE)","v":"jun"},{"$f":"IFERROR(IF(ISBLANK('Zoeken in Database'!$D$3),\"x\",IF(SEARCH('Zoeken in Database'!$D$3,Concerten!A964,1),\"x\",\"\")),\"\")","v":"x"},{"$f":"IFERROR(IF(ISBLANK('Zoeken in Database'!$D$4),\"x\",IF(SEARCH('Zoeken in Database'!$D$4,Concerten!B964,1),\"x\",\"\")),\"\")","v":"x"},{"$f":"IFERROR(IF(ISBLANK('Zoeken in Database'!$D$5),\"x\",IF(SEARCH('Zoeken in Database'!$D$5,Concerten!C964,1),\"x\",\"\")),\"\")","v":"x"},{"$f":"IFERROR(IF(ISBLANK('Zoeken in Database'!$D$6),\"x\",IF(SEARCH('Zoeken in Database'!$D$6,Concerten!G964,1),\"x\",\"\")),\"\")","v":"x"},{"$f":"IF(AND(D964>='Zoeken in Database'!$A$7,'Zoeken in Database'!$A$8>=D964),\"x\",\"\")","v":"x"}]
["Cloud Control","Valkhof Affaire 2011","Nijmegen","2011-07-17",null,"Saddlespan","Festivaloptreden",{"$f":"IF(ISBLANK(D965),\"\",MONTH(D965))","v":7},{"$f":"IF(ISBLANK(D965),\"\",YEAR(D965))","v":2011},{"$f":"VLOOKUP(Table1[[#This Row],[Maand (getal)]],Lijst!A:B,2,FALSE)","v":"jul"},{"$f":"IFERROR(IF(ISBLANK('Zoeken in Database'!$D$3),\"x\",IF(SEARCH('Zoeken in Database'!$D$3,Concerten!A965,1),\"x\",\"\")),\"\")","v":"x"},{"$f":"IFERROR(IF(ISBLANK('Zoeken in Database'!$D$4),\"x\",IF(SEARCH('Zoeken in Database'!$D$4,Concerten!B965,1),\"x\",\"\")),\"\")","v":"x"},{"$f":"IFERROR(IF(ISBLANK('Zoeken in Database'!$D$5),\"x\",IF(SEARCH('Zoeken in Database'!$D$5,Concerten!C965,1),\"x\",\"\")),\"\")","v":"x"},{"$f":"IFERROR(IF(ISBLANK('Zoeken in Database'!$D$6),\"x\",IF(SEARCH('Zoeken in Database'!$D$6,Concerten!G965,1),\"x\",\"\")),\"\")","v":"x"},{"$f":"IF(AND(D965>='Zoeken in Database'!$A$7,'Zoeken in Database'!$A$8>=D965),\"x\",\"\")","v":"x"}]
["Santiago, Roy","Valkhof Affaire 2011","Nijmegen","2011-07-17",null,"Barbarossa Ruine","Festivaloptreden",7,2011,{"$f":"VLOOKUP(Table1[[#This Row],[Maand (getal)]],Lijst!A:B,2,FALSE)","v":"jul"},{"$f":"IFERROR(IF(ISBLANK('Zoeken in Database'!$D$3),\"x\",IF(SEARCH('Zoeken in Database'!$D$3,Concerten!A966,1),\"x\",\"\")),\"\")","v":"x"},{"$f":"IFERROR(IF(ISBLANK('Zoeken in Database'!$D$4),\"x\",IF(SEARCH('Zoeken in Database'!$D$4,Concerten!B966,1),\"x\",\"\")),\"\")","v":"x"},{"$f":"IFERROR(IF(ISBLANK('Zoeken in Database'!$D$5),\"x\",IF(SEARCH('Zoeken in Database'!$D$5,Concerten!C966,1),\"x\",\"\")),\"\")","v":"x"},{"$f":"IFERROR(IF(ISBLANK('Zoeken in Database'!$D$6),\"x\",IF(SEARCH('Zoeken in Database'!$D$6,Concerten!G966,1),\"x\",\"\")),\"\")","v":"x"},{"$f":"IF(AND(D966>='Zoeken in Database'!$A$7,'Zoeken in Database'!$A$8>=D966),\"x\",\"\")","v":"x"}]
["McMorrow, James Vincent","Valkhof Affaire 2011","Nijmegen","2011-07-17",null,"Saddlespan","Festivaloptreden",7,2011,{"$f":"VLOOKUP(Table1[[#This Row],[Maand (getal)]],Lijst!A:B,2,FALSE)","v":"jul"},{"$f":"IFERROR(IF(ISBLANK('Zoeken in Database'!$D$3),\"x\",IF(SEARCH('Zoeken in Database'!$D$3,Concerten!A967,1),\"x\",\"\")),\"\")","v":"x"},{"$f":"IFERROR(IF(ISBLANK('Zoeken in Database'!$D$4),\"x\",IF(SEARCH('Zoeken in Database'!$D$4,Concerten!B967,1),\"x\",\"\")),\"\")","v":"x"},{"$f":"IFERROR(IF(ISBLANK('Zoeken in Database'!$D$5),\"x\",IF(SEARCH('Zoeken in Database'!$D$5,Concerten!C967,1),\"x\",\"\")),\"\")","v":"x"},{"$f":"IFERROR(IF(ISBLANK('Zoeken in Database'!$D$6),\"x\",IF(SEARCH('Zoeken in Database'!$D$6,Concerten!G967,1),\"x\",\"\")),\"\")","v":"x"},{"$f":"IF(AND(D967>='Zoeken in Database'!$A$7,'Zoeken in Database'!$A$8>=D967),\"x\",\"\")","v":"x"}]
["Dananananaykroyd","Valkhof Affaire 2011","Nijmegen","2011-07-20",null,"Saddlespan","Festivaloptreden",7,2011,{"$f":"VLOOKUP(Table1[[#This Row],[Maand (getal)]],Lijst!A:B,2,FALSE)","v":"jul"},{"$f":"IFERROR(IF(ISBLANK('Zoeken in Database'!$D$3),\"x\",IF(SEARCH('Zoeken in Database'!$D$3,Concerten!A968,1),\"x\",\"\")),\"\")","v":"x"},{"$f":"IFERROR(IF(ISBLANK('Zoeken in Database'!$D$4),\"x\",IF(SEARCH('Zoeken in Database'!$D$4,Concerten!B968,1),\"x\",\"\")),\"\")","v":"x"},{"$f":"IFERROR(IF(ISBLANK('Zoeken in Database'!$D$5),\"x\",IF(SEARCH('Zoeken in Database'!$D$5,Concerten!C968,1),\"x\",\"\")),\"\")","v":"x"},{"$f":"IFERROR(IF(ISBLANK('Zoeken in Database'!$D$6),\"x\",IF(SEARCH('Zoeken in Database'!$D$6,Concerten!G968,1),\"x\",\"\")),\"\")","v":"x"},{"$f":"IF(AND(D968>='Zoeken in Database'!$A$7,'Zoeken in Database'!$A$8>=D968),\"x\",\"\")","v":"x"}]
["Houses","Valkhof Affaire 2011","Nijmegen","2011-07-20",null,"Barbarossa Ruine","Festivaloptreden",7,2011,{"$f":"VLOOKUP(Table1[[#This Row],[Maand (getal)]],Lijst!A:B,2,FALSE)","v":"jul"},{"$f":"IFERROR(IF(ISBLANK('Zoeken in Database'!$D$3),\"x\",IF(SEARCH('Zoeken in Database'!$D$3,Concerten!A969,1),\"x\",\"\")),\"\")","v":"x"},{"$f":"IFERROR(IF(ISBLANK('Zoeken in Database'!$D$4),\"x\",IF(SEARCH('Zoeken in Database'!$D$4,Concerten!B969,1),\"x\",\"\")),\"\")","v":"x"},{"$f":"IFERROR(IF(ISBLANK('Zoeken in Database'!$D$5),\"x\",IF(SEARCH('Zoeken in Database'!$D$5,Concerten!C969,1),\"x\",\"\")),\"\")","v":"x"},{"$f":"IFERROR(IF(ISBLANK('Zoeken in Database'!$D$6),\"x\",IF(SEARCH('Zoeken in Database'!$D$6,Concerten!G969,1),\"x\",\"\")),\"\")","v":"x"},{"$f":"IF(AND(D969>='Zoeken in Database'!$A$7,'Zoeken in Database'!$A$8>=D969),\"x\",\"\")","v":"x"}]
["Phoenix Foundation, The","Valkhof Affaire 2011","Nijmegen","2011-07-20",null,"Saddlespan","Festivaloptreden",7,2011,{"$f":"VLOOKUP(Table1[[#This Row],[Maand (getal)]],Lijst!A:B,2,FALSE)","v":"jul"},{"$f":"IFERROR(IF(ISBLANK('Zoeken in Database'!$D$3),\"x\",IF(SEARCH('Zoeken in Database'!$D$3,Concerten!A970,1),\"x\",\"\")),\"\")","v":"x"},{"$f":"IFERROR(IF(ISBLANK('Zoeken in Database'!$D$4),\"x\",IF(SEARCH('Zoeken in Database'!$D$4,Concerten!B970,1),\"x\",\"\")),\"\")","v":"x"},{"$f":"IFERROR(IF(ISBLANK('Zoeken in Database'!$D$5),\"x\",IF(SEARCH('Zoeken in Database'!$D$5,Concerten!C970,1),\"x\",\"\")),\"\")","v":"x"},{"$f":"IFERROR(IF(ISBLANK('Zoeken in Database'!$D$6),\"x\",IF(SEARCH('Zoeken in Database'!$D$6,Concerten!G970,1),\"x\",\"\")),\"\")","v":"x"},{"$f":"IF(AND(D970>='Zoeken in Database'!$A$7,'Zoeken in Database'!$A$8>=D970),\"x\",\"\")","v":"x"}]
["Grant, John","Merleyn","Nijmegen","2011-08-10",null,null,"Hoofdprogramma",8,2011,{"$f":"VLOOKUP(Table1[[#This Row],[Maand (getal)]],Lijst!A:B,2,FALSE)","v":"aug"},{"$f":"IFERROR(IF(ISBLANK('Zoeken in Database'!$D$3),\"x\",IF(SEARCH('Zoeken in Database'!$D$3,Concerten!A971,1),\"x\",\"\")),\"\")","v":"x"},{"$f":"IFERROR(IF(ISBLANK('Zoeken in Database'!$D$4),\"x\",IF(SEARCH('Zoeken in Database'!$D$4,Concerten!B971,1),\"x\",\"\")),\"\")","v":"x"},{"$f":"IFERROR(IF(ISBLANK('Zoeken in Database'!$D$5),\"x\",IF(SEARCH('Zoeken in Database'!$D$5,Concerten!C971,1),\"x\",\"\")),\"\")","v":"x"},{"$f":"IFERROR(IF(ISBLANK('Zoeken in Database'!$D$6),\"x\",IF(SEARCH('Zoeken in Database'!$D$6,Concerten!G971,1),\"x\",\"\")),\"\")","v":"x"},{"$f":"IF(AND(D971>='Zoeken in Database'!$A$7,'Zoeken in Database'!$A$8>=D971),\"x\",\"\")","v":"x"}]
["Retro Stefson","Haldern Pop 2011","Haldern","2011-08-11",null,"Spiegelzelt","Festivaloptreden",8,2011,{"$f":"VLOOKUP(Table1[[#This Row],[Maand (getal)]],Lijst!A:B,2,FALSE)","v":"aug"},{"$f":"IFERROR(IF(ISBLANK('Zoeken in Database'!$D$3),\"x\",IF(SEARCH('Zoeken in Database'!$D$3,Concerten!A972,1),\"x\",\"\")),\"\")","v":"x"},{"$f":"IFERROR(IF(ISBLANK('Zoeken in Database'!$D$4),\"x\",IF(SEARCH('Zoeken in Database'!$D$4,Concerten!B972,1),\"x\",\"\")),\"\")","v":"x"},{"$f":"IFERROR(IF(ISBLANK('Zoeken in Database'!$D$5),\"x\",IF(SEARCH('Zoeken in Database'!$D$5,Concerten!C972,1),\"x\",\"\")),\"\")","v":"x"},{"$f":"IFERROR(IF(ISBLANK('Zoeken in Database'!$D$6),\"x\",IF(SEARCH('Zoeken in Database'!$D$6,Concerten!G972,1),\"x\",\"\")),\"\")","v":"x"},{"$f":"IF(AND(D972>='Zoeken in Database'!$A$7,'Zoeken in Database'!$A$8>=D972),\"x\",\"\")","v":"x"}]
["Howard, Ben","Haldern Pop 2011","Haldern","2011-08-11",null,"Spiegelzelt","Festivaloptreden",8,2011,{"$f":"VLOOKUP(Table1[[#This Row],[Maand (getal)]],Lijst!A:B,2,FALSE)","v":"aug"},{"$f":"IFERROR(IF(ISBLANK('Zoeken in Database'!$D$3),\"x\",IF(SEARCH('Zoeken in Database'!$D$3,Concerten!A973,1),\"x\",\"\")),\"\")","v":"x"},{"$f":"IFERROR(IF(ISBLANK('Zoeken in Database'!$D$4),\"x\",IF(SEARCH('Zoeken in Database'!$D$4,Concerten!B973,1),\"x\",\"\")),\"\")","v":"x"},{"$f":"IFERROR(IF(ISBLANK('Zoeken in Database'!$D$5),\"x\",IF(SEARCH('Zoeken in Database'!$D$5,Concerten!C973,1),\"x\",\"\")),\"\")","v":"x"},{"$f":"IFERROR(IF(ISBLANK('Zoeken in Database'!$D$6),\"x\",IF(SEARCH('Zoeken in Database'!$D$6,Concerten!G973,1),\"x\",\"\")),\"\")","v":"x"},{"$f":"IF(AND(D973>='Zoeken in Database'!$A$7,'Zoeken in Database'!$A$8>=D973),\"x\",\"\")","v":"x"}]
["Yuck","Haldern Pop 2011","Haldern","2011-08-11",null,"Spiegelzelt","Festivaloptreden",8,2011,{"$f":"VLOOKUP(Table1[[#This Row],[Maand (getal)]],Lijst!A:B,2,FALSE)","v":"aug"},{"$f":"IFERROR(IF(ISBLANK('Zoeken in Database'!$D$3),\"x\",IF(SEARCH('Zoeken in Database'!$D$3,Concerten!A974,1),\"x\",\"\")),\"\")","v":"x"},{"$f":"IFERROR(IF(ISBLANK('Zoeken in Database'!$D$4),\"x\",IF(SEARCH('Zoeken in Database'!$D$4,Concerten!B974,1),\"x\",\"\")),\"\")","v":"x"},{"$f":"IFERROR(IF(ISBLANK('Zoeken in Database'!$D$5),\"x\",IF(SEARCH('Zoeken in Database'!$D$5,Concerten!C974,1),\"x\",\"\")),\"\")","v":"x"},{"$f":"IFERROR(IF(ISBLANK('Zoeken in Database'!$D$6),\"x\",IF(SEARCH('Zoeken in Database'!$D$6,Concerten!G974,1),\"x\",\"\")),\"\")","v":"x"},{"$f":"IF(AND(D974>='Zoeken in Database'!$A$7,'Zoeken in Database'!$A$8>=D974),\"x\",\"\")","v":"x"}]
["Bodi Bill","Haldern Pop 2011","Haldern","2011-08-12",null,"Spiegelzelt","Festivaloptreden",8,2011,{"$f":"VLOOKUP(Table1[[#This Row],[Maand (getal)]],Lijst!A:B,2,FALSE)","v":"aug"},{"$f":"IFERROR(IF(ISBLANK('Zoeken in Database'!$D$3),\"x\",IF(SEARCH('Zoeken in Database'!$D$3,Concerten!A975,1),\"x\",\"\")),\"\")","v":"x"},{"$f":"IFERROR(IF(ISBLANK('Zoeken in Database'!$D$4),\"x\",IF(SEARCH('Zoeken in Database'!$D$4,Concerten!B975,1),\"x\",\"\")),\"\")","v":"x"},{"$f":"IFERROR(IF(ISBLANK('Zoeken in Database'!$D$5),\"x\",IF(SEARCH('Zoeken in Database'!$D$5,Concerten!C975,1),\"x\",\"\")),\"\")","v":"x"},{"$f":"IFERROR(IF(ISBLANK('Zoeken in Database'!$D$6),\"x\",IF(SEARCH('Zoeken in Database'!$D$6,Concerten!G975,1),\"x\",\"\")),\"\")","v":"x"},{"$f":"IF(AND(D975>='Zoeken in Database'!$A$7,'Zoeken in Database'!$A$8>=D975),\"x\",\"\")","v":"x"}]
["Flynn, Johnny","Haldern Pop 2011","Haldern","2011-08-12",null,"Spiegelzelt","Festivaloptreden",8,2011,{"$f":"VLOOKUP(Table1[[#This Row],[Maand (getal)]],Lijst!A:B,2,FALSE)","v":"aug"},{"$f":"IFERROR(IF(ISBLANK('Zoeken in Database'!$D$3),\"x\",IF(SEARCH('Zoeken in Database'!$D$3,Concerten!A976,1),\"x\",\"\")),\"\")","v":"x"},{"$f":"IFERROR(IF(ISBLANK('Zoeken in Database'!$D$4),\"x\",IF(SEARCH('Zoeken in Database'!$D$4,Concerten!B976,1),\"x\",\"\")),\"\")","v":"x"},{"$f":"IFERROR(IF(ISBLANK('Zoeken in Database'!$D$5),\"x\",IF(SEARCH('Zoeken in Database'!$D$5,Concerten!C976,1),\"x\",\"\")),\"\")","v":"x"},{"$f":"IFERROR(IF(ISBLANK('Zoeken in Database'!$D$6),\"x\",IF(SEARCH('Zoeken in Database'!$D$6,Concerten!G976,1),\"x\",\"\")),\"\")","v":"x"},{"$f":"IF(AND(D976>='Zoeken in Database'!$A$7,'Zoeken in Database'!$A$8>=D976),\"x\",\"\")","v":"x"}]
["Wild Beasts","Haldern Pop 2011","Haldern","2011-08-12",null,"Spiegelzelt","Festivaloptreden",8,2011,{"$f":"VLOOKUP(Table1[[#This Row],[Maand (getal)]],Lijst!A:B,2,FALSE)","v":"aug"},{"$f":"IFERROR(IF(ISBLANK('Zoeken in Database'!$D$3),\"x\",IF(SEARCH('Zoeken in Database'!$D$3,Concerten!A977,1),\"x\",\"\")),\"\")","v":"x"},{"$f":"IFERROR(IF(ISBLANK('Zoeken in Database'!$D$4),\"x\",IF(SEARCH('Zoeken in Database'!$D$4,Concerten!B977,1),\"x\",\"\")),\"\")","v":"x"},{"$f":"IFERROR(IF(ISBLANK('Zoeken in Database'!$D$5),\"x\",IF(SEARCH('Zoeken in Database'!$D$5,Concerten!C977,1),\"x\",\"\")),\"\")","v":"x"},{"$f":"IFERROR(IF(ISBLANK('Zoeken in Database'!$D$6),\"x\",IF(SEARCH('Zoeken in Database'!$D$6,Concerten!G977,1),\"x\",\"\")),\"\")","v":"x"},{"$f":"IF(AND(D977>='Zoeken in Database'!$A$7,'Zoeken in Database'!$A$8>=D977),\"x\",\"\")","v":"x"}]
["Okkervil River","Haldern Pop 2011","Haldern","2011-08-12",null,"Mainstage","Festivaloptreden",8,2011,{"$f":"VLOOKUP(Table1[[#This Row],[Maand (getal)]],Lijst!A:B,2,FALSE)","v":"aug"},{"$f":"IFERROR(IF(ISBLANK('Zoeken in Database'!$D$3),\"x\",IF(SEARCH('Zoeken in Database'!$D$3,Concerten!A978,1),\"x\",\"\")),\"\")","v":"x"},{"$f":"IFERROR(IF(ISBLANK('Zoeken in Database'!$D$4),\"x\",IF(SEARCH('Zoeken in Database'!$D$4,Concerten!B978,1),\"x\",\"\")),\"\")","v":"x"},{"$f":"IFERROR(IF(ISBLANK('Zoeken in Database'!$D$5),\"x\",IF(SEARCH('Zoeken in Database'!$D$5,Concerten!C978,1),\"x\",\"\")),\"\")","v":"x"},{"$f":"IFERROR(IF(ISBLANK('Zoeken in Database'!$D$6),\"x\",IF(SEARCH('Zoeken in Database'!$D$6,Concerten!G978,1),\"x\",\"\")),\"\")","v":"x"},{"$f":"IF(AND(D978>='Zoeken in Database'!$A$7,'Zoeken in Database'!$A$8>=D978),\"x\",\"\")","v":"x"}]
["Wombats, The","Haldern Pop 2011","Haldern","2011-08-12",null,"Mainstage","Festivaloptreden",8,2011,{"$f":"VLOOKUP(Table1[[#This Row],[Maand (getal)]],Lijst!A:B,2,FALSE)","v":"aug"},{"$f":"IFERROR(IF(ISBLANK('Zoeken in Database'!$D$3),\"x\",IF(SEARCH('Zoeken in Database'!$D$3,Concerten!A979,1),\"x\",\"\")),\"\")","v":"x"},{"$f":"IFERROR(IF(ISBLANK('Zoeken in Database'!$D$4),\"x\",IF(SEARCH('Zoeken in Database'!$D$4,Concerten!B979,1),\"x\",\"\")),\"\")","v":"x"},{"$f":"IFERROR(IF(ISBLANK('Zoeken in Database'!$D$5),\"x\",IF(SEARCH('Zoeken in Database'!$D$5,Concerten!C979,1),\"x\",\"\")),\"\")","v":"x"},{"$f":"IFERROR(IF(ISBLANK('Zoeken in Database'!$D$6),\"x\",IF(SEARCH('Zoeken in Database'!$D$6,Concerten!G979,1),\"x\",\"\")),\"\")","v":"x"},{"$f":"IF(AND(D979>='Zoeken in Database'!$A$7,'Zoeken in Database'!$A$8>=D979),\"x\",\"\")","v":"x"}]
["Pearson, Josh T.","Haldern Pop 2011","Haldern","2011-08-12",null,"Mainstage","Festivaloptreden",8,2011,{"$f":"VLOOKUP(Table1[[#This Row],[Maand (getal)]],Lijst!A:B,2,FALSE)","v":"aug"},{"$f":"IFERROR(IF(ISBLANK('Zoeken in Database'!$D$3),\"x\",IF(SEARCH('Zoeken in Database'!$D$3,Concerten!A980,1),\"x\",\"\")),\"\")","v":"x"},{"$f":"IFERROR(IF(ISBLANK('Zoeken in Database'!$D$4),\"x\",IF(SEARCH('Zoeken in Database'!$D$4,Concerten!B980,1),\"x\",\"\")),\"\")","v":"x"},{"$f":"IFERROR(IF(ISBLANK('Zoeken in Database'!$D$5),\"x\",IF(SEARCH('Zoeken in Database'!$D$5,Concerten!C980,1),\"x\",\"\")),\"\")","v":"x"},{"$f":"IFERROR(IF(ISBLANK('Zoeken in Database'!$D$6),\"x\",IF(SEARCH('Zoeken in Database'!$D$6,Concerten!G980,1),\"x\",\"\")),\"\")","v":"x"},{"$f":"IF(AND(D980>='Zoeken in Database'!$A$7,'Zoeken in Database'!$A$8>=D980),\"x\",\"\")","v":"x"}]
["Grant, John & Tim Isfort","Haldern Pop 2011","Haldern","2011-08-12",null,"Mainstage","Festivaloptreden",8,2011,{"$f":"VLOOKUP(Table1[[#This Row],[Maand (getal)]],Lijst!A:B,2,FALSE)","v":"aug"},{"$f":"IFERROR(IF(ISBLANK('Zoeken in Database'!$D$3),\"x\",IF(SEARCH('Zoeken in Database'!$D$3,Concerten!A981,1),\"x\",\"\")),\"\")","v":"x"},{"$f":"IFERROR(IF(ISBLANK('Zoeken in Database'!$D$4),\"x\",IF(SEARCH('Zoeken in Database'!$D$4,Concerten!B981,1),\"x\",\"\")),\"\")","v":"x"},{"$f":"IFERROR(IF(ISBLANK('Zoeken in Database'!$D$5),\"x\",IF(SEARCH('Zoeken in Database'!$D$5,Concerten!C981,1),\"x\",\"\")),\"\")","v":"x"},{"$f":"IFERROR(IF(ISBLANK('Zoeken in Database'!$D$6),\"x\",IF(SEARCH('Zoeken in Database'!$D$6,Concerten!G981,1),\"x\",\"\")),\"\")","v":"x"},{"$f":"IF(AND(D981>='Zoeken in Database'!$A$7,'Zoeken in Database'!$A$8>=D981),\"x\",\"\")","v":"x"}]
["Moss","Haldern Pop 2011","Haldern","2011-08-13",null,"Mainstage","Festivaloptreden",8,2011,{"$f":"VLOOKUP(Table1[[#This Row],[Maand (getal)]],Lijst!A:B,2,FALSE)","v":"aug"},{"$f":"IFERROR(IF(ISBLANK('Zoeken in Database'!$D$3),\"x\",IF(SEARCH('Zoeken in Database'!$D$3,Concerten!A982,1),\"x\",\"\")),\"\")","v":"x"},{"$f":"IFERROR(IF(ISBLANK('Zoeken in Database'!$D$4),\"x\",IF(SEARCH('Zoeken in Database'!$D$4,Concerten!B982,1),\"x\",\"\")),\"\")","v":"x"},{"$f":"IFERROR(IF(ISBLANK('Zoeken in Database'!$D$5),\"x\",IF(SEARCH('Zoeken in Database'!$D$5,Concerten!C982,1),\"x\",\"\")),\"\")","v":"x"},{"$f":"IFERROR(IF(ISBLANK('Zoeken in Database'!$D$6),\"x\",IF(SEARCH('Zoeken in Database'!$D$6,Concerten!G982,1),\"x\",\"\")),\"\")","v":"x"},{"$f":"IF(AND(D982>='Zoeken in Database'!$A$7,'Zoeken in Database'!$A$8>=D982),\"x\",\"\")","v":"x"}]
["Destroyer","Haldern Pop 2011","Haldern","2011-08-13",null,"Mainstage","Festivaloptreden",8,2011,{"$f":"VLOOKUP(Table1[[#This Row],[Maand (getal)]],Lijst!A:B,2,FALSE)","v":"aug"},{"$f":"IFERROR(IF(ISBLANK('Zoeken in Database'!$D$3),\"x\",IF(SEARCH('Zoeken in Database'!$D$3,Concerten!A983,1),\"x\",\"\")),\"\")","v":"x"},{"$f":"IFERROR(IF(ISBLANK('Zoeken in Database'!$D$4),\"x\",IF(SEARCH('Zoeken in Database'!$D$4,Concerten!B983,1),\"x\",\"\")),\"\")","v":"x"},{"$f":"IFERROR(IF(ISBLANK('Zoeken in Database'!$D$5),\"x\",IF(SEARCH('Zoeken in Database'!$D$5,Concerten!C983,1),\"x\",\"\")),\"\")","v":"x"},{"$f":"IFERROR(IF(ISBLANK('Zoeken in Database'!$D$6),\"x\",IF(SEARCH('Zoeken in Database'!$D$6,Concerten!G983,1),\"x\",\"\")),\"\")","v":"x"},{"$f":"IF(AND(D983>='Zoeken in Database'!$A$7,'Zoeken in Database'!$A$8>=D983),\"x\",\"\")","v":"x"}]
["Blake, James","Haldern Pop 2011","Haldern","2011-08-13",null,"Mainstage","Festivaloptreden",8,2011,{"$f":"VLOOKUP(Table1[[#This Row],[Maand (getal)]],Lijst!A:B,2,FALSE)","v":"aug"},{"$f":"IFERROR(IF(ISBLANK('Zoeken in Database'!$D$3),\"x\",IF(SEARCH('Zoeken in Database'!$D$3,Concerten!A984,1),\"x\",\"\")),\"\")","v":"x"},{"$f":"IFERROR(IF(ISBLANK('Zoeken in Database'!$D$4),\"x\",IF(SEARCH('Zoeken in Database'!$D$4,Concerten!B984,1),\"x\",\"\")),\"\")","v":"x"},{"$f":"IFERROR(IF(ISBLANK('Zoeken in Database'!$D$5),\"x\",IF(SEARCH('Zoeken in Database'!$D$5,Concerten!C984,1),\"x\",\"\")),\"\")","v":"x"},{"$f":"IFERROR(IF(ISBLANK('Zoeken in Database'!$D$6),\"x\",IF(SEARCH('Zoeken in Database'!$D$6,Concerten!G984,1),\"x\",\"\")),\"\")","v":"x"},{"$f":"IF(AND(D984>='Zoeken in Database'!$A$7,'Zoeken in Database'!$A$8>=D984),\"x\",\"\")","v":"x"}]
["Fleet Foxes","Haldern Pop 2011","Haldern","2011-08-13",null,"Mainstage","Festivaloptreden",8,2011,{"$f":"VLOOKUP(Table1[[#This Row],[Maand (getal)]],Lijst!A:B,2,FALSE)","v":"aug"},{"$f":"IFERROR(IF(ISBLANK('Zoeken in Database'!$D$3),\"x\",IF(SEARCH('Zoeken in Database'!$D$3,Concerten!A985,1),\"x\",\"\")),\"\")","v":"x"},{"$f":"IFERROR(IF(ISBLANK('Zoeken in Database'!$D$4),\"x\",IF(SEARCH('Zoeken in Database'!$D$4,Concerten!B985,1),\"x\",\"\")),\"\")","v":"x"},{"$f":"IFERROR(IF(ISBLANK('Zoeken in Database'!$D$5),\"x\",IF(SEARCH('Zoeken in Database'!$D$5,Concerten!C985,1),\"x\",\"\")),\"\")","v":"x"},{"$f":"IFERROR(IF(ISBLANK('Zoeken in Database'!$D$6),\"x\",IF(SEARCH('Zoeken in Database'!$D$6,Concerten!G985,1),\"x\",\"\")),\"\")","v":"x"},{"$f":"IF(AND(D985>='Zoeken in Database'!$A$7,'Zoeken in Database'!$A$8>=D985),\"x\",\"\")","v":"x"}]
["Dolly, I Beg Your Pardon","Roepaen","Ottersum","2011-09-09",null,"Nightclub","Voorprogramma",9,2011,{"$f":"VLOOKUP(Table1[[#This Row],[Maand (getal)]],Lijst!A:B,2,FALSE)","v":"sep"},{"$f":"IFERROR(IF(ISBLANK('Zoeken in Database'!$D$3),\"x\",IF(SEARCH('Zoeken in Database'!$D$3,Concerten!A986,1),\"x\",\"\")),\"\")","v":"x"},{"$f":"IFERROR(IF(ISBLANK('Zoeken in Database'!$D$4),\"x\",IF(SEARCH('Zoeken in Database'!$D$4,Concerten!B986,1),\"x\",\"\")),\"\")","v":"x"},{"$f":"IFERROR(IF(ISBLANK('Zoeken in Database'!$D$5),\"x\",IF(SEARCH('Zoeken in Database'!$D$5,Concerten!C986,1),\"x\",\"\")),\"\")","v":"x"},{"$f":"IFERROR(IF(ISBLANK('Zoeken in Database'!$D$6),\"x\",IF(SEARCH('Zoeken in Database'!$D$6,Concerten!G986,1),\"x\",\"\")),\"\")","v":"x"},{"$f":"IF(AND(D986>='Zoeken in Database'!$A$7,'Zoeken in Database'!$A$8>=D986),\"x\",\"\")","v":"x"}]
["Gripka, Israel Nash","Roepaen","Ottersum","2011-09-09",null,"Nightclub","Hoofdprogramma",9,2011,{"$f":"VLOOKUP(Table1[[#This Row],[Maand (getal)]],Lijst!A:B,2,FALSE)","v":"sep"},{"$f":"IFERROR(IF(ISBLANK('Zoeken in Database'!$D$3),\"x\",IF(SEARCH('Zoeken in Database'!$D$3,Concerten!A987,1),\"x\",\"\")),\"\")","v":"x"},{"$f":"IFERROR(IF(ISBLANK('Zoeken in Database'!$D$4),\"x\",IF(SEARCH('Zoeken in Database'!$D$4,Concerten!B987,1),\"x\",\"\")),\"\")","v":"x"},{"$f":"IFERROR(IF(ISBLANK('Zoeken in Database'!$D$5),\"x\",IF(SEARCH('Zoeken in Database'!$D$5,Concerten!C987,1),\"x\",\"\")),\"\")","v":"x"},{"$f":"IFERROR(IF(ISBLANK('Zoeken in Database'!$D$6),\"x\",IF(SEARCH('Zoeken in Database'!$D$6,Concerten!G987,1),\"x\",\"\")),\"\")","v":"x"},{"$f":"IF(AND(D987>='Zoeken in Database'!$A$7,'Zoeken in Database'!$A$8>=D987),\"x\",\"\")","v":"x"}]
["Vile, Kurt","Doornroosje","Nijmegen","2011-09-11",null,null,"Hoofdprogramma",9,2011,{"$f":"VLOOKUP(Table1[[#This Row],[Maand (getal)]],Lijst!A:B,2,FALSE)","v":"sep"},{"$f":"IFERROR(IF(ISBLANK('Zoeken in Database'!$D$3),\"x\",IF(SEARCH('Zoeken in Database'!$D$3,Concerten!A988,1),\"x\",\"\")),\"\")","v":"x"},{"$f":"IFERROR(IF(ISBLANK('Zoeken in Database'!$D$4),\"x\",IF(SEARCH('Zoeken in Database'!$D$4,Concerten!B988,1),\"x\",\"\")),\"\")","v":"x"},{"$f":"IFERROR(IF(ISBLANK('Zoeken in Database'!$D$5),\"x\",IF(SEARCH('Zoeken in Database'!$D$5,Concerten!C988,1),\"x\",\"\")),\"\")","v":"x"},{"$f":"IFERROR(IF(ISBLANK('Zoeken in Database'!$D$6),\"x\",IF(SEARCH('Zoeken in Database'!$D$6,Concerten!G988,1),\"x\",\"\")),\"\")","v":"x"},{"$f":"IF(AND(D988>='Zoeken in Database'!$A$7,'Zoeken in Database'!$A$8>=D988),\"x\",\"\")","v":"x"}]
["Lea","Doornroosje","Nijmegen","2011-09-13",null,null,"Voorprogramma",9,2011,{"$f":"VLOOKUP(Table1[[#This Row],[Maand (getal)]],Lijst!A:B,2,FALSE)","v":"sep"},{"$f":"IFERROR(IF(ISBLANK('Zoeken in Database'!$D$3),\"x\",IF(SEARCH('Zoeken in Database'!$D$3,Concerten!A989,1),\"x\",\"\")),\"\")","v":"x"},{"$f":"IFERROR(IF(ISBLANK('Zoeken in Database'!$D$4),\"x\",IF(SEARCH('Zoeken in Database'!$D$4,Concerten!B989,1),\"x\",\"\")),\"\")","v":"x"},{"$f":"IFERROR(IF(ISBLANK('Zoeken in Database'!$D$5),\"x\",IF(SEARCH('Zoeken in Database'!$D$5,Concerten!C989,1),\"x\",\"\")),\"\")","v":"x"},{"$f":"IFERROR(IF(ISBLANK('Zoeken in Database'!$D$6),\"x\",IF(SEARCH('Zoeken in Database'!$D$6,Concerten!G989,1),\"x\",\"\")),\"\")","v":"x"},{"$f":"IF(AND(D989>='Zoeken in Database'!$A$7,'Zoeken in Database'!$A$8>=D989),\"x\",\"\")","v":"x"}]
["Sexsmith, Ron","Doornroosje","Nijmegen","2011-09-13",null,null,"Hoofdprogramma",9,2011,{"$f":"VLOOKUP(Table1[[#This Row],[Maand (getal)]],Lijst!A:B,2,FALSE)","v":"sep"},{"$f":"IFERROR(IF(ISBLANK('Zoeken in Database'!$D$3),\"x\",IF(SEARCH('Zoeken in Database'!$D$3,Concerten!A990,1),\"x\",\"\")),\"\")","v":"x"},{"$f":"IFERROR(IF(ISBLANK('Zoeken in Database'!$D$4),\"x\",IF(SEARCH('Zoeken in Database'!$D$4,Concerten!B990,1),\"x\",\"\")),\"\")","v":"x"},{"$f":"IFERROR(IF(ISBLANK('Zoeken in Database'!$D$5),\"x\",IF(SEARCH('Zoeken in Database'!$D$5,Concerten!C990,1),\"x\",\"\")),\"\")","v":"x"},{"$f":"IFERROR(IF(ISBLANK('Zoeken in Database'!$D$6),\"x\",IF(SEARCH('Zoeken in Database'!$D$6,Concerten!G990,1),\"x\",\"\")),\"\")","v":"x"},{"$f":"IF(AND(D990>='Zoeken in Database'!$A$7,'Zoeken in Database'!$A$8>=D990),\"x\",\"\")","v":"x"}]
["Gorki","Doornroosje","Nijmegen","2011-09-21"," 1. ik reis door de nacht \n 2. kamikaze \n 3. sirenen \n 4. ik ben erbij \n 5. lieve kleine piranha \n 6. anja \n 7. concorde \n 8. jonge ondernemers \n 9. iedereen plukt de dag \n 10. eddie gelukzak \n 11. joerie \n 12. wie zal er voor de kinderen zorgen \n 13. xtc \n 14. lang zullen ze leven \n 15. een schaduw in de schemering \n 16. veronica komt naar je toe \n-------------------------------------------\n 1. satan \n 2. soms vraagt een mens zich af \n 3. mia ",null,"Hoofdprogramma",9,2011,{"$f":"VLOOKUP(Table1[[#This Row],[Maand (getal)]],Lijst!A:B,2,FALSE)","v":"sep"},{"$f":"IFERROR(IF(ISBLANK('Zoeken in Database'!$D$3),\"x\",IF(SEARCH('Zoeken in Database'!$D$3,Concerten!A991,1),\"x\",\"\")),\"\")","v":"x"},{"$f":"IFERROR(IF(ISBLANK('Zoeken in Database'!$D$4),\"x\",IF(SEARCH('Zoeken in Database'!$D$4,Concerten!B991,1),\"x\",\"\")),\"\")","v":"x"},{"$f":"IFERROR(IF(ISBLANK('Zoeken in Database'!$D$5),\"x\",IF(SEARCH('Zoeken in Database'!$D$5,Concerten!C991,1),\"x\",\"\")),\"\")","v":"x"},{"$f":"IFERROR(IF(ISBLANK('Zoeken in Database'!$D$6),\"x\",IF(SEARCH('Zoeken in Database'!$D$6,Concerten!G991,1),\"x\",\"\")),\"\")","v":"x"},{"$f":"IF(AND(D991>='Zoeken in Database'!$A$7,'Zoeken in Database'!$A$8>=D991),\"x\",\"\")","v":"x"}]
["Ebben, Tommy & The Small Town Villains","Paradiso","Amsterdam","2011-10-05",null,"kleine zaal","Hoofdprogramma",10,2011,{"$f":"VLOOKUP(Table1[[#This Row],[Maand (getal)]],Lijst!A:B,2,FALSE)","v":"okt"},{"$f":"IFERROR(IF(ISBLANK('Zoeken in Database'!$D$3),\"x\",IF(SEARCH('Zoeken in Database'!$D$3,Concerten!A992,1),\"x\",\"\")),\"\")","v":"x"},{"$f":"IFERROR(IF(ISBLANK('Zoeken in Database'!$D$4),\"x\",IF(SEARCH('Zoeken in Database'!$D$4,Concerten!B992,1),\"x\",\"\")),\"\")","v":"x"},{"$f":"IFERROR(IF(ISBLANK('Zoeken in Database'!$D$5),\"x\",IF(SEARCH('Zoeken in Database'!$D$5,Concerten!C992,1),\"x\",\"\")),\"\")","v":"x"},{"$f":"IFERROR(IF(ISBLANK('Zoeken in Database'!$D$6),\"x\",IF(SEARCH('Zoeken in Database'!$D$6,Concerten!G992,1),\"x\",\"\")),\"\")","v":"x"},{"$f":"IF(AND(D992>='Zoeken in Database'!$A$7,'Zoeken in Database'!$A$8>=D992),\"x\",\"\")","v":"x"}]
["Ices, Lia","Vereeniging","Nijmegen","2011-10-14",null,"kleine zaal","Voorprogramma",10,2011,{"$f":"VLOOKUP(Table1[[#This Row],[Maand (getal)]],Lijst!A:B,2,FALSE)","v":"okt"},{"$f":"IFERROR(IF(ISBLANK('Zoeken in Database'!$D$3),\"x\",IF(SEARCH('Zoeken in Database'!$D$3,Concerten!A993,1),\"x\",\"\")),\"\")","v":"x"},{"$f":"IFERROR(IF(ISBLANK('Zoeken in Database'!$D$4),\"x\",IF(SEARCH('Zoeken in Database'!$D$4,Concerten!B993,1),\"x\",\"\")),\"\")","v":"x"},{"$f":"IFERROR(IF(ISBLANK('Zoeken in Database'!$D$5),\"x\",IF(SEARCH('Zoeken in Database'!$D$5,Concerten!C993,1),\"x\",\"\")),\"\")","v":"x"},{"$f":"IFERROR(IF(ISBLANK('Zoeken in Database'!$D$6),\"x\",IF(SEARCH('Zoeken in Database'!$D$6,Concerten!G993,1),\"x\",\"\")),\"\")","v":"x"},{"$f":"IF(AND(D993>='Zoeken in Database'!$A$7,'Zoeken in Database'!$A$8>=D993),\"x\",\"\")","v":"x"}]
["Lekman, Jens","Vereeniging","Nijmegen","2011-10-14",null,"kleine zaal","Hoofdprogramma",10,2011,{"$f":"VLOOKUP(Table1[[#This Row],[Maand (getal)]],Lijst!A:B,2,FALSE)","v":"okt"},{"$f":"IFERROR(IF(ISBLANK('Zoeken in Database'!$D$3),\"x\",IF(SEARCH('Zoeken in Database'!$D$3,Concerten!A994,1),\"x\",\"\")),\"\")","v":"x"},{"$f":"IFERROR(IF(ISBLANK('Zoeken in Database'!$D$4),\"x\",IF(SEARCH('Zoeken in Database'!$D$4,Concerten!B994,1),\"x\",\"\")),\"\")","v":"x"},{"$f":"IFERROR(IF(ISBLANK('Zoeken in Database'!$D$5),\"x\",IF(SEARCH('Zoeken in Database'!$D$5,Concerten!C994,1),\"x\",\"\")),\"\")","v":"x"},{"$f":"IFERROR(IF(ISBLANK('Zoeken in Database'!$D$6),\"x\",IF(SEARCH('Zoeken in Database'!$D$6,Concerten!G994,1),\"x\",\"\")),\"\")","v":"x"},{"$f":"IF(AND(D994>='Zoeken in Database'!$A$7,'Zoeken in Database'!$A$8>=D994),\"x\",\"\")","v":"x"}]
["Emmi@Leo","Schouwburg Cuijk","Cuijk","2011-10-15",null,"Tryout","Theater",10,2011,{"$f":"VLOOKUP(Table1[[#This Row],[Maand (getal)]],Lijst!A:B,2,FALSE)","v":"okt"},{"$f":"IFERROR(IF(ISBLANK('Zoeken in Database'!$D$3),\"x\",IF(SEARCH('Zoeken in Database'!$D$3,Concerten!A995,1),\"x\",\"\")),\"\")","v":"x"},{"$f":"IFERROR(IF(ISBLANK('Zoeken in Database'!$D$4),\"x\",IF(SEARCH('Zoeken in Database'!$D$4,Concerten!B995,1),\"x\",\"\")),\"\")","v":"x"},{"$f":"IFERROR(IF(ISBLANK('Zoeken in Database'!$D$5),\"x\",IF(SEARCH('Zoeken in Database'!$D$5,Concerten!C995,1),\"x\",\"\")),\"\")","v":"x"},{"$f":"IFERROR(IF(ISBLANK('Zoeken in Database'!$D$6),\"x\",IF(SEARCH('Zoeken in Database'!$D$6,Concerten!G995,1),\"x\",\"\")),\"\")","v":"x"},{"$f":"IF(AND(D995>='Zoeken in Database'!$A$7,'Zoeken in Database'!$A$8>=D995),\"x\",\"\")","v":"x"}]
["Miss Saigon","Beatrix Theater","Utrecht","2011-10-16",null,"Matinee","Theater",10,2011,{"$f":"VLOOKUP(Table1[[#This Row],[Maand (getal)]],Lijst!A:B,2,FALSE)","v":"okt"},{"$f":"IFERROR(IF(ISBLANK('Zoeken in Database'!$D$3),\"x\",IF(SEARCH('Zoeken in Database'!$D$3,Concerten!A996,1),\"x\",\"\")),\"\")","v":"x"},{"$f":"IFERROR(IF(ISBLANK('Zoeken in Database'!$D$4),\"x\",IF(SEARCH('Zoeken in Database'!$D$4,Concerten!B996,1),\"x\",\"\")),\"\")","v":"x"},{"$f":"IFERROR(IF(ISBLANK('Zoeken in Database'!$D$5),\"x\",IF(SEARCH('Zoeken in Database'!$D$5,Concerten!C996,1),\"x\",\"\")),\"\")","v":"x"},{"$f":"IFERROR(IF(ISBLANK('Zoeken in Database'!$D$6),\"x\",IF(SEARCH('Zoeken in Database'!$D$6,Concerten!G996,1),\"x\",\"\")),\"\")","v":"x"},{"$f":"IF(AND(D996>='Zoeken in Database'!$A$7,'Zoeken in Database'!$A$8>=D996),\"x\",\"\")","v":"x"}]
["Merwijk, Jeroen van","Weijertheater","Boxmeer","2011-10-20",null,"De vleesgeworden bescheidenheid","Theater",10,2011,{"$f":"VLOOKUP(Table1[[#This Row],[Maand (getal)]],Lijst!A:B,2,FALSE)","v":"okt"},{"$f":"IFERROR(IF(ISBLANK('Zoeken in Database'!$D$3),\"x\",IF(SEARCH('Zoeken in Database'!$D$3,Concerten!A997,1),\"x\",\"\")),\"\")","v":"x"},{"$f":"IFERROR(IF(ISBLANK('Zoeken in Database'!$D$4),\"x\",IF(SEARCH('Zoeken in Database'!$D$4,Concerten!B997,1),\"x\",\"\")),\"\")","v":"x"},{"$f":"IFERROR(IF(ISBLANK('Zoeken in Database'!$D$5),\"x\",IF(SEARCH('Zoeken in Database'!$D$5,Concerten!C997,1),\"x\",\"\")),\"\")","v":"x"},{"$f":"IFERROR(IF(ISBLANK('Zoeken in Database'!$D$6),\"x\",IF(SEARCH('Zoeken in Database'!$D$6,Concerten!G997,1),\"x\",\"\")),\"\")","v":"x"},{"$f":"IF(AND(D997>='Zoeken in Database'!$A$7,'Zoeken in Database'!$A$8>=D997),\"x\",\"\")","v":"x"}]
["Bon Iver","Vredenburg Leidsche Rijn","Utrecht","2011-10-26","Perth \nMinnesota, WI \nHolocene \nMichicant \nBeach Baby \nTowers \nCreature Fear \nHinnom, TX \nWash. \nBlood Bank \nre: Stacks \n(Justin solo)\nCalgary \nLisbon, OH \nBeth/Rest \nSkinny Love \nEncore:\nFor Emma \nThe Wolves (Act I and II)",null,"Hoofdprogramma",10,2011,{"$f":"VLOOKUP(Table1[[#This Row],[Maand (getal)]],Lijst!A:B,2,FALSE)","v":"okt"},{"$f":"IFERROR(IF(ISBLANK('Zoeken in Database'!$D$3),\"x\",IF(SEARCH('Zoeken in Database'!$D$3,Concerten!A998,1),\"x\",\"\")),\"\")","v":"x"},{"$f":"IFERROR(IF(ISBLANK('Zoeken in Database'!$D$4),\"x\",IF(SEARCH('Zoeken in Database'!$D$4,Concerten!B998,1),\"x\",\"\")),\"\")","v":"x"},{"$f":"IFERROR(IF(ISBLANK('Zoeken in Database'!$D$5),\"x\",IF(SEARCH('Zoeken in Database'!$D$5,Concerten!C998,1),\"x\",\"\")),\"\")","v":"x"},{"$f":"IFERROR(IF(ISBLANK('Zoeken in Database'!$D$6),\"x\",IF(SEARCH('Zoeken in Database'!$D$6,Concerten!G998,1),\"x\",\"\")),\"\")","v":"x"},{"$f":"IF(AND(D998>='Zoeken in Database'!$A$7,'Zoeken in Database'!$A$8>=D998),\"x\",\"\")","v":"x"}]
["Edwards, Kathleen","Vredenburg Leidsche Rijn","Utrecht","2011-10-26",null,null,"Voorprogramma",10,2011,{"$f":"VLOOKUP(Table1[[#This Row],[Maand (getal)]],Lijst!A:B,2,FALSE)","v":"okt"},{"$f":"IFERROR(IF(ISBLANK('Zoeken in Database'!$D$3),\"x\",IF(SEARCH('Zoeken in Database'!$D$3,Concerten!A999,1),\"x\",\"\")),\"\")","v":"x"},{"$f":"IFERROR(IF(ISBLANK('Zoeken in Database'!$D$4),\"x\",IF(SEARCH('Zoeken in Database'!$D$4,Concerten!B999,1),\"x\",\"\")),\"\")","v":"x"},{"$f":"IFERROR(IF(ISBLANK('Zoeken in Database'!$D$5),\"x\",IF(SEARCH('Zoeken in Database'!$D$5,Concerten!C999,1),\"x\",\"\")),\"\")","v":"x"},{"$f":"IFERROR(IF(ISBLANK('Zoeken in Database'!$D$6),\"x\",IF(SEARCH('Zoeken in Database'!$D$6,Concerten!G999,1),\"x\",\"\")),\"\")","v":"x"},{"$f":"IF(AND(D999>='Zoeken in Database'!$A$7,'Zoeken in Database'!$A$8>=D999),\"x\",\"\")","v":"x"}]
["Stills, Chris","Chassé Theater","Breda","2011-11-04",null,null,"Voorprogramma",11,2011,{"$f":"VLOOKUP(Table1[[#This Row],[Maand (getal)]],Lijst!A:B,2,FALSE)","v":"nov"},{"$f":"IFERROR(IF(ISBLANK('Zoeken in Database'!$D$3),\"x\",IF(SEARCH('Zoeken in Database'!$D$3,Concerten!A1000,1),\"x\",\"\")),\"\")","v":"x"},{"$f":"IFERROR(IF(ISBLANK('Zoeken in Database'!$D$4),\"x\",IF(SEARCH('Zoeken in Database'!$D$4,Concerten!B1000,1),\"x\",\"\")),\"\")","v":"x"},{"$f":"IFERROR(IF(ISBLANK('Zoeken in Database'!$D$5),\"x\",IF(SEARCH('Zoeken in Database'!$D$5,Concerten!C1000,1),\"x\",\"\")),\"\")","v":"x"},{"$f":"IFERROR(IF(ISBLANK('Zoeken in Database'!$D$6),\"x\",IF(SEARCH('Zoeken in Database'!$D$6,Concerten!G1000,1),\"x\",\"\")),\"\")","v":"x"},{"$f":"IF(AND(D1000>='Zoeken in Database'!$A$7,'Zoeken in Database'!$A$8>=D1000),\"x\",\"\")","v":"x"}]
["Adams, Ryan","Chassé Theater","Breda","2011-11-04","1. Oh My Sweet Carolina\n2. Ashes and Fire\n3. If I am a Stranger\n4. Dirty Rain\n5. Winding Wheel\n6. Sylvia Plath\n7. Invisible Riverside\n8. Everybody Knows\n9. Firecracker\n10.Let It Ride\n11.Please Do Not Let Me Go\n- Short improv. 'Feels like I was kicked in the stomach by a horse'\n12.Why Do They Leave\n- Ryan finds the business card the piano tuner left on the piano... \n\"Let's all call him... piano's out of tune, we found a banana in the \npiano... Hey Rene... the rest of his name I won't be able to say in \na million years... It sounds like the name of one of the characters \nin Lord of the Rings...\"\n13.New York New York\n14.Lucky Now\n15.Two\n16.Crossed Out Name\n17.Chains of Love\n18.Do I Wait\n19.16 Days\n- Thank You song; \"Thank you for being so nice while I wasn't feeling well\"\n20.Come Pick Me Up\n",null,"Hoofdprogramma",11,2011,{"$f":"VLOOKUP(Table1[[#This Row],[Maand (getal)]],Lijst!A:B,2,FALSE)","v":"nov"},{"$f":"IFERROR(IF(ISBLANK('Zoeken in Database'!$D$3),\"x\",IF(SEARCH('Zoeken in Database'!$D$3,Concerten!A1001,1),\"x\",\"\")),\"\")","v":"x"},{"$f":"IFERROR(IF(ISBLANK('Zoeken in Database'!$D$4),\"x\",IF(SEARCH('Zoeken in Database'!$D$4,Concerten!B1001,1),\"x\",\"\")),\"\")","v":"x"},{"$f":"IFERROR(IF(ISBLANK('Zoeken in Database'!$D$5),\"x\",IF(SEARCH('Zoeken in Database'!$D$5,Concerten!C1001,1),\"x\",\"\")),\"\")","v":"x"},{"$f":"IFERROR(IF(ISBLANK('Zoeken in Database'!$D$6),\"x\",IF(SEARCH('Zoeken in Database'!$D$6,Concerten!G1001,1),\"x\",\"\")),\"\")","v":"x"},{"$f":"IF(AND(D1001>='Zoeken in Database'!$A$7,'Zoeken in Database'!$A$8>=D1001),\"x\",\"\")","v":"x"}]
["Arends, Daniel","Weijertheater","Boxmeer","2011-11-12",null,"Blessureleed","Theater",11,2011,{"$f":"VLOOKUP(Table1[[#This Row],[Maand (getal)]],Lijst!A:B,2,FALSE)","v":"nov"},{"$f":"IFERROR(IF(ISBLANK('Zoeken in Database'!$D$3),\"x\",IF(SEARCH('Zoeken in Database'!$D$3,Concerten!A1002,1),\"x\",\"\")),\"\")","v":"x"},{"$f":"IFERROR(IF(ISBLANK('Zoeken in Database'!$D$4),\"x\",IF(SEARCH('Zoeken in Database'!$D$4,Concerten!B1002,1),\"x\",\"\")),\"\")","v":"x"},{"$f":"IFERROR(IF(ISBLANK('Zoeken in Database'!$D$5),\"x\",IF(SEARCH('Zoeken in Database'!$D$5,Concerten!C1002,1),\"x\",\"\")),\"\")","v":"x"},{"$f":"IFERROR(IF(ISBLANK('Zoeken in Database'!$D$6),\"x\",IF(SEARCH('Zoeken in Database'!$D$6,Concerten!G1002,1),\"x\",\"\")),\"\")","v":"x"},{"$f":"IF(AND(D1002>='Zoeken in Database'!$A$7,'Zoeken in Database'!$A$8>=D1002),\"x\",\"\")","v":"x"}]
["Knol, Tim","Doornroosje","Nijmegen","2011-12-23",null,null,"Hoofdprogramma",12,2011,{"$f":"VLOOKUP(Table1[[#This Row],[Maand (getal)]],Lijst!A:B,2,FALSE)","v":"dec"},{"$f":"IFERROR(IF(ISBLANK('Zoeken in Database'!$D$3),\"x\",IF(SEARCH('Zoeken in Database'!$D$3,Concerten!A1003,1),\"x\",\"\")),\"\")","v":"x"},{"$f":"IFERROR(IF(ISBLANK('Zoeken in Database'!$D$4),\"x\",IF(SEARCH('Zoeken in Database'!$D$4,Concerten!B1003,1),\"x\",\"\")),\"\")","v":"x"},{"$f":"IFERROR(IF(ISBLANK('Zoeken in Database'!$D$5),\"x\",IF(SEARCH('Zoeken in Database'!$D$5,Concerten!C1003,1),\"x\",\"\")),\"\")","v":"x"},{"$f":"IFERROR(IF(ISBLANK('Zoeken in Database'!$D$6),\"x\",IF(SEARCH('Zoeken in Database'!$D$6,Concerten!G1003,1),\"x\",\"\")),\"\")","v":"x"},{"$f":"IF(AND(D1003>='Zoeken in Database'!$A$7,'Zoeken in Database'!$A$8>=D1003),\"x\",\"\")","v":"x"}]
["Tangerine","Doornroosje","Nijmegen","2011-12-23",null,null,"Voorprogramma",12,2011,{"$f":"VLOOKUP(Table1[[#This Row],[Maand (getal)]],Lijst!A:B,2,FALSE)","v":"dec"},{"$f":"IFERROR(IF(ISBLANK('Zoeken in Database'!$D$3),\"x\",IF(SEARCH('Zoeken in Database'!$D$3,Concerten!A1004,1),\"x\",\"\")),\"\")","v":"x"},{"$f":"IFERROR(IF(ISBLANK('Zoeken in Database'!$D$4),\"x\",IF(SEARCH('Zoeken in Database'!$D$4,Concerten!B1004,1),\"x\",\"\")),\"\")","v":"x"},{"$f":"IFERROR(IF(ISBLANK('Zoeken in Database'!$D$5),\"x\",IF(SEARCH('Zoeken in Database'!$D$5,Concerten!C1004,1),\"x\",\"\")),\"\")","v":"x"},{"$f":"IFERROR(IF(ISBLANK('Zoeken in Database'!$D$6),\"x\",IF(SEARCH('Zoeken in Database'!$D$6,Concerten!G1004,1),\"x\",\"\")),\"\")","v":"x"},{"$f":"IF(AND(D1004>='Zoeken in Database'!$A$7,'Zoeken in Database'!$A$8>=D1004),\"x\",\"\")","v":"x"}]
["Vleuten, Diederik van","Schouwburg Cuijk","Cuijk","2012-01-17",null,"Daar werd groots werk verricht","Theater",1,2012,{"$f":"VLOOKUP(Table1[[#This Row],[Maand (getal)]],Lijst!A:B,2,FALSE)","v":"jan"},{"$f":"IFERROR(IF(ISBLANK('Zoeken in Database'!$D$3),\"x\",IF(SEARCH('Zoeken in Database'!$D$3,Concerten!A1005,1),\"x\",\"\")),\"\")","v":"x"},{"$f":"IFERROR(IF(ISBLANK('Zoeken in Database'!$D$4),\"x\",IF(SEARCH('Zoeken in Database'!$D$4,Concerten!B1005,1),\"x\",\"\")),\"\")","v":"x"},{"$f":"IFERROR(IF(ISBLANK('Zoeken in Database'!$D$5),\"x\",IF(SEARCH('Zoeken in Database'!$D$5,Concerten!C1005,1),\"x\",\"\")),\"\")","v":"x"},{"$f":"IFERROR(IF(ISBLANK('Zoeken in Database'!$D$6),\"x\",IF(SEARCH('Zoeken in Database'!$D$6,Concerten!G1005,1),\"x\",\"\")),\"\")","v":"x"},{"$f":"IF(AND(D1005>='Zoeken in Database'!$A$7,'Zoeken in Database'!$A$8>=D1005),\"x\",\"\")","v":"x"}]
["Joasinho","Doornroosje","Nijmegen","2012-01-22",null,null,"Voorprogramma",1,2012,{"$f":"VLOOKUP(Table1[[#This Row],[Maand (getal)]],Lijst!A:B,2,FALSE)","v":"jan"},{"$f":"IFERROR(IF(ISBLANK('Zoeken in Database'!$D$3),\"x\",IF(SEARCH('Zoeken in Database'!$D$3,Concerten!A1006,1),\"x\",\"\")),\"\")","v":"x"},{"$f":"IFERROR(IF(ISBLANK('Zoeken in Database'!$D$4),\"x\",IF(SEARCH('Zoeken in Database'!$D$4,Concerten!B1006,1),\"x\",\"\")),\"\")","v":"x"},{"$f":"IFERROR(IF(ISBLANK('Zoeken in Database'!$D$5),\"x\",IF(SEARCH('Zoeken in Database'!$D$5,Concerten!C1006,1),\"x\",\"\")),\"\")","v":"x"},{"$f":"IFERROR(IF(ISBLANK('Zoeken in Database'!$D$6),\"x\",IF(SEARCH('Zoeken in Database'!$D$6,Concerten!G1006,1),\"x\",\"\")),\"\")","v":"x"},{"$f":"IF(AND(D1006>='Zoeken in Database'!$A$7,'Zoeken in Database'!$A$8>=D1006),\"x\",\"\")","v":"x"}]
["Notwist, The","Doornroosje","Nijmegen","2012-01-22","01: One dark love poem\n02: Pick up the phone\n03: This room\n04: My phrasebook\n05: Blank air\n06: Trashing days\n07: On planet off\n08: Gloomy planets\n09: One with the freaks\n10: Neon golden\n11: Pilot\n12: Gravity\n\n13: Boneless (Z)\n14: Where in the world (Z)\n15: Consequence (Z)\n",null,"Hoofdprogramma",1,2012,{"$f":"VLOOKUP(Table1[[#This Row],[Maand (getal)]],Lijst!A:B,2,FALSE)","v":"jan"},{"$f":"IFERROR(IF(ISBLANK('Zoeken in Database'!$D$3),\"x\",IF(SEARCH('Zoeken in Database'!$D$3,Concerten!A1007,1),\"x\",\"\")),\"\")","v":"x"},{"$f":"IFERROR(IF(ISBLANK('Zoeken in Database'!$D$4),\"x\",IF(SEARCH('Zoeken in Database'!$D$4,Concerten!B1007,1),\"x\",\"\")),\"\")","v":"x"},{"$f":"IFERROR(IF(ISBLANK('Zoeken in Database'!$D$5),\"x\",IF(SEARCH('Zoeken in Database'!$D$5,Concerten!C1007,1),\"x\",\"\")),\"\")","v":"x"},{"$f":"IFERROR(IF(ISBLANK('Zoeken in Database'!$D$6),\"x\",IF(SEARCH('Zoeken in Database'!$D$6,Concerten!G1007,1),\"x\",\"\")),\"\")","v":"x"},{"$f":"IF(AND(D1007>='Zoeken in Database'!$A$7,'Zoeken in Database'!$A$8>=D1007),\"x\",\"\")","v":"x"}]
["Swearing At Motorists","Doornroosje","Nijmegen","2012-02-14",null,null,"Voorprogramma",2,2012,{"$f":"VLOOKUP(Table1[[#This Row],[Maand (getal)]],Lijst!A:B,2,FALSE)","v":"feb"},{"$f":"IFERROR(IF(ISBLANK('Zoeken in Database'!$D$3),\"x\",IF(SEARCH('Zoeken in Database'!$D$3,Concerten!A1008,1),\"x\",\"\")),\"\")","v":"x"},{"$f":"IFERROR(IF(ISBLANK('Zoeken in Database'!$D$4),\"x\",IF(SEARCH('Zoeken in Database'!$D$4,Concerten!B1008,1),\"x\",\"\")),\"\")","v":"x"},{"$f":"IFERROR(IF(ISBLANK('Zoeken in Database'!$D$5),\"x\",IF(SEARCH('Zoeken in Database'!$D$5,Concerten!C1008,1),\"x\",\"\")),\"\")","v":"x"},{"$f":"IFERROR(IF(ISBLANK('Zoeken in Database'!$D$6),\"x\",IF(SEARCH('Zoeken in Database'!$D$6,Concerten!G1008,1),\"x\",\"\")),\"\")","v":"x"},{"$f":"IF(AND(D1008>='Zoeken in Database'!$A$7,'Zoeken in Database'!$A$8>=D1008),\"x\",\"\")","v":"x"}]
["War On Drugs, The","Doornroosje","Nijmegen","2012-02-14",null,null,"Hoofdprogramma",2,2012,{"$f":"VLOOKUP(Table1[[#This Row],[Maand (getal)]],Lijst!A:B,2,FALSE)","v":"feb"},{"$f":"IFERROR(IF(ISBLANK('Zoeken in Database'!$D$3),\"x\",IF(SEARCH('Zoeken in Database'!$D$3,Concerten!A1009,1),\"x\",\"\")),\"\")","v":"x"},{"$f":"IFERROR(IF(ISBLANK('Zoeken in Database'!$D$4),\"x\",IF(SEARCH('Zoeken in Database'!$D$4,Concerten!B1009,1),\"x\",\"\")),\"\")","v":"x"},{"$f":"IFERROR(IF(ISBLANK('Zoeken in Database'!$D$5),\"x\",IF(SEARCH('Zoeken in Database'!$D$5,Concerten!C1009,1),\"x\",\"\")),\"\")","v":"x"},{"$f":"IFERROR(IF(ISBLANK('Zoeken in Database'!$D$6),\"x\",IF(SEARCH('Zoeken in Database'!$D$6,Concerten!G1009,1),\"x\",\"\")),\"\")","v":"x"},{"$f":"IF(AND(D1009>='Zoeken in Database'!$A$7,'Zoeken in Database'!$A$8>=D1009),\"x\",\"\")","v":"x"}]
["Gotye","Effenaar","Eindhoven","2012-02-17","Eyes Wide Open \nThe Only Way \nEasy Way Out \nSmoke and Mirrors \nState of the Art \nThanks for Your Time \nDon't Worry, We'll Be Watching You \nSomebody That I Used to Know \nSave Me \nHeart's a Mess \nBronte \nEncore:\nIn Your Light \nI Feel Better \nLearnalilgivinanlovin ",null,"Hoofdprogramma",2,2012,{"$f":"VLOOKUP(Table1[[#This Row],[Maand (getal)]],Lijst!A:B,2,FALSE)","v":"feb"},{"$f":"IFERROR(IF(ISBLANK('Zoeken in Database'!$D$3),\"x\",IF(SEARCH('Zoeken in Database'!$D$3,Concerten!A1010,1),\"x\",\"\")),\"\")","v":"x"},{"$f":"IFERROR(IF(ISBLANK('Zoeken in Database'!$D$4),\"x\",IF(SEARCH('Zoeken in Database'!$D$4,Concerten!B1010,1),\"x\",\"\")),\"\")","v":"x"},{"$f":"IFERROR(IF(ISBLANK('Zoeken in Database'!$D$5),\"x\",IF(SEARCH('Zoeken in Database'!$D$5,Concerten!C1010,1),\"x\",\"\")),\"\")","v":"x"},{"$f":"IFERROR(IF(ISBLANK('Zoeken in Database'!$D$6),\"x\",IF(SEARCH('Zoeken in Database'!$D$6,Concerten!G1010,1),\"x\",\"\")),\"\")","v":"x"},{"$f":"IF(AND(D1010>='Zoeken in Database'!$A$7,'Zoeken in Database'!$A$8>=D1010),\"x\",\"\")","v":"x"}]
["Aplin, Gabrielle","Effenaar","Eindhoven","2012-02-17",null,null,"Voorprogramma",2,2012,{"$f":"VLOOKUP(Table1[[#This Row],[Maand (getal)]],Lijst!A:B,2,FALSE)","v":"feb"},{"$f":"IFERROR(IF(ISBLANK('Zoeken in Database'!$D$3),\"x\",IF(SEARCH('Zoeken in Database'!$D$3,Concerten!A1011,1),\"x\",\"\")),\"\")","v":"x"},{"$f":"IFERROR(IF(ISBLANK('Zoeken in Database'!$D$4),\"x\",IF(SEARCH('Zoeken in Database'!$D$4,Concerten!B1011,1),\"x\",\"\")),\"\")","v":"x"},{"$f":"IFERROR(IF(ISBLANK('Zoeken in Database'!$D$5),\"x\",IF(SEARCH('Zoeken in Database'!$D$5,Concerten!C1011,1),\"x\",\"\")),\"\")","v":"x"},{"$f":"IFERROR(IF(ISBLANK('Zoeken in Database'!$D$6),\"x\",IF(SEARCH('Zoeken in Database'!$D$6,Concerten!G1011,1),\"x\",\"\")),\"\")","v":"x"},{"$f":"IF(AND(D1011>='Zoeken in Database'!$A$7,'Zoeken in Database'!$A$8>=D1011),\"x\",\"\")","v":"x"}]
["Lola Kite","Doornroosje","Nijmegen","2012-02-23",null,null,"Voorprogramma",2,2012,{"$f":"VLOOKUP(Table1[[#This Row],[Maand (getal)]],Lijst!A:B,2,FALSE)","v":"feb"},{"$f":"IFERROR(IF(ISBLANK('Zoeken in Database'!$D$3),\"x\",IF(SEARCH('Zoeken in Database'!$D$3,Concerten!A1012,1),\"x\",\"\")),\"\")","v":"x"},{"$f":"IFERROR(IF(ISBLANK('Zoeken in Database'!$D$4),\"x\",IF(SEARCH('Zoeken in Database'!$D$4,Concerten!B1012,1),\"x\",\"\")),\"\")","v":"x"},{"$f":"IFERROR(IF(ISBLANK('Zoeken in Database'!$D$5),\"x\",IF(SEARCH('Zoeken in Database'!$D$5,Concerten!C1012,1),\"x\",\"\")),\"\")","v":"x"},{"$f":"IFERROR(IF(ISBLANK('Zoeken in Database'!$D$6),\"x\",IF(SEARCH('Zoeken in Database'!$D$6,Concerten!G1012,1),\"x\",\"\")),\"\")","v":"x"},{"$f":"IF(AND(D1012>='Zoeken in Database'!$A$7,'Zoeken in Database'!$A$8>=D1012),\"x\",\"\")","v":"x"}]
["Spinvis","Doornroosje","Nijmegen","2012-02-23","Justine Keller thema \nDe grote zon \nHeel goed nieuws \nAstronaut \nBegin oktober \nRonnie gaat naar huis \nOvervecht \nClub Insomnia \nMare Frigoris \nHet voordeel van video \nEen kindje van God \nRonnie knipt zijn haar \nVoor ik vergeet \nWe vieren het toch \nTot ziens, Justine Keller \nOostende \nKom Terug \nEncore:\nBagagedrager \nIk wil alleen maar zwemmen \nWespen op de appeltaart ",null,"Hoofdprogramma",2,2012,{"$f":"VLOOKUP(Table1[[#This Row],[Maand (getal)]],Lijst!A:B,2,FALSE)","v":"feb"},{"$f":"IFERROR(IF(ISBLANK('Zoeken in Database'!$D$3),\"x\",IF(SEARCH('Zoeken in Database'!$D$3,Concerten!A1013,1),\"x\",\"\")),\"\")","v":"x"},{"$f":"IFERROR(IF(ISBLANK('Zoeken in Database'!$D$4),\"x\",IF(SEARCH('Zoeken in Database'!$D$4,Concerten!B1013,1),\"x\",\"\")),\"\")","v":"x"},{"$f":"IFERROR(IF(ISBLANK('Zoeken in Database'!$D$5),\"x\",IF(SEARCH('Zoeken in Database'!$D$5,Concerten!C1013,1),\"x\",\"\")),\"\")","v":"x"},{"$f":"IFERROR(IF(ISBLANK('Zoeken in Database'!$D$6),\"x\",IF(SEARCH('Zoeken in Database'!$D$6,Concerten!G1013,1),\"x\",\"\")),\"\")","v":"x"},{"$f":"IF(AND(D1013>='Zoeken in Database'!$A$7,'Zoeken in Database'!$A$8>=D1013),\"x\",\"\")","v":"x"}]
["Admiral Freebee","Doornroosje","Nijmegen","2012-03-06",null,"Solo","Hoofdprogramma",3,2012,{"$f":"VLOOKUP(Table1[[#This Row],[Maand (getal)]],Lijst!A:B,2,FALSE)","v":"mrt"},{"$f":"IFERROR(IF(ISBLANK('Zoeken in Database'!$D$3),\"x\",IF(SEARCH('Zoeken in Database'!$D$3,Concerten!A1014,1),\"x\",\"\")),\"\")","v":"x"},{"$f":"IFERROR(IF(ISBLANK('Zoeken in Database'!$D$4),\"x\",IF(SEARCH('Zoeken in Database'!$D$4,Concerten!B1014,1),\"x\",\"\")),\"\")","v":"x"},{"$f":"IFERROR(IF(ISBLANK('Zoeken in Database'!$D$5),\"x\",IF(SEARCH('Zoeken in Database'!$D$5,Concerten!C1014,1),\"x\",\"\")),\"\")","v":"x"},{"$f":"IFERROR(IF(ISBLANK('Zoeken in Database'!$D$6),\"x\",IF(SEARCH('Zoeken in Database'!$D$6,Concerten!G1014,1),\"x\",\"\")),\"\")","v":"x"},{"$f":"IF(AND(D1014>='Zoeken in Database'!$A$7,'Zoeken in Database'!$A$8>=D1014),\"x\",\"\")","v":"x"}]
["Bennie Sings","Doornroosje","Nijmegen","2012-03-15",null,null,"Voorprogramma",3,2012,{"$f":"VLOOKUP(Table1[[#This Row],[Maand (getal)]],Lijst!A:B,2,FALSE)","v":"mrt"},{"$f":"IFERROR(IF(ISBLANK('Zoeken in Database'!$D$3),\"x\",IF(SEARCH('Zoeken in Database'!$D$3,Concerten!A1015,1),\"x\",\"\")),\"\")","v":"x"},{"$f":"IFERROR(IF(ISBLANK('Zoeken in Database'!$D$4),\"x\",IF(SEARCH('Zoeken in Database'!$D$4,Concerten!B1015,1),\"x\",\"\")),\"\")","v":"x"},{"$f":"IFERROR(IF(ISBLANK('Zoeken in Database'!$D$5),\"x\",IF(SEARCH('Zoeken in Database'!$D$5,Concerten!C1015,1),\"x\",\"\")),\"\")","v":"x"},{"$f":"IFERROR(IF(ISBLANK('Zoeken in Database'!$D$6),\"x\",IF(SEARCH('Zoeken in Database'!$D$6,Concerten!G1015,1),\"x\",\"\")),\"\")","v":"x"},{"$f":"IF(AND(D1015>='Zoeken in Database'!$A$7,'Zoeken in Database'!$A$8>=D1015),\"x\",\"\")","v":"x"}]
["Mayer Hawthorne","Doornroosje","Nijmegen","2012-03-15",null,null,"Hoofdprogramma",3,2012,{"$f":"VLOOKUP(Table1[[#This Row],[Maand (getal)]],Lijst!A:B,2,FALSE)","v":"mrt"},{"$f":"IFERROR(IF(ISBLANK('Zoeken in Database'!$D$3),\"x\",IF(SEARCH('Zoeken in Database'!$D$3,Concerten!A1016,1),\"x\",\"\")),\"\")","v":"x"},{"$f":"IFERROR(IF(ISBLANK('Zoeken in Database'!$D$4),\"x\",IF(SEARCH('Zoeken in Database'!$D$4,Concerten!B1016,1),\"x\",\"\")),\"\")","v":"x"},{"$f":"IFERROR(IF(ISBLANK('Zoeken in Database'!$D$5),\"x\",IF(SEARCH('Zoeken in Database'!$D$5,Concerten!C1016,1),\"x\",\"\")),\"\")","v":"x"},{"$f":"IFERROR(IF(ISBLANK('Zoeken in Database'!$D$6),\"x\",IF(SEARCH('Zoeken in Database'!$D$6,Concerten!G1016,1),\"x\",\"\")),\"\")","v":"x"},{"$f":"IF(AND(D1016>='Zoeken in Database'!$A$7,'Zoeken in Database'!$A$8>=D1016),\"x\",\"\")","v":"x"}]
["Dijkshoorn, Nico & Leon Verdonschot","Schouwburg Cuijk","Cuijk","2012-04-07",null,"Samen met Hank 5, Denvis. Programma: Ook Voor Vrouwen","Theater",4,2012,{"$f":"VLOOKUP(Table1[[#This Row],[Maand (getal)]],Lijst!A:B,2,FALSE)","v":"apr"},{"$f":"IFERROR(IF(ISBLANK('Zoeken in Database'!$D$3),\"x\",IF(SEARCH('Zoeken in Database'!$D$3,Concerten!A1017,1),\"x\",\"\")),\"\")","v":"x"},{"$f":"IFERROR(IF(ISBLANK('Zoeken in Database'!$D$4),\"x\",IF(SEARCH('Zoeken in Database'!$D$4,Concerten!B1017,1),\"x\",\"\")),\"\")","v":"x"},{"$f":"IFERROR(IF(ISBLANK('Zoeken in Database'!$D$5),\"x\",IF(SEARCH('Zoeken in Database'!$D$5,Concerten!C1017,1),\"x\",\"\")),\"\")","v":"x"},{"$f":"IFERROR(IF(ISBLANK('Zoeken in Database'!$D$6),\"x\",IF(SEARCH('Zoeken in Database'!$D$6,Concerten!G1017,1),\"x\",\"\")),\"\")","v":"x"},{"$f":"IF(AND(D1017>='Zoeken in Database'!$A$7,'Zoeken in Database'!$A$8>=D1017),\"x\",\"\")","v":"x"}]
["Hannigan, Lisa","Doornroosje","Nijmegen","2012-04-23","Little Bird\nA Sail \nFlowers \nVenn Diagram \nOcean and a Rock \nO Sleep \nPaper House \nLille \nI Don't Know\nSafe Travels, (Don't Die)\nPassenger \nWhat'll I Do \nEncore:\nThe Night They Drove Old Dixie Down (The Band cover)\nKnots ",null,"Hoofdprogramma",4,2012,{"$f":"VLOOKUP(Table1[[#This Row],[Maand (getal)]],Lijst!A:B,2,FALSE)","v":"apr"},{"$f":"IFERROR(IF(ISBLANK('Zoeken in Database'!$D$3),\"x\",IF(SEARCH('Zoeken in Database'!$D$3,Concerten!A1018,1),\"x\",\"\")),\"\")","v":"x"},{"$f":"IFERROR(IF(ISBLANK('Zoeken in Database'!$D$4),\"x\",IF(SEARCH('Zoeken in Database'!$D$4,Concerten!B1018,1),\"x\",\"\")),\"\")","v":"x"},{"$f":"IFERROR(IF(ISBLANK('Zoeken in Database'!$D$5),\"x\",IF(SEARCH('Zoeken in Database'!$D$5,Concerten!C1018,1),\"x\",\"\")),\"\")","v":"x"},{"$f":"IFERROR(IF(ISBLANK('Zoeken in Database'!$D$6),\"x\",IF(SEARCH('Zoeken in Database'!$D$6,Concerten!G1018,1),\"x\",\"\")),\"\")","v":"x"},{"$f":"IF(AND(D1018>='Zoeken in Database'!$A$7,'Zoeken in Database'!$A$8>=D1018),\"x\",\"\")","v":"x"}]
["Smith, John","Doornroosje","Nijmegen","2012-04-23",null,null,"Voorprogramma",4,2012,{"$f":"VLOOKUP(Table1[[#This Row],[Maand (getal)]],Lijst!A:B,2,FALSE)","v":"apr"},{"$f":"IFERROR(IF(ISBLANK('Zoeken in Database'!$D$3),\"x\",IF(SEARCH('Zoeken in Database'!$D$3,Concerten!A1019,1),\"x\",\"\")),\"\")","v":"x"},{"$f":"IFERROR(IF(ISBLANK('Zoeken in Database'!$D$4),\"x\",IF(SEARCH('Zoeken in Database'!$D$4,Concerten!B1019,1),\"x\",\"\")),\"\")","v":"x"},{"$f":"IFERROR(IF(ISBLANK('Zoeken in Database'!$D$5),\"x\",IF(SEARCH('Zoeken in Database'!$D$5,Concerten!C1019,1),\"x\",\"\")),\"\")","v":"x"},{"$f":"IFERROR(IF(ISBLANK('Zoeken in Database'!$D$6),\"x\",IF(SEARCH('Zoeken in Database'!$D$6,Concerten!G1019,1),\"x\",\"\")),\"\")","v":"x"},{"$f":"IF(AND(D1019>='Zoeken in Database'!$A$7,'Zoeken in Database'!$A$8>=D1019),\"x\",\"\")","v":"x"}]
["Ebben, Tommy & The Small Town Villains","Oranjepop 2012","Nijmegen","2012-04-30",null,null,"Festivaloptreden",4,2012,{"$f":"VLOOKUP(Table1[[#This Row],[Maand (getal)]],Lijst!A:B,2,FALSE)","v":"apr"},{"$f":"IFERROR(IF(ISBLANK('Zoeken in Database'!$D$3),\"x\",IF(SEARCH('Zoeken in Database'!$D$3,Concerten!A1020,1),\"x\",\"\")),\"\")","v":"x"},{"$f":"IFERROR(IF(ISBLANK('Zoeken in Database'!$D$4),\"x\",IF(SEARCH('Zoeken in Database'!$D$4,Concerten!B1020,1),\"x\",\"\")),\"\")","v":"x"},{"$f":"IFERROR(IF(ISBLANK('Zoeken in Database'!$D$5),\"x\",IF(SEARCH('Zoeken in Database'!$D$5,Concerten!C1020,1),\"x\",\"\")),\"\")","v":"x"},{"$f":"IFERROR(IF(ISBLANK('Zoeken in Database'!$D$6),\"x\",IF(SEARCH('Zoeken in Database'!$D$6,Concerten!G1020,1),\"x\",\"\")),\"\")","v":"x"},{"$f":"IF(AND(D1020>='Zoeken in Database'!$A$7,'Zoeken in Database'!$A$8>=D1020),\"x\",\"\")","v":"x"}]
["Roosbeef","Oranjepop 2012","Nijmegen","2012-04-30",null,null,"Festivaloptreden",4,2012,{"$f":"VLOOKUP(Table1[[#This Row],[Maand (getal)]],Lijst!A:B,2,FALSE)","v":"apr"},{"$f":"IFERROR(IF(ISBLANK('Zoeken in Database'!$D$3),\"x\",IF(SEARCH('Zoeken in Database'!$D$3,Concerten!A1021,1),\"x\",\"\")),\"\")","v":"x"},{"$f":"IFERROR(IF(ISBLANK('Zoeken in Database'!$D$4),\"x\",IF(SEARCH('Zoeken in Database'!$D$4,Concerten!B1021,1),\"x\",\"\")),\"\")","v":"x"},{"$f":"IFERROR(IF(ISBLANK('Zoeken in Database'!$D$5),\"x\",IF(SEARCH('Zoeken in Database'!$D$5,Concerten!C1021,1),\"x\",\"\")),\"\")","v":"x"},{"$f":"IFERROR(IF(ISBLANK('Zoeken in Database'!$D$6),\"x\",IF(SEARCH('Zoeken in Database'!$D$6,Concerten!G1021,1),\"x\",\"\")),\"\")","v":"x"},{"$f":"IF(AND(D1021>='Zoeken in Database'!$A$7,'Zoeken in Database'!$A$8>=D1021),\"x\",\"\")","v":"x"}]
["Adams, Ryan","Carré","Amsterdam","2012-05-06","Oh My Sweet Carolina\nAshes and Fire\nIf I am a Stranger\nDirty Rain\nWinding Wheel\nRescue Blues (piano)\nPlease Do Not Let Me Go\nDo I Wait\nFirecracker\nEverybody Knows\nSweet Lil' Gal (piano)\nWhy Do They Leave?\nLet It Ride\nEnglish Girls Approximately\nChains of Love\n16 Days\n(Whispering song about Cats - piano)\nNYNY (piano)\nDamn Sam\nJacksonville Skyline\nLucky Now\nCome Pick Me Up\n- - - -\nHoly Diver",null,"Hoofdprogramma",5,2012,{"$f":"VLOOKUP(Table1[[#This Row],[Maand (getal)]],Lijst!A:B,2,FALSE)","v":"mei"},{"$f":"IFERROR(IF(ISBLANK('Zoeken in Database'!$D$3),\"x\",IF(SEARCH('Zoeken in Database'!$D$3,Concerten!A1022,1),\"x\",\"\")),\"\")","v":"x"},{"$f":"IFERROR(IF(ISBLANK('Zoeken in Database'!$D$4),\"x\",IF(SEARCH('Zoeken in Database'!$D$4,Concerten!B1022,1),\"x\",\"\")),\"\")","v":"x"},{"$f":"IFERROR(IF(ISBLANK('Zoeken in Database'!$D$5),\"x\",IF(SEARCH('Zoeken in Database'!$D$5,Concerten!C1022,1),\"x\",\"\")),\"\")","v":"x"},{"$f":"IFERROR(IF(ISBLANK('Zoeken in Database'!$D$6),\"x\",IF(SEARCH('Zoeken in Database'!$D$6,Concerten!G1022,1),\"x\",\"\")),\"\")","v":"x"},{"$f":"IF(AND(D1022>='Zoeken in Database'!$A$7,'Zoeken in Database'!$A$8>=D1022),\"x\",\"\")","v":"x"}]
["Isbell, Jason","Carré","Amsterdam","2012-05-06",null,null,"Voorprogramma",5,2012,{"$f":"VLOOKUP(Table1[[#This Row],[Maand (getal)]],Lijst!A:B,2,FALSE)","v":"mei"},{"$f":"IFERROR(IF(ISBLANK('Zoeken in Database'!$D$3),\"x\",IF(SEARCH('Zoeken in Database'!$D$3,Concerten!A1023,1),\"x\",\"\")),\"\")","v":"x"},{"$f":"IFERROR(IF(ISBLANK('Zoeken in Database'!$D$4),\"x\",IF(SEARCH('Zoeken in Database'!$D$4,Concerten!B1023,1),\"x\",\"\")),\"\")","v":"x"},{"$f":"IFERROR(IF(ISBLANK('Zoeken in Database'!$D$5),\"x\",IF(SEARCH('Zoeken in Database'!$D$5,Concerten!C1023,1),\"x\",\"\")),\"\")","v":"x"},{"$f":"IFERROR(IF(ISBLANK('Zoeken in Database'!$D$6),\"x\",IF(SEARCH('Zoeken in Database'!$D$6,Concerten!G1023,1),\"x\",\"\")),\"\")","v":"x"},{"$f":"IF(AND(D1023>='Zoeken in Database'!$A$7,'Zoeken in Database'!$A$8>=D1023),\"x\",\"\")","v":"x"}]
["Blaudzun","Roepaen","Ottersum","2012-05-13",null,"Acoustic Sessions, Kapel","Hoofdprogramma",5,2012,{"$f":"VLOOKUP(Table1[[#This Row],[Maand (getal)]],Lijst!A:B,2,FALSE)","v":"mei"},{"$f":"IFERROR(IF(ISBLANK('Zoeken in Database'!$D$3),\"x\",IF(SEARCH('Zoeken in Database'!$D$3,Concerten!A1024,1),\"x\",\"\")),\"\")","v":"x"},{"$f":"IFERROR(IF(ISBLANK('Zoeken in Database'!$D$4),\"x\",IF(SEARCH('Zoeken in Database'!$D$4,Concerten!B1024,1),\"x\",\"\")),\"\")","v":"x"},{"$f":"IFERROR(IF(ISBLANK('Zoeken in Database'!$D$5),\"x\",IF(SEARCH('Zoeken in Database'!$D$5,Concerten!C1024,1),\"x\",\"\")),\"\")","v":"x"},{"$f":"IFERROR(IF(ISBLANK('Zoeken in Database'!$D$6),\"x\",IF(SEARCH('Zoeken in Database'!$D$6,Concerten!G1024,1),\"x\",\"\")),\"\")","v":"x"},{"$f":"IF(AND(D1024>='Zoeken in Database'!$A$7,'Zoeken in Database'!$A$8>=D1024),\"x\",\"\")","v":"x"}]
["Tinley, Emmett","Roepaen","Ottersum","2012-05-13",null,"Kapel","Voorprogramma",5,2012,{"$f":"VLOOKUP(Table1[[#This Row],[Maand (getal)]],Lijst!A:B,2,FALSE)","v":"mei"},{"$f":"IFERROR(IF(ISBLANK('Zoeken in Database'!$D$3),\"x\",IF(SEARCH('Zoeken in Database'!$D$3,Concerten!A1025,1),\"x\",\"\")),\"\")","v":"x"},{"$f":"IFERROR(IF(ISBLANK('Zoeken in Database'!$D$4),\"x\",IF(SEARCH('Zoeken in Database'!$D$4,Concerten!B1025,1),\"x\",\"\")),\"\")","v":"x"},{"$f":"IFERROR(IF(ISBLANK('Zoeken in Database'!$D$5),\"x\",IF(SEARCH('Zoeken in Database'!$D$5,Concerten!C1025,1),\"x\",\"\")),\"\")","v":"x"},{"$f":"IFERROR(IF(ISBLANK('Zoeken in Database'!$D$6),\"x\",IF(SEARCH('Zoeken in Database'!$D$6,Concerten!G1025,1),\"x\",\"\")),\"\")","v":"x"},{"$f":"IF(AND(D1025>='Zoeken in Database'!$A$7,'Zoeken in Database'!$A$8>=D1025),\"x\",\"\")","v":"x"}]
["Lohues, Daniel","Lux","Nijmegen","2012-05-14",null,null,"Hoofdprogramma",5,2012,{"$f":"VLOOKUP(Table1[[#This Row],[Maand (getal)]],Lijst!A:B,2,FALSE)","v":"mei"},{"$f":"IFERROR(IF(ISBLANK('Zoeken in Database'!$D$3),\"x\",IF(SEARCH('Zoeken in Database'!$D$3,Concerten!A1026,1),\"x\",\"\")),\"\")","v":"x"},{"$f":"IFERROR(IF(ISBLANK('Zoeken in Database'!$D$4),\"x\",IF(SEARCH('Zoeken in Database'!$D$4,Concerten!B1026,1),\"x\",\"\")),\"\")","v":"x"},{"$f":"IFERROR(IF(ISBLANK('Zoeken in Database'!$D$5),\"x\",IF(SEARCH('Zoeken in Database'!$D$5,Concerten!C1026,1),\"x\",\"\")),\"\")","v":"x"},{"$f":"IFERROR(IF(ISBLANK('Zoeken in Database'!$D$6),\"x\",IF(SEARCH('Zoeken in Database'!$D$6,Concerten!G1026,1),\"x\",\"\")),\"\")","v":"x"},{"$f":"IF(AND(D1026>='Zoeken in Database'!$A$7,'Zoeken in Database'!$A$8>=D1026),\"x\",\"\")","v":"x"}]
["First Aid Kit","Heineken Music Hall","Amsterdam","2012-06-25",null,null,"Voorprogramma",6,2012,{"$f":"VLOOKUP(Table1[[#This Row],[Maand (getal)]],Lijst!A:B,2,FALSE)","v":"jun"},{"$f":"IFERROR(IF(ISBLANK('Zoeken in Database'!$D$3),\"x\",IF(SEARCH('Zoeken in Database'!$D$3,Concerten!A1027,1),\"x\",\"\")),\"\")","v":"x"},{"$f":"IFERROR(IF(ISBLANK('Zoeken in Database'!$D$4),\"x\",IF(SEARCH('Zoeken in Database'!$D$4,Concerten!B1027,1),\"x\",\"\")),\"\")","v":"x"},{"$f":"IFERROR(IF(ISBLANK('Zoeken in Database'!$D$5),\"x\",IF(SEARCH('Zoeken in Database'!$D$5,Concerten!C1027,1),\"x\",\"\")),\"\")","v":"x"},{"$f":"IFERROR(IF(ISBLANK('Zoeken in Database'!$D$6),\"x\",IF(SEARCH('Zoeken in Database'!$D$6,Concerten!G1027,1),\"x\",\"\")),\"\")","v":"x"},{"$f":"IF(AND(D1027>='Zoeken in Database'!$A$7,'Zoeken in Database'!$A$8>=D1027),\"x\",\"\")","v":"x"}]
["White, Jack","Heineken Music Hall","Amsterdam","2012-06-25","Dead Leaves and the Dirty Ground \n(The White Stripes song)\nSixteen Saltines \nMissing Pieces \nLove Interruption \nTop Yourself \n(The Raconteurs song)\nHotel Yorba \n(The White Stripes song)\nWeep Themselves to Sleep \nCannon \n(The White Stripes song) (With John The Revelator snippet)\nBlue Blood Blues \n(The Dead Weather song)\nI Guess I Should Go to Sleep \nWe're Going to Be Friends \n(The White Stripes song)\nYou Know That I Know \n(Hank Williams cover)\nHypocritical Kiss \nBall and Biscuit \n(The White Stripes song)\nEncore:\nSteady, As She Goes \n(The Raconteurs song)\nFreedom At 21 \nCarolina Drama \n(The Raconteurs song)\nSeven Nation Army \n(The White Stripes song)\nGoodnight Irene \n(Leadbelly cover)",null,"Hoofdprogramma",6,2012,{"$f":"VLOOKUP(Table1[[#This Row],[Maand (getal)]],Lijst!A:B,2,FALSE)","v":"jun"},{"$f":"IFERROR(IF(ISBLANK('Zoeken in Database'!$D$3),\"x\",IF(SEARCH('Zoeken in Database'!$D$3,Concerten!A1028,1),\"x\",\"\")),\"\")","v":"x"},{"$f":"IFERROR(IF(ISBLANK('Zoeken in Database'!$D$4),\"x\",IF(SEARCH('Zoeken in Database'!$D$4,Concerten!B1028,1),\"x\",\"\")),\"\")","v":"x"},{"$f":"IFERROR(IF(ISBLANK('Zoeken in Database'!$D$5),\"x\",IF(SEARCH('Zoeken in Database'!$D$5,Concerten!C1028,1),\"x\",\"\")),\"\")","v":"x"},{"$f":"IFERROR(IF(ISBLANK('Zoeken in Database'!$D$6),\"x\",IF(SEARCH('Zoeken in Database'!$D$6,Concerten!G1028,1),\"x\",\"\")),\"\")","v":"x"},{"$f":"IF(AND(D1028>='Zoeken in Database'!$A$7,'Zoeken in Database'!$A$8>=D1028),\"x\",\"\")","v":"x"}]
["dEUS","Goffertpark","Nijmegen","2012-06-30","The Architect \nConstant Now \nSirens \nInstant Street \nIf You Don't Get What You Want \nGirls Keep Drinking \nGhost \nKeep You Close \nHotellounge (Be The Death Of Me) \nQuatre Mains \nRoses \n",null,"Festivaloptreden",{"$f":"IF(ISBLANK(D1029),\"\",MONTH(D1029))","v":6},{"$f":"IF(ISBLANK(D1029),\"\",YEAR(D1029))","v":2012},{"$f":"VLOOKUP(Table1[[#This Row],[Maand (getal)]],Lijst!A:B,2,FALSE)","v":"jun"},{"$f":"IFERROR(IF(ISBLANK('Zoeken in Database'!$D$3),\"x\",IF(SEARCH('Zoeken in Database'!$D$3,Concerten!A1029,1),\"x\",\"\")),\"\")","v":"x"},{"$f":"IFERROR(IF(ISBLANK('Zoeken in Database'!$D$4),\"x\",IF(SEARCH('Zoeken in Database'!$D$4,Concerten!B1029,1),\"x\",\"\")),\"\")","v":"x"},{"$f":"IFERROR(IF(ISBLANK('Zoeken in Database'!$D$5),\"x\",IF(SEARCH('Zoeken in Database'!$D$5,Concerten!C1029,1),\"x\",\"\")),\"\")","v":"x"},{"$f":"IFERROR(IF(ISBLANK('Zoeken in Database'!$D$6),\"x\",IF(SEARCH('Zoeken in Database'!$D$6,Concerten!G1029,1),\"x\",\"\")),\"\")","v":"x"},{"$f":"IF(AND(D1029>='Zoeken in Database'!$A$7,'Zoeken in Database'!$A$8>=D1029),\"x\",\"\")","v":"x"}]
["Elbow","Goffertpark","Nijmegen","2012-06-30","The Birds \nThe Bones of You \nMirrorball \nLeaders of the Free World \nGrounds for Divorce \nThe Loneliness of a Tower Crane Driver \nLippy Kids \nOpen Arms \nOne Day Like This ",null,"Festivaloptreden",6,2012,{"$f":"VLOOKUP(Table1[[#This Row],[Maand (getal)]],Lijst!A:B,2,FALSE)","v":"jun"},{"$f":"IFERROR(IF(ISBLANK('Zoeken in Database'!$D$3),\"x\",IF(SEARCH('Zoeken in Database'!$D$3,Concerten!A1030,1),\"x\",\"\")),\"\")","v":"x"},{"$f":"IFERROR(IF(ISBLANK('Zoeken in Database'!$D$4),\"x\",IF(SEARCH('Zoeken in Database'!$D$4,Concerten!B1030,1),\"x\",\"\")),\"\")","v":"x"},{"$f":"IFERROR(IF(ISBLANK('Zoeken in Database'!$D$5),\"x\",IF(SEARCH('Zoeken in Database'!$D$5,Concerten!C1030,1),\"x\",\"\")),\"\")","v":"x"},{"$f":"IFERROR(IF(ISBLANK('Zoeken in Database'!$D$6),\"x\",IF(SEARCH('Zoeken in Database'!$D$6,Concerten!G1030,1),\"x\",\"\")),\"\")","v":"x"},{"$f":"IF(AND(D1030>='Zoeken in Database'!$A$7,'Zoeken in Database'!$A$8>=D1030),\"x\",\"\")","v":"x"}]
["Snow Patrol","Goffertpark","Nijmegen","2012-06-30","Hands Open \nTake Back The City \nCrack the Shutters \nThis Isn't Everything You Are \nDark Roman Wine \nRun \nIn the End \nNew York \nSet the Fire to the Third Bar \n(with Eva De Roovere)\nMake This Go On Forever \nShut Your Eyes \nChasing Cars \nChocolate \nCalled Out in the Dark \nFallen Empires \nOpen Your Eyes \nEncore:\nLifening \nJust Say Yes ",null,"Festivaloptreden",6,2012,{"$f":"VLOOKUP(Table1[[#This Row],[Maand (getal)]],Lijst!A:B,2,FALSE)","v":"jun"},{"$f":"IFERROR(IF(ISBLANK('Zoeken in Database'!$D$3),\"x\",IF(SEARCH('Zoeken in Database'!$D$3,Concerten!A1031,1),\"x\",\"\")),\"\")","v":"x"},{"$f":"IFERROR(IF(ISBLANK('Zoeken in Database'!$D$4),\"x\",IF(SEARCH('Zoeken in Database'!$D$4,Concerten!B1031,1),\"x\",\"\")),\"\")","v":"x"},{"$f":"IFERROR(IF(ISBLANK('Zoeken in Database'!$D$5),\"x\",IF(SEARCH('Zoeken in Database'!$D$5,Concerten!C1031,1),\"x\",\"\")),\"\")","v":"x"},{"$f":"IFERROR(IF(ISBLANK('Zoeken in Database'!$D$6),\"x\",IF(SEARCH('Zoeken in Database'!$D$6,Concerten!G1031,1),\"x\",\"\")),\"\")","v":"x"},{"$f":"IF(AND(D1031>='Zoeken in Database'!$A$7,'Zoeken in Database'!$A$8>=D1031),\"x\",\"\")","v":"x"}]
["Flogging Molly","Goffertpark","Nijmegen","2012-06-30",null,null,"Festivaloptreden",6,2012,{"$f":"VLOOKUP(Table1[[#This Row],[Maand (getal)]],Lijst!A:B,2,FALSE)","v":"jun"},{"$f":"IFERROR(IF(ISBLANK('Zoeken in Database'!$D$3),\"x\",IF(SEARCH('Zoeken in Database'!$D$3,Concerten!A1032,1),\"x\",\"\")),\"\")","v":"x"},{"$f":"IFERROR(IF(ISBLANK('Zoeken in Database'!$D$4),\"x\",IF(SEARCH('Zoeken in Database'!$D$4,Concerten!B1032,1),\"x\",\"\")),\"\")","v":"x"},{"$f":"IFERROR(IF(ISBLANK('Zoeken in Database'!$D$5),\"x\",IF(SEARCH('Zoeken in Database'!$D$5,Concerten!C1032,1),\"x\",\"\")),\"\")","v":"x"},{"$f":"IFERROR(IF(ISBLANK('Zoeken in Database'!$D$6),\"x\",IF(SEARCH('Zoeken in Database'!$D$6,Concerten!G1032,1),\"x\",\"\")),\"\")","v":"x"},{"$f":"IF(AND(D1032>='Zoeken in Database'!$A$7,'Zoeken in Database'!$A$8>=D1032),\"x\",\"\")","v":"x"}]
["St. Vincent","Doornroosje","Nijmegen","2012-07-10","Marrow \nCheerleader \nChloe in the Afternoon \nSave Me From What I Want \nDilettante \nBlack Rainbow \nCruel \nSurgeon \nChampagne Year \nNeutered Fruit \nYear of the Tiger \nNorthern Lights \nShe Is Beyond Good and Evil \n(The Pop Group cover)\nKrokodil \nEncore:\nThe Party \nYour Lips Are Red ",null,"Hoofdprogramma",7,2012,{"$f":"VLOOKUP(Table1[[#This Row],[Maand (getal)]],Lijst!A:B,2,FALSE)","v":"jul"},{"$f":"IFERROR(IF(ISBLANK('Zoeken in Database'!$D$3),\"x\",IF(SEARCH('Zoeken in Database'!$D$3,Concerten!A1033,1),\"x\",\"\")),\"\")","v":"x"},{"$f":"IFERROR(IF(ISBLANK('Zoeken in Database'!$D$4),\"x\",IF(SEARCH('Zoeken in Database'!$D$4,Concerten!B1033,1),\"x\",\"\")),\"\")","v":"x"},{"$f":"IFERROR(IF(ISBLANK('Zoeken in Database'!$D$5),\"x\",IF(SEARCH('Zoeken in Database'!$D$5,Concerten!C1033,1),\"x\",\"\")),\"\")","v":"x"},{"$f":"IFERROR(IF(ISBLANK('Zoeken in Database'!$D$6),\"x\",IF(SEARCH('Zoeken in Database'!$D$6,Concerten!G1033,1),\"x\",\"\")),\"\")","v":"x"},{"$f":"IF(AND(D1033>='Zoeken in Database'!$A$7,'Zoeken in Database'!$A$8>=D1033),\"x\",\"\")","v":"x"}]
["Mozes and the Firstborn","Tivoli Oudegracht","Utrecht","2012-07-11",null,null,"Voorprogramma",7,2012,{"$f":"VLOOKUP(Table1[[#This Row],[Maand (getal)]],Lijst!A:B,2,FALSE)","v":"jul"},{"$f":"IFERROR(IF(ISBLANK('Zoeken in Database'!$D$3),\"x\",IF(SEARCH('Zoeken in Database'!$D$3,Concerten!A1034,1),\"x\",\"\")),\"\")","v":"x"},{"$f":"IFERROR(IF(ISBLANK('Zoeken in Database'!$D$4),\"x\",IF(SEARCH('Zoeken in Database'!$D$4,Concerten!B1034,1),\"x\",\"\")),\"\")","v":"x"},{"$f":"IFERROR(IF(ISBLANK('Zoeken in Database'!$D$5),\"x\",IF(SEARCH('Zoeken in Database'!$D$5,Concerten!C1034,1),\"x\",\"\")),\"\")","v":"x"},{"$f":"IFERROR(IF(ISBLANK('Zoeken in Database'!$D$6),\"x\",IF(SEARCH('Zoeken in Database'!$D$6,Concerten!G1034,1),\"x\",\"\")),\"\")","v":"x"},{"$f":"IF(AND(D1034>='Zoeken in Database'!$A$7,'Zoeken in Database'!$A$8>=D1034),\"x\",\"\")","v":"x"}]
["Alabama Shakes","Tivoli Oudegracht","Utrecht","2012-07-11",null,null,"Hoofdprogramma",7,2012,{"$f":"VLOOKUP(Table1[[#This Row],[Maand (getal)]],Lijst!A:B,2,FALSE)","v":"jul"},{"$f":"IFERROR(IF(ISBLANK('Zoeken in Database'!$D$3),\"x\",IF(SEARCH('Zoeken in Database'!$D$3,Concerten!A1035,1),\"x\",\"\")),\"\")","v":"x"},{"$f":"IFERROR(IF(ISBLANK('Zoeken in Database'!$D$4),\"x\",IF(SEARCH('Zoeken in Database'!$D$4,Concerten!B1035,1),\"x\",\"\")),\"\")","v":"x"},{"$f":"IFERROR(IF(ISBLANK('Zoeken in Database'!$D$5),\"x\",IF(SEARCH('Zoeken in Database'!$D$5,Concerten!C1035,1),\"x\",\"\")),\"\")","v":"x"},{"$f":"IFERROR(IF(ISBLANK('Zoeken in Database'!$D$6),\"x\",IF(SEARCH('Zoeken in Database'!$D$6,Concerten!G1035,1),\"x\",\"\")),\"\")","v":"x"},{"$f":"IF(AND(D1035>='Zoeken in Database'!$A$7,'Zoeken in Database'!$A$8>=D1035),\"x\",\"\")","v":"x"}]
["Wicked","Circustheater","Scheveningen","2012-07-28",null,null,"Theater",7,2012,{"$f":"VLOOKUP(Table1[[#This Row],[Maand (getal)]],Lijst!A:B,2,FALSE)","v":"jul"},{"$f":"IFERROR(IF(ISBLANK('Zoeken in Database'!$D$3),\"x\",IF(SEARCH('Zoeken in Database'!$D$3,Concerten!A1036,1),\"x\",\"\")),\"\")","v":"x"},{"$f":"IFERROR(IF(ISBLANK('Zoeken in Database'!$D$4),\"x\",IF(SEARCH('Zoeken in Database'!$D$4,Concerten!B1036,1),\"x\",\"\")),\"\")","v":"x"},{"$f":"IFERROR(IF(ISBLANK('Zoeken in Database'!$D$5),\"x\",IF(SEARCH('Zoeken in Database'!$D$5,Concerten!C1036,1),\"x\",\"\")),\"\")","v":"x"},{"$f":"IFERROR(IF(ISBLANK('Zoeken in Database'!$D$6),\"x\",IF(SEARCH('Zoeken in Database'!$D$6,Concerten!G1036,1),\"x\",\"\")),\"\")","v":"x"},{"$f":"IF(AND(D1036>='Zoeken in Database'!$A$7,'Zoeken in Database'!$A$8>=D1036),\"x\",\"\")","v":"x"}]
["Bradley, Charles","Haldern Pop 2012","Haldern","2012-08-09",null,null,"Festivaloptreden",8,2012,{"$f":"VLOOKUP(Table1[[#This Row],[Maand (getal)]],Lijst!A:B,2,FALSE)","v":"aug"},{"$f":"IFERROR(IF(ISBLANK('Zoeken in Database'!$D$3),\"x\",IF(SEARCH('Zoeken in Database'!$D$3,Concerten!A1037,1),\"x\",\"\")),\"\")","v":"x"},{"$f":"IFERROR(IF(ISBLANK('Zoeken in Database'!$D$4),\"x\",IF(SEARCH('Zoeken in Database'!$D$4,Concerten!B1037,1),\"x\",\"\")),\"\")","v":"x"},{"$f":"IFERROR(IF(ISBLANK('Zoeken in Database'!$D$5),\"x\",IF(SEARCH('Zoeken in Database'!$D$5,Concerten!C1037,1),\"x\",\"\")),\"\")","v":"x"},{"$f":"IFERROR(IF(ISBLANK('Zoeken in Database'!$D$6),\"x\",IF(SEARCH('Zoeken in Database'!$D$6,Concerten!G1037,1),\"x\",\"\")),\"\")","v":"x"},{"$f":"IF(AND(D1037>='Zoeken in Database'!$A$7,'Zoeken in Database'!$A$8>=D1037),\"x\",\"\")","v":"x"}]
["Wye Oak","Haldern Pop 2012","Haldern","2012-08-10",null,null,"Festivaloptreden",8,2012,{"$f":"VLOOKUP(Table1[[#This Row],[Maand (getal)]],Lijst!A:B,2,FALSE)","v":"aug"},{"$f":"IFERROR(IF(ISBLANK('Zoeken in Database'!$D$3),\"x\",IF(SEARCH('Zoeken in Database'!$D$3,Concerten!A1038,1),\"x\",\"\")),\"\")","v":"x"},{"$f":"IFERROR(IF(ISBLANK('Zoeken in Database'!$D$4),\"x\",IF(SEARCH('Zoeken in Database'!$D$4,Concerten!B1038,1),\"x\",\"\")),\"\")","v":"x"},{"$f":"IFERROR(IF(ISBLANK('Zoeken in Database'!$D$5),\"x\",IF(SEARCH('Zoeken in Database'!$D$5,Concerten!C1038,1),\"x\",\"\")),\"\")","v":"x"},{"$f":"IFERROR(IF(ISBLANK('Zoeken in Database'!$D$6),\"x\",IF(SEARCH('Zoeken in Database'!$D$6,Concerten!G1038,1),\"x\",\"\")),\"\")","v":"x"},{"$f":"IF(AND(D1038>='Zoeken in Database'!$A$7,'Zoeken in Database'!$A$8>=D1038),\"x\",\"\")","v":"x"}]
["Other Lives","Haldern Pop 2012","Haldern","2012-08-10",null,null,"Festivaloptreden",8,2012,{"$f":"VLOOKUP(Table1[[#This Row],[Maand (getal)]],Lijst!A:B,2,FALSE)","v":"aug"},{"$f":"IFERROR(IF(ISBLANK('Zoeken in Database'!$D$3),\"x\",IF(SEARCH('Zoeken in Database'!$D$3,Concerten!A1039,1),\"x\",\"\")),\"\")","v":"x"},{"$f":"IFERROR(IF(ISBLANK('Zoeken in Database'!$D$4),\"x\",IF(SEARCH('Zoeken in Database'!$D$4,Concerten!B1039,1),\"x\",\"\")),\"\")","v":"x"},{"$f":"IFERROR(IF(ISBLANK('Zoeken in Database'!$D$5),\"x\",IF(SEARCH('Zoeken in Database'!$D$5,Concerten!C1039,1),\"x\",\"\")),\"\")","v":"x"},{"$f":"IFERROR(IF(ISBLANK('Zoeken in Database'!$D$6),\"x\",IF(SEARCH('Zoeken in Database'!$D$6,Concerten!G1039,1),\"x\",\"\")),\"\")","v":"x"},{"$f":"IF(AND(D1039>='Zoeken in Database'!$A$7,'Zoeken in Database'!$A$8>=D1039),\"x\",\"\")","v":"x"}]
["White Rabbits","Haldern Pop 2012","Haldern","2012-08-10",null,null,"Festivaloptreden",8,2012,{"$f":"VLOOKUP(Table1[[#This Row],[Maand (getal)]],Lijst!A:B,2,FALSE)","v":"aug"},{"$f":"IFERROR(IF(ISBLANK('Zoeken in Database'!$D$3),\"x\",IF(SEARCH('Zoeken in Database'!$D$3,Concerten!A1040,1),\"x\",\"\")),\"\")","v":"x"},{"$f":"IFERROR(IF(ISBLANK('Zoeken in Database'!$D$4),\"x\",IF(SEARCH('Zoeken in Database'!$D$4,Concerten!B1040,1),\"x\",\"\")),\"\")","v":"x"},{"$f":"IFERROR(IF(ISBLANK('Zoeken in Database'!$D$5),\"x\",IF(SEARCH('Zoeken in Database'!$D$5,Concerten!C1040,1),\"x\",\"\")),\"\")","v":"x"},{"$f":"IFERROR(IF(ISBLANK('Zoeken in Database'!$D$6),\"x\",IF(SEARCH('Zoeken in Database'!$D$6,Concerten!G1040,1),\"x\",\"\")),\"\")","v":"x"},{"$f":"IF(AND(D1040>='Zoeken in Database'!$A$7,'Zoeken in Database'!$A$8>=D1040),\"x\",\"\")","v":"x"}]
["Howard, Ben","Haldern Pop 2012","Haldern","2012-08-10",null,null,"Festivaloptreden",8,2012,{"$f":"VLOOKUP(Table1[[#This Row],[Maand (getal)]],Lijst!A:B,2,FALSE)","v":"aug"},{"$f":"IFERROR(IF(ISBLANK('Zoeken in Database'!$D$3),\"x\",IF(SEARCH('Zoeken in Database'!$D$3,Concerten!A1041,1),\"x\",\"\")),\"\")","v":"x"},{"$f":"IFERROR(IF(ISBLANK('Zoeken in Database'!$D$4),\"x\",IF(SEARCH('Zoeken in Database'!$D$4,Concerten!B1041,1),\"x\",\"\")),\"\")","v":"x"},{"$f":"IFERROR(IF(ISBLANK('Zoeken in Database'!$D$5),\"x\",IF(SEARCH('Zoeken in Database'!$D$5,Concerten!C1041,1),\"x\",\"\")),\"\")","v":"x"},{"$f":"IFERROR(IF(ISBLANK('Zoeken in Database'!$D$6),\"x\",IF(SEARCH('Zoeken in Database'!$D$6,Concerten!G1041,1),\"x\",\"\")),\"\")","v":"x"},{"$f":"IF(AND(D1041>='Zoeken in Database'!$A$7,'Zoeken in Database'!$A$8>=D1041),\"x\",\"\")","v":"x"}]
["Two Door Cinema Club","Haldern Pop 2012","Haldern","2012-08-10",null,null,"Festivaloptreden",8,2012,{"$f":"VLOOKUP(Table1[[#This Row],[Maand (getal)]],Lijst!A:B,2,FALSE)","v":"aug"},{"$f":"IFERROR(IF(ISBLANK('Zoeken in Database'!$D$3),\"x\",IF(SEARCH('Zoeken in Database'!$D$3,Concerten!A1042,1),\"x\",\"\")),\"\")","v":"x"},{"$f":"IFERROR(IF(ISBLANK('Zoeken in Database'!$D$4),\"x\",IF(SEARCH('Zoeken in Database'!$D$4,Concerten!B1042,1),\"x\",\"\")),\"\")","v":"x"},{"$f":"IFERROR(IF(ISBLANK('Zoeken in Database'!$D$5),\"x\",IF(SEARCH('Zoeken in Database'!$D$5,Concerten!C1042,1),\"x\",\"\")),\"\")","v":"x"},{"$f":"IFERROR(IF(ISBLANK('Zoeken in Database'!$D$6),\"x\",IF(SEARCH('Zoeken in Database'!$D$6,Concerten!G1042,1),\"x\",\"\")),\"\")","v":"x"},{"$f":"IF(AND(D1042>='Zoeken in Database'!$A$7,'Zoeken in Database'!$A$8>=D1042),\"x\",\"\")","v":"x"}]
["Bowerbirds","Haldern Pop 2012","Haldern","2012-08-11",null,null,"Festivaloptreden",8,2012,{"$f":"VLOOKUP(Table1[[#This Row],[Maand (getal)]],Lijst!A:B,2,FALSE)","v":"aug"},{"$f":"IFERROR(IF(ISBLANK('Zoeken in Database'!$D$3),\"x\",IF(SEARCH('Zoeken in Database'!$D$3,Concerten!A1043,1),\"x\",\"\")),\"\")","v":"x"},{"$f":"IFERROR(IF(ISBLANK('Zoeken in Database'!$D$4),\"x\",IF(SEARCH('Zoeken in Database'!$D$4,Concerten!B1043,1),\"x\",\"\")),\"\")","v":"x"},{"$f":"IFERROR(IF(ISBLANK('Zoeken in Database'!$D$5),\"x\",IF(SEARCH('Zoeken in Database'!$D$5,Concerten!C1043,1),\"x\",\"\")),\"\")","v":"x"},{"$f":"IFERROR(IF(ISBLANK('Zoeken in Database'!$D$6),\"x\",IF(SEARCH('Zoeken in Database'!$D$6,Concerten!G1043,1),\"x\",\"\")),\"\")","v":"x"},{"$f":"IF(AND(D1043>='Zoeken in Database'!$A$7,'Zoeken in Database'!$A$8>=D1043),\"x\",\"\")","v":"x"}]
["Team Me","Haldern Pop 2012","Haldern","2012-08-11",null,null,"Festivaloptreden",8,2012,{"$f":"VLOOKUP(Table1[[#This Row],[Maand (getal)]],Lijst!A:B,2,FALSE)","v":"aug"},{"$f":"IFERROR(IF(ISBLANK('Zoeken in Database'!$D$3),\"x\",IF(SEARCH('Zoeken in Database'!$D$3,Concerten!A1044,1),\"x\",\"\")),\"\")","v":"x"},{"$f":"IFERROR(IF(ISBLANK('Zoeken in Database'!$D$4),\"x\",IF(SEARCH('Zoeken in Database'!$D$4,Concerten!B1044,1),\"x\",\"\")),\"\")","v":"x"},{"$f":"IFERROR(IF(ISBLANK('Zoeken in Database'!$D$5),\"x\",IF(SEARCH('Zoeken in Database'!$D$5,Concerten!C1044,1),\"x\",\"\")),\"\")","v":"x"},{"$f":"IFERROR(IF(ISBLANK('Zoeken in Database'!$D$6),\"x\",IF(SEARCH('Zoeken in Database'!$D$6,Concerten!G1044,1),\"x\",\"\")),\"\")","v":"x"},{"$f":"IF(AND(D1044>='Zoeken in Database'!$A$7,'Zoeken in Database'!$A$8>=D1044),\"x\",\"\")","v":"x"}]
["Grant Lee Buffalo","Haldern Pop 2012","Haldern","2012-08-11",null,null,"Festivaloptreden",8,2012,{"$f":"VLOOKUP(Table1[[#This Row],[Maand (getal)]],Lijst!A:B,2,FALSE)","v":"aug"},{"$f":"IFERROR(IF(ISBLANK('Zoeken in Database'!$D$3),\"x\",IF(SEARCH('Zoeken in Database'!$D$3,Concerten!A1045,1),\"x\",\"\")),\"\")","v":"x"},{"$f":"IFERROR(IF(ISBLANK('Zoeken in Database'!$D$4),\"x\",IF(SEARCH('Zoeken in Database'!$D$4,Concerten!B1045,1),\"x\",\"\")),\"\")","v":"x"},{"$f":"IFERROR(IF(ISBLANK('Zoeken in Database'!$D$5),\"x\",IF(SEARCH('Zoeken in Database'!$D$5,Concerten!C1045,1),\"x\",\"\")),\"\")","v":"x"},{"$f":"IFERROR(IF(ISBLANK('Zoeken in Database'!$D$6),\"x\",IF(SEARCH('Zoeken in Database'!$D$6,Concerten!G1045,1),\"x\",\"\")),\"\")","v":"x"},{"$f":"IF(AND(D1045>='Zoeken in Database'!$A$7,'Zoeken in Database'!$A$8>=D1045),\"x\",\"\")","v":"x"}]
["Tune-Yards","Haldern Pop 2012","Haldern","2012-08-11",null,null,"Festivaloptreden",8,2012,{"$f":"VLOOKUP(Table1[[#This Row],[Maand (getal)]],Lijst!A:B,2,FALSE)","v":"aug"},{"$f":"IFERROR(IF(ISBLANK('Zoeken in Database'!$D$3),\"x\",IF(SEARCH('Zoeken in Database'!$D$3,Concerten!A1046,1),\"x\",\"\")),\"\")","v":"x"},{"$f":"IFERROR(IF(ISBLANK('Zoeken in Database'!$D$4),\"x\",IF(SEARCH('Zoeken in Database'!$D$4,Concerten!B1046,1),\"x\",\"\")),\"\")","v":"x"},{"$f":"IFERROR(IF(ISBLANK('Zoeken in Database'!$D$5),\"x\",IF(SEARCH('Zoeken in Database'!$D$5,Concerten!C1046,1),\"x\",\"\")),\"\")","v":"x"},{"$f":"IFERROR(IF(ISBLANK('Zoeken in Database'!$D$6),\"x\",IF(SEARCH('Zoeken in Database'!$D$6,Concerten!G1046,1),\"x\",\"\")),\"\")","v":"x"},{"$f":"IF(AND(D1046>='Zoeken in Database'!$A$7,'Zoeken in Database'!$A$8>=D1046),\"x\",\"\")","v":"x"}]
["Maccabees, The","Haldern Pop 2012","Haldern","2012-08-11",null,null,"Festivaloptreden",8,2012,{"$f":"VLOOKUP(Table1[[#This Row],[Maand (getal)]],Lijst!A:B,2,FALSE)","v":"aug"},{"$f":"IFERROR(IF(ISBLANK('Zoeken in Database'!$D$3),\"x\",IF(SEARCH('Zoeken in Database'!$D$3,Concerten!A1047,1),\"x\",\"\")),\"\")","v":"x"},{"$f":"IFERROR(IF(ISBLANK('Zoeken in Database'!$D$4),\"x\",IF(SEARCH('Zoeken in Database'!$D$4,Concerten!B1047,1),\"x\",\"\")),\"\")","v":"x"},{"$f":"IFERROR(IF(ISBLANK('Zoeken in Database'!$D$5),\"x\",IF(SEARCH('Zoeken in Database'!$D$5,Concerten!C1047,1),\"x\",\"\")),\"\")","v":"x"},{"$f":"IFERROR(IF(ISBLANK('Zoeken in Database'!$D$6),\"x\",IF(SEARCH('Zoeken in Database'!$D$6,Concerten!G1047,1),\"x\",\"\")),\"\")","v":"x"},{"$f":"IF(AND(D1047>='Zoeken in Database'!$A$7,'Zoeken in Database'!$A$8>=D1047),\"x\",\"\")","v":"x"}]
["Afghan Whigs, The","Haldern Pop 2012","Haldern","2012-08-11",null,null,"Festivaloptreden",8,2012,{"$f":"VLOOKUP(Table1[[#This Row],[Maand (getal)]],Lijst!A:B,2,FALSE)","v":"aug"},{"$f":"IFERROR(IF(ISBLANK('Zoeken in Database'!$D$3),\"x\",IF(SEARCH('Zoeken in Database'!$D$3,Concerten!A1048,1),\"x\",\"\")),\"\")","v":"x"},{"$f":"IFERROR(IF(ISBLANK('Zoeken in Database'!$D$4),\"x\",IF(SEARCH('Zoeken in Database'!$D$4,Concerten!B1048,1),\"x\",\"\")),\"\")","v":"x"},{"$f":"IFERROR(IF(ISBLANK('Zoeken in Database'!$D$5),\"x\",IF(SEARCH('Zoeken in Database'!$D$5,Concerten!C1048,1),\"x\",\"\")),\"\")","v":"x"},{"$f":"IFERROR(IF(ISBLANK('Zoeken in Database'!$D$6),\"x\",IF(SEARCH('Zoeken in Database'!$D$6,Concerten!G1048,1),\"x\",\"\")),\"\")","v":"x"},{"$f":"IF(AND(D1048>='Zoeken in Database'!$A$7,'Zoeken in Database'!$A$8>=D1048),\"x\",\"\")","v":"x"}]
["Wilco","Haldern Pop 2012","Haldern","2012-08-11",null,null,"Festivaloptreden",8,2012,{"$f":"VLOOKUP(Table1[[#This Row],[Maand (getal)]],Lijst!A:B,2,FALSE)","v":"aug"},{"$f":"IFERROR(IF(ISBLANK('Zoeken in Database'!$D$3),\"x\",IF(SEARCH('Zoeken in Database'!$D$3,Concerten!A1049,1),\"x\",\"\")),\"\")","v":"x"},{"$f":"IFERROR(IF(ISBLANK('Zoeken in Database'!$D$4),\"x\",IF(SEARCH('Zoeken in Database'!$D$4,Concerten!B1049,1),\"x\",\"\")),\"\")","v":"x"},{"$f":"IFERROR(IF(ISBLANK('Zoeken in Database'!$D$5),\"x\",IF(SEARCH('Zoeken in Database'!$D$5,Concerten!C1049,1),\"x\",\"\")),\"\")","v":"x"},{"$f":"IFERROR(IF(ISBLANK('Zoeken in Database'!$D$6),\"x\",IF(SEARCH('Zoeken in Database'!$D$6,Concerten!G1049,1),\"x\",\"\")),\"\")","v":"x"},{"$f":"IF(AND(D1049>='Zoeken in Database'!$A$7,'Zoeken in Database'!$A$8>=D1049),\"x\",\"\")","v":"x"}]
["Caribou","Ziggo Dome","Amsterdam","2012-10-14","Niobe \nBowls \nJamelia \nOdessa \nSun ",null,"Voorprogramma",10,2012,{"$f":"VLOOKUP(Table1[[#This Row],[Maand (getal)]],Lijst!A:B,2,FALSE)","v":"okt"},{"$f":"IFERROR(IF(ISBLANK('Zoeken in Database'!$D$3),\"x\",IF(SEARCH('Zoeken in Database'!$D$3,Concerten!A1050,1),\"x\",\"\")),\"\")","v":"x"},{"$f":"IFERROR(IF(ISBLANK('Zoeken in Database'!$D$4),\"x\",IF(SEARCH('Zoeken in Database'!$D$4,Concerten!B1050,1),\"x\",\"\")),\"\")","v":"x"},{"$f":"IFERROR(IF(ISBLANK('Zoeken in Database'!$D$5),\"x\",IF(SEARCH('Zoeken in Database'!$D$5,Concerten!C1050,1),\"x\",\"\")),\"\")","v":"x"},{"$f":"IFERROR(IF(ISBLANK('Zoeken in Database'!$D$6),\"x\",IF(SEARCH('Zoeken in Database'!$D$6,Concerten!G1050,1),\"x\",\"\")),\"\")","v":"x"},{"$f":"IF(AND(D1050>='Zoeken in Database'!$A$7,'Zoeken in Database'!$A$8>=D1050),\"x\",\"\")","v":"x"}]
["Radiohead","Ziggo Dome","Amsterdam","2012-10-14","Bloom \nLucky \n15 Step \nKid A \nMyxomatosis \nThe Gloaming \nSeparator \nReckoner \nYou and Whose Army? \nNude \nFul Stop \nLotus Flower \nThere There \nKarma Police \nFeral \nParanoid Android \nEncore:\nGive Up the Ghost \nSupercollider \nMorning Mr. Magpie \nA Wolf at the Door \n(Tour debut)\nBodysnatchers \nEncore 2:\nHow to Disappear Completely \nEverything in Its Right Place \n(w/ Björk's \"Unravel\" intro)\nEncore 3:\nIdioteque",null,"Hoofdprogramma",10,2012,{"$f":"VLOOKUP(Table1[[#This Row],[Maand (getal)]],Lijst!A:B,2,FALSE)","v":"okt"},{"$f":"IFERROR(IF(ISBLANK('Zoeken in Database'!$D$3),\"x\",IF(SEARCH('Zoeken in Database'!$D$3,Concerten!A1051,1),\"x\",\"\")),\"\")","v":"x"},{"$f":"IFERROR(IF(ISBLANK('Zoeken in Database'!$D$4),\"x\",IF(SEARCH('Zoeken in Database'!$D$4,Concerten!B1051,1),\"x\",\"\")),\"\")","v":"x"},{"$f":"IFERROR(IF(ISBLANK('Zoeken in Database'!$D$5),\"x\",IF(SEARCH('Zoeken in Database'!$D$5,Concerten!C1051,1),\"x\",\"\")),\"\")","v":"x"},{"$f":"IFERROR(IF(ISBLANK('Zoeken in Database'!$D$6),\"x\",IF(SEARCH('Zoeken in Database'!$D$6,Concerten!G1051,1),\"x\",\"\")),\"\")","v":"x"},{"$f":"IF(AND(D1051>='Zoeken in Database'!$A$7,'Zoeken in Database'!$A$8>=D1051),\"x\",\"\")","v":"x"}]
["Borneman, Robin","Doornroosje","Nijmegen","2013-01-10",null,null,"Voorprogramma",1,2013,{"$f":"VLOOKUP(Table1[[#This Row],[Maand (getal)]],Lijst!A:B,2,FALSE)","v":"jan"},{"$f":"IFERROR(IF(ISBLANK('Zoeken in Database'!$D$3),\"x\",IF(SEARCH('Zoeken in Database'!$D$3,Concerten!A1052,1),\"x\",\"\")),\"\")","v":"x"},{"$f":"IFERROR(IF(ISBLANK('Zoeken in Database'!$D$4),\"x\",IF(SEARCH('Zoeken in Database'!$D$4,Concerten!B1052,1),\"x\",\"\")),\"\")","v":"x"},{"$f":"IFERROR(IF(ISBLANK('Zoeken in Database'!$D$5),\"x\",IF(SEARCH('Zoeken in Database'!$D$5,Concerten!C1052,1),\"x\",\"\")),\"\")","v":"x"},{"$f":"IFERROR(IF(ISBLANK('Zoeken in Database'!$D$6),\"x\",IF(SEARCH('Zoeken in Database'!$D$6,Concerten!G1052,1),\"x\",\"\")),\"\")","v":"x"},{"$f":"IF(AND(D1052>='Zoeken in Database'!$A$7,'Zoeken in Database'!$A$8>=D1052),\"x\",\"\")","v":"x"}]
["Villagers","Doornroosje","Nijmegen","2013-01-10","Set the Tigers Free \nHome \nThe Pact (I'll Be Your Fever) \nGrateful Song \nPassing a Message \nThe Bell \nBecoming a Jackal \nMy Lighthouse \nRhythm Composer \nThe Meaning of the Ritual \nMemoir \nEarthly Pleasure \nJudgement Call \nNothing Arrived \nThe Waves \nShip of Promises \nEncore:\nThat Day \n(Conor solo)\nIn A New Found Land, You Are Free \nOn This Sunlit Stage ",null,"Hoofdprogramma",1,2013,{"$f":"VLOOKUP(Table1[[#This Row],[Maand (getal)]],Lijst!A:B,2,FALSE)","v":"jan"},{"$f":"IFERROR(IF(ISBLANK('Zoeken in Database'!$D$3),\"x\",IF(SEARCH('Zoeken in Database'!$D$3,Concerten!A1053,1),\"x\",\"\")),\"\")","v":"x"},{"$f":"IFERROR(IF(ISBLANK('Zoeken in Database'!$D$4),\"x\",IF(SEARCH('Zoeken in Database'!$D$4,Concerten!B1053,1),\"x\",\"\")),\"\")","v":"x"},{"$f":"IFERROR(IF(ISBLANK('Zoeken in Database'!$D$5),\"x\",IF(SEARCH('Zoeken in Database'!$D$5,Concerten!C1053,1),\"x\",\"\")),\"\")","v":"x"},{"$f":"IFERROR(IF(ISBLANK('Zoeken in Database'!$D$6),\"x\",IF(SEARCH('Zoeken in Database'!$D$6,Concerten!G1053,1),\"x\",\"\")),\"\")","v":"x"},{"$f":"IF(AND(D1053>='Zoeken in Database'!$A$7,'Zoeken in Database'!$A$8>=D1053),\"x\",\"\")","v":"x"}]
["Felice, Simone","Paradiso","Amsterdam","2013-02-01",null,null,"Voorprogramma",2,2013,{"$f":"VLOOKUP(Table1[[#This Row],[Maand (getal)]],Lijst!A:B,2,FALSE)","v":"feb"},{"$f":"IFERROR(IF(ISBLANK('Zoeken in Database'!$D$3),\"x\",IF(SEARCH('Zoeken in Database'!$D$3,Concerten!A1054,1),\"x\",\"\")),\"\")","v":"x"},{"$f":"IFERROR(IF(ISBLANK('Zoeken in Database'!$D$4),\"x\",IF(SEARCH('Zoeken in Database'!$D$4,Concerten!B1054,1),\"x\",\"\")),\"\")","v":"x"},{"$f":"IFERROR(IF(ISBLANK('Zoeken in Database'!$D$5),\"x\",IF(SEARCH('Zoeken in Database'!$D$5,Concerten!C1054,1),\"x\",\"\")),\"\")","v":"x"},{"$f":"IFERROR(IF(ISBLANK('Zoeken in Database'!$D$6),\"x\",IF(SEARCH('Zoeken in Database'!$D$6,Concerten!G1054,1),\"x\",\"\")),\"\")","v":"x"},{"$f":"IF(AND(D1054>='Zoeken in Database'!$A$7,'Zoeken in Database'!$A$8>=D1054),\"x\",\"\")","v":"x"}]
["Oberst, Conor","Paradiso","Amsterdam","2013-02-01","The Big Picture (Bright Eyes song)\nFirst Day of My Life (Bright Eyes song)\nCommon Knowledge Lenders in the Temple (Conor Oberst and the Mystic Valley Band song)\nCape Canaveral (Conor Oberst and the Mystic Valley Band song)\nNight at Lake Unknown \nClassic Cars (Bright Eyes song)\nGoing for the Gold (Bright Eyes song)\nLadder Song (Bright Eyes song)\nAt the Bottom of Everything (Bright Eyes song)\nShell Games (Bright Eyes song)\nJune on the West Coast (Bright Eyes song)\nLua (Bright Eyes song)\nMap of the World (Monsters of Folk cover)\nWhite Shoes (Conor Oberst and the Mystic Valley Band song)\nLaura Laurent (Bright Eyes song)\nBreezy \nEncore:\nAn Attempt to Tip the Scales (Bright Eyes song)\nMake War (Bright Eyes song)\nWaste of Paint (Bright Eyes song)",null,"Hoofdprogramma",2,2013,{"$f":"VLOOKUP(Table1[[#This Row],[Maand (getal)]],Lijst!A:B,2,FALSE)","v":"feb"},{"$f":"IFERROR(IF(ISBLANK('Zoeken in Database'!$D$3),\"x\",IF(SEARCH('Zoeken in Database'!$D$3,Concerten!A1055,1),\"x\",\"\")),\"\")","v":"x"},{"$f":"IFERROR(IF(ISBLANK('Zoeken in Database'!$D$4),\"x\",IF(SEARCH('Zoeken in Database'!$D$4,Concerten!B1055,1),\"x\",\"\")),\"\")","v":"x"},{"$f":"IFERROR(IF(ISBLANK('Zoeken in Database'!$D$5),\"x\",IF(SEARCH('Zoeken in Database'!$D$5,Concerten!C1055,1),\"x\",\"\")),\"\")","v":"x"},{"$f":"IFERROR(IF(ISBLANK('Zoeken in Database'!$D$6),\"x\",IF(SEARCH('Zoeken in Database'!$D$6,Concerten!G1055,1),\"x\",\"\")),\"\")","v":"x"},{"$f":"IF(AND(D1055>='Zoeken in Database'!$A$7,'Zoeken in Database'!$A$8>=D1055),\"x\",\"\")","v":"x"}]
["Horse Company, The","Merleyn","Nijmegen","2013-02-15","Front Forming \nPoles \nOne Wheel \nWrong Way Out \nRunning \nRandom Hearts \nAeons \nHollow Line \nCalypso",null,"Hoofdprogramma",2,2013,{"$f":"VLOOKUP(Table1[[#This Row],[Maand (getal)]],Lijst!A:B,2,FALSE)","v":"feb"},{"$f":"IFERROR(IF(ISBLANK('Zoeken in Database'!$D$3),\"x\",IF(SEARCH('Zoeken in Database'!$D$3,Concerten!A1056,1),\"x\",\"\")),\"\")","v":"x"},{"$f":"IFERROR(IF(ISBLANK('Zoeken in Database'!$D$4),\"x\",IF(SEARCH('Zoeken in Database'!$D$4,Concerten!B1056,1),\"x\",\"\")),\"\")","v":"x"},{"$f":"IFERROR(IF(ISBLANK('Zoeken in Database'!$D$5),\"x\",IF(SEARCH('Zoeken in Database'!$D$5,Concerten!C1056,1),\"x\",\"\")),\"\")","v":"x"},{"$f":"IFERROR(IF(ISBLANK('Zoeken in Database'!$D$6),\"x\",IF(SEARCH('Zoeken in Database'!$D$6,Concerten!G1056,1),\"x\",\"\")),\"\")","v":"x"},{"$f":"IF(AND(D1056>='Zoeken in Database'!$A$7,'Zoeken in Database'!$A$8>=D1056),\"x\",\"\")","v":"x"}]
["Men, The","Merleyn","Nijmegen","2013-03-20","W/out Face\nElectric\nTurn It\nOpen YR\nI Saw Her\nDiff\nCandy\nAn'thr Nt\nFreaky\nNight Lnd\n-----\nBrass\nPearl",null,"Hoofdprogramma",3,2013,{"$f":"VLOOKUP(Table1[[#This Row],[Maand (getal)]],Lijst!A:B,2,FALSE)","v":"mrt"},{"$f":"IFERROR(IF(ISBLANK('Zoeken in Database'!$D$3),\"x\",IF(SEARCH('Zoeken in Database'!$D$3,Concerten!A1057,1),\"x\",\"\")),\"\")","v":"x"},{"$f":"IFERROR(IF(ISBLANK('Zoeken in Database'!$D$4),\"x\",IF(SEARCH('Zoeken in Database'!$D$4,Concerten!B1057,1),\"x\",\"\")),\"\")","v":"x"},{"$f":"IFERROR(IF(ISBLANK('Zoeken in Database'!$D$5),\"x\",IF(SEARCH('Zoeken in Database'!$D$5,Concerten!C1057,1),\"x\",\"\")),\"\")","v":"x"},{"$f":"IFERROR(IF(ISBLANK('Zoeken in Database'!$D$6),\"x\",IF(SEARCH('Zoeken in Database'!$D$6,Concerten!G1057,1),\"x\",\"\")),\"\")","v":"x"},{"$f":"IF(AND(D1057>='Zoeken in Database'!$A$7,'Zoeken in Database'!$A$8>=D1057),\"x\",\"\")","v":"x"}]
["Eels","Parkstad Limburg Theater","Heerlen","2013-04-04",null,null,"Hoofdprogramma",4,2013,{"$f":"VLOOKUP(Table1[[#This Row],[Maand (getal)]],Lijst!A:B,2,FALSE)","v":"apr"},{"$f":"IFERROR(IF(ISBLANK('Zoeken in Database'!$D$3),\"x\",IF(SEARCH('Zoeken in Database'!$D$3,Concerten!A1058,1),\"x\",\"\")),\"\")","v":"x"},{"$f":"IFERROR(IF(ISBLANK('Zoeken in Database'!$D$4),\"x\",IF(SEARCH('Zoeken in Database'!$D$4,Concerten!B1058,1),\"x\",\"\")),\"\")","v":"x"},{"$f":"IFERROR(IF(ISBLANK('Zoeken in Database'!$D$5),\"x\",IF(SEARCH('Zoeken in Database'!$D$5,Concerten!C1058,1),\"x\",\"\")),\"\")","v":"x"},{"$f":"IFERROR(IF(ISBLANK('Zoeken in Database'!$D$6),\"x\",IF(SEARCH('Zoeken in Database'!$D$6,Concerten!G1058,1),\"x\",\"\")),\"\")","v":"x"},{"$f":"IF(AND(D1058>='Zoeken in Database'!$A$7,'Zoeken in Database'!$A$8>=D1058),\"x\",\"\")","v":"x"}]
["Puddles Pity Party","Parkstad Limburg Theater","Heerlen","2013-04-04",null,null,"Voorprogramma",4,2013,{"$f":"VLOOKUP(Table1[[#This Row],[Maand (getal)]],Lijst!A:B,2,FALSE)","v":"apr"},{"$f":"IFERROR(IF(ISBLANK('Zoeken in Database'!$D$3),\"x\",IF(SEARCH('Zoeken in Database'!$D$3,Concerten!A1059,1),\"x\",\"\")),\"\")","v":"x"},{"$f":"IFERROR(IF(ISBLANK('Zoeken in Database'!$D$4),\"x\",IF(SEARCH('Zoeken in Database'!$D$4,Concerten!B1059,1),\"x\",\"\")),\"\")","v":"x"},{"$f":"IFERROR(IF(ISBLANK('Zoeken in Database'!$D$5),\"x\",IF(SEARCH('Zoeken in Database'!$D$5,Concerten!C1059,1),\"x\",\"\")),\"\")","v":"x"},{"$f":"IFERROR(IF(ISBLANK('Zoeken in Database'!$D$6),\"x\",IF(SEARCH('Zoeken in Database'!$D$6,Concerten!G1059,1),\"x\",\"\")),\"\")","v":"x"},{"$f":"IF(AND(D1059>='Zoeken in Database'!$A$7,'Zoeken in Database'!$A$8>=D1059),\"x\",\"\")","v":"x"}]
["Atkins, Nicole","Parkstad Limburg Theater","Heerlen","2013-04-04",null,null,"Voorprogramma",4,2013,{"$f":"VLOOKUP(Table1[[#This Row],[Maand (getal)]],Lijst!A:B,2,FALSE)","v":"apr"},{"$f":"IFERROR(IF(ISBLANK('Zoeken in Database'!$D$3),\"x\",IF(SEARCH('Zoeken in Database'!$D$3,Concerten!A1060,1),\"x\",\"\")),\"\")","v":"x"},{"$f":"IFERROR(IF(ISBLANK('Zoeken in Database'!$D$4),\"x\",IF(SEARCH('Zoeken in Database'!$D$4,Concerten!B1060,1),\"x\",\"\")),\"\")","v":"x"},{"$f":"IFERROR(IF(ISBLANK('Zoeken in Database'!$D$5),\"x\",IF(SEARCH('Zoeken in Database'!$D$5,Concerten!C1060,1),\"x\",\"\")),\"\")","v":"x"},{"$f":"IFERROR(IF(ISBLANK('Zoeken in Database'!$D$6),\"x\",IF(SEARCH('Zoeken in Database'!$D$6,Concerten!G1060,1),\"x\",\"\")),\"\")","v":"x"},{"$f":"IF(AND(D1060>='Zoeken in Database'!$A$7,'Zoeken in Database'!$A$8>=D1060),\"x\",\"\")","v":"x"}]
["Rose, Lucy","Heineken Music Hall","Amsterdam","2013-04-16",null,null,"Voorprogramma",4,2013,{"$f":"VLOOKUP(Table1[[#This Row],[Maand (getal)]],Lijst!A:B,2,FALSE)","v":"apr"},{"$f":"IFERROR(IF(ISBLANK('Zoeken in Database'!$D$3),\"x\",IF(SEARCH('Zoeken in Database'!$D$3,Concerten!A1061,1),\"x\",\"\")),\"\")","v":"x"},{"$f":"IFERROR(IF(ISBLANK('Zoeken in Database'!$D$4),\"x\",IF(SEARCH('Zoeken in Database'!$D$4,Concerten!B1061,1),\"x\",\"\")),\"\")","v":"x"},{"$f":"IFERROR(IF(ISBLANK('Zoeken in Database'!$D$5),\"x\",IF(SEARCH('Zoeken in Database'!$D$5,Concerten!C1061,1),\"x\",\"\")),\"\")","v":"x"},{"$f":"IFERROR(IF(ISBLANK('Zoeken in Database'!$D$6),\"x\",IF(SEARCH('Zoeken in Database'!$D$6,Concerten!G1061,1),\"x\",\"\")),\"\")","v":"x"},{"$f":"IF(AND(D1061>='Zoeken in Database'!$A$7,'Zoeken in Database'!$A$8>=D1061),\"x\",\"\")","v":"x"}]
["Counting Crows","Heineken Music Hall","Amsterdam","2013-04-16","Round Here \nUntitled (Love Song) (The Romany Rye cover)\nHigh Life \nSt. Robinson in His Cadillac Dream \nHospital (Coby Brown cover)\nColorblind \nAnna Begins \nMiami \nMercy \nIf I Could Give All My Love -or- Richard Manuel Is Dead \nPerfect Blue Buildings \nStart Again (Teenage Fanclub cover)\nRain King \nMercury \nI Wish I Was a Girl \nGoodnight L.A. (not on setlist)\nA Long December \nReturn of the Grievous Angel (Gram Parsons cover)\nHanginaround \n-------------\nWashington Square \nHard Candy \nHoliday in Spain",null,"Hoofdprogramma",4,2013,{"$f":"VLOOKUP(Table1[[#This Row],[Maand (getal)]],Lijst!A:B,2,FALSE)","v":"apr"},{"$f":"IFERROR(IF(ISBLANK('Zoeken in Database'!$D$3),\"x\",IF(SEARCH('Zoeken in Database'!$D$3,Concerten!A1062,1),\"x\",\"\")),\"\")","v":"x"},{"$f":"IFERROR(IF(ISBLANK('Zoeken in Database'!$D$4),\"x\",IF(SEARCH('Zoeken in Database'!$D$4,Concerten!B1062,1),\"x\",\"\")),\"\")","v":"x"},{"$f":"IFERROR(IF(ISBLANK('Zoeken in Database'!$D$5),\"x\",IF(SEARCH('Zoeken in Database'!$D$5,Concerten!C1062,1),\"x\",\"\")),\"\")","v":"x"},{"$f":"IFERROR(IF(ISBLANK('Zoeken in Database'!$D$6),\"x\",IF(SEARCH('Zoeken in Database'!$D$6,Concerten!G1062,1),\"x\",\"\")),\"\")","v":"x"},{"$f":"IF(AND(D1062>='Zoeken in Database'!$A$7,'Zoeken in Database'!$A$8>=D1062),\"x\",\"\")","v":"x"}]
["Royal Parks","Sounds Venlo","Venlo","2013-04-20",null,"instore","Hoofdprogramma",4,2013,{"$f":"VLOOKUP(Table1[[#This Row],[Maand (getal)]],Lijst!A:B,2,FALSE)","v":"apr"},{"$f":"IFERROR(IF(ISBLANK('Zoeken in Database'!$D$3),\"x\",IF(SEARCH('Zoeken in Database'!$D$3,Concerten!A1063,1),\"x\",\"\")),\"\")","v":"x"},{"$f":"IFERROR(IF(ISBLANK('Zoeken in Database'!$D$4),\"x\",IF(SEARCH('Zoeken in Database'!$D$4,Concerten!B1063,1),\"x\",\"\")),\"\")","v":"x"},{"$f":"IFERROR(IF(ISBLANK('Zoeken in Database'!$D$5),\"x\",IF(SEARCH('Zoeken in Database'!$D$5,Concerten!C1063,1),\"x\",\"\")),\"\")","v":"x"},{"$f":"IFERROR(IF(ISBLANK('Zoeken in Database'!$D$6),\"x\",IF(SEARCH('Zoeken in Database'!$D$6,Concerten!G1063,1),\"x\",\"\")),\"\")","v":"x"},{"$f":"IF(AND(D1063>='Zoeken in Database'!$A$7,'Zoeken in Database'!$A$8>=D1063),\"x\",\"\")","v":"x"}]
["Soldaat, Anne","Roepaen","Ottersum","2013-04-21",null,"Corrie van Binsbergen presenteert (met Hans Hasebos en Hermine Deurloo)","Hoofdprogramma",4,2013,{"$f":"VLOOKUP(Table1[[#This Row],[Maand (getal)]],Lijst!A:B,2,FALSE)","v":"apr"},{"$f":"IFERROR(IF(ISBLANK('Zoeken in Database'!$D$3),\"x\",IF(SEARCH('Zoeken in Database'!$D$3,Concerten!A1064,1),\"x\",\"\")),\"\")","v":"x"},{"$f":"IFERROR(IF(ISBLANK('Zoeken in Database'!$D$4),\"x\",IF(SEARCH('Zoeken in Database'!$D$4,Concerten!B1064,1),\"x\",\"\")),\"\")","v":"x"},{"$f":"IFERROR(IF(ISBLANK('Zoeken in Database'!$D$5),\"x\",IF(SEARCH('Zoeken in Database'!$D$5,Concerten!C1064,1),\"x\",\"\")),\"\")","v":"x"},{"$f":"IFERROR(IF(ISBLANK('Zoeken in Database'!$D$6),\"x\",IF(SEARCH('Zoeken in Database'!$D$6,Concerten!G1064,1),\"x\",\"\")),\"\")","v":"x"},{"$f":"IF(AND(D1064>='Zoeken in Database'!$A$7,'Zoeken in Database'!$A$8>=D1064),\"x\",\"\")","v":"x"}]
["Horse Company, The","Tivoli Oudegracht","Utrecht","2013-04-25",null,null,"Voorprogramma",4,2013,{"$f":"VLOOKUP(Table1[[#This Row],[Maand (getal)]],Lijst!A:B,2,FALSE)","v":"apr"},{"$f":"IFERROR(IF(ISBLANK('Zoeken in Database'!$D$3),\"x\",IF(SEARCH('Zoeken in Database'!$D$3,Concerten!A1065,1),\"x\",\"\")),\"\")","v":"x"},{"$f":"IFERROR(IF(ISBLANK('Zoeken in Database'!$D$4),\"x\",IF(SEARCH('Zoeken in Database'!$D$4,Concerten!B1065,1),\"x\",\"\")),\"\")","v":"x"},{"$f":"IFERROR(IF(ISBLANK('Zoeken in Database'!$D$5),\"x\",IF(SEARCH('Zoeken in Database'!$D$5,Concerten!C1065,1),\"x\",\"\")),\"\")","v":"x"},{"$f":"IFERROR(IF(ISBLANK('Zoeken in Database'!$D$6),\"x\",IF(SEARCH('Zoeken in Database'!$D$6,Concerten!G1065,1),\"x\",\"\")),\"\")","v":"x"},{"$f":"IF(AND(D1065>='Zoeken in Database'!$A$7,'Zoeken in Database'!$A$8>=D1065),\"x\",\"\")","v":"x"}]
["Walkmen, The","Tivoli Oudegracht","Utrecht","2013-04-25","Thinking of a Dream I Had \nOn the Water \nIn the New Year \nAngela Surf City \nLine by Line \nBlue as Your Blood \n138th Street \nJuveniles \nThe Rat \nCanadian Girl \nWoe Is Me \nWe Can't Be Beat \nHeaven \n---------\nAll Hands and the Cook \nWhile I Shovel the Snow ",null,"Hoofdprogramma",4,2013,{"$f":"VLOOKUP(Table1[[#This Row],[Maand (getal)]],Lijst!A:B,2,FALSE)","v":"apr"},{"$f":"IFERROR(IF(ISBLANK('Zoeken in Database'!$D$3),\"x\",IF(SEARCH('Zoeken in Database'!$D$3,Concerten!A1066,1),\"x\",\"\")),\"\")","v":"x"},{"$f":"IFERROR(IF(ISBLANK('Zoeken in Database'!$D$4),\"x\",IF(SEARCH('Zoeken in Database'!$D$4,Concerten!B1066,1),\"x\",\"\")),\"\")","v":"x"},{"$f":"IFERROR(IF(ISBLANK('Zoeken in Database'!$D$5),\"x\",IF(SEARCH('Zoeken in Database'!$D$5,Concerten!C1066,1),\"x\",\"\")),\"\")","v":"x"},{"$f":"IFERROR(IF(ISBLANK('Zoeken in Database'!$D$6),\"x\",IF(SEARCH('Zoeken in Database'!$D$6,Concerten!G1066,1),\"x\",\"\")),\"\")","v":"x"},{"$f":"IF(AND(D1066>='Zoeken in Database'!$A$7,'Zoeken in Database'!$A$8>=D1066),\"x\",\"\")","v":"x"}]
["Rouge United","Gele Rijdersplein","Arnhem","2013-04-30",null,"Koninginnedag 2013","Festivaloptreden",4,2013,{"$f":"VLOOKUP(Table1[[#This Row],[Maand (getal)]],Lijst!A:B,2,FALSE)","v":"apr"},{"$f":"IFERROR(IF(ISBLANK('Zoeken in Database'!$D$3),\"x\",IF(SEARCH('Zoeken in Database'!$D$3,Concerten!A1067,1),\"x\",\"\")),\"\")","v":"x"},{"$f":"IFERROR(IF(ISBLANK('Zoeken in Database'!$D$4),\"x\",IF(SEARCH('Zoeken in Database'!$D$4,Concerten!B1067,1),\"x\",\"\")),\"\")","v":"x"},{"$f":"IFERROR(IF(ISBLANK('Zoeken in Database'!$D$5),\"x\",IF(SEARCH('Zoeken in Database'!$D$5,Concerten!C1067,1),\"x\",\"\")),\"\")","v":"x"},{"$f":"IFERROR(IF(ISBLANK('Zoeken in Database'!$D$6),\"x\",IF(SEARCH('Zoeken in Database'!$D$6,Concerten!G1067,1),\"x\",\"\")),\"\")","v":"x"},{"$f":"IF(AND(D1067>='Zoeken in Database'!$A$7,'Zoeken in Database'!$A$8>=D1067),\"x\",\"\")","v":"x"}]
["Bruce Springsteen Undercoversessie (Tommy Ebben)","Gele Rijdersplein","Arnhem","2013-04-30",null,"Koninginnedag 2013","Festivaloptreden",4,2013,{"$f":"VLOOKUP(Table1[[#This Row],[Maand (getal)]],Lijst!A:B,2,FALSE)","v":"apr"},{"$f":"IFERROR(IF(ISBLANK('Zoeken in Database'!$D$3),\"x\",IF(SEARCH('Zoeken in Database'!$D$3,Concerten!A1068,1),\"x\",\"\")),\"\")","v":"x"},{"$f":"IFERROR(IF(ISBLANK('Zoeken in Database'!$D$4),\"x\",IF(SEARCH('Zoeken in Database'!$D$4,Concerten!B1068,1),\"x\",\"\")),\"\")","v":"x"},{"$f":"IFERROR(IF(ISBLANK('Zoeken in Database'!$D$5),\"x\",IF(SEARCH('Zoeken in Database'!$D$5,Concerten!C1068,1),\"x\",\"\")),\"\")","v":"x"},{"$f":"IFERROR(IF(ISBLANK('Zoeken in Database'!$D$6),\"x\",IF(SEARCH('Zoeken in Database'!$D$6,Concerten!G1068,1),\"x\",\"\")),\"\")","v":"x"},{"$f":"IF(AND(D1068>='Zoeken in Database'!$A$7,'Zoeken in Database'!$A$8>=D1068),\"x\",\"\")","v":"x"}]
["Unknown Mortal Orchestra","Merleyn","Nijmegen","2013-05-22",null,null,"Hoofdprogramma",5,2013,{"$f":"VLOOKUP(Table1[[#This Row],[Maand (getal)]],Lijst!A:B,2,FALSE)","v":"mei"},{"$f":"IFERROR(IF(ISBLANK('Zoeken in Database'!$D$3),\"x\",IF(SEARCH('Zoeken in Database'!$D$3,Concerten!A1069,1),\"x\",\"\")),\"\")","v":"x"},{"$f":"IFERROR(IF(ISBLANK('Zoeken in Database'!$D$4),\"x\",IF(SEARCH('Zoeken in Database'!$D$4,Concerten!B1069,1),\"x\",\"\")),\"\")","v":"x"},{"$f":"IFERROR(IF(ISBLANK('Zoeken in Database'!$D$5),\"x\",IF(SEARCH('Zoeken in Database'!$D$5,Concerten!C1069,1),\"x\",\"\")),\"\")","v":"x"},{"$f":"IFERROR(IF(ISBLANK('Zoeken in Database'!$D$6),\"x\",IF(SEARCH('Zoeken in Database'!$D$6,Concerten!G1069,1),\"x\",\"\")),\"\")","v":"x"},{"$f":"IF(AND(D1069>='Zoeken in Database'!$A$7,'Zoeken in Database'!$A$8>=D1069),\"x\",\"\")","v":"x"}]
["Ben Folds Five","The Greek Theatre","Los Angeles","2013-06-23","One Angry Dwarf and 200 Solemn Faces \nSelfless, Cold and Composed \nErase Me \nSky High \nLanded \nDraw A Crowd \nBrick \nDo It Anyway \nUnderground \nSong for the Dumped \nKate \nArmy ","Last Summer On Earth 2013","Festivaloptreden",6,2013,{"$f":"VLOOKUP(Table1[[#This Row],[Maand (getal)]],Lijst!A:B,2,FALSE)","v":"jun"},{"$f":"IFERROR(IF(ISBLANK('Zoeken in Database'!$D$3),\"x\",IF(SEARCH('Zoeken in Database'!$D$3,Concerten!A1070,1),\"x\",\"\")),\"\")","v":"x"},{"$f":"IFERROR(IF(ISBLANK('Zoeken in Database'!$D$4),\"x\",IF(SEARCH('Zoeken in Database'!$D$4,Concerten!B1070,1),\"x\",\"\")),\"\")","v":"x"},{"$f":"IFERROR(IF(ISBLANK('Zoeken in Database'!$D$5),\"x\",IF(SEARCH('Zoeken in Database'!$D$5,Concerten!C1070,1),\"x\",\"\")),\"\")","v":"x"},{"$f":"IFERROR(IF(ISBLANK('Zoeken in Database'!$D$6),\"x\",IF(SEARCH('Zoeken in Database'!$D$6,Concerten!G1070,1),\"x\",\"\")),\"\")","v":"x"},{"$f":"IF(AND(D1070>='Zoeken in Database'!$A$7,'Zoeken in Database'!$A$8>=D1070),\"x\",\"\")","v":"x"}]
["Guster","The Greek Theatre","Los Angeles","2013-06-23","What You Wish For \nArchitects & Engineers \nWhat You Call Love \nCome Downstairs and Say Hello \nDo You Love Me \nRamona \n(with strings)\nSatellite \n(with strings)\nAirport Song \nOne Man Wrecking Machine \nBarrel of a Gun \nThis Could All Be Yours ","Last Summer On Earth 2013","Festivaloptreden",6,2013,{"$f":"VLOOKUP(Table1[[#This Row],[Maand (getal)]],Lijst!A:B,2,FALSE)","v":"jun"},{"$f":"IFERROR(IF(ISBLANK('Zoeken in Database'!$D$3),\"x\",IF(SEARCH('Zoeken in Database'!$D$3,Concerten!A1071,1),\"x\",\"\")),\"\")","v":"x"},{"$f":"IFERROR(IF(ISBLANK('Zoeken in Database'!$D$4),\"x\",IF(SEARCH('Zoeken in Database'!$D$4,Concerten!B1071,1),\"x\",\"\")),\"\")","v":"x"},{"$f":"IFERROR(IF(ISBLANK('Zoeken in Database'!$D$5),\"x\",IF(SEARCH('Zoeken in Database'!$D$5,Concerten!C1071,1),\"x\",\"\")),\"\")","v":"x"},{"$f":"IFERROR(IF(ISBLANK('Zoeken in Database'!$D$6),\"x\",IF(SEARCH('Zoeken in Database'!$D$6,Concerten!G1071,1),\"x\",\"\")),\"\")","v":"x"},{"$f":"IF(AND(D1071>='Zoeken in Database'!$A$7,'Zoeken in Database'!$A$8>=D1071),\"x\",\"\")","v":"x"}]
["Suuns","Doornroosje","Nijmegen","2013-07-03","Red Song \nBambi \nPowers of Ten \nArmed For Peace \nDisappearance of the Skyscraper \nArena \nEdie's Dream \n2020 \nSunspot \nMusic Won't Save You \nEncore:\nPie IX ",null,"Hoofdprogramma",7,2013,{"$f":"VLOOKUP(Table1[[#This Row],[Maand (getal)]],Lijst!A:B,2,FALSE)","v":"jul"},{"$f":"IFERROR(IF(ISBLANK('Zoeken in Database'!$D$3),\"x\",IF(SEARCH('Zoeken in Database'!$D$3,Concerten!A1072,1),\"x\",\"\")),\"\")","v":"x"},{"$f":"IFERROR(IF(ISBLANK('Zoeken in Database'!$D$4),\"x\",IF(SEARCH('Zoeken in Database'!$D$4,Concerten!B1072,1),\"x\",\"\")),\"\")","v":"x"},{"$f":"IFERROR(IF(ISBLANK('Zoeken in Database'!$D$5),\"x\",IF(SEARCH('Zoeken in Database'!$D$5,Concerten!C1072,1),\"x\",\"\")),\"\")","v":"x"},{"$f":"IFERROR(IF(ISBLANK('Zoeken in Database'!$D$6),\"x\",IF(SEARCH('Zoeken in Database'!$D$6,Concerten!G1072,1),\"x\",\"\")),\"\")","v":"x"},{"$f":"IF(AND(D1072>='Zoeken in Database'!$A$7,'Zoeken in Database'!$A$8>=D1072),\"x\",\"\")","v":"x"}]
["Dalt, Lucrecia","Doornroosje","Nijmegen","2013-07-03",null,null,"Voorprogramma",7,2013,{"$f":"VLOOKUP(Table1[[#This Row],[Maand (getal)]],Lijst!A:B,2,FALSE)","v":"jul"},{"$f":"IFERROR(IF(ISBLANK('Zoeken in Database'!$D$3),\"x\",IF(SEARCH('Zoeken in Database'!$D$3,Concerten!A1073,1),\"x\",\"\")),\"\")","v":"x"},{"$f":"IFERROR(IF(ISBLANK('Zoeken in Database'!$D$4),\"x\",IF(SEARCH('Zoeken in Database'!$D$4,Concerten!B1073,1),\"x\",\"\")),\"\")","v":"x"},{"$f":"IFERROR(IF(ISBLANK('Zoeken in Database'!$D$5),\"x\",IF(SEARCH('Zoeken in Database'!$D$5,Concerten!C1073,1),\"x\",\"\")),\"\")","v":"x"},{"$f":"IFERROR(IF(ISBLANK('Zoeken in Database'!$D$6),\"x\",IF(SEARCH('Zoeken in Database'!$D$6,Concerten!G1073,1),\"x\",\"\")),\"\")","v":"x"},{"$f":"IF(AND(D1073>='Zoeken in Database'!$A$7,'Zoeken in Database'!$A$8>=D1073),\"x\",\"\")","v":"x"}]
["Wainwright, Rufus","MC Frits Philips","Eindhoven","2013-07-07","Grey Gardens\nThis Love affair\nMatinee idol\n\nOOTG\nJericho\nRebel Prince\n\nLa complainte de la butte\nMemphis Skyline\nHalleluyah\nLes feux d'artifice\n\n\nCalifornia\nWant \nSanssouci\n\nThe art teacher\nZebulon\nCACM\n\nEncore :\nGoing to a town\nMontauk\nPoses","solo","Hoofdprogramma",7,2013,{"$f":"VLOOKUP(Table1[[#This Row],[Maand (getal)]],Lijst!A:B,2,FALSE)","v":"jul"},{"$f":"IFERROR(IF(ISBLANK('Zoeken in Database'!$D$3),\"x\",IF(SEARCH('Zoeken in Database'!$D$3,Concerten!A1074,1),\"x\",\"\")),\"\")","v":"x"},{"$f":"IFERROR(IF(ISBLANK('Zoeken in Database'!$D$4),\"x\",IF(SEARCH('Zoeken in Database'!$D$4,Concerten!B1074,1),\"x\",\"\")),\"\")","v":"x"},{"$f":"IFERROR(IF(ISBLANK('Zoeken in Database'!$D$5),\"x\",IF(SEARCH('Zoeken in Database'!$D$5,Concerten!C1074,1),\"x\",\"\")),\"\")","v":"x"},{"$f":"IFERROR(IF(ISBLANK('Zoeken in Database'!$D$6),\"x\",IF(SEARCH('Zoeken in Database'!$D$6,Concerten!G1074,1),\"x\",\"\")),\"\")","v":"x"},{"$f":"IF(AND(D1074>='Zoeken in Database'!$A$7,'Zoeken in Database'!$A$8>=D1074),\"x\",\"\")","v":"x"}]
["Dez Mona","O13","Tilburg","2013-07-19",null,null,"Voorprogramma",7,2013,{"$f":"VLOOKUP(Table1[[#This Row],[Maand (getal)]],Lijst!A:B,2,FALSE)","v":"jul"},{"$f":"IFERROR(IF(ISBLANK('Zoeken in Database'!$D$3),\"x\",IF(SEARCH('Zoeken in Database'!$D$3,Concerten!A1075,1),\"x\",\"\")),\"\")","v":"x"},{"$f":"IFERROR(IF(ISBLANK('Zoeken in Database'!$D$4),\"x\",IF(SEARCH('Zoeken in Database'!$D$4,Concerten!B1075,1),\"x\",\"\")),\"\")","v":"x"},{"$f":"IFERROR(IF(ISBLANK('Zoeken in Database'!$D$5),\"x\",IF(SEARCH('Zoeken in Database'!$D$5,Concerten!C1075,1),\"x\",\"\")),\"\")","v":"x"},{"$f":"IFERROR(IF(ISBLANK('Zoeken in Database'!$D$6),\"x\",IF(SEARCH('Zoeken in Database'!$D$6,Concerten!G1075,1),\"x\",\"\")),\"\")","v":"x"},{"$f":"IF(AND(D1075>='Zoeken in Database'!$A$7,'Zoeken in Database'!$A$8>=D1075),\"x\",\"\")","v":"x"}]
["Costello, Elvis","O13","Tilburg","2013-07-19","01. Home Is Anywhere You Hang Your Head\n02. Turpentine\n03. Clubland\n04. Beyond Belief\n05. Everyday I Write The Book\n06. Song With Rose\n07. Cry, Cry, Cry\n08. My All Time Doll\n09. Stations Of The Cross\n10. New Lace Sleeves / Willie And The Hand Jive\n11. Watching The Detectives\n12. Shipbuilding\n13. She\n14. Good Year For The Roses\n15. A Slow Drag With Josephine\n16. Walkin' My Baby Back Home - EC solo\n17. Jimmie Standing In The Rain\n18. Oliver's Army\n19. (I Don't Want To Go To) Chelsea\n20. Pump It Up\n21. (What's So Funny 'Bout) Peace, Love And Understanding?\n22. I Want You - including I Say A Little Prayer and I Believe To My Soul","& The Imposters","Hoofdprogramma",7,2013,{"$f":"VLOOKUP(Table1[[#This Row],[Maand (getal)]],Lijst!A:B,2,FALSE)","v":"jul"},{"$f":"IFERROR(IF(ISBLANK('Zoeken in Database'!$D$3),\"x\",IF(SEARCH('Zoeken in Database'!$D$3,Concerten!A1076,1),\"x\",\"\")),\"\")","v":"x"},{"$f":"IFERROR(IF(ISBLANK('Zoeken in Database'!$D$4),\"x\",IF(SEARCH('Zoeken in Database'!$D$4,Concerten!B1076,1),\"x\",\"\")),\"\")","v":"x"},{"$f":"IFERROR(IF(ISBLANK('Zoeken in Database'!$D$5),\"x\",IF(SEARCH('Zoeken in Database'!$D$5,Concerten!C1076,1),\"x\",\"\")),\"\")","v":"x"},{"$f":"IFERROR(IF(ISBLANK('Zoeken in Database'!$D$6),\"x\",IF(SEARCH('Zoeken in Database'!$D$6,Concerten!G1076,1),\"x\",\"\")),\"\")","v":"x"},{"$f":"IF(AND(D1076>='Zoeken in Database'!$A$7,'Zoeken in Database'!$A$8>=D1076),\"x\",\"\")","v":"x"}]
["Grant, John","Haldern Pop 2013","Haldern","2013-08-08",null,"Spiegelzelt","Festivaloptreden",8,2013,{"$f":"VLOOKUP(Table1[[#This Row],[Maand (getal)]],Lijst!A:B,2,FALSE)","v":"aug"},{"$f":"IFERROR(IF(ISBLANK('Zoeken in Database'!$D$3),\"x\",IF(SEARCH('Zoeken in Database'!$D$3,Concerten!A1077,1),\"x\",\"\")),\"\")","v":"x"},{"$f":"IFERROR(IF(ISBLANK('Zoeken in Database'!$D$4),\"x\",IF(SEARCH('Zoeken in Database'!$D$4,Concerten!B1077,1),\"x\",\"\")),\"\")","v":"x"},{"$f":"IFERROR(IF(ISBLANK('Zoeken in Database'!$D$5),\"x\",IF(SEARCH('Zoeken in Database'!$D$5,Concerten!C1077,1),\"x\",\"\")),\"\")","v":"x"},{"$f":"IFERROR(IF(ISBLANK('Zoeken in Database'!$D$6),\"x\",IF(SEARCH('Zoeken in Database'!$D$6,Concerten!G1077,1),\"x\",\"\")),\"\")","v":"x"},{"$f":"IF(AND(D1077>='Zoeken in Database'!$A$7,'Zoeken in Database'!$A$8>=D1077),\"x\",\"\")","v":"x"}]
["Suuns","Haldern Pop 2013","Haldern","2013-08-08","Bambi \n2020 \nArena \nEdie's Dream \nArmed for Peace \nUp Past the Nursery \nSunspot \nMusic Won't Save You ","Biergarten","Festivaloptreden",8,2013,{"$f":"VLOOKUP(Table1[[#This Row],[Maand (getal)]],Lijst!A:B,2,FALSE)","v":"aug"},{"$f":"IFERROR(IF(ISBLANK('Zoeken in Database'!$D$3),\"x\",IF(SEARCH('Zoeken in Database'!$D$3,Concerten!A1078,1),\"x\",\"\")),\"\")","v":"x"},{"$f":"IFERROR(IF(ISBLANK('Zoeken in Database'!$D$4),\"x\",IF(SEARCH('Zoeken in Database'!$D$4,Concerten!B1078,1),\"x\",\"\")),\"\")","v":"x"},{"$f":"IFERROR(IF(ISBLANK('Zoeken in Database'!$D$5),\"x\",IF(SEARCH('Zoeken in Database'!$D$5,Concerten!C1078,1),\"x\",\"\")),\"\")","v":"x"},{"$f":"IFERROR(IF(ISBLANK('Zoeken in Database'!$D$6),\"x\",IF(SEARCH('Zoeken in Database'!$D$6,Concerten!G1078,1),\"x\",\"\")),\"\")","v":"x"},{"$f":"IF(AND(D1078>='Zoeken in Database'!$A$7,'Zoeken in Database'!$A$8>=D1078),\"x\",\"\")","v":"x"}]
["We Were Promised Jetpacks","Haldern Pop 2013","Haldern","2013-08-08",null,"Biergarten","Festivaloptreden",8,2013,{"$f":"VLOOKUP(Table1[[#This Row],[Maand (getal)]],Lijst!A:B,2,FALSE)","v":"aug"},{"$f":"IFERROR(IF(ISBLANK('Zoeken in Database'!$D$3),\"x\",IF(SEARCH('Zoeken in Database'!$D$3,Concerten!A1079,1),\"x\",\"\")),\"\")","v":"x"},{"$f":"IFERROR(IF(ISBLANK('Zoeken in Database'!$D$4),\"x\",IF(SEARCH('Zoeken in Database'!$D$4,Concerten!B1079,1),\"x\",\"\")),\"\")","v":"x"},{"$f":"IFERROR(IF(ISBLANK('Zoeken in Database'!$D$5),\"x\",IF(SEARCH('Zoeken in Database'!$D$5,Concerten!C1079,1),\"x\",\"\")),\"\")","v":"x"},{"$f":"IFERROR(IF(ISBLANK('Zoeken in Database'!$D$6),\"x\",IF(SEARCH('Zoeken in Database'!$D$6,Concerten!G1079,1),\"x\",\"\")),\"\")","v":"x"},{"$f":"IF(AND(D1079>='Zoeken in Database'!$A$7,'Zoeken in Database'!$A$8>=D1079),\"x\",\"\")","v":"x"}]
["Cronin, Mikal","Haldern Pop 2013","Haldern","2013-08-08",null,"Biergarten","Festivaloptreden",8,2013,{"$f":"VLOOKUP(Table1[[#This Row],[Maand (getal)]],Lijst!A:B,2,FALSE)","v":"aug"},{"$f":"IFERROR(IF(ISBLANK('Zoeken in Database'!$D$3),\"x\",IF(SEARCH('Zoeken in Database'!$D$3,Concerten!A1080,1),\"x\",\"\")),\"\")","v":"x"},{"$f":"IFERROR(IF(ISBLANK('Zoeken in Database'!$D$4),\"x\",IF(SEARCH('Zoeken in Database'!$D$4,Concerten!B1080,1),\"x\",\"\")),\"\")","v":"x"},{"$f":"IFERROR(IF(ISBLANK('Zoeken in Database'!$D$5),\"x\",IF(SEARCH('Zoeken in Database'!$D$5,Concerten!C1080,1),\"x\",\"\")),\"\")","v":"x"},{"$f":"IFERROR(IF(ISBLANK('Zoeken in Database'!$D$6),\"x\",IF(SEARCH('Zoeken in Database'!$D$6,Concerten!G1080,1),\"x\",\"\")),\"\")","v":"x"},{"$f":"IF(AND(D1080>='Zoeken in Database'!$A$7,'Zoeken in Database'!$A$8>=D1080),\"x\",\"\")","v":"x"}]
["Baltazar","Haldern Pop 2013","Haldern","2013-08-09","Lion's Mouth (Daniel) \nLater \nThe Oldest of Sisters \nFifteen Floors \nListen Up \nBlood Like Wine \nSinking Ship \nDo Not Claim Them Anymore ","Spiegelzelt","Festivaloptreden",8,2013,{"$f":"VLOOKUP(Table1[[#This Row],[Maand (getal)]],Lijst!A:B,2,FALSE)","v":"aug"},{"$f":"IFERROR(IF(ISBLANK('Zoeken in Database'!$D$3),\"x\",IF(SEARCH('Zoeken in Database'!$D$3,Concerten!A1081,1),\"x\",\"\")),\"\")","v":"x"},{"$f":"IFERROR(IF(ISBLANK('Zoeken in Database'!$D$4),\"x\",IF(SEARCH('Zoeken in Database'!$D$4,Concerten!B1081,1),\"x\",\"\")),\"\")","v":"x"},{"$f":"IFERROR(IF(ISBLANK('Zoeken in Database'!$D$5),\"x\",IF(SEARCH('Zoeken in Database'!$D$5,Concerten!C1081,1),\"x\",\"\")),\"\")","v":"x"},{"$f":"IFERROR(IF(ISBLANK('Zoeken in Database'!$D$6),\"x\",IF(SEARCH('Zoeken in Database'!$D$6,Concerten!G1081,1),\"x\",\"\")),\"\")","v":"x"},{"$f":"IF(AND(D1081>='Zoeken in Database'!$A$7,'Zoeken in Database'!$A$8>=D1081),\"x\",\"\")","v":"x"}]
["Allah-Las","Haldern Pop 2013","Haldern","2013-08-09",null,"Spiegelzelt","Festivaloptreden",8,2013,{"$f":"VLOOKUP(Table1[[#This Row],[Maand (getal)]],Lijst!A:B,2,FALSE)","v":"aug"},{"$f":"IFERROR(IF(ISBLANK('Zoeken in Database'!$D$3),\"x\",IF(SEARCH('Zoeken in Database'!$D$3,Concerten!A1082,1),\"x\",\"\")),\"\")","v":"x"},{"$f":"IFERROR(IF(ISBLANK('Zoeken in Database'!$D$4),\"x\",IF(SEARCH('Zoeken in Database'!$D$4,Concerten!B1082,1),\"x\",\"\")),\"\")","v":"x"},{"$f":"IFERROR(IF(ISBLANK('Zoeken in Database'!$D$5),\"x\",IF(SEARCH('Zoeken in Database'!$D$5,Concerten!C1082,1),\"x\",\"\")),\"\")","v":"x"},{"$f":"IFERROR(IF(ISBLANK('Zoeken in Database'!$D$6),\"x\",IF(SEARCH('Zoeken in Database'!$D$6,Concerten!G1082,1),\"x\",\"\")),\"\")","v":"x"},{"$f":"IF(AND(D1082>='Zoeken in Database'!$A$7,'Zoeken in Database'!$A$8>=D1082),\"x\",\"\")","v":"x"}]
["Strypes, The","Haldern Pop 2013","Haldern","2013-08-09",null,"Spiegelzelt","Festivaloptreden",8,2013,{"$f":"VLOOKUP(Table1[[#This Row],[Maand (getal)]],Lijst!A:B,2,FALSE)","v":"aug"},{"$f":"IFERROR(IF(ISBLANK('Zoeken in Database'!$D$3),\"x\",IF(SEARCH('Zoeken in Database'!$D$3,Concerten!A1083,1),\"x\",\"\")),\"\")","v":"x"},{"$f":"IFERROR(IF(ISBLANK('Zoeken in Database'!$D$4),\"x\",IF(SEARCH('Zoeken in Database'!$D$4,Concerten!B1083,1),\"x\",\"\")),\"\")","v":"x"},{"$f":"IFERROR(IF(ISBLANK('Zoeken in Database'!$D$5),\"x\",IF(SEARCH('Zoeken in Database'!$D$5,Concerten!C1083,1),\"x\",\"\")),\"\")","v":"x"},{"$f":"IFERROR(IF(ISBLANK('Zoeken in Database'!$D$6),\"x\",IF(SEARCH('Zoeken in Database'!$D$6,Concerten!G1083,1),\"x\",\"\")),\"\")","v":"x"},{"$f":"IF(AND(D1083>='Zoeken in Database'!$A$7,'Zoeken in Database'!$A$8>=D1083),\"x\",\"\")","v":"x"}]
["Hunger, Sophie","Haldern Pop 2013","Haldern","2013-08-09",null,"Hauptbuhne","Festivaloptreden",8,2013,{"$f":"VLOOKUP(Table1[[#This Row],[Maand (getal)]],Lijst!A:B,2,FALSE)","v":"aug"},{"$f":"IFERROR(IF(ISBLANK('Zoeken in Database'!$D$3),\"x\",IF(SEARCH('Zoeken in Database'!$D$3,Concerten!A1084,1),\"x\",\"\")),\"\")","v":"x"},{"$f":"IFERROR(IF(ISBLANK('Zoeken in Database'!$D$4),\"x\",IF(SEARCH('Zoeken in Database'!$D$4,Concerten!B1084,1),\"x\",\"\")),\"\")","v":"x"},{"$f":"IFERROR(IF(ISBLANK('Zoeken in Database'!$D$5),\"x\",IF(SEARCH('Zoeken in Database'!$D$5,Concerten!C1084,1),\"x\",\"\")),\"\")","v":"x"},{"$f":"IFERROR(IF(ISBLANK('Zoeken in Database'!$D$6),\"x\",IF(SEARCH('Zoeken in Database'!$D$6,Concerten!G1084,1),\"x\",\"\")),\"\")","v":"x"},{"$f":"IF(AND(D1084>='Zoeken in Database'!$A$7,'Zoeken in Database'!$A$8>=D1084),\"x\",\"\")","v":"x"}]
["Kettcar","Haldern Pop 2013","Haldern","2013-08-10",null,"Hauptbuhne","Festivaloptreden",8,2013,{"$f":"VLOOKUP(Table1[[#This Row],[Maand (getal)]],Lijst!A:B,2,FALSE)","v":"aug"},{"$f":"IFERROR(IF(ISBLANK('Zoeken in Database'!$D$3),\"x\",IF(SEARCH('Zoeken in Database'!$D$3,Concerten!A1085,1),\"x\",\"\")),\"\")","v":"x"},{"$f":"IFERROR(IF(ISBLANK('Zoeken in Database'!$D$4),\"x\",IF(SEARCH('Zoeken in Database'!$D$4,Concerten!B1085,1),\"x\",\"\")),\"\")","v":"x"},{"$f":"IFERROR(IF(ISBLANK('Zoeken in Database'!$D$5),\"x\",IF(SEARCH('Zoeken in Database'!$D$5,Concerten!C1085,1),\"x\",\"\")),\"\")","v":"x"},{"$f":"IFERROR(IF(ISBLANK('Zoeken in Database'!$D$6),\"x\",IF(SEARCH('Zoeken in Database'!$D$6,Concerten!G1085,1),\"x\",\"\")),\"\")","v":"x"},{"$f":"IF(AND(D1085>='Zoeken in Database'!$A$7,'Zoeken in Database'!$A$8>=D1085),\"x\",\"\")","v":"x"}]
["Local Natives","Haldern Pop 2013","Haldern","2013-08-10",null,"Hauptbuhne","Festivaloptreden",8,2013,{"$f":"VLOOKUP(Table1[[#This Row],[Maand (getal)]],Lijst!A:B,2,FALSE)","v":"aug"},{"$f":"IFERROR(IF(ISBLANK('Zoeken in Database'!$D$3),\"x\",IF(SEARCH('Zoeken in Database'!$D$3,Concerten!A1086,1),\"x\",\"\")),\"\")","v":"x"},{"$f":"IFERROR(IF(ISBLANK('Zoeken in Database'!$D$4),\"x\",IF(SEARCH('Zoeken in Database'!$D$4,Concerten!B1086,1),\"x\",\"\")),\"\")","v":"x"},{"$f":"IFERROR(IF(ISBLANK('Zoeken in Database'!$D$5),\"x\",IF(SEARCH('Zoeken in Database'!$D$5,Concerten!C1086,1),\"x\",\"\")),\"\")","v":"x"},{"$f":"IFERROR(IF(ISBLANK('Zoeken in Database'!$D$6),\"x\",IF(SEARCH('Zoeken in Database'!$D$6,Concerten!G1086,1),\"x\",\"\")),\"\")","v":"x"},{"$f":"IF(AND(D1086>='Zoeken in Database'!$A$7,'Zoeken in Database'!$A$8>=D1086),\"x\",\"\")","v":"x"}]
["Alabama Shakes","Haldern Pop 2013","Haldern","2013-08-10",null,"Hauptbuhne","Festivaloptreden",8,2013,{"$f":"VLOOKUP(Table1[[#This Row],[Maand (getal)]],Lijst!A:B,2,FALSE)","v":"aug"},{"$f":"IFERROR(IF(ISBLANK('Zoeken in Database'!$D$3),\"x\",IF(SEARCH('Zoeken in Database'!$D$3,Concerten!A1087,1),\"x\",\"\")),\"\")","v":"x"},{"$f":"IFERROR(IF(ISBLANK('Zoeken in Database'!$D$4),\"x\",IF(SEARCH('Zoeken in Database'!$D$4,Concerten!B1087,1),\"x\",\"\")),\"\")","v":"x"},{"$f":"IFERROR(IF(ISBLANK('Zoeken in Database'!$D$5),\"x\",IF(SEARCH('Zoeken in Database'!$D$5,Concerten!C1087,1),\"x\",\"\")),\"\")","v":"x"},{"$f":"IFERROR(IF(ISBLANK('Zoeken in Database'!$D$6),\"x\",IF(SEARCH('Zoeken in Database'!$D$6,Concerten!G1087,1),\"x\",\"\")),\"\")","v":"x"},{"$f":"IF(AND(D1087>='Zoeken in Database'!$A$7,'Zoeken in Database'!$A$8>=D1087),\"x\",\"\")","v":"x"}]
["Hansard, Glen","Haldern Pop 2013","Haldern","2013-08-10",null,"Hauptbuhne","Festivaloptreden",8,2013,{"$f":"VLOOKUP(Table1[[#This Row],[Maand (getal)]],Lijst!A:B,2,FALSE)","v":"aug"},{"$f":"IFERROR(IF(ISBLANK('Zoeken in Database'!$D$3),\"x\",IF(SEARCH('Zoeken in Database'!$D$3,Concerten!A1088,1),\"x\",\"\")),\"\")","v":"x"},{"$f":"IFERROR(IF(ISBLANK('Zoeken in Database'!$D$4),\"x\",IF(SEARCH('Zoeken in Database'!$D$4,Concerten!B1088,1),\"x\",\"\")),\"\")","v":"x"},{"$f":"IFERROR(IF(ISBLANK('Zoeken in Database'!$D$5),\"x\",IF(SEARCH('Zoeken in Database'!$D$5,Concerten!C1088,1),\"x\",\"\")),\"\")","v":"x"},{"$f":"IFERROR(IF(ISBLANK('Zoeken in Database'!$D$6),\"x\",IF(SEARCH('Zoeken in Database'!$D$6,Concerten!G1088,1),\"x\",\"\")),\"\")","v":"x"},{"$f":"IF(AND(D1088>='Zoeken in Database'!$A$7,'Zoeken in Database'!$A$8>=D1088),\"x\",\"\")","v":"x"}]
["Spektor, Regina","Haldern Pop 2013","Haldern","2013-08-10",null,"Hauptbuhne","Festivaloptreden",8,2013,{"$f":"VLOOKUP(Table1[[#This Row],[Maand (getal)]],Lijst!A:B,2,FALSE)","v":"aug"},{"$f":"IFERROR(IF(ISBLANK('Zoeken in Database'!$D$3),\"x\",IF(SEARCH('Zoeken in Database'!$D$3,Concerten!A1089,1),\"x\",\"\")),\"\")","v":"x"},{"$f":"IFERROR(IF(ISBLANK('Zoeken in Database'!$D$4),\"x\",IF(SEARCH('Zoeken in Database'!$D$4,Concerten!B1089,1),\"x\",\"\")),\"\")","v":"x"},{"$f":"IFERROR(IF(ISBLANK('Zoeken in Database'!$D$5),\"x\",IF(SEARCH('Zoeken in Database'!$D$5,Concerten!C1089,1),\"x\",\"\")),\"\")","v":"x"},{"$f":"IFERROR(IF(ISBLANK('Zoeken in Database'!$D$6),\"x\",IF(SEARCH('Zoeken in Database'!$D$6,Concerten!G1089,1),\"x\",\"\")),\"\")","v":"x"},{"$f":"IF(AND(D1089>='Zoeken in Database'!$A$7,'Zoeken in Database'!$A$8>=D1089),\"x\",\"\")","v":"x"}]
["Afterpartees, The","Doornroosje","Nijmegen","2013-08-13",null,null,"Voorprogramma",8,2013,{"$f":"VLOOKUP(Table1[[#This Row],[Maand (getal)]],Lijst!A:B,2,FALSE)","v":"aug"},{"$f":"IFERROR(IF(ISBLANK('Zoeken in Database'!$D$3),\"x\",IF(SEARCH('Zoeken in Database'!$D$3,Concerten!A1090,1),\"x\",\"\")),\"\")","v":"x"},{"$f":"IFERROR(IF(ISBLANK('Zoeken in Database'!$D$4),\"x\",IF(SEARCH('Zoeken in Database'!$D$4,Concerten!B1090,1),\"x\",\"\")),\"\")","v":"x"},{"$f":"IFERROR(IF(ISBLANK('Zoeken in Database'!$D$5),\"x\",IF(SEARCH('Zoeken in Database'!$D$5,Concerten!C1090,1),\"x\",\"\")),\"\")","v":"x"},{"$f":"IFERROR(IF(ISBLANK('Zoeken in Database'!$D$6),\"x\",IF(SEARCH('Zoeken in Database'!$D$6,Concerten!G1090,1),\"x\",\"\")),\"\")","v":"x"},{"$f":"IF(AND(D1090>='Zoeken in Database'!$A$7,'Zoeken in Database'!$A$8>=D1090),\"x\",\"\")","v":"x"}]
["Cronin, Mikal","Doornroosje","Nijmegen","2013-08-13","Is It Alright \nSituation \nApathy \nAm I Wrong \nYou Gotta Have Someone \nGet Along \nWeight \nSee It My Way \nShout It Out \nAgain & Again \nChange \nGreen & Blue \nGone \nEncore:\nWhole Wide World ",null,"Hoofdprogramma",8,2013,{"$f":"VLOOKUP(Table1[[#This Row],[Maand (getal)]],Lijst!A:B,2,FALSE)","v":"aug"},{"$f":"IFERROR(IF(ISBLANK('Zoeken in Database'!$D$3),\"x\",IF(SEARCH('Zoeken in Database'!$D$3,Concerten!A1091,1),\"x\",\"\")),\"\")","v":"x"},{"$f":"IFERROR(IF(ISBLANK('Zoeken in Database'!$D$4),\"x\",IF(SEARCH('Zoeken in Database'!$D$4,Concerten!B1091,1),\"x\",\"\")),\"\")","v":"x"},{"$f":"IFERROR(IF(ISBLANK('Zoeken in Database'!$D$5),\"x\",IF(SEARCH('Zoeken in Database'!$D$5,Concerten!C1091,1),\"x\",\"\")),\"\")","v":"x"},{"$f":"IFERROR(IF(ISBLANK('Zoeken in Database'!$D$6),\"x\",IF(SEARCH('Zoeken in Database'!$D$6,Concerten!G1091,1),\"x\",\"\")),\"\")","v":"x"},{"$f":"IF(AND(D1091>='Zoeken in Database'!$A$7,'Zoeken in Database'!$A$8>=D1091),\"x\",\"\")","v":"x"}]
["Miller, Misty","Goffert Openluchttheater","Nijmegen","2013-08-21",null,null,"Voorprogramma",8,2013,{"$f":"VLOOKUP(Table1[[#This Row],[Maand (getal)]],Lijst!A:B,2,FALSE)","v":"aug"},{"$f":"IFERROR(IF(ISBLANK('Zoeken in Database'!$D$3),\"x\",IF(SEARCH('Zoeken in Database'!$D$3,Concerten!A1092,1),\"x\",\"\")),\"\")","v":"x"},{"$f":"IFERROR(IF(ISBLANK('Zoeken in Database'!$D$4),\"x\",IF(SEARCH('Zoeken in Database'!$D$4,Concerten!B1092,1),\"x\",\"\")),\"\")","v":"x"},{"$f":"IFERROR(IF(ISBLANK('Zoeken in Database'!$D$5),\"x\",IF(SEARCH('Zoeken in Database'!$D$5,Concerten!C1092,1),\"x\",\"\")),\"\")","v":"x"},{"$f":"IFERROR(IF(ISBLANK('Zoeken in Database'!$D$6),\"x\",IF(SEARCH('Zoeken in Database'!$D$6,Concerten!G1092,1),\"x\",\"\")),\"\")","v":"x"},{"$f":"IF(AND(D1092>='Zoeken in Database'!$A$7,'Zoeken in Database'!$A$8>=D1092),\"x\",\"\")","v":"x"}]
["Eels","Goffert Openluchttheater","Nijmegen","2013-08-21","Bombs Away \nKinda Fuzzy \nDog Faced Boy \nOh Well \n(Fleetwood Mac cover)\nTremendous Dynamite \nIn My Dreams \nOn the Ropes \nPeach Blossom \nPrizefighter \nThe Turnaround \nFresh Feeling \nThe Sound of Fear \nSaturday Morning \nLet it Be \n(The Beatles cover) ('let it E'-version)\nGo Knuckles! \nSouljacker, Part I \nWonderful, Glorious \nEncore:\nCancer for the Cure \nMy Beloved Monster / Mr. E's Beautiful Blues \nEncore 2:\nBeast of Burden \n(The Rolling Stones cover)\nFresh Blood \nEncore 3:\nOpen My Present \nGo EELS! ",null,"Hoofdprogramma",{"$f":"IF(ISBLANK(D1093),\"\",MONTH(D1093))","v":8},{"$f":"IF(ISBLANK(D1093),\"\",YEAR(D1093))","v":2013},{"$f":"VLOOKUP(Table1[[#This Row],[Maand (getal)]],Lijst!A:B,2,FALSE)","v":"aug"},{"$f":"IFERROR(IF(ISBLANK('Zoeken in Database'!$D$3),\"x\",IF(SEARCH('Zoeken in Database'!$D$3,Concerten!A1093,1),\"x\",\"\")),\"\")","v":"x"},{"$f":"IFERROR(IF(ISBLANK('Zoeken in Database'!$D$4),\"x\",IF(SEARCH('Zoeken in Database'!$D$4,Concerten!B1093,1),\"x\",\"\")),\"\")","v":"x"},{"$f":"IFERROR(IF(ISBLANK('Zoeken in Database'!$D$5),\"x\",IF(SEARCH('Zoeken in Database'!$D$5,Concerten!C1093,1),\"x\",\"\")),\"\")","v":"x"},{"$f":"IFERROR(IF(ISBLANK('Zoeken in Database'!$D$6),\"x\",IF(SEARCH('Zoeken in Database'!$D$6,Concerten!G1093,1),\"x\",\"\")),\"\")","v":"x"},{"$f":"IF(AND(D1093>='Zoeken in Database'!$A$7,'Zoeken in Database'!$A$8>=D1093),\"x\",\"\")","v":"x"}]
["Byrne, David & St. Vincent","Vredenburg Leidsche Rijn","Utrecht","2013-08-25","Who \nWeekend in the Dust \nSave Me From What I Want \n(St. Vincent cover)\nStrange Overtones \n(Brian Eno & David Byrne cover)\nI Am an Ape \nMarrow \n(St. Vincent cover)\nThis Must Be the Place (Naive Melody) \n(Talking Heads cover)\nThe Forest Awakes \nIce Age \nLike Humans Do \n(David Byrne cover)\nLightning \nWild Wild Life \n(Talking Heads cover)\nCheerleader \n(St. Vincent cover)\nLazy \n(David Byrne cover)\nI Should Watch TV \nNorthern Lights \n(St. Vincent cover)\nThe One Who Broke Your Heart \nOutside of Space and Time \nEncore:\nCruel \n(St. Vincent cover)\nBurning Down the House \n(Talking Heads cover)\nEncore 2:\nThe Party \n(St. Vincent cover)\nRoad to Nowhere \n(Talking Heads cover)",null,"Hoofdprogramma",8,2013,{"$f":"VLOOKUP(Table1[[#This Row],[Maand (getal)]],Lijst!A:B,2,FALSE)","v":"aug"},{"$f":"IFERROR(IF(ISBLANK('Zoeken in Database'!$D$3),\"x\",IF(SEARCH('Zoeken in Database'!$D$3,Concerten!A1094,1),\"x\",\"\")),\"\")","v":"x"},{"$f":"IFERROR(IF(ISBLANK('Zoeken in Database'!$D$4),\"x\",IF(SEARCH('Zoeken in Database'!$D$4,Concerten!B1094,1),\"x\",\"\")),\"\")","v":"x"},{"$f":"IFERROR(IF(ISBLANK('Zoeken in Database'!$D$5),\"x\",IF(SEARCH('Zoeken in Database'!$D$5,Concerten!C1094,1),\"x\",\"\")),\"\")","v":"x"},{"$f":"IFERROR(IF(ISBLANK('Zoeken in Database'!$D$6),\"x\",IF(SEARCH('Zoeken in Database'!$D$6,Concerten!G1094,1),\"x\",\"\")),\"\")","v":"x"},{"$f":"IF(AND(D1094>='Zoeken in Database'!$A$7,'Zoeken in Database'!$A$8>=D1094),\"x\",\"\")","v":"x"}]
["Strands Of Oaks","Doornroosje","Nijmegen","2013-08-28",null,null,"Voorprogramma",8,2013,{"$f":"VLOOKUP(Table1[[#This Row],[Maand (getal)]],Lijst!A:B,2,FALSE)","v":"aug"},{"$f":"IFERROR(IF(ISBLANK('Zoeken in Database'!$D$3),\"x\",IF(SEARCH('Zoeken in Database'!$D$3,Concerten!A1095,1),\"x\",\"\")),\"\")","v":"x"},{"$f":"IFERROR(IF(ISBLANK('Zoeken in Database'!$D$4),\"x\",IF(SEARCH('Zoeken in Database'!$D$4,Concerten!B1095,1),\"x\",\"\")),\"\")","v":"x"},{"$f":"IFERROR(IF(ISBLANK('Zoeken in Database'!$D$5),\"x\",IF(SEARCH('Zoeken in Database'!$D$5,Concerten!C1095,1),\"x\",\"\")),\"\")","v":"x"},{"$f":"IFERROR(IF(ISBLANK('Zoeken in Database'!$D$6),\"x\",IF(SEARCH('Zoeken in Database'!$D$6,Concerten!G1095,1),\"x\",\"\")),\"\")","v":"x"},{"$f":"IF(AND(D1095>='Zoeken in Database'!$A$7,'Zoeken in Database'!$A$8>=D1095),\"x\",\"\")","v":"x"}]
["Jurado, Damien","Doornroosje","Nijmegen","2013-08-28","Sheets \nWorking Titles \nMuseum Of Flight \nRachel & Cali \nCloudy Shoes \n(Unknown)\n(new song, Learn To Let Go?)\n(Unknown)\n(new song, Jericho Road?)\nAbilene \nTether \nOhio \nMaraqopa \n(Unknown)\n(new song, Show Me The Way?)\nLife Away From The Garden \nReel To Reel \nArkansas \nJohnny Go Riding \nEncore:\nThe Loneliest Place \nGo First \n(snippet)\nKansas City \nI Am Still Here \nMatinee",null,"Hoofdprogramma",8,2013,{"$f":"VLOOKUP(Table1[[#This Row],[Maand (getal)]],Lijst!A:B,2,FALSE)","v":"aug"},{"$f":"IFERROR(IF(ISBLANK('Zoeken in Database'!$D$3),\"x\",IF(SEARCH('Zoeken in Database'!$D$3,Concerten!A1096,1),\"x\",\"\")),\"\")","v":"x"},{"$f":"IFERROR(IF(ISBLANK('Zoeken in Database'!$D$4),\"x\",IF(SEARCH('Zoeken in Database'!$D$4,Concerten!B1096,1),\"x\",\"\")),\"\")","v":"x"},{"$f":"IFERROR(IF(ISBLANK('Zoeken in Database'!$D$5),\"x\",IF(SEARCH('Zoeken in Database'!$D$5,Concerten!C1096,1),\"x\",\"\")),\"\")","v":"x"},{"$f":"IFERROR(IF(ISBLANK('Zoeken in Database'!$D$6),\"x\",IF(SEARCH('Zoeken in Database'!$D$6,Concerten!G1096,1),\"x\",\"\")),\"\")","v":"x"},{"$f":"IF(AND(D1096>='Zoeken in Database'!$A$7,'Zoeken in Database'!$A$8>=D1096),\"x\",\"\")","v":"x"}]
["Dawes","Merleyn","Nijmegen","2013-09-08","From A Window Seat \nThe Way You Laugh \nMost People \nFire Away \nLove Is All I Am\nBear Witness \nFrom the Right Angle \nSomething in Common \nWhen My Time Comes \nComing Back To A Man \nJust Beneath the Surface \nPeace in the Valley \nTime Spent in Los Angeles \nSomeone Will \nA Little Bit of Everything \nHey Lover\nIf I Wanted Someone",null,"Hoofdprogramma",9,2013,{"$f":"VLOOKUP(Table1[[#This Row],[Maand (getal)]],Lijst!A:B,2,FALSE)","v":"sep"},{"$f":"IFERROR(IF(ISBLANK('Zoeken in Database'!$D$3),\"x\",IF(SEARCH('Zoeken in Database'!$D$3,Concerten!A1097,1),\"x\",\"\")),\"\")","v":"x"},{"$f":"IFERROR(IF(ISBLANK('Zoeken in Database'!$D$4),\"x\",IF(SEARCH('Zoeken in Database'!$D$4,Concerten!B1097,1),\"x\",\"\")),\"\")","v":"x"},{"$f":"IFERROR(IF(ISBLANK('Zoeken in Database'!$D$5),\"x\",IF(SEARCH('Zoeken in Database'!$D$5,Concerten!C1097,1),\"x\",\"\")),\"\")","v":"x"},{"$f":"IFERROR(IF(ISBLANK('Zoeken in Database'!$D$6),\"x\",IF(SEARCH('Zoeken in Database'!$D$6,Concerten!G1097,1),\"x\",\"\")),\"\")","v":"x"},{"$f":"IF(AND(D1097>='Zoeken in Database'!$A$7,'Zoeken in Database'!$A$8>=D1097),\"x\",\"\")","v":"x"}]
["Fullbright, John","Merleyn","Nijmegen","2013-10-01",null,null,"Hoofdprogramma",10,2013,{"$f":"VLOOKUP(Table1[[#This Row],[Maand (getal)]],Lijst!A:B,2,FALSE)","v":"okt"},{"$f":"IFERROR(IF(ISBLANK('Zoeken in Database'!$D$3),\"x\",IF(SEARCH('Zoeken in Database'!$D$3,Concerten!A1098,1),\"x\",\"\")),\"\")","v":"x"},{"$f":"IFERROR(IF(ISBLANK('Zoeken in Database'!$D$4),\"x\",IF(SEARCH('Zoeken in Database'!$D$4,Concerten!B1098,1),\"x\",\"\")),\"\")","v":"x"},{"$f":"IFERROR(IF(ISBLANK('Zoeken in Database'!$D$5),\"x\",IF(SEARCH('Zoeken in Database'!$D$5,Concerten!C1098,1),\"x\",\"\")),\"\")","v":"x"},{"$f":"IFERROR(IF(ISBLANK('Zoeken in Database'!$D$6),\"x\",IF(SEARCH('Zoeken in Database'!$D$6,Concerten!G1098,1),\"x\",\"\")),\"\")","v":"x"},{"$f":"IF(AND(D1098>='Zoeken in Database'!$A$7,'Zoeken in Database'!$A$8>=D1098),\"x\",\"\")","v":"x"}]
["Speace, Amy","Merleyn","Nijmegen","2013-10-01",null,null,"Voorprogramma",10,2013,{"$f":"VLOOKUP(Table1[[#This Row],[Maand (getal)]],Lijst!A:B,2,FALSE)","v":"okt"},{"$f":"IFERROR(IF(ISBLANK('Zoeken in Database'!$D$3),\"x\",IF(SEARCH('Zoeken in Database'!$D$3,Concerten!A1099,1),\"x\",\"\")),\"\")","v":"x"},{"$f":"IFERROR(IF(ISBLANK('Zoeken in Database'!$D$4),\"x\",IF(SEARCH('Zoeken in Database'!$D$4,Concerten!B1099,1),\"x\",\"\")),\"\")","v":"x"},{"$f":"IFERROR(IF(ISBLANK('Zoeken in Database'!$D$5),\"x\",IF(SEARCH('Zoeken in Database'!$D$5,Concerten!C1099,1),\"x\",\"\")),\"\")","v":"x"},{"$f":"IFERROR(IF(ISBLANK('Zoeken in Database'!$D$6),\"x\",IF(SEARCH('Zoeken in Database'!$D$6,Concerten!G1099,1),\"x\",\"\")),\"\")","v":"x"},{"$f":"IF(AND(D1099>='Zoeken in Database'!$A$7,'Zoeken in Database'!$A$8>=D1099),\"x\",\"\")","v":"x"}]
["Fleetwood Mac","Ziggo Dome","Amsterdam","2013-10-07","Second Hand News \nThe Chain \nDreams \nSad Angel \nRhiannon \nNot That Funny \nTusk \nSisters of the Moon \nSara \nBig Love \nLandslide \nNever Going Back Again \nWithout You \nGypsy \nEyes of the World \nGold Dust Woman \nI'm So Afraid \nStand Back \n(Stevie Nicks song)\nGo Your Own Way \nEncore:\nWorld Turning \n(including Drum Solo)\nDon't Stop \nEncore 2:\nSilver Springs \nSay Goodbye ",null,"Hoofdprogramma",10,2013,{"$f":"VLOOKUP(Table1[[#This Row],[Maand (getal)]],Lijst!A:B,2,FALSE)","v":"okt"},{"$f":"IFERROR(IF(ISBLANK('Zoeken in Database'!$D$3),\"x\",IF(SEARCH('Zoeken in Database'!$D$3,Concerten!A1100,1),\"x\",\"\")),\"\")","v":"x"},{"$f":"IFERROR(IF(ISBLANK('Zoeken in Database'!$D$4),\"x\",IF(SEARCH('Zoeken in Database'!$D$4,Concerten!B1100,1),\"x\",\"\")),\"\")","v":"x"},{"$f":"IFERROR(IF(ISBLANK('Zoeken in Database'!$D$5),\"x\",IF(SEARCH('Zoeken in Database'!$D$5,Concerten!C1100,1),\"x\",\"\")),\"\")","v":"x"},{"$f":"IFERROR(IF(ISBLANK('Zoeken in Database'!$D$6),\"x\",IF(SEARCH('Zoeken in Database'!$D$6,Concerten!G1100,1),\"x\",\"\")),\"\")","v":"x"},{"$f":"IF(AND(D1100>='Zoeken in Database'!$A$7,'Zoeken in Database'!$A$8>=D1100),\"x\",\"\")","v":"x"}]
["Kraftwerk","Evoluon","Eindhoven","2013-10-17","Spacelab \nThe Robots \nMetropolis \nNumbers \nComputer World \nHome Computer \nComputer Love \nThe Man-Machine \nThe Model \nNeon Lights \nAutobahn \nTour de France \nPrologue \nTour de France Étape 1 \nChrono \nTour de France Étape 2 \nAirwaves \nIntermission \nNews \nGeiger Counter \nRadioactivity \nOhm Sweet Ohm \nTrans-Europa Express \nAbzug \nMetal on Metal \nBoing Boom Tschak \nTechno Pop \nMusique Non Stop \nEncore:\nAéro Dynamik \nExpo 2000 \nPlanet of Visions\nThe Robots \nMetropolis \nNumbers / Computer World \nHome Computer \nComputer Love \nThe Man-Machine \nThe Model \nNeon Lights \nAutobahn \nTour De France 1983 \nTour De France 2003 \nGeiger Counter \nRadioactivity \nOhm Sweet Ohm \nTrans-Europe Express \nBoing Boom Tschak / Techno Pop / Musique Non Stop \nEncore:\nAéro Dynamik \nVitamin \nElektro Kardiogramm ",null,"Hoofdprogramma",10,2013,{"$f":"VLOOKUP(Table1[[#This Row],[Maand (getal)]],Lijst!A:B,2,FALSE)","v":"okt"},{"$f":"IFERROR(IF(ISBLANK('Zoeken in Database'!$D$3),\"x\",IF(SEARCH('Zoeken in Database'!$D$3,Concerten!A1101,1),\"x\",\"\")),\"\")","v":"x"},{"$f":"IFERROR(IF(ISBLANK('Zoeken in Database'!$D$4),\"x\",IF(SEARCH('Zoeken in Database'!$D$4,Concerten!B1101,1),\"x\",\"\")),\"\")","v":"x"},{"$f":"IFERROR(IF(ISBLANK('Zoeken in Database'!$D$5),\"x\",IF(SEARCH('Zoeken in Database'!$D$5,Concerten!C1101,1),\"x\",\"\")),\"\")","v":"x"},{"$f":"IFERROR(IF(ISBLANK('Zoeken in Database'!$D$6),\"x\",IF(SEARCH('Zoeken in Database'!$D$6,Concerten!G1101,1),\"x\",\"\")),\"\")","v":"x"},{"$f":"IF(AND(D1101>='Zoeken in Database'!$A$7,'Zoeken in Database'!$A$8>=D1101),\"x\",\"\")","v":"x"}]
["Merritt, Tift","Lindenberg","Nijmegen","2013-11-01",null,null,"Voorprogramma",11,2013,{"$f":"VLOOKUP(Table1[[#This Row],[Maand (getal)]],Lijst!A:B,2,FALSE)","v":"nov"},{"$f":"IFERROR(IF(ISBLANK('Zoeken in Database'!$D$3),\"x\",IF(SEARCH('Zoeken in Database'!$D$3,Concerten!A1102,1),\"x\",\"\")),\"\")","v":"x"},{"$f":"IFERROR(IF(ISBLANK('Zoeken in Database'!$D$4),\"x\",IF(SEARCH('Zoeken in Database'!$D$4,Concerten!B1102,1),\"x\",\"\")),\"\")","v":"x"},{"$f":"IFERROR(IF(ISBLANK('Zoeken in Database'!$D$5),\"x\",IF(SEARCH('Zoeken in Database'!$D$5,Concerten!C1102,1),\"x\",\"\")),\"\")","v":"x"},{"$f":"IFERROR(IF(ISBLANK('Zoeken in Database'!$D$6),\"x\",IF(SEARCH('Zoeken in Database'!$D$6,Concerten!G1102,1),\"x\",\"\")),\"\")","v":"x"},{"$f":"IF(AND(D1102>='Zoeken in Database'!$A$7,'Zoeken in Database'!$A$8>=D1102),\"x\",\"\")","v":"x"}]
["Ritter, Josh","Lindenberg","Nijmegen","2013-11-01",null,null,"Hoofdprogramma",11,2013,{"$f":"VLOOKUP(Table1[[#This Row],[Maand (getal)]],Lijst!A:B,2,FALSE)","v":"nov"},{"$f":"IFERROR(IF(ISBLANK('Zoeken in Database'!$D$3),\"x\",IF(SEARCH('Zoeken in Database'!$D$3,Concerten!A1103,1),\"x\",\"\")),\"\")","v":"x"},{"$f":"IFERROR(IF(ISBLANK('Zoeken in Database'!$D$4),\"x\",IF(SEARCH('Zoeken in Database'!$D$4,Concerten!B1103,1),\"x\",\"\")),\"\")","v":"x"},{"$f":"IFERROR(IF(ISBLANK('Zoeken in Database'!$D$5),\"x\",IF(SEARCH('Zoeken in Database'!$D$5,Concerten!C1103,1),\"x\",\"\")),\"\")","v":"x"},{"$f":"IFERROR(IF(ISBLANK('Zoeken in Database'!$D$6),\"x\",IF(SEARCH('Zoeken in Database'!$D$6,Concerten!G1103,1),\"x\",\"\")),\"\")","v":"x"},{"$f":"IF(AND(D1103>='Zoeken in Database'!$A$7,'Zoeken in Database'!$A$8>=D1103),\"x\",\"\")","v":"x"}]
["National, The","Heineken Music Hall","Amsterdam","2013-11-07","I Should Live in Salt \nDon't Swallow the Cap \nAnyone's Ghost \nBloodbuzz Ohio \nDemons \nSea of Love \nHard to Find \nAfraid of Everyone \nConversation 16 \nAvailable \n(w/ snippet from Cardinal Song)\nI Need My Girl \nThis Is the Last Time \nAll the Wine \nAbel \nSlow Show \nSorrow \nPink Rabbits \nEngland \nGraceless \nFake Empire \nEncore:\nAbout Today \nHumiliation \nMr. November \nTerrible Love ",null,"Hoofdprogramma",11,2013,{"$f":"VLOOKUP(Table1[[#This Row],[Maand (getal)]],Lijst!A:B,2,FALSE)","v":"nov"},{"$f":"IFERROR(IF(ISBLANK('Zoeken in Database'!$D$3),\"x\",IF(SEARCH('Zoeken in Database'!$D$3,Concerten!A1104,1),\"x\",\"\")),\"\")","v":"x"},{"$f":"IFERROR(IF(ISBLANK('Zoeken in Database'!$D$4),\"x\",IF(SEARCH('Zoeken in Database'!$D$4,Concerten!B1104,1),\"x\",\"\")),\"\")","v":"x"},{"$f":"IFERROR(IF(ISBLANK('Zoeken in Database'!$D$5),\"x\",IF(SEARCH('Zoeken in Database'!$D$5,Concerten!C1104,1),\"x\",\"\")),\"\")","v":"x"},{"$f":"IFERROR(IF(ISBLANK('Zoeken in Database'!$D$6),\"x\",IF(SEARCH('Zoeken in Database'!$D$6,Concerten!G1104,1),\"x\",\"\")),\"\")","v":"x"},{"$f":"IF(AND(D1104>='Zoeken in Database'!$A$7,'Zoeken in Database'!$A$8>=D1104),\"x\",\"\")","v":"x"}]
["This Is The Kit","Heineken Music Hall","Amsterdam","2013-11-07","(Unknown)\n(Unknown)\nEasy Pickings \nWednesday \nEarthquake \nTwo Wooden Spoons \n(Unknown)\nBashed Out ",null,"Voorprogramma",11,2013,{"$f":"VLOOKUP(Table1[[#This Row],[Maand (getal)]],Lijst!A:B,2,FALSE)","v":"nov"},{"$f":"IFERROR(IF(ISBLANK('Zoeken in Database'!$D$3),\"x\",IF(SEARCH('Zoeken in Database'!$D$3,Concerten!A1105,1),\"x\",\"\")),\"\")","v":"x"},{"$f":"IFERROR(IF(ISBLANK('Zoeken in Database'!$D$4),\"x\",IF(SEARCH('Zoeken in Database'!$D$4,Concerten!B1105,1),\"x\",\"\")),\"\")","v":"x"},{"$f":"IFERROR(IF(ISBLANK('Zoeken in Database'!$D$5),\"x\",IF(SEARCH('Zoeken in Database'!$D$5,Concerten!C1105,1),\"x\",\"\")),\"\")","v":"x"},{"$f":"IFERROR(IF(ISBLANK('Zoeken in Database'!$D$6),\"x\",IF(SEARCH('Zoeken in Database'!$D$6,Concerten!G1105,1),\"x\",\"\")),\"\")","v":"x"},{"$f":"IF(AND(D1105>='Zoeken in Database'!$A$7,'Zoeken in Database'!$A$8>=D1105),\"x\",\"\")","v":"x"}]
["Low","Lux","Nijmegen","2013-11-12","Shame \nCanada \nOn My Own \nPlastic Cup \nClarence White \nHoly Ghost \nNothing But Heart \nJust Make It Stop \nMonkey \nMurderer \nEncore:\nStay \n(Rihanna cover)\nDinosaur Act \nI Hear... Goodnight ",null,"Hoofdprogramma",11,2013,{"$f":"VLOOKUP(Table1[[#This Row],[Maand (getal)]],Lijst!A:B,2,FALSE)","v":"nov"},{"$f":"IFERROR(IF(ISBLANK('Zoeken in Database'!$D$3),\"x\",IF(SEARCH('Zoeken in Database'!$D$3,Concerten!A1106,1),\"x\",\"\")),\"\")","v":"x"},{"$f":"IFERROR(IF(ISBLANK('Zoeken in Database'!$D$4),\"x\",IF(SEARCH('Zoeken in Database'!$D$4,Concerten!B1106,1),\"x\",\"\")),\"\")","v":"x"},{"$f":"IFERROR(IF(ISBLANK('Zoeken in Database'!$D$5),\"x\",IF(SEARCH('Zoeken in Database'!$D$5,Concerten!C1106,1),\"x\",\"\")),\"\")","v":"x"},{"$f":"IFERROR(IF(ISBLANK('Zoeken in Database'!$D$6),\"x\",IF(SEARCH('Zoeken in Database'!$D$6,Concerten!G1106,1),\"x\",\"\")),\"\")","v":"x"},{"$f":"IF(AND(D1106>='Zoeken in Database'!$A$7,'Zoeken in Database'!$A$8>=D1106),\"x\",\"\")","v":"x"}]
["Dirk Serries' Microphonics","Lux","Nijmegen","2013-11-12",null,null,"Voorprogramma",11,2013,{"$f":"VLOOKUP(Table1[[#This Row],[Maand (getal)]],Lijst!A:B,2,FALSE)","v":"nov"},{"$f":"IFERROR(IF(ISBLANK('Zoeken in Database'!$D$3),\"x\",IF(SEARCH('Zoeken in Database'!$D$3,Concerten!A1107,1),\"x\",\"\")),\"\")","v":"x"},{"$f":"IFERROR(IF(ISBLANK('Zoeken in Database'!$D$4),\"x\",IF(SEARCH('Zoeken in Database'!$D$4,Concerten!B1107,1),\"x\",\"\")),\"\")","v":"x"},{"$f":"IFERROR(IF(ISBLANK('Zoeken in Database'!$D$5),\"x\",IF(SEARCH('Zoeken in Database'!$D$5,Concerten!C1107,1),\"x\",\"\")),\"\")","v":"x"},{"$f":"IFERROR(IF(ISBLANK('Zoeken in Database'!$D$6),\"x\",IF(SEARCH('Zoeken in Database'!$D$6,Concerten!G1107,1),\"x\",\"\")),\"\")","v":"x"},{"$f":"IF(AND(D1107>='Zoeken in Database'!$A$7,'Zoeken in Database'!$A$8>=D1107),\"x\",\"\")","v":"x"}]
["Cave, Nick","Heineken Music Hall","Amsterdam","2013-11-17","We No Who U R \nJubilee Street \n(Dedicated to Kanye West)\nTupelo \nRed Right Hand \nMermaids \nThe Weeping Song \nFrom Her to Eternity \nWest Country Girl \nSad Waters \nGod Is in the House \nWide Lovely Eyes \nHiggs Boson Blues \nThe Mercy Seat \nStagger Lee \nPush the Sky Away \nEncore:\nAbattoir Blues \nWe Real Cool \nDo You Love Me? \nInto My Arms ",null,"Hoofdprogramma",11,2013,{"$f":"VLOOKUP(Table1[[#This Row],[Maand (getal)]],Lijst!A:B,2,FALSE)","v":"nov"},{"$f":"IFERROR(IF(ISBLANK('Zoeken in Database'!$D$3),\"x\",IF(SEARCH('Zoeken in Database'!$D$3,Concerten!A1108,1),\"x\",\"\")),\"\")","v":"x"},{"$f":"IFERROR(IF(ISBLANK('Zoeken in Database'!$D$4),\"x\",IF(SEARCH('Zoeken in Database'!$D$4,Concerten!B1108,1),\"x\",\"\")),\"\")","v":"x"},{"$f":"IFERROR(IF(ISBLANK('Zoeken in Database'!$D$5),\"x\",IF(SEARCH('Zoeken in Database'!$D$5,Concerten!C1108,1),\"x\",\"\")),\"\")","v":"x"},{"$f":"IFERROR(IF(ISBLANK('Zoeken in Database'!$D$6),\"x\",IF(SEARCH('Zoeken in Database'!$D$6,Concerten!G1108,1),\"x\",\"\")),\"\")","v":"x"},{"$f":"IF(AND(D1108>='Zoeken in Database'!$A$7,'Zoeken in Database'!$A$8>=D1108),\"x\",\"\")","v":"x"}]
["Ray, Shilpa","Heineken Music Hall","Amsterdam","2013-11-17",null,null,"Voorprogramma",11,2013,{"$f":"VLOOKUP(Table1[[#This Row],[Maand (getal)]],Lijst!A:B,2,FALSE)","v":"nov"},{"$f":"IFERROR(IF(ISBLANK('Zoeken in Database'!$D$3),\"x\",IF(SEARCH('Zoeken in Database'!$D$3,Concerten!A1109,1),\"x\",\"\")),\"\")","v":"x"},{"$f":"IFERROR(IF(ISBLANK('Zoeken in Database'!$D$4),\"x\",IF(SEARCH('Zoeken in Database'!$D$4,Concerten!B1109,1),\"x\",\"\")),\"\")","v":"x"},{"$f":"IFERROR(IF(ISBLANK('Zoeken in Database'!$D$5),\"x\",IF(SEARCH('Zoeken in Database'!$D$5,Concerten!C1109,1),\"x\",\"\")),\"\")","v":"x"},{"$f":"IFERROR(IF(ISBLANK('Zoeken in Database'!$D$6),\"x\",IF(SEARCH('Zoeken in Database'!$D$6,Concerten!G1109,1),\"x\",\"\")),\"\")","v":"x"},{"$f":"IF(AND(D1109>='Zoeken in Database'!$A$7,'Zoeken in Database'!$A$8>=D1109),\"x\",\"\")","v":"x"}]
["Colettes, The","Heineken Music Hall","Amsterdam","2013-11-17",null,null,"Voorprogramma",11,2013,{"$f":"VLOOKUP(Table1[[#This Row],[Maand (getal)]],Lijst!A:B,2,FALSE)","v":"nov"},{"$f":"IFERROR(IF(ISBLANK('Zoeken in Database'!$D$3),\"x\",IF(SEARCH('Zoeken in Database'!$D$3,Concerten!A1110,1),\"x\",\"\")),\"\")","v":"x"},{"$f":"IFERROR(IF(ISBLANK('Zoeken in Database'!$D$4),\"x\",IF(SEARCH('Zoeken in Database'!$D$4,Concerten!B1110,1),\"x\",\"\")),\"\")","v":"x"},{"$f":"IFERROR(IF(ISBLANK('Zoeken in Database'!$D$5),\"x\",IF(SEARCH('Zoeken in Database'!$D$5,Concerten!C1110,1),\"x\",\"\")),\"\")","v":"x"},{"$f":"IFERROR(IF(ISBLANK('Zoeken in Database'!$D$6),\"x\",IF(SEARCH('Zoeken in Database'!$D$6,Concerten!G1110,1),\"x\",\"\")),\"\")","v":"x"},{"$f":"IF(AND(D1110>='Zoeken in Database'!$A$7,'Zoeken in Database'!$A$8>=D1110),\"x\",\"\")","v":"x"}]
["Norgren, Daniel","013","Tilburg","2013-11-25",null,null,"Voorprogramma",11,2013,{"$f":"VLOOKUP(Table1[[#This Row],[Maand (getal)]],Lijst!A:B,2,FALSE)","v":"nov"},{"$f":"IFERROR(IF(ISBLANK('Zoeken in Database'!$D$3),\"x\",IF(SEARCH('Zoeken in Database'!$D$3,Concerten!A1111,1),\"x\",\"\")),\"\")","v":"x"},{"$f":"IFERROR(IF(ISBLANK('Zoeken in Database'!$D$4),\"x\",IF(SEARCH('Zoeken in Database'!$D$4,Concerten!B1111,1),\"x\",\"\")),\"\")","v":"x"},{"$f":"IFERROR(IF(ISBLANK('Zoeken in Database'!$D$5),\"x\",IF(SEARCH('Zoeken in Database'!$D$5,Concerten!C1111,1),\"x\",\"\")),\"\")","v":"x"},{"$f":"IFERROR(IF(ISBLANK('Zoeken in Database'!$D$6),\"x\",IF(SEARCH('Zoeken in Database'!$D$6,Concerten!G1111,1),\"x\",\"\")),\"\")","v":"x"},{"$f":"IF(AND(D1111>='Zoeken in Database'!$A$7,'Zoeken in Database'!$A$8>=D1111),\"x\",\"\")","v":"x"}]
["Tallest Man On Earth, The","013","Tilburg","2013-11-25","King of Spain \nLove Is All \n1904 \nBright Lanterns \nI Won't Be Found \nThe Gardener \nLeading Me Now \nShallow Grave \nWhere Do My Bluebird Fly \nBurden of Tomorrow \nCriminals \nWind and Walls \nRevelation Blues \nEncore:\nThousand Ways \nThe Wild Hunt \nGraceland \n(Paul Simon cover)",null,"Hoofdprogramma",11,2013,{"$f":"VLOOKUP(Table1[[#This Row],[Maand (getal)]],Lijst!A:B,2,FALSE)","v":"nov"},{"$f":"IFERROR(IF(ISBLANK('Zoeken in Database'!$D$3),\"x\",IF(SEARCH('Zoeken in Database'!$D$3,Concerten!A1112,1),\"x\",\"\")),\"\")","v":"x"},{"$f":"IFERROR(IF(ISBLANK('Zoeken in Database'!$D$4),\"x\",IF(SEARCH('Zoeken in Database'!$D$4,Concerten!B1112,1),\"x\",\"\")),\"\")","v":"x"},{"$f":"IFERROR(IF(ISBLANK('Zoeken in Database'!$D$5),\"x\",IF(SEARCH('Zoeken in Database'!$D$5,Concerten!C1112,1),\"x\",\"\")),\"\")","v":"x"},{"$f":"IFERROR(IF(ISBLANK('Zoeken in Database'!$D$6),\"x\",IF(SEARCH('Zoeken in Database'!$D$6,Concerten!G1112,1),\"x\",\"\")),\"\")","v":"x"},{"$f":"IF(AND(D1112>='Zoeken in Database'!$A$7,'Zoeken in Database'!$A$8>=D1112),\"x\",\"\")","v":"x"}]
["Isbell, Jason","Effenaar","Eindhoven","2013-11-28",null,"Kleine zaal","Hoofdprogramma",11,2013,{"$f":"VLOOKUP(Table1[[#This Row],[Maand (getal)]],Lijst!A:B,2,FALSE)","v":"nov"},{"$f":"IFERROR(IF(ISBLANK('Zoeken in Database'!$D$3),\"x\",IF(SEARCH('Zoeken in Database'!$D$3,Concerten!A1113,1),\"x\",\"\")),\"\")","v":"x"},{"$f":"IFERROR(IF(ISBLANK('Zoeken in Database'!$D$4),\"x\",IF(SEARCH('Zoeken in Database'!$D$4,Concerten!B1113,1),\"x\",\"\")),\"\")","v":"x"},{"$f":"IFERROR(IF(ISBLANK('Zoeken in Database'!$D$5),\"x\",IF(SEARCH('Zoeken in Database'!$D$5,Concerten!C1113,1),\"x\",\"\")),\"\")","v":"x"},{"$f":"IFERROR(IF(ISBLANK('Zoeken in Database'!$D$6),\"x\",IF(SEARCH('Zoeken in Database'!$D$6,Concerten!G1113,1),\"x\",\"\")),\"\")","v":"x"},{"$f":"IF(AND(D1113>='Zoeken in Database'!$A$7,'Zoeken in Database'!$A$8>=D1113),\"x\",\"\")","v":"x"}]
["Shires, Amanda","Effenaar","Eindhoven","2013-11-28",null,"Kleine zaal","Voorprogramma",11,2013,{"$f":"VLOOKUP(Table1[[#This Row],[Maand (getal)]],Lijst!A:B,2,FALSE)","v":"nov"},{"$f":"IFERROR(IF(ISBLANK('Zoeken in Database'!$D$3),\"x\",IF(SEARCH('Zoeken in Database'!$D$3,Concerten!A1114,1),\"x\",\"\")),\"\")","v":"x"},{"$f":"IFERROR(IF(ISBLANK('Zoeken in Database'!$D$4),\"x\",IF(SEARCH('Zoeken in Database'!$D$4,Concerten!B1114,1),\"x\",\"\")),\"\")","v":"x"},{"$f":"IFERROR(IF(ISBLANK('Zoeken in Database'!$D$5),\"x\",IF(SEARCH('Zoeken in Database'!$D$5,Concerten!C1114,1),\"x\",\"\")),\"\")","v":"x"},{"$f":"IFERROR(IF(ISBLANK('Zoeken in Database'!$D$6),\"x\",IF(SEARCH('Zoeken in Database'!$D$6,Concerten!G1114,1),\"x\",\"\")),\"\")","v":"x"},{"$f":"IF(AND(D1114>='Zoeken in Database'!$A$7,'Zoeken in Database'!$A$8>=D1114),\"x\",\"\")","v":"x"}]
["Wal, Jan-Jaap van der","Toomler","Amsterdam","2013-12-21",null,null,"Comedy",12,2013,{"$f":"VLOOKUP(Table1[[#This Row],[Maand (getal)]],Lijst!A:B,2,FALSE)","v":"dec"},{"$f":"IFERROR(IF(ISBLANK('Zoeken in Database'!$D$3),\"x\",IF(SEARCH('Zoeken in Database'!$D$3,Concerten!A1115,1),\"x\",\"\")),\"\")","v":"x"},{"$f":"IFERROR(IF(ISBLANK('Zoeken in Database'!$D$4),\"x\",IF(SEARCH('Zoeken in Database'!$D$4,Concerten!B1115,1),\"x\",\"\")),\"\")","v":"x"},{"$f":"IFERROR(IF(ISBLANK('Zoeken in Database'!$D$5),\"x\",IF(SEARCH('Zoeken in Database'!$D$5,Concerten!C1115,1),\"x\",\"\")),\"\")","v":"x"},{"$f":"IFERROR(IF(ISBLANK('Zoeken in Database'!$D$6),\"x\",IF(SEARCH('Zoeken in Database'!$D$6,Concerten!G1115,1),\"x\",\"\")),\"\")","v":"x"},{"$f":"IF(AND(D1115>='Zoeken in Database'!$A$7,'Zoeken in Database'!$A$8>=D1115),\"x\",\"\")","v":"x"}]
["Wit, Tex de","Toomler","Amsterdam","2013-12-21",null,null,"Comedy",{"$f":"IF(ISBLANK(D1116),\"\",MONTH(D1116))","v":12},{"$f":"IF(ISBLANK(D1116),\"\",YEAR(D1116))","v":2013},{"$f":"VLOOKUP(Table1[[#This Row],[Maand (getal)]],Lijst!A:B,2,FALSE)","v":"dec"},{"$f":"IFERROR(IF(ISBLANK('Zoeken in Database'!$D$3),\"x\",IF(SEARCH('Zoeken in Database'!$D$3,Concerten!A1116,1),\"x\",\"\")),\"\")","v":"x"},{"$f":"IFERROR(IF(ISBLANK('Zoeken in Database'!$D$4),\"x\",IF(SEARCH('Zoeken in Database'!$D$4,Concerten!B1116,1),\"x\",\"\")),\"\")","v":"x"},{"$f":"IFERROR(IF(ISBLANK('Zoeken in Database'!$D$5),\"x\",IF(SEARCH('Zoeken in Database'!$D$5,Concerten!C1116,1),\"x\",\"\")),\"\")","v":"x"},{"$f":"IFERROR(IF(ISBLANK('Zoeken in Database'!$D$6),\"x\",IF(SEARCH('Zoeken in Database'!$D$6,Concerten!G1116,1),\"x\",\"\")),\"\")","v":"x"},{"$f":"IF(AND(D1116>='Zoeken in Database'!$A$7,'Zoeken in Database'!$A$8>=D1116),\"x\",\"\")","v":"x"}]
["Pannekoek, Peter","Toomler","Amsterdam","2013-12-21",null,null,"Comedy",{"$f":"IF(ISBLANK(D1117),\"\",MONTH(D1117))","v":12},{"$f":"IF(ISBLANK(D1117),\"\",YEAR(D1117))","v":2013},{"$f":"VLOOKUP(Table1[[#This Row],[Maand (getal)]],Lijst!A:B,2,FALSE)","v":"dec"},{"$f":"IFERROR(IF(ISBLANK('Zoeken in Database'!$D$3),\"x\",IF(SEARCH('Zoeken in Database'!$D$3,Concerten!A1117,1),\"x\",\"\")),\"\")","v":"x"},{"$f":"IFERROR(IF(ISBLANK('Zoeken in Database'!$D$4),\"x\",IF(SEARCH('Zoeken in Database'!$D$4,Concerten!B1117,1),\"x\",\"\")),\"\")","v":"x"},{"$f":"IFERROR(IF(ISBLANK('Zoeken in Database'!$D$5),\"x\",IF(SEARCH('Zoeken in Database'!$D$5,Concerten!C1117,1),\"x\",\"\")),\"\")","v":"x"},{"$f":"IFERROR(IF(ISBLANK('Zoeken in Database'!$D$6),\"x\",IF(SEARCH('Zoeken in Database'!$D$6,Concerten!G1117,1),\"x\",\"\")),\"\")","v":"x"},{"$f":"IF(AND(D1117>='Zoeken in Database'!$A$7,'Zoeken in Database'!$A$8>=D1117),\"x\",\"\")","v":"x"}]
["Grevelink, Bas","Toomler","Amsterdam","2013-12-21",null,null,"Comedy",{"$f":"IF(ISBLANK(D1118),\"\",MONTH(D1118))","v":12},{"$f":"IF(ISBLANK(D1118),\"\",YEAR(D1118))","v":2013},{"$f":"VLOOKUP(Table1[[#This Row],[Maand (getal)]],Lijst!A:B,2,FALSE)","v":"dec"},{"$f":"IFERROR(IF(ISBLANK('Zoeken in Database'!$D$3),\"x\",IF(SEARCH('Zoeken in Database'!$D$3,Concerten!A1118,1),\"x\",\"\")),\"\")","v":"x"},{"$f":"IFERROR(IF(ISBLANK('Zoeken in Database'!$D$4),\"x\",IF(SEARCH('Zoeken in Database'!$D$4,Concerten!B1118,1),\"x\",\"\")),\"\")","v":"x"},{"$f":"IFERROR(IF(ISBLANK('Zoeken in Database'!$D$5),\"x\",IF(SEARCH('Zoeken in Database'!$D$5,Concerten!C1118,1),\"x\",\"\")),\"\")","v":"x"},{"$f":"IFERROR(IF(ISBLANK('Zoeken in Database'!$D$6),\"x\",IF(SEARCH('Zoeken in Database'!$D$6,Concerten!G1118,1),\"x\",\"\")),\"\")","v":"x"},{"$f":"IF(AND(D1118>='Zoeken in Database'!$A$7,'Zoeken in Database'!$A$8>=D1118),\"x\",\"\")","v":"x"}]
["Fransen, Tim","Toomler","Amsterdam","2013-12-21",null,null,"Comedy",{"$f":"IF(ISBLANK(D1119),\"\",MONTH(D1119))","v":12},{"$f":"IF(ISBLANK(D1119),\"\",YEAR(D1119))","v":2013},{"$f":"VLOOKUP(Table1[[#This Row],[Maand (getal)]],Lijst!A:B,2,FALSE)","v":"dec"},{"$f":"IFERROR(IF(ISBLANK('Zoeken in Database'!$D$3),\"x\",IF(SEARCH('Zoeken in Database'!$D$3,Concerten!A1119,1),\"x\",\"\")),\"\")","v":"x"},{"$f":"IFERROR(IF(ISBLANK('Zoeken in Database'!$D$4),\"x\",IF(SEARCH('Zoeken in Database'!$D$4,Concerten!B1119,1),\"x\",\"\")),\"\")","v":"x"},{"$f":"IFERROR(IF(ISBLANK('Zoeken in Database'!$D$5),\"x\",IF(SEARCH('Zoeken in Database'!$D$5,Concerten!C1119,1),\"x\",\"\")),\"\")","v":"x"},{"$f":"IFERROR(IF(ISBLANK('Zoeken in Database'!$D$6),\"x\",IF(SEARCH('Zoeken in Database'!$D$6,Concerten!G1119,1),\"x\",\"\")),\"\")","v":"x"},{"$f":"IF(AND(D1119>='Zoeken in Database'!$A$7,'Zoeken in Database'!$A$8>=D1119),\"x\",\"\")","v":"x"}]
["Bijl, Janneke de","Toomler","Amsterdam","2013-12-21",null,null,"Comedy",{"$f":"IF(ISBLANK(D1120),\"\",MONTH(D1120))","v":12},{"$f":"IF(ISBLANK(D1120),\"\",YEAR(D1120))","v":2013},{"$f":"VLOOKUP(Table1[[#This Row],[Maand (getal)]],Lijst!A:B,2,FALSE)","v":"dec"},{"$f":"IFERROR(IF(ISBLANK('Zoeken in Database'!$D$3),\"x\",IF(SEARCH('Zoeken in Database'!$D$3,Concerten!A1120,1),\"x\",\"\")),\"\")","v":"x"},{"$f":"IFERROR(IF(ISBLANK('Zoeken in Database'!$D$4),\"x\",IF(SEARCH('Zoeken in Database'!$D$4,Concerten!B1120,1),\"x\",\"\")),\"\")","v":"x"},{"$f":"IFERROR(IF(ISBLANK('Zoeken in Database'!$D$5),\"x\",IF(SEARCH('Zoeken in Database'!$D$5,Concerten!C1120,1),\"x\",\"\")),\"\")","v":"x"},{"$f":"IFERROR(IF(ISBLANK('Zoeken in Database'!$D$6),\"x\",IF(SEARCH('Zoeken in Database'!$D$6,Concerten!G1120,1),\"x\",\"\")),\"\")","v":"x"},{"$f":"IF(AND(D1120>='Zoeken in Database'!$A$7,'Zoeken in Database'!$A$8>=D1120),\"x\",\"\")","v":"x"}]
["Daryll-Ann","Doornroosje","Nijmegen","2014-02-26","A Proper Line\nI Could Never Love You\nPretty in Everything\nLow Light\nTools R Us\nWhen War Is On\nRaga the Messenger\nTremble Forte\nAll by Myself\nMean Love\nFriends\n10.45\nEverybody's Cool\nMoney or Love\nSerenades for the Lonely\nEqually Sympathy\nSummerdaze\nTrip the Stairs\nRiverside\nWhen You Cry\nAlways Share\nDecibel\nThe Doctor & I\nStay\nH.P. Confirm\n------\nSheeszalitch\nMirror Mind\nDesmond Don't Go\nSurely Justice ",null,"Hoofdprogramma",2,2014,{"$f":"VLOOKUP(Table1[[#This Row],[Maand (getal)]],Lijst!A:B,2,FALSE)","v":"feb"},{"$f":"IFERROR(IF(ISBLANK('Zoeken in Database'!$D$3),\"x\",IF(SEARCH('Zoeken in Database'!$D$3,Concerten!A1121,1),\"x\",\"\")),\"\")","v":"x"},{"$f":"IFERROR(IF(ISBLANK('Zoeken in Database'!$D$4),\"x\",IF(SEARCH('Zoeken in Database'!$D$4,Concerten!B1121,1),\"x\",\"\")),\"\")","v":"x"},{"$f":"IFERROR(IF(ISBLANK('Zoeken in Database'!$D$5),\"x\",IF(SEARCH('Zoeken in Database'!$D$5,Concerten!C1121,1),\"x\",\"\")),\"\")","v":"x"},{"$f":"IFERROR(IF(ISBLANK('Zoeken in Database'!$D$6),\"x\",IF(SEARCH('Zoeken in Database'!$D$6,Concerten!G1121,1),\"x\",\"\")),\"\")","v":"x"},{"$f":"IF(AND(D1121>='Zoeken in Database'!$A$7,'Zoeken in Database'!$A$8>=D1121),\"x\",\"\")","v":"x"}]
["Fratsen","Doornroosje","Nijmegen","2014-02-28","Zeg Nooit Nooit\n(new song)\nPand van Janna\nAllereerste Keer\nLente\nDikkop\nJo!\nAllemaal in je Hoofd\nTe Laat\nStebo\nMeer Bij\nBlij\nWiebelen\nVlieger\nHemelvaart\nIn Ons Dorp\nHardrocker\nDrinkebroer\nBeatrix\nPimpelmees\n----------\nDorst\nVrienden ",null,"Hoofdprogramma",2,2014,{"$f":"VLOOKUP(Table1[[#This Row],[Maand (getal)]],Lijst!A:B,2,FALSE)","v":"feb"},{"$f":"IFERROR(IF(ISBLANK('Zoeken in Database'!$D$3),\"x\",IF(SEARCH('Zoeken in Database'!$D$3,Concerten!A1122,1),\"x\",\"\")),\"\")","v":"x"},{"$f":"IFERROR(IF(ISBLANK('Zoeken in Database'!$D$4),\"x\",IF(SEARCH('Zoeken in Database'!$D$4,Concerten!B1122,1),\"x\",\"\")),\"\")","v":"x"},{"$f":"IFERROR(IF(ISBLANK('Zoeken in Database'!$D$5),\"x\",IF(SEARCH('Zoeken in Database'!$D$5,Concerten!C1122,1),\"x\",\"\")),\"\")","v":"x"},{"$f":"IFERROR(IF(ISBLANK('Zoeken in Database'!$D$6),\"x\",IF(SEARCH('Zoeken in Database'!$D$6,Concerten!G1122,1),\"x\",\"\")),\"\")","v":"x"},{"$f":"IF(AND(D1122>='Zoeken in Database'!$A$7,'Zoeken in Database'!$A$8>=D1122),\"x\",\"\")","v":"x"}]
["Lohues, Daniel","Roepaen","Ottersum","2014-03-09","Achter 't huus\nWeet da'k wat vergeten ben, mar ben vergeten wat\nLiefzeer\nNiks is meer weerd as vandaage\nJoezölf\nTen Oosten van de Iessel\nOp 't platteland\nPrachtig mooie dag\n------\nOp Fietse (Skik song)\nIk haal mij 'n hond op\nMis mien engel\nHa'k mar 'n gitaar\nWat ze zee\nAnnelie\nJij Veurbij\nTerecht bij joe\nElk mens die hef zich 'n kruus te dragen\nEncore:\nAllennig\nAngst is mar veur eben, spiet is veur altied\nAls de liefde mar blef winnen\nHier kom ik weg ",null,"Hoofdprogramma",3,2014,{"$f":"VLOOKUP(Table1[[#This Row],[Maand (getal)]],Lijst!A:B,2,FALSE)","v":"mrt"},{"$f":"IFERROR(IF(ISBLANK('Zoeken in Database'!$D$3),\"x\",IF(SEARCH('Zoeken in Database'!$D$3,Concerten!A1123,1),\"x\",\"\")),\"\")","v":"x"},{"$f":"IFERROR(IF(ISBLANK('Zoeken in Database'!$D$4),\"x\",IF(SEARCH('Zoeken in Database'!$D$4,Concerten!B1123,1),\"x\",\"\")),\"\")","v":"x"},{"$f":"IFERROR(IF(ISBLANK('Zoeken in Database'!$D$5),\"x\",IF(SEARCH('Zoeken in Database'!$D$5,Concerten!C1123,1),\"x\",\"\")),\"\")","v":"x"},{"$f":"IFERROR(IF(ISBLANK('Zoeken in Database'!$D$6),\"x\",IF(SEARCH('Zoeken in Database'!$D$6,Concerten!G1123,1),\"x\",\"\")),\"\")","v":"x"},{"$f":"IF(AND(D1123>='Zoeken in Database'!$A$7,'Zoeken in Database'!$A$8>=D1123),\"x\",\"\")","v":"x"}]
["Seunnenga, Jancobus","Roepaen","Ottersum","2014-03-12",null,null,"Voorprogramma",3,2014,{"$f":"VLOOKUP(Table1[[#This Row],[Maand (getal)]],Lijst!A:B,2,FALSE)","v":"mrt"},{"$f":"IFERROR(IF(ISBLANK('Zoeken in Database'!$D$3),\"x\",IF(SEARCH('Zoeken in Database'!$D$3,Concerten!A1124,1),\"x\",\"\")),\"\")","v":"x"},{"$f":"IFERROR(IF(ISBLANK('Zoeken in Database'!$D$4),\"x\",IF(SEARCH('Zoeken in Database'!$D$4,Concerten!B1124,1),\"x\",\"\")),\"\")","v":"x"},{"$f":"IFERROR(IF(ISBLANK('Zoeken in Database'!$D$5),\"x\",IF(SEARCH('Zoeken in Database'!$D$5,Concerten!C1124,1),\"x\",\"\")),\"\")","v":"x"},{"$f":"IFERROR(IF(ISBLANK('Zoeken in Database'!$D$6),\"x\",IF(SEARCH('Zoeken in Database'!$D$6,Concerten!G1124,1),\"x\",\"\")),\"\")","v":"x"},{"$f":"IF(AND(D1124>='Zoeken in Database'!$A$7,'Zoeken in Database'!$A$8>=D1124),\"x\",\"\")","v":"x"}]
["Lowe, Nick","Roepaen","Ottersum","2014-03-12","Where’s My Everything?\n        Heart\n        Long Limbed Girl\n        Ragin' Eyes\n        Rome Wasn't Built in a Day\n        Raincoat in the River sinking down\n        All Men Are Liars\n        Has She Got a Friend?\n        I Trained Her to Love Me\n        I Live on a Battlefield\n        I Read a Lot\n        Cruel to Be Kind\n        Raining Raining\n        Traveling Light\n        Stoplight Roses\n        Sensitive Man\n        Somebody Cares for Me\n        House for Sale\n        Without Love\n        I Knew the Bride (When She Used to Rock 'n' Roll)\n        Encore:\n        When I Write the Book\n        (Rockpile song)\n        (What's So Funny 'bout) Peace, Love and Understanding\n        (Brinsley Schwarz song)\n        Tokyo Bay\n        Alison\n        (Elvis Costello cover)\n\n",null,"Hoofdprogramma",3,2014,{"$f":"VLOOKUP(Table1[[#This Row],[Maand (getal)]],Lijst!A:B,2,FALSE)","v":"mrt"},{"$f":"IFERROR(IF(ISBLANK('Zoeken in Database'!$D$3),\"x\",IF(SEARCH('Zoeken in Database'!$D$3,Concerten!A1125,1),\"x\",\"\")),\"\")","v":"x"},{"$f":"IFERROR(IF(ISBLANK('Zoeken in Database'!$D$4),\"x\",IF(SEARCH('Zoeken in Database'!$D$4,Concerten!B1125,1),\"x\",\"\")),\"\")","v":"x"},{"$f":"IFERROR(IF(ISBLANK('Zoeken in Database'!$D$5),\"x\",IF(SEARCH('Zoeken in Database'!$D$5,Concerten!C1125,1),\"x\",\"\")),\"\")","v":"x"},{"$f":"IFERROR(IF(ISBLANK('Zoeken in Database'!$D$6),\"x\",IF(SEARCH('Zoeken in Database'!$D$6,Concerten!G1125,1),\"x\",\"\")),\"\")","v":"x"},{"$f":"IF(AND(D1125>='Zoeken in Database'!$A$7,'Zoeken in Database'!$A$8>=D1125),\"x\",\"\")","v":"x"}]
["Afterpartees, The","Merleyn","Nijmegen","2014-04-18",null,null,"Voorprogramma",4,2014,{"$f":"VLOOKUP(Table1[[#This Row],[Maand (getal)]],Lijst!A:B,2,FALSE)","v":"apr"},{"$f":"IFERROR(IF(ISBLANK('Zoeken in Database'!$D$3),\"x\",IF(SEARCH('Zoeken in Database'!$D$3,Concerten!A1126,1),\"x\",\"\")),\"\")","v":"x"},{"$f":"IFERROR(IF(ISBLANK('Zoeken in Database'!$D$4),\"x\",IF(SEARCH('Zoeken in Database'!$D$4,Concerten!B1126,1),\"x\",\"\")),\"\")","v":"x"},{"$f":"IFERROR(IF(ISBLANK('Zoeken in Database'!$D$5),\"x\",IF(SEARCH('Zoeken in Database'!$D$5,Concerten!C1126,1),\"x\",\"\")),\"\")","v":"x"},{"$f":"IFERROR(IF(ISBLANK('Zoeken in Database'!$D$6),\"x\",IF(SEARCH('Zoeken in Database'!$D$6,Concerten!G1126,1),\"x\",\"\")),\"\")","v":"x"},{"$f":"IF(AND(D1126>='Zoeken in Database'!$A$7,'Zoeken in Database'!$A$8>=D1126),\"x\",\"\")","v":"x"}]
["Traumahelikopter","Merleyn","Nijmegen","2014-04-18",null,null,"Hoofdprogramma",4,2014,{"$f":"VLOOKUP(Table1[[#This Row],[Maand (getal)]],Lijst!A:B,2,FALSE)","v":"apr"},{"$f":"IFERROR(IF(ISBLANK('Zoeken in Database'!$D$3),\"x\",IF(SEARCH('Zoeken in Database'!$D$3,Concerten!A1127,1),\"x\",\"\")),\"\")","v":"x"},{"$f":"IFERROR(IF(ISBLANK('Zoeken in Database'!$D$4),\"x\",IF(SEARCH('Zoeken in Database'!$D$4,Concerten!B1127,1),\"x\",\"\")),\"\")","v":"x"},{"$f":"IFERROR(IF(ISBLANK('Zoeken in Database'!$D$5),\"x\",IF(SEARCH('Zoeken in Database'!$D$5,Concerten!C1127,1),\"x\",\"\")),\"\")","v":"x"},{"$f":"IFERROR(IF(ISBLANK('Zoeken in Database'!$D$6),\"x\",IF(SEARCH('Zoeken in Database'!$D$6,Concerten!G1127,1),\"x\",\"\")),\"\")","v":"x"},{"$f":"IF(AND(D1127>='Zoeken in Database'!$A$7,'Zoeken in Database'!$A$8>=D1127),\"x\",\"\")","v":"x"}]
["Afterpartees, The","Sounds Venlo","Venlo","2014-04-19",null,null,"Hoofdprogramma",4,2014,{"$f":"VLOOKUP(Table1[[#This Row],[Maand (getal)]],Lijst!A:B,2,FALSE)","v":"apr"},{"$f":"IFERROR(IF(ISBLANK('Zoeken in Database'!$D$3),\"x\",IF(SEARCH('Zoeken in Database'!$D$3,Concerten!A1128,1),\"x\",\"\")),\"\")","v":"x"},{"$f":"IFERROR(IF(ISBLANK('Zoeken in Database'!$D$4),\"x\",IF(SEARCH('Zoeken in Database'!$D$4,Concerten!B1128,1),\"x\",\"\")),\"\")","v":"x"},{"$f":"IFERROR(IF(ISBLANK('Zoeken in Database'!$D$5),\"x\",IF(SEARCH('Zoeken in Database'!$D$5,Concerten!C1128,1),\"x\",\"\")),\"\")","v":"x"},{"$f":"IFERROR(IF(ISBLANK('Zoeken in Database'!$D$6),\"x\",IF(SEARCH('Zoeken in Database'!$D$6,Concerten!G1128,1),\"x\",\"\")),\"\")","v":"x"},{"$f":"IF(AND(D1128>='Zoeken in Database'!$A$7,'Zoeken in Database'!$A$8>=D1128),\"x\",\"\")","v":"x"}]
["Heartless Bastards, The","Paradiso","Amsterdam","2014-05-15",null,null,"Voorprogramma",5,2014,{"$f":"VLOOKUP(Table1[[#This Row],[Maand (getal)]],Lijst!A:B,2,FALSE)","v":"mei"},{"$f":"IFERROR(IF(ISBLANK('Zoeken in Database'!$D$3),\"x\",IF(SEARCH('Zoeken in Database'!$D$3,Concerten!A1129,1),\"x\",\"\")),\"\")","v":"x"},{"$f":"IFERROR(IF(ISBLANK('Zoeken in Database'!$D$4),\"x\",IF(SEARCH('Zoeken in Database'!$D$4,Concerten!B1129,1),\"x\",\"\")),\"\")","v":"x"},{"$f":"IFERROR(IF(ISBLANK('Zoeken in Database'!$D$5),\"x\",IF(SEARCH('Zoeken in Database'!$D$5,Concerten!C1129,1),\"x\",\"\")),\"\")","v":"x"},{"$f":"IFERROR(IF(ISBLANK('Zoeken in Database'!$D$6),\"x\",IF(SEARCH('Zoeken in Database'!$D$6,Concerten!G1129,1),\"x\",\"\")),\"\")","v":"x"},{"$f":"IF(AND(D1129>='Zoeken in Database'!$A$7,'Zoeken in Database'!$A$8>=D1129),\"x\",\"\")","v":"x"}]
["Drive-by Truckers","Paradiso","Amsterdam","2014-05-15","Gravity's Gone \nWhen He's Gone \nTil He's Dead or Rises \nMercy Buckets \nWomen Without Whiskey \nPuttin' People On The Moon \nMade Up English Oceans \nTwo Daughters And A Beautiful Wife \nA Ghost To Most \nPauline Hawkins \nHearing Jimmy Loud \nSink Hole \nSounds Better in the Song \nBox Of Spiders \nShit Shots Count \nHell No, I Ain't Happy \nEncore:\nNatural Light \nLet There Be Rock \nZip City \nPeople Who Died \n(The Jim Carroll Band cover)",null,"Hoofdprogramma",5,2014,{"$f":"VLOOKUP(Table1[[#This Row],[Maand (getal)]],Lijst!A:B,2,FALSE)","v":"mei"},{"$f":"IFERROR(IF(ISBLANK('Zoeken in Database'!$D$3),\"x\",IF(SEARCH('Zoeken in Database'!$D$3,Concerten!A1130,1),\"x\",\"\")),\"\")","v":"x"},{"$f":"IFERROR(IF(ISBLANK('Zoeken in Database'!$D$4),\"x\",IF(SEARCH('Zoeken in Database'!$D$4,Concerten!B1130,1),\"x\",\"\")),\"\")","v":"x"},{"$f":"IFERROR(IF(ISBLANK('Zoeken in Database'!$D$5),\"x\",IF(SEARCH('Zoeken in Database'!$D$5,Concerten!C1130,1),\"x\",\"\")),\"\")","v":"x"},{"$f":"IFERROR(IF(ISBLANK('Zoeken in Database'!$D$6),\"x\",IF(SEARCH('Zoeken in Database'!$D$6,Concerten!G1130,1),\"x\",\"\")),\"\")","v":"x"},{"$f":"IF(AND(D1130>='Zoeken in Database'!$A$7,'Zoeken in Database'!$A$8>=D1130),\"x\",\"\")","v":"x"}]
["Folds, Ben","MC Frits Philips","Eindhoven","2014-07-03","Effington \nSmoke \n(Ben Folds Five song)\nJesusland \nPicture Window \nConcerto for Piano and Orchestra \n(All Three Movements)\nSteven's Last Night in Town \n(Ben Folds Five song)\nIntermission\nZak and Sara \nLanded \nFred Jones, Part 2 \nThe Ascent of Stan \nNot the Same \nBrick \n(Ben Folds Five song)\nOne Angry Dwarf and 200 Solemn Faces \n(Ben Folds Five song)\nEncore:\nThe Luckiest \nEncore 2:\nArmy \n(Ben Folds Five song) (Ben's solo)","met het philarmonie zuidnederland","Hoofdprogramma",7,2014,{"$f":"VLOOKUP(Table1[[#This Row],[Maand (getal)]],Lijst!A:B,2,FALSE)","v":"jul"},{"$f":"IFERROR(IF(ISBLANK('Zoeken in Database'!$D$3),\"x\",IF(SEARCH('Zoeken in Database'!$D$3,Concerten!A1131,1),\"x\",\"\")),\"\")","v":"x"},{"$f":"IFERROR(IF(ISBLANK('Zoeken in Database'!$D$4),\"x\",IF(SEARCH('Zoeken in Database'!$D$4,Concerten!B1131,1),\"x\",\"\")),\"\")","v":"x"},{"$f":"IFERROR(IF(ISBLANK('Zoeken in Database'!$D$5),\"x\",IF(SEARCH('Zoeken in Database'!$D$5,Concerten!C1131,1),\"x\",\"\")),\"\")","v":"x"},{"$f":"IFERROR(IF(ISBLANK('Zoeken in Database'!$D$6),\"x\",IF(SEARCH('Zoeken in Database'!$D$6,Concerten!G1131,1),\"x\",\"\")),\"\")","v":"x"},{"$f":"IF(AND(D1131>='Zoeken in Database'!$A$7,'Zoeken in Database'!$A$8>=D1131),\"x\",\"\")","v":"x"}]
["Harcourt, Ed","Haldern Pop 2014","Haldern","2014-08-07",null,"Church","Festivaloptreden",8,2014,{"$f":"VLOOKUP(Table1[[#This Row],[Maand (getal)]],Lijst!A:B,2,FALSE)","v":"aug"},{"$f":"IFERROR(IF(ISBLANK('Zoeken in Database'!$D$3),\"x\",IF(SEARCH('Zoeken in Database'!$D$3,Concerten!A1132,1),\"x\",\"\")),\"\")","v":"x"},{"$f":"IFERROR(IF(ISBLANK('Zoeken in Database'!$D$4),\"x\",IF(SEARCH('Zoeken in Database'!$D$4,Concerten!B1132,1),\"x\",\"\")),\"\")","v":"x"},{"$f":"IFERROR(IF(ISBLANK('Zoeken in Database'!$D$5),\"x\",IF(SEARCH('Zoeken in Database'!$D$5,Concerten!C1132,1),\"x\",\"\")),\"\")","v":"x"},{"$f":"IFERROR(IF(ISBLANK('Zoeken in Database'!$D$6),\"x\",IF(SEARCH('Zoeken in Database'!$D$6,Concerten!G1132,1),\"x\",\"\")),\"\")","v":"x"},{"$f":"IF(AND(D1132>='Zoeken in Database'!$A$7,'Zoeken in Database'!$A$8>=D1132),\"x\",\"\")","v":"x"}]
["Trampled by Turtles","Haldern Pop 2014","Haldern","2014-08-07",null,"Byzanzstage","Festivaloptreden",8,2014,{"$f":"VLOOKUP(Table1[[#This Row],[Maand (getal)]],Lijst!A:B,2,FALSE)","v":"aug"},{"$f":"IFERROR(IF(ISBLANK('Zoeken in Database'!$D$3),\"x\",IF(SEARCH('Zoeken in Database'!$D$3,Concerten!A1133,1),\"x\",\"\")),\"\")","v":"x"},{"$f":"IFERROR(IF(ISBLANK('Zoeken in Database'!$D$4),\"x\",IF(SEARCH('Zoeken in Database'!$D$4,Concerten!B1133,1),\"x\",\"\")),\"\")","v":"x"},{"$f":"IFERROR(IF(ISBLANK('Zoeken in Database'!$D$5),\"x\",IF(SEARCH('Zoeken in Database'!$D$5,Concerten!C1133,1),\"x\",\"\")),\"\")","v":"x"},{"$f":"IFERROR(IF(ISBLANK('Zoeken in Database'!$D$6),\"x\",IF(SEARCH('Zoeken in Database'!$D$6,Concerten!G1133,1),\"x\",\"\")),\"\")","v":"x"},{"$f":"IF(AND(D1133>='Zoeken in Database'!$A$7,'Zoeken in Database'!$A$8>=D1133),\"x\",\"\")","v":"x"}]
["Vile, Kurt & the Violators","Haldern Pop 2014","Haldern","2014-08-07",null,"Byzanzstage","Festivaloptreden",8,2014,{"$f":"VLOOKUP(Table1[[#This Row],[Maand (getal)]],Lijst!A:B,2,FALSE)","v":"aug"},{"$f":"IFERROR(IF(ISBLANK('Zoeken in Database'!$D$3),\"x\",IF(SEARCH('Zoeken in Database'!$D$3,Concerten!A1134,1),\"x\",\"\")),\"\")","v":"x"},{"$f":"IFERROR(IF(ISBLANK('Zoeken in Database'!$D$4),\"x\",IF(SEARCH('Zoeken in Database'!$D$4,Concerten!B1134,1),\"x\",\"\")),\"\")","v":"x"},{"$f":"IFERROR(IF(ISBLANK('Zoeken in Database'!$D$5),\"x\",IF(SEARCH('Zoeken in Database'!$D$5,Concerten!C1134,1),\"x\",\"\")),\"\")","v":"x"},{"$f":"IFERROR(IF(ISBLANK('Zoeken in Database'!$D$6),\"x\",IF(SEARCH('Zoeken in Database'!$D$6,Concerten!G1134,1),\"x\",\"\")),\"\")","v":"x"},{"$f":"IF(AND(D1134>='Zoeken in Database'!$A$7,'Zoeken in Database'!$A$8>=D1134),\"x\",\"\")","v":"x"}]
["Lewis, Jeffrey & the Jrams","Haldern Pop 2014","Haldern","2014-08-08",null,"Haldern Pop Bar","Festivaloptreden",8,2014,{"$f":"VLOOKUP(Table1[[#This Row],[Maand (getal)]],Lijst!A:B,2,FALSE)","v":"aug"},{"$f":"IFERROR(IF(ISBLANK('Zoeken in Database'!$D$3),\"x\",IF(SEARCH('Zoeken in Database'!$D$3,Concerten!A1135,1),\"x\",\"\")),\"\")","v":"x"},{"$f":"IFERROR(IF(ISBLANK('Zoeken in Database'!$D$4),\"x\",IF(SEARCH('Zoeken in Database'!$D$4,Concerten!B1135,1),\"x\",\"\")),\"\")","v":"x"},{"$f":"IFERROR(IF(ISBLANK('Zoeken in Database'!$D$5),\"x\",IF(SEARCH('Zoeken in Database'!$D$5,Concerten!C1135,1),\"x\",\"\")),\"\")","v":"x"},{"$f":"IFERROR(IF(ISBLANK('Zoeken in Database'!$D$6),\"x\",IF(SEARCH('Zoeken in Database'!$D$6,Concerten!G1135,1),\"x\",\"\")),\"\")","v":"x"},{"$f":"IF(AND(D1135>='Zoeken in Database'!$A$7,'Zoeken in Database'!$A$8>=D1135),\"x\",\"\")","v":"x"}]
["Mulvey, Nick","Haldern Pop 2014","Haldern","2014-08-08",null,"Spiegelzelt","Festivaloptreden",{"$f":"IF(ISBLANK(D1136),\"\",MONTH(D1136))","v":8},{"$f":"IF(ISBLANK(D1136),\"\",YEAR(D1136))","v":2014},{"$f":"VLOOKUP(Table1[[#This Row],[Maand (getal)]],Lijst!A:B,2,FALSE)","v":"aug"},{"$f":"IFERROR(IF(ISBLANK('Zoeken in Database'!$D$3),\"x\",IF(SEARCH('Zoeken in Database'!$D$3,Concerten!A1136,1),\"x\",\"\")),\"\")","v":"x"},{"$f":"IFERROR(IF(ISBLANK('Zoeken in Database'!$D$4),\"x\",IF(SEARCH('Zoeken in Database'!$D$4,Concerten!B1136,1),\"x\",\"\")),\"\")","v":"x"},{"$f":"IFERROR(IF(ISBLANK('Zoeken in Database'!$D$5),\"x\",IF(SEARCH('Zoeken in Database'!$D$5,Concerten!C1136,1),\"x\",\"\")),\"\")","v":"x"},{"$f":"IFERROR(IF(ISBLANK('Zoeken in Database'!$D$6),\"x\",IF(SEARCH('Zoeken in Database'!$D$6,Concerten!G1136,1),\"x\",\"\")),\"\")","v":"x"},{"$f":"IF(AND(D1136>='Zoeken in Database'!$A$7,'Zoeken in Database'!$A$8>=D1136),\"x\",\"\")","v":"x"}]
["Sital Singh, Luke","Haldern Pop 2014","Haldern","2014-08-08",null,"Spiegelzelt","Festivaloptreden",8,2014,{"$f":"VLOOKUP(Table1[[#This Row],[Maand (getal)]],Lijst!A:B,2,FALSE)","v":"aug"},{"$f":"IFERROR(IF(ISBLANK('Zoeken in Database'!$D$3),\"x\",IF(SEARCH('Zoeken in Database'!$D$3,Concerten!A1137,1),\"x\",\"\")),\"\")","v":"x"},{"$f":"IFERROR(IF(ISBLANK('Zoeken in Database'!$D$4),\"x\",IF(SEARCH('Zoeken in Database'!$D$4,Concerten!B1137,1),\"x\",\"\")),\"\")","v":"x"},{"$f":"IFERROR(IF(ISBLANK('Zoeken in Database'!$D$5),\"x\",IF(SEARCH('Zoeken in Database'!$D$5,Concerten!C1137,1),\"x\",\"\")),\"\")","v":"x"},{"$f":"IFERROR(IF(ISBLANK('Zoeken in Database'!$D$6),\"x\",IF(SEARCH('Zoeken in Database'!$D$6,Concerten!G1137,1),\"x\",\"\")),\"\")","v":"x"},{"$f":"IF(AND(D1137>='Zoeken in Database'!$A$7,'Zoeken in Database'!$A$8>=D1137),\"x\",\"\")","v":"x"}]
["Eicher, Stephan","Haldern Pop 2014","Haldern","2014-08-08","Hope\nLe Sourire\nL'Exeptions\nEisbär\nWeiss Nid Was Es Isch\nManteau De Gloire\nLa Relève\nDans Ton Dos\nDes Hauts, Des Bas / Papa Was A Rolling Stone\nRivière\nDonne-Moi Une Seconde\nCe Peu D'Amour\nDéjeuner En Paix\nHemmige","Hauptbuhne","Festivaloptreden",8,2014,{"$f":"VLOOKUP(Table1[[#This Row],[Maand (getal)]],Lijst!A:B,2,FALSE)","v":"aug"},{"$f":"IFERROR(IF(ISBLANK('Zoeken in Database'!$D$3),\"x\",IF(SEARCH('Zoeken in Database'!$D$3,Concerten!A1138,1),\"x\",\"\")),\"\")","v":"x"},{"$f":"IFERROR(IF(ISBLANK('Zoeken in Database'!$D$4),\"x\",IF(SEARCH('Zoeken in Database'!$D$4,Concerten!B1138,1),\"x\",\"\")),\"\")","v":"x"},{"$f":"IFERROR(IF(ISBLANK('Zoeken in Database'!$D$5),\"x\",IF(SEARCH('Zoeken in Database'!$D$5,Concerten!C1138,1),\"x\",\"\")),\"\")","v":"x"},{"$f":"IFERROR(IF(ISBLANK('Zoeken in Database'!$D$6),\"x\",IF(SEARCH('Zoeken in Database'!$D$6,Concerten!G1138,1),\"x\",\"\")),\"\")","v":"x"},{"$f":"IF(AND(D1138>='Zoeken in Database'!$A$7,'Zoeken in Database'!$A$8>=D1138),\"x\",\"\")","v":"x"}]
["Black Lips","Haldern Pop 2014","Haldern","2014-08-08",null,"Spiegelzelt","Festivaloptreden",8,2014,{"$f":"VLOOKUP(Table1[[#This Row],[Maand (getal)]],Lijst!A:B,2,FALSE)","v":"aug"},{"$f":"IFERROR(IF(ISBLANK('Zoeken in Database'!$D$3),\"x\",IF(SEARCH('Zoeken in Database'!$D$3,Concerten!A1139,1),\"x\",\"\")),\"\")","v":"x"},{"$f":"IFERROR(IF(ISBLANK('Zoeken in Database'!$D$4),\"x\",IF(SEARCH('Zoeken in Database'!$D$4,Concerten!B1139,1),\"x\",\"\")),\"\")","v":"x"},{"$f":"IFERROR(IF(ISBLANK('Zoeken in Database'!$D$5),\"x\",IF(SEARCH('Zoeken in Database'!$D$5,Concerten!C1139,1),\"x\",\"\")),\"\")","v":"x"},{"$f":"IFERROR(IF(ISBLANK('Zoeken in Database'!$D$6),\"x\",IF(SEARCH('Zoeken in Database'!$D$6,Concerten!G1139,1),\"x\",\"\")),\"\")","v":"x"},{"$f":"IF(AND(D1139>='Zoeken in Database'!$A$7,'Zoeken in Database'!$A$8>=D1139),\"x\",\"\")","v":"x"}]
["Dawes","Haldern Pop 2014","Haldern","2014-08-09",null,"Spiegelzelt","Festivaloptreden",8,2014,{"$f":"VLOOKUP(Table1[[#This Row],[Maand (getal)]],Lijst!A:B,2,FALSE)","v":"aug"},{"$f":"IFERROR(IF(ISBLANK('Zoeken in Database'!$D$3),\"x\",IF(SEARCH('Zoeken in Database'!$D$3,Concerten!A1140,1),\"x\",\"\")),\"\")","v":"x"},{"$f":"IFERROR(IF(ISBLANK('Zoeken in Database'!$D$4),\"x\",IF(SEARCH('Zoeken in Database'!$D$4,Concerten!B1140,1),\"x\",\"\")),\"\")","v":"x"},{"$f":"IFERROR(IF(ISBLANK('Zoeken in Database'!$D$5),\"x\",IF(SEARCH('Zoeken in Database'!$D$5,Concerten!C1140,1),\"x\",\"\")),\"\")","v":"x"},{"$f":"IFERROR(IF(ISBLANK('Zoeken in Database'!$D$6),\"x\",IF(SEARCH('Zoeken in Database'!$D$6,Concerten!G1140,1),\"x\",\"\")),\"\")","v":"x"},{"$f":"IF(AND(D1140>='Zoeken in Database'!$A$7,'Zoeken in Database'!$A$8>=D1140),\"x\",\"\")","v":"x"}]
["First Aid Kit","Haldern Pop 2014","Haldern","2014-08-09","Stay Gold\nBlue\nKing Of The World\nWaitress Song\nMy Silver Lining\nOne More Cup Of Coffee\nWolf\nHeaven Knows\nThe Lion's Roar\nEmmylou","Hauptbuhne","Festivaloptreden",8,2014,{"$f":"VLOOKUP(Table1[[#This Row],[Maand (getal)]],Lijst!A:B,2,FALSE)","v":"aug"},{"$f":"IFERROR(IF(ISBLANK('Zoeken in Database'!$D$3),\"x\",IF(SEARCH('Zoeken in Database'!$D$3,Concerten!A1141,1),\"x\",\"\")),\"\")","v":"x"},{"$f":"IFERROR(IF(ISBLANK('Zoeken in Database'!$D$4),\"x\",IF(SEARCH('Zoeken in Database'!$D$4,Concerten!B1141,1),\"x\",\"\")),\"\")","v":"x"},{"$f":"IFERROR(IF(ISBLANK('Zoeken in Database'!$D$5),\"x\",IF(SEARCH('Zoeken in Database'!$D$5,Concerten!C1141,1),\"x\",\"\")),\"\")","v":"x"},{"$f":"IFERROR(IF(ISBLANK('Zoeken in Database'!$D$6),\"x\",IF(SEARCH('Zoeken in Database'!$D$6,Concerten!G1141,1),\"x\",\"\")),\"\")","v":"x"},{"$f":"IF(AND(D1141>='Zoeken in Database'!$A$7,'Zoeken in Database'!$A$8>=D1141),\"x\",\"\")","v":"x"}]
["Augustines","Haldern Pop 2014","Haldern","2014-08-09","Nothing To Lose But Your Head\nChapel Song\nCruel City\nHeadlong Into The Abyss\nJuarez\nNow You Are Free\nBook Of James\nThe Avenue","Hauptbuhne","Festivaloptreden",8,2014,{"$f":"VLOOKUP(Table1[[#This Row],[Maand (getal)]],Lijst!A:B,2,FALSE)","v":"aug"},{"$f":"IFERROR(IF(ISBLANK('Zoeken in Database'!$D$3),\"x\",IF(SEARCH('Zoeken in Database'!$D$3,Concerten!A1142,1),\"x\",\"\")),\"\")","v":"x"},{"$f":"IFERROR(IF(ISBLANK('Zoeken in Database'!$D$4),\"x\",IF(SEARCH('Zoeken in Database'!$D$4,Concerten!B1142,1),\"x\",\"\")),\"\")","v":"x"},{"$f":"IFERROR(IF(ISBLANK('Zoeken in Database'!$D$5),\"x\",IF(SEARCH('Zoeken in Database'!$D$5,Concerten!C1142,1),\"x\",\"\")),\"\")","v":"x"},{"$f":"IFERROR(IF(ISBLANK('Zoeken in Database'!$D$6),\"x\",IF(SEARCH('Zoeken in Database'!$D$6,Concerten!G1142,1),\"x\",\"\")),\"\")","v":"x"},{"$f":"IF(AND(D1142>='Zoeken in Database'!$A$7,'Zoeken in Database'!$A$8>=D1142),\"x\",\"\")","v":"x"}]
["Fink","Haldern Pop 2014","Haldern","2014-08-09","Pilgrim\nWarm Shadows\nSort Of Revolution\nHard Believer\nWheels\nBerlin Sunrise\nLooking Too Closely","Hauptbuhne","Festivaloptreden",8,2014,{"$f":"VLOOKUP(Table1[[#This Row],[Maand (getal)]],Lijst!A:B,2,FALSE)","v":"aug"},{"$f":"IFERROR(IF(ISBLANK('Zoeken in Database'!$D$3),\"x\",IF(SEARCH('Zoeken in Database'!$D$3,Concerten!A1143,1),\"x\",\"\")),\"\")","v":"x"},{"$f":"IFERROR(IF(ISBLANK('Zoeken in Database'!$D$4),\"x\",IF(SEARCH('Zoeken in Database'!$D$4,Concerten!B1143,1),\"x\",\"\")),\"\")","v":"x"},{"$f":"IFERROR(IF(ISBLANK('Zoeken in Database'!$D$5),\"x\",IF(SEARCH('Zoeken in Database'!$D$5,Concerten!C1143,1),\"x\",\"\")),\"\")","v":"x"},{"$f":"IFERROR(IF(ISBLANK('Zoeken in Database'!$D$6),\"x\",IF(SEARCH('Zoeken in Database'!$D$6,Concerten!G1143,1),\"x\",\"\")),\"\")","v":"x"},{"$f":"IF(AND(D1143>='Zoeken in Database'!$A$7,'Zoeken in Database'!$A$8>=D1143),\"x\",\"\")","v":"x"}]
["Oberst, Conor & Dawes","Haldern Pop 2014","Haldern","2014-08-09","Time Forgot\nHundreds Of Ways\nZigzagging Toward The Light\nOld Soul Song (For The New World Order)\nHit The Switch\nSoul Singer In A Session Band\nBowl Of Oranges\nDouble Life\nGovernor's Ball\nLua\nAnother Travelin' Song","Hauptbuhne","Festivaloptreden",8,2014,{"$f":"VLOOKUP(Table1[[#This Row],[Maand (getal)]],Lijst!A:B,2,FALSE)","v":"aug"},{"$f":"IFERROR(IF(ISBLANK('Zoeken in Database'!$D$3),\"x\",IF(SEARCH('Zoeken in Database'!$D$3,Concerten!A1144,1),\"x\",\"\")),\"\")","v":"x"},{"$f":"IFERROR(IF(ISBLANK('Zoeken in Database'!$D$4),\"x\",IF(SEARCH('Zoeken in Database'!$D$4,Concerten!B1144,1),\"x\",\"\")),\"\")","v":"x"},{"$f":"IFERROR(IF(ISBLANK('Zoeken in Database'!$D$5),\"x\",IF(SEARCH('Zoeken in Database'!$D$5,Concerten!C1144,1),\"x\",\"\")),\"\")","v":"x"},{"$f":"IFERROR(IF(ISBLANK('Zoeken in Database'!$D$6),\"x\",IF(SEARCH('Zoeken in Database'!$D$6,Concerten!G1144,1),\"x\",\"\")),\"\")","v":"x"},{"$f":"IF(AND(D1144>='Zoeken in Database'!$A$7,'Zoeken in Database'!$A$8>=D1144),\"x\",\"\")","v":"x"}]
["Bunger, Enno","Haldern Pop 2014","Haldern","2014-08-09",null,"Spiegelzelt","Festivaloptreden",8,2014,{"$f":"VLOOKUP(Table1[[#This Row],[Maand (getal)]],Lijst!A:B,2,FALSE)","v":"aug"},{"$f":"IFERROR(IF(ISBLANK('Zoeken in Database'!$D$3),\"x\",IF(SEARCH('Zoeken in Database'!$D$3,Concerten!A1145,1),\"x\",\"\")),\"\")","v":"x"},{"$f":"IFERROR(IF(ISBLANK('Zoeken in Database'!$D$4),\"x\",IF(SEARCH('Zoeken in Database'!$D$4,Concerten!B1145,1),\"x\",\"\")),\"\")","v":"x"},{"$f":"IFERROR(IF(ISBLANK('Zoeken in Database'!$D$5),\"x\",IF(SEARCH('Zoeken in Database'!$D$5,Concerten!C1145,1),\"x\",\"\")),\"\")","v":"x"},{"$f":"IFERROR(IF(ISBLANK('Zoeken in Database'!$D$6),\"x\",IF(SEARCH('Zoeken in Database'!$D$6,Concerten!G1145,1),\"x\",\"\")),\"\")","v":"x"},{"$f":"IF(AND(D1145>='Zoeken in Database'!$A$7,'Zoeken in Database'!$A$8>=D1145),\"x\",\"\")","v":"x"}]
["Sun Kil Moon","Haldern Pop 2014","Haldern","2014-08-09",null,"Spiegelzelt","Festivaloptreden",8,2014,{"$f":"VLOOKUP(Table1[[#This Row],[Maand (getal)]],Lijst!A:B,2,FALSE)","v":"aug"},{"$f":"IFERROR(IF(ISBLANK('Zoeken in Database'!$D$3),\"x\",IF(SEARCH('Zoeken in Database'!$D$3,Concerten!A1146,1),\"x\",\"\")),\"\")","v":"x"},{"$f":"IFERROR(IF(ISBLANK('Zoeken in Database'!$D$4),\"x\",IF(SEARCH('Zoeken in Database'!$D$4,Concerten!B1146,1),\"x\",\"\")),\"\")","v":"x"},{"$f":"IFERROR(IF(ISBLANK('Zoeken in Database'!$D$5),\"x\",IF(SEARCH('Zoeken in Database'!$D$5,Concerten!C1146,1),\"x\",\"\")),\"\")","v":"x"},{"$f":"IFERROR(IF(ISBLANK('Zoeken in Database'!$D$6),\"x\",IF(SEARCH('Zoeken in Database'!$D$6,Concerten!G1146,1),\"x\",\"\")),\"\")","v":"x"},{"$f":"IF(AND(D1146>='Zoeken in Database'!$A$7,'Zoeken in Database'!$A$8>=D1146),\"x\",\"\")","v":"x"}]
["Pet Shop Boys","TivoliVredenburg","Utrecht","2014-08-11","Axis \nOne More Chance / A Face Like That \nOpportunities (Let's Make Lots of Money) \nFugitive \nIntegral \nI Wouldn't Normally Do This Kind of Thing \nSuburbia \nI'm Not Scared \nFluorescent \nWest End Girls \nSomewhere \n(Leonard Bernstein cover)\nLeaving \nThursday \nLove etc. \nI Get Excited (You Get Excited Too) /Rent \nMiracles \nIt's a Sin \nDomino Dancing \nAlways on My Mind \n(Brenda Lee cover)\nEncore:\nGo West \n(Village People cover)\nVocal ","Grote Zaal","Hoofdprogramma",8,2014,{"$f":"VLOOKUP(Table1[[#This Row],[Maand (getal)]],Lijst!A:B,2,FALSE)","v":"aug"},{"$f":"IFERROR(IF(ISBLANK('Zoeken in Database'!$D$3),\"x\",IF(SEARCH('Zoeken in Database'!$D$3,Concerten!A1147,1),\"x\",\"\")),\"\")","v":"x"},{"$f":"IFERROR(IF(ISBLANK('Zoeken in Database'!$D$4),\"x\",IF(SEARCH('Zoeken in Database'!$D$4,Concerten!B1147,1),\"x\",\"\")),\"\")","v":"x"},{"$f":"IFERROR(IF(ISBLANK('Zoeken in Database'!$D$5),\"x\",IF(SEARCH('Zoeken in Database'!$D$5,Concerten!C1147,1),\"x\",\"\")),\"\")","v":"x"},{"$f":"IFERROR(IF(ISBLANK('Zoeken in Database'!$D$6),\"x\",IF(SEARCH('Zoeken in Database'!$D$6,Concerten!G1147,1),\"x\",\"\")),\"\")","v":"x"},{"$f":"IF(AND(D1147>='Zoeken in Database'!$A$7,'Zoeken in Database'!$A$8>=D1147),\"x\",\"\")","v":"x"}]
["Etten, Sharon van","Zomerparkfeesten 2014","Venlo","2014-08-14",null,null,"Festivaloptreden",8,2014,{"$f":"VLOOKUP(Table1[[#This Row],[Maand (getal)]],Lijst!A:B,2,FALSE)","v":"aug"},{"$f":"IFERROR(IF(ISBLANK('Zoeken in Database'!$D$3),\"x\",IF(SEARCH('Zoeken in Database'!$D$3,Concerten!A1148,1),\"x\",\"\")),\"\")","v":"x"},{"$f":"IFERROR(IF(ISBLANK('Zoeken in Database'!$D$4),\"x\",IF(SEARCH('Zoeken in Database'!$D$4,Concerten!B1148,1),\"x\",\"\")),\"\")","v":"x"},{"$f":"IFERROR(IF(ISBLANK('Zoeken in Database'!$D$5),\"x\",IF(SEARCH('Zoeken in Database'!$D$5,Concerten!C1148,1),\"x\",\"\")),\"\")","v":"x"},{"$f":"IFERROR(IF(ISBLANK('Zoeken in Database'!$D$6),\"x\",IF(SEARCH('Zoeken in Database'!$D$6,Concerten!G1148,1),\"x\",\"\")),\"\")","v":"x"},{"$f":"IF(AND(D1148>='Zoeken in Database'!$A$7,'Zoeken in Database'!$A$8>=D1148),\"x\",\"\")","v":"x"}]
["Callahan, Bill","Goffert Openluchttheater","Nijmegen","2014-08-15",null,null,"Hoofdprogramma",8,2014,{"$f":"VLOOKUP(Table1[[#This Row],[Maand (getal)]],Lijst!A:B,2,FALSE)","v":"aug"},{"$f":"IFERROR(IF(ISBLANK('Zoeken in Database'!$D$3),\"x\",IF(SEARCH('Zoeken in Database'!$D$3,Concerten!A1149,1),\"x\",\"\")),\"\")","v":"x"},{"$f":"IFERROR(IF(ISBLANK('Zoeken in Database'!$D$4),\"x\",IF(SEARCH('Zoeken in Database'!$D$4,Concerten!B1149,1),\"x\",\"\")),\"\")","v":"x"},{"$f":"IFERROR(IF(ISBLANK('Zoeken in Database'!$D$5),\"x\",IF(SEARCH('Zoeken in Database'!$D$5,Concerten!C1149,1),\"x\",\"\")),\"\")","v":"x"},{"$f":"IFERROR(IF(ISBLANK('Zoeken in Database'!$D$6),\"x\",IF(SEARCH('Zoeken in Database'!$D$6,Concerten!G1149,1),\"x\",\"\")),\"\")","v":"x"},{"$f":"IF(AND(D1149>='Zoeken in Database'!$A$7,'Zoeken in Database'!$A$8>=D1149),\"x\",\"\")","v":"x"}]
["Roberts, Alistair","Goffert Openluchttheater","Nijmegen","2014-08-15",null,null,"Voorprogramma",8,2014,{"$f":"VLOOKUP(Table1[[#This Row],[Maand (getal)]],Lijst!A:B,2,FALSE)","v":"aug"},{"$f":"IFERROR(IF(ISBLANK('Zoeken in Database'!$D$3),\"x\",IF(SEARCH('Zoeken in Database'!$D$3,Concerten!A1150,1),\"x\",\"\")),\"\")","v":"x"},{"$f":"IFERROR(IF(ISBLANK('Zoeken in Database'!$D$4),\"x\",IF(SEARCH('Zoeken in Database'!$D$4,Concerten!B1150,1),\"x\",\"\")),\"\")","v":"x"},{"$f":"IFERROR(IF(ISBLANK('Zoeken in Database'!$D$5),\"x\",IF(SEARCH('Zoeken in Database'!$D$5,Concerten!C1150,1),\"x\",\"\")),\"\")","v":"x"},{"$f":"IFERROR(IF(ISBLANK('Zoeken in Database'!$D$6),\"x\",IF(SEARCH('Zoeken in Database'!$D$6,Concerten!G1150,1),\"x\",\"\")),\"\")","v":"x"},{"$f":"IF(AND(D1150>='Zoeken in Database'!$A$7,'Zoeken in Database'!$A$8>=D1150),\"x\",\"\")","v":"x"}]
["Beck","Heineken Music Hall","Amsterdam","2014-09-08","Devil's Haircut \nBlack Tambourine \nLoser \nThe New Pollution \nBlue Moon \nHeart Is a Drum \nGamma Ray \nHell Yes \nThink I'm in Love \nSoul of a Man \nBlackbird Chain \nUnforgiven \nChemtrails \nWave \nWaking Light \nGirl \nNovacane \nOne Foot in the Grave \nE-Pro \nEncore:\nSexx Laws \nDebra \nWhere It's At ",null,"Hoofdprogramma",9,2014,{"$f":"VLOOKUP(Table1[[#This Row],[Maand (getal)]],Lijst!A:B,2,FALSE)","v":"sep"},{"$f":"IFERROR(IF(ISBLANK('Zoeken in Database'!$D$3),\"x\",IF(SEARCH('Zoeken in Database'!$D$3,Concerten!A1151,1),\"x\",\"\")),\"\")","v":"x"},{"$f":"IFERROR(IF(ISBLANK('Zoeken in Database'!$D$4),\"x\",IF(SEARCH('Zoeken in Database'!$D$4,Concerten!B1151,1),\"x\",\"\")),\"\")","v":"x"},{"$f":"IFERROR(IF(ISBLANK('Zoeken in Database'!$D$5),\"x\",IF(SEARCH('Zoeken in Database'!$D$5,Concerten!C1151,1),\"x\",\"\")),\"\")","v":"x"},{"$f":"IFERROR(IF(ISBLANK('Zoeken in Database'!$D$6),\"x\",IF(SEARCH('Zoeken in Database'!$D$6,Concerten!G1151,1),\"x\",\"\")),\"\")","v":"x"},{"$f":"IF(AND(D1151>='Zoeken in Database'!$A$7,'Zoeken in Database'!$A$8>=D1151),\"x\",\"\")","v":"x"}]
["Lewis, Jenny","Heineken Music Hall","Amsterdam","2014-09-08",null,null,"Voorprogramma",9,2014,{"$f":"VLOOKUP(Table1[[#This Row],[Maand (getal)]],Lijst!A:B,2,FALSE)","v":"sep"},{"$f":"IFERROR(IF(ISBLANK('Zoeken in Database'!$D$3),\"x\",IF(SEARCH('Zoeken in Database'!$D$3,Concerten!A1152,1),\"x\",\"\")),\"\")","v":"x"},{"$f":"IFERROR(IF(ISBLANK('Zoeken in Database'!$D$4),\"x\",IF(SEARCH('Zoeken in Database'!$D$4,Concerten!B1152,1),\"x\",\"\")),\"\")","v":"x"},{"$f":"IFERROR(IF(ISBLANK('Zoeken in Database'!$D$5),\"x\",IF(SEARCH('Zoeken in Database'!$D$5,Concerten!C1152,1),\"x\",\"\")),\"\")","v":"x"},{"$f":"IFERROR(IF(ISBLANK('Zoeken in Database'!$D$6),\"x\",IF(SEARCH('Zoeken in Database'!$D$6,Concerten!G1152,1),\"x\",\"\")),\"\")","v":"x"},{"$f":"IF(AND(D1152>='Zoeken in Database'!$A$7,'Zoeken in Database'!$A$8>=D1152),\"x\",\"\")","v":"x"}]
["Slobberbone","Luxor Live","Arnhem","2014-09-11","Placemat Blues \nThat Is All \nMan of Note\nTop Five \n(Brent Best song)\nBarrel Chested \nLumberlung \nSober Song \nEngine Joe \nBilly Pritchard \nDunk You in the River \nPinball Song \nI'll Be Damned\nI'll Dunk You In The River\nGimme Back My Dog \nLazy Guy\n(I Can Tell) Your Love is Waning \nYour Excuse\nCan't Stay Sober To Save My Life \n--------\n",null,"Hoofdprogramma",9,2014,{"$f":"VLOOKUP(Table1[[#This Row],[Maand (getal)]],Lijst!A:B,2,FALSE)","v":"sep"},{"$f":"IFERROR(IF(ISBLANK('Zoeken in Database'!$D$3),\"x\",IF(SEARCH('Zoeken in Database'!$D$3,Concerten!A1153,1),\"x\",\"\")),\"\")","v":"x"},{"$f":"IFERROR(IF(ISBLANK('Zoeken in Database'!$D$4),\"x\",IF(SEARCH('Zoeken in Database'!$D$4,Concerten!B1153,1),\"x\",\"\")),\"\")","v":"x"},{"$f":"IFERROR(IF(ISBLANK('Zoeken in Database'!$D$5),\"x\",IF(SEARCH('Zoeken in Database'!$D$5,Concerten!C1153,1),\"x\",\"\")),\"\")","v":"x"},{"$f":"IFERROR(IF(ISBLANK('Zoeken in Database'!$D$6),\"x\",IF(SEARCH('Zoeken in Database'!$D$6,Concerten!G1153,1),\"x\",\"\")),\"\")","v":"x"},{"$f":"IF(AND(D1153>='Zoeken in Database'!$A$7,'Zoeken in Database'!$A$8>=D1153),\"x\",\"\")","v":"x"}]
["Bachman, Daniel","MC Frits Philips","Eindhoven","2014-09-12",null,"Kleine zaal","Voorprogramma",9,2014,{"$f":"VLOOKUP(Table1[[#This Row],[Maand (getal)]],Lijst!A:B,2,FALSE)","v":"sep"},{"$f":"IFERROR(IF(ISBLANK('Zoeken in Database'!$D$3),\"x\",IF(SEARCH('Zoeken in Database'!$D$3,Concerten!A1154,1),\"x\",\"\")),\"\")","v":"x"},{"$f":"IFERROR(IF(ISBLANK('Zoeken in Database'!$D$4),\"x\",IF(SEARCH('Zoeken in Database'!$D$4,Concerten!B1154,1),\"x\",\"\")),\"\")","v":"x"},{"$f":"IFERROR(IF(ISBLANK('Zoeken in Database'!$D$5),\"x\",IF(SEARCH('Zoeken in Database'!$D$5,Concerten!C1154,1),\"x\",\"\")),\"\")","v":"x"},{"$f":"IFERROR(IF(ISBLANK('Zoeken in Database'!$D$6),\"x\",IF(SEARCH('Zoeken in Database'!$D$6,Concerten!G1154,1),\"x\",\"\")),\"\")","v":"x"},{"$f":"IF(AND(D1154>='Zoeken in Database'!$A$7,'Zoeken in Database'!$A$8>=D1154),\"x\",\"\")","v":"x"}]
["Fullbright, John","MC Frits Philips","Eindhoven","2014-09-12","Guitar Set\nAll The Time In The World \nUntil You were Gone \nNever Cry Again \nKeeping Hope Alive \nSatan and St. Paul \nHappy \nDollar Bill Blues \n(Townes Van Zandt cover)\nCatfish Song \n(Townes Van Zandt cover)\nGoing Home \nPiano set\nShe Knows \nFat Man \nI Only Pray At Night \nThe One That Lives Too Far \nThat Lucky Old Sun \n(Frankie Laine cover)\nVery First Time \nWhen You're Here \nGawd Above \nEncore:\nMoving \nJericho ","Kleine zaal","Hoofdprogramma",9,2014,{"$f":"VLOOKUP(Table1[[#This Row],[Maand (getal)]],Lijst!A:B,2,FALSE)","v":"sep"},{"$f":"IFERROR(IF(ISBLANK('Zoeken in Database'!$D$3),\"x\",IF(SEARCH('Zoeken in Database'!$D$3,Concerten!A1155,1),\"x\",\"\")),\"\")","v":"x"},{"$f":"IFERROR(IF(ISBLANK('Zoeken in Database'!$D$4),\"x\",IF(SEARCH('Zoeken in Database'!$D$4,Concerten!B1155,1),\"x\",\"\")),\"\")","v":"x"},{"$f":"IFERROR(IF(ISBLANK('Zoeken in Database'!$D$5),\"x\",IF(SEARCH('Zoeken in Database'!$D$5,Concerten!C1155,1),\"x\",\"\")),\"\")","v":"x"},{"$f":"IFERROR(IF(ISBLANK('Zoeken in Database'!$D$6),\"x\",IF(SEARCH('Zoeken in Database'!$D$6,Concerten!G1155,1),\"x\",\"\")),\"\")","v":"x"},{"$f":"IF(AND(D1155>='Zoeken in Database'!$A$7,'Zoeken in Database'!$A$8>=D1155),\"x\",\"\")","v":"x"}]
["Adams, Ryan","Paradiso","Amsterdam","2014-09-23","Gimme Something Good \nA Kiss Before I Go \n(Ryan Adams & The Cardinals cover)\nDirty Rain \nFix It \n(Ryan Adams & The Cardinals cover)\nStay With Me \nLet It Ride \n(Ryan Adams & The Cardinals cover)\nShadows \nEverybody Knows \nI Just Might \nEasy Plateau \n(Ryan Adams & The Cardinals cover)\nMy Wrecking Ball \nKim \nI Love You But I Don't Know What To Say \nThe Door \nOh My Sweet Carolina \nEncore:\nWhy Do They Leave? \n(solo accoustic)\nTrouble \n(solo accoustic)\nRats in the Wall \n(solo accoustic)\nNote: Ryan complained about losing his voice and quit after Oh My Sweet Carolina, explaining that he would take a short break to fix his throat and promising to come back for some accoustic songs","& the Shining","Hoofdprogramma",9,2014,{"$f":"VLOOKUP(Table1[[#This Row],[Maand (getal)]],Lijst!A:B,2,FALSE)","v":"sep"},{"$f":"IFERROR(IF(ISBLANK('Zoeken in Database'!$D$3),\"x\",IF(SEARCH('Zoeken in Database'!$D$3,Concerten!A1156,1),\"x\",\"\")),\"\")","v":"x"},{"$f":"IFERROR(IF(ISBLANK('Zoeken in Database'!$D$4),\"x\",IF(SEARCH('Zoeken in Database'!$D$4,Concerten!B1156,1),\"x\",\"\")),\"\")","v":"x"},{"$f":"IFERROR(IF(ISBLANK('Zoeken in Database'!$D$5),\"x\",IF(SEARCH('Zoeken in Database'!$D$5,Concerten!C1156,1),\"x\",\"\")),\"\")","v":"x"},{"$f":"IFERROR(IF(ISBLANK('Zoeken in Database'!$D$6),\"x\",IF(SEARCH('Zoeken in Database'!$D$6,Concerten!G1156,1),\"x\",\"\")),\"\")","v":"x"},{"$f":"IF(AND(D1156>='Zoeken in Database'!$A$7,'Zoeken in Database'!$A$8>=D1156),\"x\",\"\")","v":"x"}]
["Leonard, Kieran","Paradiso","Amsterdam","2014-09-23",null,null,"Voorprogramma",{"$f":"IF(ISBLANK(D1157),\"\",MONTH(D1157))","v":9},{"$f":"IF(ISBLANK(D1157),\"\",YEAR(D1157))","v":2014},{"$f":"VLOOKUP(Table1[[#This Row],[Maand (getal)]],Lijst!A:B,2,FALSE)","v":"sep"},{"$f":"IFERROR(IF(ISBLANK('Zoeken in Database'!$D$3),\"x\",IF(SEARCH('Zoeken in Database'!$D$3,Concerten!A1157,1),\"x\",\"\")),\"\")","v":"x"},{"$f":"IFERROR(IF(ISBLANK('Zoeken in Database'!$D$4),\"x\",IF(SEARCH('Zoeken in Database'!$D$4,Concerten!B1157,1),\"x\",\"\")),\"\")","v":"x"},{"$f":"IFERROR(IF(ISBLANK('Zoeken in Database'!$D$5),\"x\",IF(SEARCH('Zoeken in Database'!$D$5,Concerten!C1157,1),\"x\",\"\")),\"\")","v":"x"},{"$f":"IFERROR(IF(ISBLANK('Zoeken in Database'!$D$6),\"x\",IF(SEARCH('Zoeken in Database'!$D$6,Concerten!G1157,1),\"x\",\"\")),\"\")","v":"x"},{"$f":"IF(AND(D1157>='Zoeken in Database'!$A$7,'Zoeken in Database'!$A$8>=D1157),\"x\",\"\")","v":"x"}]
["So So Glos, The","Effenaar","Eindhoven","2014-10-08",null,null,"Voorprogramma",10,2014,{"$f":"VLOOKUP(Table1[[#This Row],[Maand (getal)]],Lijst!A:B,2,FALSE)","v":"okt"},{"$f":"IFERROR(IF(ISBLANK('Zoeken in Database'!$D$3),\"x\",IF(SEARCH('Zoeken in Database'!$D$3,Concerten!A1158,1),\"x\",\"\")),\"\")","v":"x"},{"$f":"IFERROR(IF(ISBLANK('Zoeken in Database'!$D$4),\"x\",IF(SEARCH('Zoeken in Database'!$D$4,Concerten!B1158,1),\"x\",\"\")),\"\")","v":"x"},{"$f":"IFERROR(IF(ISBLANK('Zoeken in Database'!$D$5),\"x\",IF(SEARCH('Zoeken in Database'!$D$5,Concerten!C1158,1),\"x\",\"\")),\"\")","v":"x"},{"$f":"IFERROR(IF(ISBLANK('Zoeken in Database'!$D$6),\"x\",IF(SEARCH('Zoeken in Database'!$D$6,Concerten!G1158,1),\"x\",\"\")),\"\")","v":"x"},{"$f":"IF(AND(D1158>='Zoeken in Database'!$A$7,'Zoeken in Database'!$A$8>=D1158),\"x\",\"\")","v":"x"}]
["Hold Steady, The","Effenaar","Eindhoven","2014-10-08",null,null,"Hoofdprogramma",10,2014,{"$f":"VLOOKUP(Table1[[#This Row],[Maand (getal)]],Lijst!A:B,2,FALSE)","v":"okt"},{"$f":"IFERROR(IF(ISBLANK('Zoeken in Database'!$D$3),\"x\",IF(SEARCH('Zoeken in Database'!$D$3,Concerten!A1159,1),\"x\",\"\")),\"\")","v":"x"},{"$f":"IFERROR(IF(ISBLANK('Zoeken in Database'!$D$4),\"x\",IF(SEARCH('Zoeken in Database'!$D$4,Concerten!B1159,1),\"x\",\"\")),\"\")","v":"x"},{"$f":"IFERROR(IF(ISBLANK('Zoeken in Database'!$D$5),\"x\",IF(SEARCH('Zoeken in Database'!$D$5,Concerten!C1159,1),\"x\",\"\")),\"\")","v":"x"},{"$f":"IFERROR(IF(ISBLANK('Zoeken in Database'!$D$6),\"x\",IF(SEARCH('Zoeken in Database'!$D$6,Concerten!G1159,1),\"x\",\"\")),\"\")","v":"x"},{"$f":"IF(AND(D1159>='Zoeken in Database'!$A$7,'Zoeken in Database'!$A$8>=D1159),\"x\",\"\")","v":"x"}]
["Blue Grass Boogiemen","TivoliVredenburg","Utrecht","2014-10-13",null,"Cloud Nine","Voorprogramma",10,2014,{"$f":"VLOOKUP(Table1[[#This Row],[Maand (getal)]],Lijst!A:B,2,FALSE)","v":"okt"},{"$f":"IFERROR(IF(ISBLANK('Zoeken in Database'!$D$3),\"x\",IF(SEARCH('Zoeken in Database'!$D$3,Concerten!A1160,1),\"x\",\"\")),\"\")","v":"x"},{"$f":"IFERROR(IF(ISBLANK('Zoeken in Database'!$D$4),\"x\",IF(SEARCH('Zoeken in Database'!$D$4,Concerten!B1160,1),\"x\",\"\")),\"\")","v":"x"},{"$f":"IFERROR(IF(ISBLANK('Zoeken in Database'!$D$5),\"x\",IF(SEARCH('Zoeken in Database'!$D$5,Concerten!C1160,1),\"x\",\"\")),\"\")","v":"x"},{"$f":"IFERROR(IF(ISBLANK('Zoeken in Database'!$D$6),\"x\",IF(SEARCH('Zoeken in Database'!$D$6,Concerten!G1160,1),\"x\",\"\")),\"\")","v":"x"},{"$f":"IF(AND(D1160>='Zoeken in Database'!$A$7,'Zoeken in Database'!$A$8>=D1160),\"x\",\"\")","v":"x"}]
["Romano, Daniel","TivoliVredenburg","Utrecht","2014-10-13",null,"Cloud Nine","Hoofdprogramma",10,2014,{"$f":"VLOOKUP(Table1[[#This Row],[Maand (getal)]],Lijst!A:B,2,FALSE)","v":"okt"},{"$f":"IFERROR(IF(ISBLANK('Zoeken in Database'!$D$3),\"x\",IF(SEARCH('Zoeken in Database'!$D$3,Concerten!A1161,1),\"x\",\"\")),\"\")","v":"x"},{"$f":"IFERROR(IF(ISBLANK('Zoeken in Database'!$D$4),\"x\",IF(SEARCH('Zoeken in Database'!$D$4,Concerten!B1161,1),\"x\",\"\")),\"\")","v":"x"},{"$f":"IFERROR(IF(ISBLANK('Zoeken in Database'!$D$5),\"x\",IF(SEARCH('Zoeken in Database'!$D$5,Concerten!C1161,1),\"x\",\"\")),\"\")","v":"x"},{"$f":"IFERROR(IF(ISBLANK('Zoeken in Database'!$D$6),\"x\",IF(SEARCH('Zoeken in Database'!$D$6,Concerten!G1161,1),\"x\",\"\")),\"\")","v":"x"},{"$f":"IF(AND(D1161>='Zoeken in Database'!$A$7,'Zoeken in Database'!$A$8>=D1161),\"x\",\"\")","v":"x"}]
["Coves","Doornroosje","Nijmegen","2014-10-30",null,null,"Voorprogramma",10,2014,{"$f":"VLOOKUP(Table1[[#This Row],[Maand (getal)]],Lijst!A:B,2,FALSE)","v":"okt"},{"$f":"IFERROR(IF(ISBLANK('Zoeken in Database'!$D$3),\"x\",IF(SEARCH('Zoeken in Database'!$D$3,Concerten!A1162,1),\"x\",\"\")),\"\")","v":"x"},{"$f":"IFERROR(IF(ISBLANK('Zoeken in Database'!$D$4),\"x\",IF(SEARCH('Zoeken in Database'!$D$4,Concerten!B1162,1),\"x\",\"\")),\"\")","v":"x"},{"$f":"IFERROR(IF(ISBLANK('Zoeken in Database'!$D$5),\"x\",IF(SEARCH('Zoeken in Database'!$D$5,Concerten!C1162,1),\"x\",\"\")),\"\")","v":"x"},{"$f":"IFERROR(IF(ISBLANK('Zoeken in Database'!$D$6),\"x\",IF(SEARCH('Zoeken in Database'!$D$6,Concerten!G1162,1),\"x\",\"\")),\"\")","v":"x"},{"$f":"IF(AND(D1162>='Zoeken in Database'!$A$7,'Zoeken in Database'!$A$8>=D1162),\"x\",\"\")","v":"x"}]
["St. Vincent","Doornroosje","Nijmegen","2014-10-30","Rattlesnake \nDigital Witness \nCruel \nMarrow \nEvery Tear Disappears \nLaughing With a Mouth of Blood \nI Prefer Your Love \nActor Out of Work \nSurgeon \nCheerleader \nPrince Johnny \nBirth in Reverse \nRegret \nHuey Newton \nBring Me Your Loves \nEncore:\nChloe in the Afternoon \nYour Lips Are Red","Grote zaal","Hoofdprogramma",10,2014,{"$f":"VLOOKUP(Table1[[#This Row],[Maand (getal)]],Lijst!A:B,2,FALSE)","v":"okt"},{"$f":"IFERROR(IF(ISBLANK('Zoeken in Database'!$D$3),\"x\",IF(SEARCH('Zoeken in Database'!$D$3,Concerten!A1163,1),\"x\",\"\")),\"\")","v":"x"},{"$f":"IFERROR(IF(ISBLANK('Zoeken in Database'!$D$4),\"x\",IF(SEARCH('Zoeken in Database'!$D$4,Concerten!B1163,1),\"x\",\"\")),\"\")","v":"x"},{"$f":"IFERROR(IF(ISBLANK('Zoeken in Database'!$D$5),\"x\",IF(SEARCH('Zoeken in Database'!$D$5,Concerten!C1163,1),\"x\",\"\")),\"\")","v":"x"},{"$f":"IFERROR(IF(ISBLANK('Zoeken in Database'!$D$6),\"x\",IF(SEARCH('Zoeken in Database'!$D$6,Concerten!G1163,1),\"x\",\"\")),\"\")","v":"x"},{"$f":"IF(AND(D1163>='Zoeken in Database'!$A$7,'Zoeken in Database'!$A$8>=D1163),\"x\",\"\")","v":"x"}]
["Lion King, The","Lyceum Theatre","London","2014-11-04",null,null,"Musical",11,2014,{"$f":"VLOOKUP(Table1[[#This Row],[Maand (getal)]],Lijst!A:B,2,FALSE)","v":"nov"},{"$f":"IFERROR(IF(ISBLANK('Zoeken in Database'!$D$3),\"x\",IF(SEARCH('Zoeken in Database'!$D$3,Concerten!A1164,1),\"x\",\"\")),\"\")","v":"x"},{"$f":"IFERROR(IF(ISBLANK('Zoeken in Database'!$D$4),\"x\",IF(SEARCH('Zoeken in Database'!$D$4,Concerten!B1164,1),\"x\",\"\")),\"\")","v":"x"},{"$f":"IFERROR(IF(ISBLANK('Zoeken in Database'!$D$5),\"x\",IF(SEARCH('Zoeken in Database'!$D$5,Concerten!C1164,1),\"x\",\"\")),\"\")","v":"x"},{"$f":"IFERROR(IF(ISBLANK('Zoeken in Database'!$D$6),\"x\",IF(SEARCH('Zoeken in Database'!$D$6,Concerten!G1164,1),\"x\",\"\")),\"\")","v":"x"},{"$f":"IF(AND(D1164>='Zoeken in Database'!$A$7,'Zoeken in Database'!$A$8>=D1164),\"x\",\"\")","v":"x"}]
["DZ Deathrays","Doornroosje","Nijmegen","2014-11-09",null,"Kleine zaal","Voorprogramma",11,2014,{"$f":"VLOOKUP(Table1[[#This Row],[Maand (getal)]],Lijst!A:B,2,FALSE)","v":"nov"},{"$f":"IFERROR(IF(ISBLANK('Zoeken in Database'!$D$3),\"x\",IF(SEARCH('Zoeken in Database'!$D$3,Concerten!A1165,1),\"x\",\"\")),\"\")","v":"x"},{"$f":"IFERROR(IF(ISBLANK('Zoeken in Database'!$D$4),\"x\",IF(SEARCH('Zoeken in Database'!$D$4,Concerten!B1165,1),\"x\",\"\")),\"\")","v":"x"},{"$f":"IFERROR(IF(ISBLANK('Zoeken in Database'!$D$5),\"x\",IF(SEARCH('Zoeken in Database'!$D$5,Concerten!C1165,1),\"x\",\"\")),\"\")","v":"x"},{"$f":"IFERROR(IF(ISBLANK('Zoeken in Database'!$D$6),\"x\",IF(SEARCH('Zoeken in Database'!$D$6,Concerten!G1165,1),\"x\",\"\")),\"\")","v":"x"},{"$f":"IF(AND(D1165>='Zoeken in Database'!$A$7,'Zoeken in Database'!$A$8>=D1165),\"x\",\"\")","v":"x"}]
["Orwells, The","Doornroosje","Nijmegen","2014-11-09","Dirty Sheets \nThe Righteous One \nLet it Burn \nHalloween All Year \nIn My Bed \nGotta Get Down \nOther Voices \nBlood Bubbles \nBathroom Tile Blues \nMallrats (La La La) \nWho Needs You \nSouthern Comfort","Kleine zaal","Hoofdprogramma",11,2014,{"$f":"VLOOKUP(Table1[[#This Row],[Maand (getal)]],Lijst!A:B,2,FALSE)","v":"nov"},{"$f":"IFERROR(IF(ISBLANK('Zoeken in Database'!$D$3),\"x\",IF(SEARCH('Zoeken in Database'!$D$3,Concerten!A1166,1),\"x\",\"\")),\"\")","v":"x"},{"$f":"IFERROR(IF(ISBLANK('Zoeken in Database'!$D$4),\"x\",IF(SEARCH('Zoeken in Database'!$D$4,Concerten!B1166,1),\"x\",\"\")),\"\")","v":"x"},{"$f":"IFERROR(IF(ISBLANK('Zoeken in Database'!$D$5),\"x\",IF(SEARCH('Zoeken in Database'!$D$5,Concerten!C1166,1),\"x\",\"\")),\"\")","v":"x"},{"$f":"IFERROR(IF(ISBLANK('Zoeken in Database'!$D$6),\"x\",IF(SEARCH('Zoeken in Database'!$D$6,Concerten!G1166,1),\"x\",\"\")),\"\")","v":"x"},{"$f":"IF(AND(D1166>='Zoeken in Database'!$A$7,'Zoeken in Database'!$A$8>=D1166),\"x\",\"\")","v":"x"}]
["Money For Rope","Merleyn","Nijmegen","2014-11-13",null,null,"Voorprogramma",11,2014,{"$f":"VLOOKUP(Table1[[#This Row],[Maand (getal)]],Lijst!A:B,2,FALSE)","v":"nov"},{"$f":"IFERROR(IF(ISBLANK('Zoeken in Database'!$D$3),\"x\",IF(SEARCH('Zoeken in Database'!$D$3,Concerten!A1167,1),\"x\",\"\")),\"\")","v":"x"},{"$f":"IFERROR(IF(ISBLANK('Zoeken in Database'!$D$4),\"x\",IF(SEARCH('Zoeken in Database'!$D$4,Concerten!B1167,1),\"x\",\"\")),\"\")","v":"x"},{"$f":"IFERROR(IF(ISBLANK('Zoeken in Database'!$D$5),\"x\",IF(SEARCH('Zoeken in Database'!$D$5,Concerten!C1167,1),\"x\",\"\")),\"\")","v":"x"},{"$f":"IFERROR(IF(ISBLANK('Zoeken in Database'!$D$6),\"x\",IF(SEARCH('Zoeken in Database'!$D$6,Concerten!G1167,1),\"x\",\"\")),\"\")","v":"x"},{"$f":"IF(AND(D1167>='Zoeken in Database'!$A$7,'Zoeken in Database'!$A$8>=D1167),\"x\",\"\")","v":"x"}]
["Barnett, Courtney","Merleyn","Nijmegen","2014-11-13","David \nLance Jr \nCanned Tomatoes (Whole) \nDon't Apply Compression Gently \nSleepless \n(new song, first time ever)\nOut of the Woodwork \nAnonymous Club \nAre You Looking After Yourself? \nBlah \nPedestal \nAvant Gardener \nHistory Eraser \n",null,"Hoofdprogramma",11,2014,{"$f":"VLOOKUP(Table1[[#This Row],[Maand (getal)]],Lijst!A:B,2,FALSE)","v":"nov"},{"$f":"IFERROR(IF(ISBLANK('Zoeken in Database'!$D$3),\"x\",IF(SEARCH('Zoeken in Database'!$D$3,Concerten!A1168,1),\"x\",\"\")),\"\")","v":"x"},{"$f":"IFERROR(IF(ISBLANK('Zoeken in Database'!$D$4),\"x\",IF(SEARCH('Zoeken in Database'!$D$4,Concerten!B1168,1),\"x\",\"\")),\"\")","v":"x"},{"$f":"IFERROR(IF(ISBLANK('Zoeken in Database'!$D$5),\"x\",IF(SEARCH('Zoeken in Database'!$D$5,Concerten!C1168,1),\"x\",\"\")),\"\")","v":"x"},{"$f":"IFERROR(IF(ISBLANK('Zoeken in Database'!$D$6),\"x\",IF(SEARCH('Zoeken in Database'!$D$6,Concerten!G1168,1),\"x\",\"\")),\"\")","v":"x"},{"$f":"IF(AND(D1168>='Zoeken in Database'!$A$7,'Zoeken in Database'!$A$8>=D1168),\"x\",\"\")","v":"x"}]
["Rose, Lucy","Heineken Music Hall","Amsterdam","2014-11-14",null,null,"Voorprogramma",11,2014,{"$f":"VLOOKUP(Table1[[#This Row],[Maand (getal)]],Lijst!A:B,2,FALSE)","v":"nov"},{"$f":"IFERROR(IF(ISBLANK('Zoeken in Database'!$D$3),\"x\",IF(SEARCH('Zoeken in Database'!$D$3,Concerten!A1169,1),\"x\",\"\")),\"\")","v":"x"},{"$f":"IFERROR(IF(ISBLANK('Zoeken in Database'!$D$4),\"x\",IF(SEARCH('Zoeken in Database'!$D$4,Concerten!B1169,1),\"x\",\"\")),\"\")","v":"x"},{"$f":"IFERROR(IF(ISBLANK('Zoeken in Database'!$D$5),\"x\",IF(SEARCH('Zoeken in Database'!$D$5,Concerten!C1169,1),\"x\",\"\")),\"\")","v":"x"},{"$f":"IFERROR(IF(ISBLANK('Zoeken in Database'!$D$6),\"x\",IF(SEARCH('Zoeken in Database'!$D$6,Concerten!G1169,1),\"x\",\"\")),\"\")","v":"x"},{"$f":"IF(AND(D1169>='Zoeken in Database'!$A$7,'Zoeken in Database'!$A$8>=D1169),\"x\",\"\")","v":"x"}]
["Counting Crows","Heineken Music Hall","Amsterdam","2014-11-14","Time and Time Again \nScarecrow \nFour Days \nElvis Went to Hollywood \nMr. Jones \nBlack and Blue \nStart Again \n(Teenage Fanclub cover)\nOmaha \nPossibility Days \nMrs. Potter's Lullaby \nJohn Appleseed's Lament \nMiami \nGod of Ocean Tides \nGoodnight L.A. \nBig Yellow Taxi \n(Joni Mitchell cover)\nBlues Run the Game \n(Jackson C. Frank cover)\nEarthquake Driver \nA Long December \nCover Up the Sun \nA Murder of One \nEncore:\nPalisades Park \nRain King \nHoliday In Spain ",null,"Hoofdprogramma",11,2014,{"$f":"VLOOKUP(Table1[[#This Row],[Maand (getal)]],Lijst!A:B,2,FALSE)","v":"nov"},{"$f":"IFERROR(IF(ISBLANK('Zoeken in Database'!$D$3),\"x\",IF(SEARCH('Zoeken in Database'!$D$3,Concerten!A1170,1),\"x\",\"\")),\"\")","v":"x"},{"$f":"IFERROR(IF(ISBLANK('Zoeken in Database'!$D$4),\"x\",IF(SEARCH('Zoeken in Database'!$D$4,Concerten!B1170,1),\"x\",\"\")),\"\")","v":"x"},{"$f":"IFERROR(IF(ISBLANK('Zoeken in Database'!$D$5),\"x\",IF(SEARCH('Zoeken in Database'!$D$5,Concerten!C1170,1),\"x\",\"\")),\"\")","v":"x"},{"$f":"IFERROR(IF(ISBLANK('Zoeken in Database'!$D$6),\"x\",IF(SEARCH('Zoeken in Database'!$D$6,Concerten!G1170,1),\"x\",\"\")),\"\")","v":"x"},{"$f":"IF(AND(D1170>='Zoeken in Database'!$A$7,'Zoeken in Database'!$A$8>=D1170),\"x\",\"\")","v":"x"}]
["Clientele, The","Stadthalle Köln-Mülheim","Köln","2014-11-27",null,"Week-end#4","Festivaloptreden",11,2014,{"$f":"VLOOKUP(Table1[[#This Row],[Maand (getal)]],Lijst!A:B,2,FALSE)","v":"nov"},{"$f":"IFERROR(IF(ISBLANK('Zoeken in Database'!$D$3),\"x\",IF(SEARCH('Zoeken in Database'!$D$3,Concerten!A1171,1),\"x\",\"\")),\"\")","v":"x"},{"$f":"IFERROR(IF(ISBLANK('Zoeken in Database'!$D$4),\"x\",IF(SEARCH('Zoeken in Database'!$D$4,Concerten!B1171,1),\"x\",\"\")),\"\")","v":"x"},{"$f":"IFERROR(IF(ISBLANK('Zoeken in Database'!$D$5),\"x\",IF(SEARCH('Zoeken in Database'!$D$5,Concerten!C1171,1),\"x\",\"\")),\"\")","v":"x"},{"$f":"IFERROR(IF(ISBLANK('Zoeken in Database'!$D$6),\"x\",IF(SEARCH('Zoeken in Database'!$D$6,Concerten!G1171,1),\"x\",\"\")),\"\")","v":"x"},{"$f":"IF(AND(D1171>='Zoeken in Database'!$A$7,'Zoeken in Database'!$A$8>=D1171),\"x\",\"\")","v":"x"}]
["Teenage Fanclub","Stadthalle Köln-Mülheim","Köln","2014-11-27","Star Sign\nAbout You\nStart Again\nSometimes I Don't Need to Believe in Anything\nThe Past\nIt's All in My Mind\nDon't Look Back\nBaby Lee\nI Need Direction\nDid I Say\nVerisimilitude\nI'm In Love\nAin't That Enough\nCan't Feel My Soul\nThe Concept\nSparky's Dream\n-----\nNear You\nI Don't Want Control of You\nYour Love Is the Place Where I Come From\nEverything Flows","Week-end#4","Festivaloptreden",11,2014,{"$f":"VLOOKUP(Table1[[#This Row],[Maand (getal)]],Lijst!A:B,2,FALSE)","v":"nov"},{"$f":"IFERROR(IF(ISBLANK('Zoeken in Database'!$D$3),\"x\",IF(SEARCH('Zoeken in Database'!$D$3,Concerten!A1172,1),\"x\",\"\")),\"\")","v":"x"},{"$f":"IFERROR(IF(ISBLANK('Zoeken in Database'!$D$4),\"x\",IF(SEARCH('Zoeken in Database'!$D$4,Concerten!B1172,1),\"x\",\"\")),\"\")","v":"x"},{"$f":"IFERROR(IF(ISBLANK('Zoeken in Database'!$D$5),\"x\",IF(SEARCH('Zoeken in Database'!$D$5,Concerten!C1172,1),\"x\",\"\")),\"\")","v":"x"},{"$f":"IFERROR(IF(ISBLANK('Zoeken in Database'!$D$6),\"x\",IF(SEARCH('Zoeken in Database'!$D$6,Concerten!G1172,1),\"x\",\"\")),\"\")","v":"x"},{"$f":"IF(AND(D1172>='Zoeken in Database'!$A$7,'Zoeken in Database'!$A$8>=D1172),\"x\",\"\")","v":"x"}]
["Daryll-Ann","Mezz","Breda","2014-12-11",null,null,"Hoofdprogramma",12,2014,{"$f":"VLOOKUP(Table1[[#This Row],[Maand (getal)]],Lijst!A:B,2,FALSE)","v":"dec"},{"$f":"IFERROR(IF(ISBLANK('Zoeken in Database'!$D$3),\"x\",IF(SEARCH('Zoeken in Database'!$D$3,Concerten!A1173,1),\"x\",\"\")),\"\")","v":"x"},{"$f":"IFERROR(IF(ISBLANK('Zoeken in Database'!$D$4),\"x\",IF(SEARCH('Zoeken in Database'!$D$4,Concerten!B1173,1),\"x\",\"\")),\"\")","v":"x"},{"$f":"IFERROR(IF(ISBLANK('Zoeken in Database'!$D$5),\"x\",IF(SEARCH('Zoeken in Database'!$D$5,Concerten!C1173,1),\"x\",\"\")),\"\")","v":"x"},{"$f":"IFERROR(IF(ISBLANK('Zoeken in Database'!$D$6),\"x\",IF(SEARCH('Zoeken in Database'!$D$6,Concerten!G1173,1),\"x\",\"\")),\"\")","v":"x"},{"$f":"IF(AND(D1173>='Zoeken in Database'!$A$7,'Zoeken in Database'!$A$8>=D1173),\"x\",\"\")","v":"x"}]
["Novastar","Doornroosje","Nijmegen","2014-12-11","Never Back Down \nWeller Weakness \nWrong \nIn Love With Another \nSo Softly \nCloser To You \nLight Up My Life \nTumulus Man \nSilvery Rain \nKabul \nBangor \nInside Outside \nWhen the Lights Go Down on the Broken Hearted \nBecause \nEncore:\nMars Needs Woman \nTunnelvision \nLost & Blown Away \n(with female Belgian fan on top of piano)\nThe Best Is Yet to Come ","Grote zaal","Hoofdprogramma",12,2014,{"$f":"VLOOKUP(Table1[[#This Row],[Maand (getal)]],Lijst!A:B,2,FALSE)","v":"dec"},{"$f":"IFERROR(IF(ISBLANK('Zoeken in Database'!$D$3),\"x\",IF(SEARCH('Zoeken in Database'!$D$3,Concerten!A1174,1),\"x\",\"\")),\"\")","v":"x"},{"$f":"IFERROR(IF(ISBLANK('Zoeken in Database'!$D$4),\"x\",IF(SEARCH('Zoeken in Database'!$D$4,Concerten!B1174,1),\"x\",\"\")),\"\")","v":"x"},{"$f":"IFERROR(IF(ISBLANK('Zoeken in Database'!$D$5),\"x\",IF(SEARCH('Zoeken in Database'!$D$5,Concerten!C1174,1),\"x\",\"\")),\"\")","v":"x"},{"$f":"IFERROR(IF(ISBLANK('Zoeken in Database'!$D$6),\"x\",IF(SEARCH('Zoeken in Database'!$D$6,Concerten!G1174,1),\"x\",\"\")),\"\")","v":"x"},{"$f":"IF(AND(D1174>='Zoeken in Database'!$A$7,'Zoeken in Database'!$A$8>=D1174),\"x\",\"\")","v":"x"}]
["High Hi","Doornroosje","Nijmegen","2014-12-12",null,"Grote zaal","Voorprogramma",12,2014,{"$f":"VLOOKUP(Table1[[#This Row],[Maand (getal)]],Lijst!A:B,2,FALSE)","v":"dec"},{"$f":"IFERROR(IF(ISBLANK('Zoeken in Database'!$D$3),\"x\",IF(SEARCH('Zoeken in Database'!$D$3,Concerten!A1175,1),\"x\",\"\")),\"\")","v":"x"},{"$f":"IFERROR(IF(ISBLANK('Zoeken in Database'!$D$4),\"x\",IF(SEARCH('Zoeken in Database'!$D$4,Concerten!B1175,1),\"x\",\"\")),\"\")","v":"x"},{"$f":"IFERROR(IF(ISBLANK('Zoeken in Database'!$D$5),\"x\",IF(SEARCH('Zoeken in Database'!$D$5,Concerten!C1175,1),\"x\",\"\")),\"\")","v":"x"},{"$f":"IFERROR(IF(ISBLANK('Zoeken in Database'!$D$6),\"x\",IF(SEARCH('Zoeken in Database'!$D$6,Concerten!G1175,1),\"x\",\"\")),\"\")","v":"x"},{"$f":"IF(AND(D1175>='Zoeken in Database'!$A$7,'Zoeken in Database'!$A$8>=D1175),\"x\",\"\")","v":"x"}]
["Einaudi, Ludovico","MC Frits Philips","Eindhoven","2015-01-14","Fratres for Violin\nStella del Mattino\nI Giorni: Andante\nPrimavera Portena\nPrimavera\nL'origine Nascosta\nExperience\nBartók: Romanian Folk Dances\nDivenire\nLife\nSvanire\nBach - JS: Keyboard Concerto in F Minor\nBurning\nRun\nNo. 5. Nana\nFratres for Violin","met Sinfonietta Amsterdam","Hoofdprogramma",1,2015,{"$f":"VLOOKUP(Table1[[#This Row],[Maand (getal)]],Lijst!A:B,2,FALSE)","v":"jan"},{"$f":"IFERROR(IF(ISBLANK('Zoeken in Database'!$D$3),\"x\",IF(SEARCH('Zoeken in Database'!$D$3,Concerten!A1176,1),\"x\",\"\")),\"\")","v":"x"},{"$f":"IFERROR(IF(ISBLANK('Zoeken in Database'!$D$4),\"x\",IF(SEARCH('Zoeken in Database'!$D$4,Concerten!B1176,1),\"x\",\"\")),\"\")","v":"x"},{"$f":"IFERROR(IF(ISBLANK('Zoeken in Database'!$D$5),\"x\",IF(SEARCH('Zoeken in Database'!$D$5,Concerten!C1176,1),\"x\",\"\")),\"\")","v":"x"},{"$f":"IFERROR(IF(ISBLANK('Zoeken in Database'!$D$6),\"x\",IF(SEARCH('Zoeken in Database'!$D$6,Concerten!G1176,1),\"x\",\"\")),\"\")","v":"x"},{"$f":"IF(AND(D1176>='Zoeken in Database'!$A$7,'Zoeken in Database'!$A$8>=D1176),\"x\",\"\")","v":"x"}]
["Radiator Hospital","Paradiso","Amsterdam","2015-02-01",null,null,"Voorprogramma",2,2015,{"$f":"VLOOKUP(Table1[[#This Row],[Maand (getal)]],Lijst!A:B,2,FALSE)","v":"feb"},{"$f":"IFERROR(IF(ISBLANK('Zoeken in Database'!$D$3),\"x\",IF(SEARCH('Zoeken in Database'!$D$3,Concerten!A1177,1),\"x\",\"\")),\"\")","v":"x"},{"$f":"IFERROR(IF(ISBLANK('Zoeken in Database'!$D$4),\"x\",IF(SEARCH('Zoeken in Database'!$D$4,Concerten!B1177,1),\"x\",\"\")),\"\")","v":"x"},{"$f":"IFERROR(IF(ISBLANK('Zoeken in Database'!$D$5),\"x\",IF(SEARCH('Zoeken in Database'!$D$5,Concerten!C1177,1),\"x\",\"\")),\"\")","v":"x"},{"$f":"IFERROR(IF(ISBLANK('Zoeken in Database'!$D$6),\"x\",IF(SEARCH('Zoeken in Database'!$D$6,Concerten!G1177,1),\"x\",\"\")),\"\")","v":"x"},{"$f":"IF(AND(D1177>='Zoeken in Database'!$A$7,'Zoeken in Database'!$A$8>=D1177),\"x\",\"\")","v":"x"}]
["Waxahatchee","Paradiso","Amsterdam","2015-02-01",null,null,"Hoofdprogramma",2,2015,{"$f":"VLOOKUP(Table1[[#This Row],[Maand (getal)]],Lijst!A:B,2,FALSE)","v":"feb"},{"$f":"IFERROR(IF(ISBLANK('Zoeken in Database'!$D$3),\"x\",IF(SEARCH('Zoeken in Database'!$D$3,Concerten!A1178,1),\"x\",\"\")),\"\")","v":"x"},{"$f":"IFERROR(IF(ISBLANK('Zoeken in Database'!$D$4),\"x\",IF(SEARCH('Zoeken in Database'!$D$4,Concerten!B1178,1),\"x\",\"\")),\"\")","v":"x"},{"$f":"IFERROR(IF(ISBLANK('Zoeken in Database'!$D$5),\"x\",IF(SEARCH('Zoeken in Database'!$D$5,Concerten!C1178,1),\"x\",\"\")),\"\")","v":"x"},{"$f":"IFERROR(IF(ISBLANK('Zoeken in Database'!$D$6),\"x\",IF(SEARCH('Zoeken in Database'!$D$6,Concerten!G1178,1),\"x\",\"\")),\"\")","v":"x"},{"$f":"IF(AND(D1178>='Zoeken in Database'!$A$7,'Zoeken in Database'!$A$8>=D1178),\"x\",\"\")","v":"x"}]
["Crowley, Adrian","Doornroosje","Nijmegen","2015-02-04",null,"Kleine zaal","Voorprogramma",2,2015,{"$f":"VLOOKUP(Table1[[#This Row],[Maand (getal)]],Lijst!A:B,2,FALSE)","v":"feb"},{"$f":"IFERROR(IF(ISBLANK('Zoeken in Database'!$D$3),\"x\",IF(SEARCH('Zoeken in Database'!$D$3,Concerten!A1179,1),\"x\",\"\")),\"\")","v":"x"},{"$f":"IFERROR(IF(ISBLANK('Zoeken in Database'!$D$4),\"x\",IF(SEARCH('Zoeken in Database'!$D$4,Concerten!B1179,1),\"x\",\"\")),\"\")","v":"x"},{"$f":"IFERROR(IF(ISBLANK('Zoeken in Database'!$D$5),\"x\",IF(SEARCH('Zoeken in Database'!$D$5,Concerten!C1179,1),\"x\",\"\")),\"\")","v":"x"},{"$f":"IFERROR(IF(ISBLANK('Zoeken in Database'!$D$6),\"x\",IF(SEARCH('Zoeken in Database'!$D$6,Concerten!G1179,1),\"x\",\"\")),\"\")","v":"x"},{"$f":"IF(AND(D1179>='Zoeken in Database'!$A$7,'Zoeken in Database'!$A$8>=D1179),\"x\",\"\")","v":"x"}]
["Lambchop","Doornroosje","Nijmegen","2015-02-04","The Old Gold Shoe \nGrumpus \nYou Masculine You \nUp With People \nNashville Parent \nWhat Else Could It Be? \nThe Distance From Her to There \nThe Book I Haven't Read \nThe Petrified Florist \nThe Butcher Boy \nGive Me Your Love \n(Curtis Mayfield cover)\nMy Face Your Ass \nWe Never Argue \nEncore:\nYoung Americans (David Bowie)","Kleine zaal","Hoofdprogramma",2,2015,{"$f":"VLOOKUP(Table1[[#This Row],[Maand (getal)]],Lijst!A:B,2,FALSE)","v":"feb"},{"$f":"IFERROR(IF(ISBLANK('Zoeken in Database'!$D$3),\"x\",IF(SEARCH('Zoeken in Database'!$D$3,Concerten!A1180,1),\"x\",\"\")),\"\")","v":"x"},{"$f":"IFERROR(IF(ISBLANK('Zoeken in Database'!$D$4),\"x\",IF(SEARCH('Zoeken in Database'!$D$4,Concerten!B1180,1),\"x\",\"\")),\"\")","v":"x"},{"$f":"IFERROR(IF(ISBLANK('Zoeken in Database'!$D$5),\"x\",IF(SEARCH('Zoeken in Database'!$D$5,Concerten!C1180,1),\"x\",\"\")),\"\")","v":"x"},{"$f":"IFERROR(IF(ISBLANK('Zoeken in Database'!$D$6),\"x\",IF(SEARCH('Zoeken in Database'!$D$6,Concerten!G1180,1),\"x\",\"\")),\"\")","v":"x"},{"$f":"IF(AND(D1180>='Zoeken in Database'!$A$7,'Zoeken in Database'!$A$8>=D1180),\"x\",\"\")","v":"x"}]
["Steer, Serafina","Doornroosje","Nijmegen","2015-02-25",null,"Kleine zaal","Voorprogramma",2,2015,{"$f":"VLOOKUP(Table1[[#This Row],[Maand (getal)]],Lijst!A:B,2,FALSE)","v":"feb"},{"$f":"IFERROR(IF(ISBLANK('Zoeken in Database'!$D$3),\"x\",IF(SEARCH('Zoeken in Database'!$D$3,Concerten!A1181,1),\"x\",\"\")),\"\")","v":"x"},{"$f":"IFERROR(IF(ISBLANK('Zoeken in Database'!$D$4),\"x\",IF(SEARCH('Zoeken in Database'!$D$4,Concerten!B1181,1),\"x\",\"\")),\"\")","v":"x"},{"$f":"IFERROR(IF(ISBLANK('Zoeken in Database'!$D$5),\"x\",IF(SEARCH('Zoeken in Database'!$D$5,Concerten!C1181,1),\"x\",\"\")),\"\")","v":"x"},{"$f":"IFERROR(IF(ISBLANK('Zoeken in Database'!$D$6),\"x\",IF(SEARCH('Zoeken in Database'!$D$6,Concerten!G1181,1),\"x\",\"\")),\"\")","v":"x"},{"$f":"IF(AND(D1181>='Zoeken in Database'!$A$7,'Zoeken in Database'!$A$8>=D1181),\"x\",\"\")","v":"x"}]
["Decemberists, The","Doornroosje","Nijmegen","2015-02-25","1.The Singer Addresses His Audience \n2.Cavalry Captain \n3.Calamity Song \n4.Here I Dreamt I Was an Architect \n5.Rox in the Box \n6.The Crane Wife 1 & 2 \n7.The Crane Wife 3 \n8.Lake Song \n9.The Wrong Year \n10.The Gymnast, High Above The Ground \n11.Make You Better \n12.A Bower Scene > Won't Want for Love (Margaret in the Taiga) \n13.The Rake's Song \n14.Down by the Water \n15.16 Military Wives \n16.A Beginning Song \n17.12/17/12 \n18.The Mariner's Revenge Song","Kleine zaal","Hoofdprogramma",2,2015,{"$f":"VLOOKUP(Table1[[#This Row],[Maand (getal)]],Lijst!A:B,2,FALSE)","v":"feb"},{"$f":"IFERROR(IF(ISBLANK('Zoeken in Database'!$D$3),\"x\",IF(SEARCH('Zoeken in Database'!$D$3,Concerten!A1182,1),\"x\",\"\")),\"\")","v":"x"},{"$f":"IFERROR(IF(ISBLANK('Zoeken in Database'!$D$4),\"x\",IF(SEARCH('Zoeken in Database'!$D$4,Concerten!B1182,1),\"x\",\"\")),\"\")","v":"x"},{"$f":"IFERROR(IF(ISBLANK('Zoeken in Database'!$D$5),\"x\",IF(SEARCH('Zoeken in Database'!$D$5,Concerten!C1182,1),\"x\",\"\")),\"\")","v":"x"},{"$f":"IFERROR(IF(ISBLANK('Zoeken in Database'!$D$6),\"x\",IF(SEARCH('Zoeken in Database'!$D$6,Concerten!G1182,1),\"x\",\"\")),\"\")","v":"x"},{"$f":"IF(AND(D1182>='Zoeken in Database'!$A$7,'Zoeken in Database'!$A$8>=D1182),\"x\",\"\")","v":"x"}]
["Newsome, Paul","TivoliVredenburg","Utrecht","2015-03-20",null,"Ronda","Voorprogramma",3,2015,{"$f":"VLOOKUP(Table1[[#This Row],[Maand (getal)]],Lijst!A:B,2,FALSE)","v":"mrt"},{"$f":"IFERROR(IF(ISBLANK('Zoeken in Database'!$D$3),\"x\",IF(SEARCH('Zoeken in Database'!$D$3,Concerten!A1183,1),\"x\",\"\")),\"\")","v":"x"},{"$f":"IFERROR(IF(ISBLANK('Zoeken in Database'!$D$4),\"x\",IF(SEARCH('Zoeken in Database'!$D$4,Concerten!B1183,1),\"x\",\"\")),\"\")","v":"x"},{"$f":"IFERROR(IF(ISBLANK('Zoeken in Database'!$D$5),\"x\",IF(SEARCH('Zoeken in Database'!$D$5,Concerten!C1183,1),\"x\",\"\")),\"\")","v":"x"},{"$f":"IFERROR(IF(ISBLANK('Zoeken in Database'!$D$6),\"x\",IF(SEARCH('Zoeken in Database'!$D$6,Concerten!G1183,1),\"x\",\"\")),\"\")","v":"x"},{"$f":"IF(AND(D1183>='Zoeken in Database'!$A$7,'Zoeken in Database'!$A$8>=D1183),\"x\",\"\")","v":"x"}]
["Noel Gallaghers High Flying Birds","TivoliVredenburg","Utrecht","2015-03-20","Do the Damage \n(Stranded On) The Wrong Beach \nEverybody's on the Run \nFade Away \n(Oasis cover)\nIn the Heat of the Moment \nLock All the Doors \nRiverman \nThe Death of You and Me \nYou Know We Can't Go Back \nChampagne Supernova \n(Oasis cover)\nBallad of the Mighty I \nDream On \nThe Dying of the Light \nThe Mexican \nAKA... Broken Arrow \nDigsy's Dinner \n(Oasis cover)\nIf I Had a Gun... \nEncore:\nDon't Look Back in Anger \n(Oasis cover)\nAKA... What a Life! \nThe Masterplan \n(Oasis cover)","Ronda","Hoofdprogramma",3,2015,{"$f":"VLOOKUP(Table1[[#This Row],[Maand (getal)]],Lijst!A:B,2,FALSE)","v":"mrt"},{"$f":"IFERROR(IF(ISBLANK('Zoeken in Database'!$D$3),\"x\",IF(SEARCH('Zoeken in Database'!$D$3,Concerten!A1184,1),\"x\",\"\")),\"\")","v":"x"},{"$f":"IFERROR(IF(ISBLANK('Zoeken in Database'!$D$4),\"x\",IF(SEARCH('Zoeken in Database'!$D$4,Concerten!B1184,1),\"x\",\"\")),\"\")","v":"x"},{"$f":"IFERROR(IF(ISBLANK('Zoeken in Database'!$D$5),\"x\",IF(SEARCH('Zoeken in Database'!$D$5,Concerten!C1184,1),\"x\",\"\")),\"\")","v":"x"},{"$f":"IFERROR(IF(ISBLANK('Zoeken in Database'!$D$6),\"x\",IF(SEARCH('Zoeken in Database'!$D$6,Concerten!G1184,1),\"x\",\"\")),\"\")","v":"x"},{"$f":"IF(AND(D1184>='Zoeken in Database'!$A$7,'Zoeken in Database'!$A$8>=D1184),\"x\",\"\")","v":"x"}]
["Sue The Night","Merleyn","Nijmegen","2015-03-27","She \nBeckon \nFool's Gold \nDisparate Youth \n(Santigold cover)\nThe Great Bear \nBogeyman \nThe Whale \nLook Forward \nSomebody's Watching \nWinter's Coming \nTop of Mind \n------\nPity Song \nWatercolours ",null,"Hoofdprogramma",3,2015,{"$f":"VLOOKUP(Table1[[#This Row],[Maand (getal)]],Lijst!A:B,2,FALSE)","v":"mrt"},{"$f":"IFERROR(IF(ISBLANK('Zoeken in Database'!$D$3),\"x\",IF(SEARCH('Zoeken in Database'!$D$3,Concerten!A1185,1),\"x\",\"\")),\"\")","v":"x"},{"$f":"IFERROR(IF(ISBLANK('Zoeken in Database'!$D$4),\"x\",IF(SEARCH('Zoeken in Database'!$D$4,Concerten!B1185,1),\"x\",\"\")),\"\")","v":"x"},{"$f":"IFERROR(IF(ISBLANK('Zoeken in Database'!$D$5),\"x\",IF(SEARCH('Zoeken in Database'!$D$5,Concerten!C1185,1),\"x\",\"\")),\"\")","v":"x"},{"$f":"IFERROR(IF(ISBLANK('Zoeken in Database'!$D$6),\"x\",IF(SEARCH('Zoeken in Database'!$D$6,Concerten!G1185,1),\"x\",\"\")),\"\")","v":"x"},{"$f":"IF(AND(D1185>='Zoeken in Database'!$A$7,'Zoeken in Database'!$A$8>=D1185),\"x\",\"\")","v":"x"}]
["Soldaat, Anne","De Weijer","Boxmeer","2015-04-08",null,null,"Hoofdprogramma",4,2015,{"$f":"VLOOKUP(Table1[[#This Row],[Maand (getal)]],Lijst!A:B,2,FALSE)","v":"apr"},{"$f":"IFERROR(IF(ISBLANK('Zoeken in Database'!$D$3),\"x\",IF(SEARCH('Zoeken in Database'!$D$3,Concerten!A1186,1),\"x\",\"\")),\"\")","v":"x"},{"$f":"IFERROR(IF(ISBLANK('Zoeken in Database'!$D$4),\"x\",IF(SEARCH('Zoeken in Database'!$D$4,Concerten!B1186,1),\"x\",\"\")),\"\")","v":"x"},{"$f":"IFERROR(IF(ISBLANK('Zoeken in Database'!$D$5),\"x\",IF(SEARCH('Zoeken in Database'!$D$5,Concerten!C1186,1),\"x\",\"\")),\"\")","v":"x"},{"$f":"IFERROR(IF(ISBLANK('Zoeken in Database'!$D$6),\"x\",IF(SEARCH('Zoeken in Database'!$D$6,Concerten!G1186,1),\"x\",\"\")),\"\")","v":"x"},{"$f":"IF(AND(D1186>='Zoeken in Database'!$A$7,'Zoeken in Database'!$A$8>=D1186),\"x\",\"\")","v":"x"}]
["Sue The Night","TivoliVredenburg","Utrecht","2015-04-10",null,"3fm Awards Festival 2015, Pandora","Festivaloptreden",4,2015,{"$f":"VLOOKUP(Table1[[#This Row],[Maand (getal)]],Lijst!A:B,2,FALSE)","v":"apr"},{"$f":"IFERROR(IF(ISBLANK('Zoeken in Database'!$D$3),\"x\",IF(SEARCH('Zoeken in Database'!$D$3,Concerten!A1187,1),\"x\",\"\")),\"\")","v":"x"},{"$f":"IFERROR(IF(ISBLANK('Zoeken in Database'!$D$4),\"x\",IF(SEARCH('Zoeken in Database'!$D$4,Concerten!B1187,1),\"x\",\"\")),\"\")","v":"x"},{"$f":"IFERROR(IF(ISBLANK('Zoeken in Database'!$D$5),\"x\",IF(SEARCH('Zoeken in Database'!$D$5,Concerten!C1187,1),\"x\",\"\")),\"\")","v":"x"},{"$f":"IFERROR(IF(ISBLANK('Zoeken in Database'!$D$6),\"x\",IF(SEARCH('Zoeken in Database'!$D$6,Concerten!G1187,1),\"x\",\"\")),\"\")","v":"x"},{"$f":"IF(AND(D1187>='Zoeken in Database'!$A$7,'Zoeken in Database'!$A$8>=D1187),\"x\",\"\")","v":"x"}]
["Typhoon","TivoliVredenburg","Utrecht","2015-04-10",null,"3fm Awards Festival 2015, Pandora","Festivaloptreden",4,2015,{"$f":"VLOOKUP(Table1[[#This Row],[Maand (getal)]],Lijst!A:B,2,FALSE)","v":"apr"},{"$f":"IFERROR(IF(ISBLANK('Zoeken in Database'!$D$3),\"x\",IF(SEARCH('Zoeken in Database'!$D$3,Concerten!A1188,1),\"x\",\"\")),\"\")","v":"x"},{"$f":"IFERROR(IF(ISBLANK('Zoeken in Database'!$D$4),\"x\",IF(SEARCH('Zoeken in Database'!$D$4,Concerten!B1188,1),\"x\",\"\")),\"\")","v":"x"},{"$f":"IFERROR(IF(ISBLANK('Zoeken in Database'!$D$5),\"x\",IF(SEARCH('Zoeken in Database'!$D$5,Concerten!C1188,1),\"x\",\"\")),\"\")","v":"x"},{"$f":"IFERROR(IF(ISBLANK('Zoeken in Database'!$D$6),\"x\",IF(SEARCH('Zoeken in Database'!$D$6,Concerten!G1188,1),\"x\",\"\")),\"\")","v":"x"},{"$f":"IF(AND(D1188>='Zoeken in Database'!$A$7,'Zoeken in Database'!$A$8>=D1188),\"x\",\"\")","v":"x"}]
["Kensington","TivoliVredenburg","Utrecht","2015-04-10",null,"3fm Awards Festival 2015, Ronda","Festivaloptreden",4,2015,{"$f":"VLOOKUP(Table1[[#This Row],[Maand (getal)]],Lijst!A:B,2,FALSE)","v":"apr"},{"$f":"IFERROR(IF(ISBLANK('Zoeken in Database'!$D$3),\"x\",IF(SEARCH('Zoeken in Database'!$D$3,Concerten!A1189,1),\"x\",\"\")),\"\")","v":"x"},{"$f":"IFERROR(IF(ISBLANK('Zoeken in Database'!$D$4),\"x\",IF(SEARCH('Zoeken in Database'!$D$4,Concerten!B1189,1),\"x\",\"\")),\"\")","v":"x"},{"$f":"IFERROR(IF(ISBLANK('Zoeken in Database'!$D$5),\"x\",IF(SEARCH('Zoeken in Database'!$D$5,Concerten!C1189,1),\"x\",\"\")),\"\")","v":"x"},{"$f":"IFERROR(IF(ISBLANK('Zoeken in Database'!$D$6),\"x\",IF(SEARCH('Zoeken in Database'!$D$6,Concerten!G1189,1),\"x\",\"\")),\"\")","v":"x"},{"$f":"IF(AND(D1189>='Zoeken in Database'!$A$7,'Zoeken in Database'!$A$8>=D1189),\"x\",\"\")","v":"x"}]
["Aloa Input","Doornroosje","Nijmegen","2015-04-12",null,"Kleine zaal","Voorprogramma",4,2015,{"$f":"VLOOKUP(Table1[[#This Row],[Maand (getal)]],Lijst!A:B,2,FALSE)","v":"apr"},{"$f":"IFERROR(IF(ISBLANK('Zoeken in Database'!$D$3),\"x\",IF(SEARCH('Zoeken in Database'!$D$3,Concerten!A1190,1),\"x\",\"\")),\"\")","v":"x"},{"$f":"IFERROR(IF(ISBLANK('Zoeken in Database'!$D$4),\"x\",IF(SEARCH('Zoeken in Database'!$D$4,Concerten!B1190,1),\"x\",\"\")),\"\")","v":"x"},{"$f":"IFERROR(IF(ISBLANK('Zoeken in Database'!$D$5),\"x\",IF(SEARCH('Zoeken in Database'!$D$5,Concerten!C1190,1),\"x\",\"\")),\"\")","v":"x"},{"$f":"IFERROR(IF(ISBLANK('Zoeken in Database'!$D$6),\"x\",IF(SEARCH('Zoeken in Database'!$D$6,Concerten!G1190,1),\"x\",\"\")),\"\")","v":"x"},{"$f":"IF(AND(D1190>='Zoeken in Database'!$A$7,'Zoeken in Database'!$A$8>=D1190),\"x\",\"\")","v":"x"}]
["Notwist, The","Doornroosje","Nijmegen","2015-04-12","Good Lies \nClose to the Glass \nKong \nBoneless \nInto Another Tune \nOne With the Freaks \nPick Up the Phone \nThis Room \nOne Dark Love Poem \nGloomy Planets \nRun Run Run \nNo Encores \nGravity \nEncore:\nMy Faults \nNeon Golden \nPilot \nEncore 2:\nConsequence \nGone Gone Gone","Kleine zaal","Hoofdprogramma",4,2015,{"$f":"VLOOKUP(Table1[[#This Row],[Maand (getal)]],Lijst!A:B,2,FALSE)","v":"apr"},{"$f":"IFERROR(IF(ISBLANK('Zoeken in Database'!$D$3),\"x\",IF(SEARCH('Zoeken in Database'!$D$3,Concerten!A1191,1),\"x\",\"\")),\"\")","v":"x"},{"$f":"IFERROR(IF(ISBLANK('Zoeken in Database'!$D$4),\"x\",IF(SEARCH('Zoeken in Database'!$D$4,Concerten!B1191,1),\"x\",\"\")),\"\")","v":"x"},{"$f":"IFERROR(IF(ISBLANK('Zoeken in Database'!$D$5),\"x\",IF(SEARCH('Zoeken in Database'!$D$5,Concerten!C1191,1),\"x\",\"\")),\"\")","v":"x"},{"$f":"IFERROR(IF(ISBLANK('Zoeken in Database'!$D$6),\"x\",IF(SEARCH('Zoeken in Database'!$D$6,Concerten!G1191,1),\"x\",\"\")),\"\")","v":"x"},{"$f":"IF(AND(D1191>='Zoeken in Database'!$A$7,'Zoeken in Database'!$A$8>=D1191),\"x\",\"\")","v":"x"}]
["Cave, Nick","Congresscentrum","Den Haag","2015-05-17","We Real Cool \n(Nick Cave & The Bad Seeds song)\nThe Weeping Song \n(Nick Cave & The Bad Seeds song)\nRed Right Hand \n(Nick Cave & The Bad Seeds song)\nBrompton Oratory \n(Nick Cave & The Bad Seeds song)\nHiggs Boson Blues \n(Nick Cave & The Bad Seeds song)\nMermaids \n(Nick Cave & The Bad Seeds song)\nThe Ship Song \n(Nick Cave & The Bad Seeds song)\nFrom Her to Eternity \n(Nick Cave & The Bad Seeds song)\nStranger Than Kindness \n(Nick Cave & The Bad Seeds song)\nGod Is in the House \n(Nick Cave & The Bad Seeds song)\nInto My Arms \n(Nick Cave & The Bad Seeds song)\nWest Country Girl \n(Nick Cave & The Bad Seeds song)\nTupelo \n(Nick Cave & The Bad Seeds song)\nBlack Hair \n(Nick Cave & The Bad Seeds song)\nThe Mercy Seat \n(Nick Cave & The Bad Seeds song)\nJubilee Street \n(Nick Cave & The Bad Seeds song)\nEncore:\nSad Waters \n(Nick Cave & The Bad Seeds song)\nWe No Who U R \n(Nick Cave & The Bad Seeds song)\nPeople Ain't No Good \n(Nick Cave & The Bad Seeds song)\nJack the Ripper \n(Nick Cave & The Bad Seeds song)\nPush the Sky Away \n(Nick Cave & The Bad Seeds song)","Solo (met Warren Ellis, Martyn Casey, Thomas Wydler and Barry Adamson)","Hoofdprogramma",5,2015,{"$f":"VLOOKUP(Table1[[#This Row],[Maand (getal)]],Lijst!A:B,2,FALSE)","v":"mei"},{"$f":"IFERROR(IF(ISBLANK('Zoeken in Database'!$D$3),\"x\",IF(SEARCH('Zoeken in Database'!$D$3,Concerten!A1192,1),\"x\",\"\")),\"\")","v":"x"},{"$f":"IFERROR(IF(ISBLANK('Zoeken in Database'!$D$4),\"x\",IF(SEARCH('Zoeken in Database'!$D$4,Concerten!B1192,1),\"x\",\"\")),\"\")","v":"x"},{"$f":"IFERROR(IF(ISBLANK('Zoeken in Database'!$D$5),\"x\",IF(SEARCH('Zoeken in Database'!$D$5,Concerten!C1192,1),\"x\",\"\")),\"\")","v":"x"},{"$f":"IFERROR(IF(ISBLANK('Zoeken in Database'!$D$6),\"x\",IF(SEARCH('Zoeken in Database'!$D$6,Concerten!G1192,1),\"x\",\"\")),\"\")","v":"x"},{"$f":"IF(AND(D1192>='Zoeken in Database'!$A$7,'Zoeken in Database'!$A$8>=D1192),\"x\",\"\")","v":"x"}]
["Loveless, Lydia","Ribs & Blues 2015","Raalte","2015-05-25",null,"Deltastage","Festivaloptreden",5,2015,{"$f":"VLOOKUP(Table1[[#This Row],[Maand (getal)]],Lijst!A:B,2,FALSE)","v":"mei"},{"$f":"IFERROR(IF(ISBLANK('Zoeken in Database'!$D$3),\"x\",IF(SEARCH('Zoeken in Database'!$D$3,Concerten!A1193,1),\"x\",\"\")),\"\")","v":"x"},{"$f":"IFERROR(IF(ISBLANK('Zoeken in Database'!$D$4),\"x\",IF(SEARCH('Zoeken in Database'!$D$4,Concerten!B1193,1),\"x\",\"\")),\"\")","v":"x"},{"$f":"IFERROR(IF(ISBLANK('Zoeken in Database'!$D$5),\"x\",IF(SEARCH('Zoeken in Database'!$D$5,Concerten!C1193,1),\"x\",\"\")),\"\")","v":"x"},{"$f":"IFERROR(IF(ISBLANK('Zoeken in Database'!$D$6),\"x\",IF(SEARCH('Zoeken in Database'!$D$6,Concerten!G1193,1),\"x\",\"\")),\"\")","v":"x"},{"$f":"IF(AND(D1193>='Zoeken in Database'!$A$7,'Zoeken in Database'!$A$8>=D1193),\"x\",\"\")","v":"x"}]
["Romano, Daniel","Ribs & Blues 2015","Raalte","2015-05-25",null,"Main Stage","Festivaloptreden",5,2015,{"$f":"VLOOKUP(Table1[[#This Row],[Maand (getal)]],Lijst!A:B,2,FALSE)","v":"mei"},{"$f":"IFERROR(IF(ISBLANK('Zoeken in Database'!$D$3),\"x\",IF(SEARCH('Zoeken in Database'!$D$3,Concerten!A1194,1),\"x\",\"\")),\"\")","v":"x"},{"$f":"IFERROR(IF(ISBLANK('Zoeken in Database'!$D$4),\"x\",IF(SEARCH('Zoeken in Database'!$D$4,Concerten!B1194,1),\"x\",\"\")),\"\")","v":"x"},{"$f":"IFERROR(IF(ISBLANK('Zoeken in Database'!$D$5),\"x\",IF(SEARCH('Zoeken in Database'!$D$5,Concerten!C1194,1),\"x\",\"\")),\"\")","v":"x"},{"$f":"IFERROR(IF(ISBLANK('Zoeken in Database'!$D$6),\"x\",IF(SEARCH('Zoeken in Database'!$D$6,Concerten!G1194,1),\"x\",\"\")),\"\")","v":"x"},{"$f":"IF(AND(D1194>='Zoeken in Database'!$A$7,'Zoeken in Database'!$A$8>=D1194),\"x\",\"\")","v":"x"}]
["Counting Crows","Philharmonie","Haarlem","2015-06-17","Round Here / Palisades Park alt \nScarecrow \nMr. Jones \nHospital \n(Coby Brown cover)\nColorblind \nMercy \nOmaha \nCover Up the Sun \nHard Candy \nMrs. Potter's Lullaby \nPossibility Days \nFriend of the Devil \n(Grateful Dead cover)\nBlues Run the Game \n(Jackson C. Frank cover)\nRichard Manuel is Dead \nEarthquake Driver \nA Long December \nEncore:\nPalisades Park \nRain King \nHoliday in Spain",null,"Hoofdprogramma",6,2015,{"$f":"VLOOKUP(Table1[[#This Row],[Maand (getal)]],Lijst!A:B,2,FALSE)","v":"jun"},{"$f":"IFERROR(IF(ISBLANK('Zoeken in Database'!$D$3),\"x\",IF(SEARCH('Zoeken in Database'!$D$3,Concerten!A1195,1),\"x\",\"\")),\"\")","v":"x"},{"$f":"IFERROR(IF(ISBLANK('Zoeken in Database'!$D$4),\"x\",IF(SEARCH('Zoeken in Database'!$D$4,Concerten!B1195,1),\"x\",\"\")),\"\")","v":"x"},{"$f":"IFERROR(IF(ISBLANK('Zoeken in Database'!$D$5),\"x\",IF(SEARCH('Zoeken in Database'!$D$5,Concerten!C1195,1),\"x\",\"\")),\"\")","v":"x"},{"$f":"IFERROR(IF(ISBLANK('Zoeken in Database'!$D$6),\"x\",IF(SEARCH('Zoeken in Database'!$D$6,Concerten!G1195,1),\"x\",\"\")),\"\")","v":"x"},{"$f":"IF(AND(D1195>='Zoeken in Database'!$A$7,'Zoeken in Database'!$A$8>=D1195),\"x\",\"\")","v":"x"}]
["Last Internationale, The","Philharmonie","Haarlem","2015-06-17",null,null,"Voorprogramma",6,2015,{"$f":"VLOOKUP(Table1[[#This Row],[Maand (getal)]],Lijst!A:B,2,FALSE)","v":"jun"},{"$f":"IFERROR(IF(ISBLANK('Zoeken in Database'!$D$3),\"x\",IF(SEARCH('Zoeken in Database'!$D$3,Concerten!A1196,1),\"x\",\"\")),\"\")","v":"x"},{"$f":"IFERROR(IF(ISBLANK('Zoeken in Database'!$D$4),\"x\",IF(SEARCH('Zoeken in Database'!$D$4,Concerten!B1196,1),\"x\",\"\")),\"\")","v":"x"},{"$f":"IFERROR(IF(ISBLANK('Zoeken in Database'!$D$5),\"x\",IF(SEARCH('Zoeken in Database'!$D$5,Concerten!C1196,1),\"x\",\"\")),\"\")","v":"x"},{"$f":"IFERROR(IF(ISBLANK('Zoeken in Database'!$D$6),\"x\",IF(SEARCH('Zoeken in Database'!$D$6,Concerten!G1196,1),\"x\",\"\")),\"\")","v":"x"},{"$f":"IF(AND(D1196>='Zoeken in Database'!$A$7,'Zoeken in Database'!$A$8>=D1196),\"x\",\"\")","v":"x"}]
["Sue The Night","Best Kept Secret 2015","Hilvarenbeek","2015-06-20",null,"One","Festivaloptreden",6,2015,{"$f":"VLOOKUP(Table1[[#This Row],[Maand (getal)]],Lijst!A:B,2,FALSE)","v":"jun"},{"$f":"IFERROR(IF(ISBLANK('Zoeken in Database'!$D$3),\"x\",IF(SEARCH('Zoeken in Database'!$D$3,Concerten!A1197,1),\"x\",\"\")),\"\")","v":"x"},{"$f":"IFERROR(IF(ISBLANK('Zoeken in Database'!$D$4),\"x\",IF(SEARCH('Zoeken in Database'!$D$4,Concerten!B1197,1),\"x\",\"\")),\"\")","v":"x"},{"$f":"IFERROR(IF(ISBLANK('Zoeken in Database'!$D$5),\"x\",IF(SEARCH('Zoeken in Database'!$D$5,Concerten!C1197,1),\"x\",\"\")),\"\")","v":"x"},{"$f":"IFERROR(IF(ISBLANK('Zoeken in Database'!$D$6),\"x\",IF(SEARCH('Zoeken in Database'!$D$6,Concerten!G1197,1),\"x\",\"\")),\"\")","v":"x"},{"$f":"IF(AND(D1197>='Zoeken in Database'!$A$7,'Zoeken in Database'!$A$8>=D1197),\"x\",\"\")","v":"x"}]
["Fickle Friends","Best Kept Secret 2015","Hilvarenbeek","2015-06-20",null,"Five","Festivaloptreden",6,2015,{"$f":"VLOOKUP(Table1[[#This Row],[Maand (getal)]],Lijst!A:B,2,FALSE)","v":"jun"},{"$f":"IFERROR(IF(ISBLANK('Zoeken in Database'!$D$3),\"x\",IF(SEARCH('Zoeken in Database'!$D$3,Concerten!A1198,1),\"x\",\"\")),\"\")","v":"x"},{"$f":"IFERROR(IF(ISBLANK('Zoeken in Database'!$D$4),\"x\",IF(SEARCH('Zoeken in Database'!$D$4,Concerten!B1198,1),\"x\",\"\")),\"\")","v":"x"},{"$f":"IFERROR(IF(ISBLANK('Zoeken in Database'!$D$5),\"x\",IF(SEARCH('Zoeken in Database'!$D$5,Concerten!C1198,1),\"x\",\"\")),\"\")","v":"x"},{"$f":"IFERROR(IF(ISBLANK('Zoeken in Database'!$D$6),\"x\",IF(SEARCH('Zoeken in Database'!$D$6,Concerten!G1198,1),\"x\",\"\")),\"\")","v":"x"},{"$f":"IF(AND(D1198>='Zoeken in Database'!$A$7,'Zoeken in Database'!$A$8>=D1198),\"x\",\"\")","v":"x"}]
["Death Cab For Cutie","Best Kept Secret 2015","Hilvarenbeek","2015-06-20",null,"Two","Festivaloptreden",6,2015,{"$f":"VLOOKUP(Table1[[#This Row],[Maand (getal)]],Lijst!A:B,2,FALSE)","v":"jun"},{"$f":"IFERROR(IF(ISBLANK('Zoeken in Database'!$D$3),\"x\",IF(SEARCH('Zoeken in Database'!$D$3,Concerten!A1199,1),\"x\",\"\")),\"\")","v":"x"},{"$f":"IFERROR(IF(ISBLANK('Zoeken in Database'!$D$4),\"x\",IF(SEARCH('Zoeken in Database'!$D$4,Concerten!B1199,1),\"x\",\"\")),\"\")","v":"x"},{"$f":"IFERROR(IF(ISBLANK('Zoeken in Database'!$D$5),\"x\",IF(SEARCH('Zoeken in Database'!$D$5,Concerten!C1199,1),\"x\",\"\")),\"\")","v":"x"},{"$f":"IFERROR(IF(ISBLANK('Zoeken in Database'!$D$6),\"x\",IF(SEARCH('Zoeken in Database'!$D$6,Concerten!G1199,1),\"x\",\"\")),\"\")","v":"x"},{"$f":"IF(AND(D1199>='Zoeken in Database'!$A$7,'Zoeken in Database'!$A$8>=D1199),\"x\",\"\")","v":"x"}]
["Balthazar","Best Kept Secret 2015","Hilvarenbeek","2015-06-20","Decency \nThen What \nLeipzig \nThe Boatman \nNightclub \nThe Oldest of Sisters \nBunker \nFifteen Floors \nI Looked For You \nSinking Ship \nDo Not Claim Them Anymore \nBlood Like Wine ","One","Festivaloptreden",6,2015,{"$f":"VLOOKUP(Table1[[#This Row],[Maand (getal)]],Lijst!A:B,2,FALSE)","v":"jun"},{"$f":"IFERROR(IF(ISBLANK('Zoeken in Database'!$D$3),\"x\",IF(SEARCH('Zoeken in Database'!$D$3,Concerten!A1200,1),\"x\",\"\")),\"\")","v":"x"},{"$f":"IFERROR(IF(ISBLANK('Zoeken in Database'!$D$4),\"x\",IF(SEARCH('Zoeken in Database'!$D$4,Concerten!B1200,1),\"x\",\"\")),\"\")","v":"x"},{"$f":"IFERROR(IF(ISBLANK('Zoeken in Database'!$D$5),\"x\",IF(SEARCH('Zoeken in Database'!$D$5,Concerten!C1200,1),\"x\",\"\")),\"\")","v":"x"},{"$f":"IFERROR(IF(ISBLANK('Zoeken in Database'!$D$6),\"x\",IF(SEARCH('Zoeken in Database'!$D$6,Concerten!G1200,1),\"x\",\"\")),\"\")","v":"x"},{"$f":"IF(AND(D1200>='Zoeken in Database'!$A$7,'Zoeken in Database'!$A$8>=D1200),\"x\",\"\")","v":"x"}]
["Ride","Best Kept Secret 2015","Hilvarenbeek","2015-06-20","Leave Them All Behind \nLike a Daydream \nPolar Bear \nSeagull \nSennen \nOX4 \nTime of Her Time \nDreams Burn Down \nTaste \nVapour Trail \nDrive Blind ","Two","Festivaloptreden",6,2015,{"$f":"VLOOKUP(Table1[[#This Row],[Maand (getal)]],Lijst!A:B,2,FALSE)","v":"jun"},{"$f":"IFERROR(IF(ISBLANK('Zoeken in Database'!$D$3),\"x\",IF(SEARCH('Zoeken in Database'!$D$3,Concerten!A1201,1),\"x\",\"\")),\"\")","v":"x"},{"$f":"IFERROR(IF(ISBLANK('Zoeken in Database'!$D$4),\"x\",IF(SEARCH('Zoeken in Database'!$D$4,Concerten!B1201,1),\"x\",\"\")),\"\")","v":"x"},{"$f":"IFERROR(IF(ISBLANK('Zoeken in Database'!$D$5),\"x\",IF(SEARCH('Zoeken in Database'!$D$5,Concerten!C1201,1),\"x\",\"\")),\"\")","v":"x"},{"$f":"IFERROR(IF(ISBLANK('Zoeken in Database'!$D$6),\"x\",IF(SEARCH('Zoeken in Database'!$D$6,Concerten!G1201,1),\"x\",\"\")),\"\")","v":"x"},{"$f":"IF(AND(D1201>='Zoeken in Database'!$A$7,'Zoeken in Database'!$A$8>=D1201),\"x\",\"\")","v":"x"}]
["Noel Gallaghers High Flying Birds","Best Kept Secret 2015","Hilvarenbeek","2015-06-20","Shoot a Hole Into the Sun \nEverybody's on the Run \nLock All the Doors \nIn the Heat of the Moment \nFade Away \n(Oasis cover)\nRiverman \nYou Know We Can't Go Back \nChampagne Supernova \n(Oasis cover)\nDream On \nThe Mexican \nIf I Had a Gun... \nDigsy's Dinner \n(Oasis cover)\nThe Masterplan \n(Oasis cover)\nAKA... What a Life! \nDon't Look Back in Anger \n(Oasis cover)","One","Festivaloptreden",6,2015,{"$f":"VLOOKUP(Table1[[#This Row],[Maand (getal)]],Lijst!A:B,2,FALSE)","v":"jun"},{"$f":"IFERROR(IF(ISBLANK('Zoeken in Database'!$D$3),\"x\",IF(SEARCH('Zoeken in Database'!$D$3,Concerten!A1202,1),\"x\",\"\")),\"\")","v":"x"},{"$f":"IFERROR(IF(ISBLANK('Zoeken in Database'!$D$4),\"x\",IF(SEARCH('Zoeken in Database'!$D$4,Concerten!B1202,1),\"x\",\"\")),\"\")","v":"x"},{"$f":"IFERROR(IF(ISBLANK('Zoeken in Database'!$D$5),\"x\",IF(SEARCH('Zoeken in Database'!$D$5,Concerten!C1202,1),\"x\",\"\")),\"\")","v":"x"},{"$f":"IFERROR(IF(ISBLANK('Zoeken in Database'!$D$6),\"x\",IF(SEARCH('Zoeken in Database'!$D$6,Concerten!G1202,1),\"x\",\"\")),\"\")","v":"x"},{"$f":"IF(AND(D1202>='Zoeken in Database'!$A$7,'Zoeken in Database'!$A$8>=D1202),\"x\",\"\")","v":"x"}]
["Misun","Down the Rabbit Hole 2015","Beuningen","2015-06-26",null,"Fuzzy Lop","Festivaloptreden",6,2015,{"$f":"VLOOKUP(Table1[[#This Row],[Maand (getal)]],Lijst!A:B,2,FALSE)","v":"jun"},{"$f":"IFERROR(IF(ISBLANK('Zoeken in Database'!$D$3),\"x\",IF(SEARCH('Zoeken in Database'!$D$3,Concerten!A1203,1),\"x\",\"\")),\"\")","v":"x"},{"$f":"IFERROR(IF(ISBLANK('Zoeken in Database'!$D$4),\"x\",IF(SEARCH('Zoeken in Database'!$D$4,Concerten!B1203,1),\"x\",\"\")),\"\")","v":"x"},{"$f":"IFERROR(IF(ISBLANK('Zoeken in Database'!$D$5),\"x\",IF(SEARCH('Zoeken in Database'!$D$5,Concerten!C1203,1),\"x\",\"\")),\"\")","v":"x"},{"$f":"IFERROR(IF(ISBLANK('Zoeken in Database'!$D$6),\"x\",IF(SEARCH('Zoeken in Database'!$D$6,Concerten!G1203,1),\"x\",\"\")),\"\")","v":"x"},{"$f":"IF(AND(D1203>='Zoeken in Database'!$A$7,'Zoeken in Database'!$A$8>=D1203),\"x\",\"\")","v":"x"}]
["Death From Above 1979","Down the Rabbit Hole 2015","Beuningen","2015-06-26",null,"Hotot","Festivaloptreden",{"$f":"IF(ISBLANK(D1204),\"\",MONTH(D1204))","v":6},{"$f":"IF(ISBLANK(D1204),\"\",YEAR(D1204))","v":2015},{"$f":"VLOOKUP(Table1[[#This Row],[Maand (getal)]],Lijst!A:B,2,FALSE)","v":"jun"},{"$f":"IFERROR(IF(ISBLANK('Zoeken in Database'!$D$3),\"x\",IF(SEARCH('Zoeken in Database'!$D$3,Concerten!A1204,1),\"x\",\"\")),\"\")","v":"x"},{"$f":"IFERROR(IF(ISBLANK('Zoeken in Database'!$D$4),\"x\",IF(SEARCH('Zoeken in Database'!$D$4,Concerten!B1204,1),\"x\",\"\")),\"\")","v":"x"},{"$f":"IFERROR(IF(ISBLANK('Zoeken in Database'!$D$5),\"x\",IF(SEARCH('Zoeken in Database'!$D$5,Concerten!C1204,1),\"x\",\"\")),\"\")","v":"x"},{"$f":"IFERROR(IF(ISBLANK('Zoeken in Database'!$D$6),\"x\",IF(SEARCH('Zoeken in Database'!$D$6,Concerten!G1204,1),\"x\",\"\")),\"\")","v":"x"},{"$f":"IF(AND(D1204>='Zoeken in Database'!$A$7,'Zoeken in Database'!$A$8>=D1204),\"x\",\"\")","v":"x"}]
["Oscar and the Wolf","Down the Rabbit Hole 2015","Beuningen","2015-06-26",null,"Hotot","Festivaloptreden",6,2015,{"$f":"VLOOKUP(Table1[[#This Row],[Maand (getal)]],Lijst!A:B,2,FALSE)","v":"jun"},{"$f":"IFERROR(IF(ISBLANK('Zoeken in Database'!$D$3),\"x\",IF(SEARCH('Zoeken in Database'!$D$3,Concerten!A1205,1),\"x\",\"\")),\"\")","v":"x"},{"$f":"IFERROR(IF(ISBLANK('Zoeken in Database'!$D$4),\"x\",IF(SEARCH('Zoeken in Database'!$D$4,Concerten!B1205,1),\"x\",\"\")),\"\")","v":"x"},{"$f":"IFERROR(IF(ISBLANK('Zoeken in Database'!$D$5),\"x\",IF(SEARCH('Zoeken in Database'!$D$5,Concerten!C1205,1),\"x\",\"\")),\"\")","v":"x"},{"$f":"IFERROR(IF(ISBLANK('Zoeken in Database'!$D$6),\"x\",IF(SEARCH('Zoeken in Database'!$D$6,Concerten!G1205,1),\"x\",\"\")),\"\")","v":"x"},{"$f":"IF(AND(D1205>='Zoeken in Database'!$A$7,'Zoeken in Database'!$A$8>=D1205),\"x\",\"\")","v":"x"}]
["Adams, Ryan","Down the Rabbit Hole 2015","Beuningen","2015-06-26","Gimme Something Good \nLet It Ride \n(Ryan Adams & The Cardinals cover)\nTo Be Young (Is to Be Sad, Is to Be High) \nDirty Rain \nStay With Me \nOh My Sweet Carolina \nMagnolia Mountain \n(Ryan Adams & The Cardinals cover)\nNew York, New York \nPeaceful Valley \n(Ryan Adams & The Cardinals cover)\nWhen the Stars Go Blue \nShakedown on 9th Street ","Hotot","Festivaloptreden",6,2015,{"$f":"VLOOKUP(Table1[[#This Row],[Maand (getal)]],Lijst!A:B,2,FALSE)","v":"jun"},{"$f":"IFERROR(IF(ISBLANK('Zoeken in Database'!$D$3),\"x\",IF(SEARCH('Zoeken in Database'!$D$3,Concerten!A1206,1),\"x\",\"\")),\"\")","v":"x"},{"$f":"IFERROR(IF(ISBLANK('Zoeken in Database'!$D$4),\"x\",IF(SEARCH('Zoeken in Database'!$D$4,Concerten!B1206,1),\"x\",\"\")),\"\")","v":"x"},{"$f":"IFERROR(IF(ISBLANK('Zoeken in Database'!$D$5),\"x\",IF(SEARCH('Zoeken in Database'!$D$5,Concerten!C1206,1),\"x\",\"\")),\"\")","v":"x"},{"$f":"IFERROR(IF(ISBLANK('Zoeken in Database'!$D$6),\"x\",IF(SEARCH('Zoeken in Database'!$D$6,Concerten!G1206,1),\"x\",\"\")),\"\")","v":"x"},{"$f":"IF(AND(D1206>='Zoeken in Database'!$A$7,'Zoeken in Database'!$A$8>=D1206),\"x\",\"\")","v":"x"}]
["Rice, Damien","Down the Rabbit Hole 2015","Beuningen","2015-06-26","Cannonball \nDelicate \nElephant \n9 Crimes \nI Don't Want to Change You \nLong Long Way \n(first part of song on pump organ)\nI Remember \nThe Blower's Daughter \nThe Box \nVolcano \nIt Takes a Lot to Know a Man ","Hotot","Festivaloptreden",6,2015,{"$f":"VLOOKUP(Table1[[#This Row],[Maand (getal)]],Lijst!A:B,2,FALSE)","v":"jun"},{"$f":"IFERROR(IF(ISBLANK('Zoeken in Database'!$D$3),\"x\",IF(SEARCH('Zoeken in Database'!$D$3,Concerten!A1207,1),\"x\",\"\")),\"\")","v":"x"},{"$f":"IFERROR(IF(ISBLANK('Zoeken in Database'!$D$4),\"x\",IF(SEARCH('Zoeken in Database'!$D$4,Concerten!B1207,1),\"x\",\"\")),\"\")","v":"x"},{"$f":"IFERROR(IF(ISBLANK('Zoeken in Database'!$D$5),\"x\",IF(SEARCH('Zoeken in Database'!$D$5,Concerten!C1207,1),\"x\",\"\")),\"\")","v":"x"},{"$f":"IFERROR(IF(ISBLANK('Zoeken in Database'!$D$6),\"x\",IF(SEARCH('Zoeken in Database'!$D$6,Concerten!G1207,1),\"x\",\"\")),\"\")","v":"x"},{"$f":"IF(AND(D1207>='Zoeken in Database'!$A$7,'Zoeken in Database'!$A$8>=D1207),\"x\",\"\")","v":"x"}]
["Happyness","Down the Rabbit Hole 2015","Beuningen","2015-06-27",null,"Fuzzy Lop","Festivaloptreden",6,2015,{"$f":"VLOOKUP(Table1[[#This Row],[Maand (getal)]],Lijst!A:B,2,FALSE)","v":"jun"},{"$f":"IFERROR(IF(ISBLANK('Zoeken in Database'!$D$3),\"x\",IF(SEARCH('Zoeken in Database'!$D$3,Concerten!A1208,1),\"x\",\"\")),\"\")","v":"x"},{"$f":"IFERROR(IF(ISBLANK('Zoeken in Database'!$D$4),\"x\",IF(SEARCH('Zoeken in Database'!$D$4,Concerten!B1208,1),\"x\",\"\")),\"\")","v":"x"},{"$f":"IFERROR(IF(ISBLANK('Zoeken in Database'!$D$5),\"x\",IF(SEARCH('Zoeken in Database'!$D$5,Concerten!C1208,1),\"x\",\"\")),\"\")","v":"x"},{"$f":"IFERROR(IF(ISBLANK('Zoeken in Database'!$D$6),\"x\",IF(SEARCH('Zoeken in Database'!$D$6,Concerten!G1208,1),\"x\",\"\")),\"\")","v":"x"},{"$f":"IF(AND(D1208>='Zoeken in Database'!$A$7,'Zoeken in Database'!$A$8>=D1208),\"x\",\"\")","v":"x"}]
["Alabama Shakes","Down the Rabbit Hole 2015","Beuningen","2015-06-27","Hang Loose \nRise to the Sun \nFuture People \nAlways Alright \nDon't Wanna Fight \nDunes \nShoegaze \nGimme All Your Love \nHeartbreaker \nBe Mine \nThe Greatest \nOver My Head \nYou Ain't Alone ","Hotot","Festivaloptreden",6,2015,{"$f":"VLOOKUP(Table1[[#This Row],[Maand (getal)]],Lijst!A:B,2,FALSE)","v":"jun"},{"$f":"IFERROR(IF(ISBLANK('Zoeken in Database'!$D$3),\"x\",IF(SEARCH('Zoeken in Database'!$D$3,Concerten!A1209,1),\"x\",\"\")),\"\")","v":"x"},{"$f":"IFERROR(IF(ISBLANK('Zoeken in Database'!$D$4),\"x\",IF(SEARCH('Zoeken in Database'!$D$4,Concerten!B1209,1),\"x\",\"\")),\"\")","v":"x"},{"$f":"IFERROR(IF(ISBLANK('Zoeken in Database'!$D$5),\"x\",IF(SEARCH('Zoeken in Database'!$D$5,Concerten!C1209,1),\"x\",\"\")),\"\")","v":"x"},{"$f":"IFERROR(IF(ISBLANK('Zoeken in Database'!$D$6),\"x\",IF(SEARCH('Zoeken in Database'!$D$6,Concerten!G1209,1),\"x\",\"\")),\"\")","v":"x"},{"$f":"IF(AND(D1209>='Zoeken in Database'!$A$7,'Zoeken in Database'!$A$8>=D1209),\"x\",\"\")","v":"x"}]
["Murphy, Roisin","Down the Rabbit Hole 2015","Beuningen","2015-06-27","Golden Era \n(David Morales cover)\nFamiliar Feeling \n(Moloko song)\nEvil Eyes \nGone Fishing \nHouse of Glass \nSimulation \nJealousy \n(Disco Mix)\nExploitation \nPure Pleasure Seeker \n(Moloko song)","Hotot","Festivaloptreden",6,2015,{"$f":"VLOOKUP(Table1[[#This Row],[Maand (getal)]],Lijst!A:B,2,FALSE)","v":"jun"},{"$f":"IFERROR(IF(ISBLANK('Zoeken in Database'!$D$3),\"x\",IF(SEARCH('Zoeken in Database'!$D$3,Concerten!A1210,1),\"x\",\"\")),\"\")","v":"x"},{"$f":"IFERROR(IF(ISBLANK('Zoeken in Database'!$D$4),\"x\",IF(SEARCH('Zoeken in Database'!$D$4,Concerten!B1210,1),\"x\",\"\")),\"\")","v":"x"},{"$f":"IFERROR(IF(ISBLANK('Zoeken in Database'!$D$5),\"x\",IF(SEARCH('Zoeken in Database'!$D$5,Concerten!C1210,1),\"x\",\"\")),\"\")","v":"x"},{"$f":"IFERROR(IF(ISBLANK('Zoeken in Database'!$D$6),\"x\",IF(SEARCH('Zoeken in Database'!$D$6,Concerten!G1210,1),\"x\",\"\")),\"\")","v":"x"},{"$f":"IF(AND(D1210>='Zoeken in Database'!$A$7,'Zoeken in Database'!$A$8>=D1210),\"x\",\"\")","v":"x"}]
["Pop, Iggy","Down the Rabbit Hole 2015","Beuningen","2015-06-27","No Fun \n(Iggy and The Stooges song)\nI Wanna Be Your Dog \n(Iggy and The Stooges song)\nThe Passenger \nLust for Life \nSkull Ring \nSixteen \nFive Foot One \n1969 \n(Iggy and The Stooges song)\nSister Midnight \nReal Wild Child (Wild One) \n(Johnny O'Keefe & The Dee Jays cover)\nNightclubbing \nSome Weird Sin \nMass Production \nEncore:\nI'm Bored \nFuntime \nNeighborhood Threat \nDum Dum Boys ","Hotot","Festivaloptreden",6,2015,{"$f":"VLOOKUP(Table1[[#This Row],[Maand (getal)]],Lijst!A:B,2,FALSE)","v":"jun"},{"$f":"IFERROR(IF(ISBLANK('Zoeken in Database'!$D$3),\"x\",IF(SEARCH('Zoeken in Database'!$D$3,Concerten!A1211,1),\"x\",\"\")),\"\")","v":"x"},{"$f":"IFERROR(IF(ISBLANK('Zoeken in Database'!$D$4),\"x\",IF(SEARCH('Zoeken in Database'!$D$4,Concerten!B1211,1),\"x\",\"\")),\"\")","v":"x"},{"$f":"IFERROR(IF(ISBLANK('Zoeken in Database'!$D$5),\"x\",IF(SEARCH('Zoeken in Database'!$D$5,Concerten!C1211,1),\"x\",\"\")),\"\")","v":"x"},{"$f":"IFERROR(IF(ISBLANK('Zoeken in Database'!$D$6),\"x\",IF(SEARCH('Zoeken in Database'!$D$6,Concerten!G1211,1),\"x\",\"\")),\"\")","v":"x"},{"$f":"IF(AND(D1211>='Zoeken in Database'!$A$7,'Zoeken in Database'!$A$8>=D1211),\"x\",\"\")","v":"x"}]
["Prass, Natalie","Down the Rabbit Hole 2015","Beuningen","2015-06-28","Your Fool \nIt Is You \nBird of Prey \nCaught Up In The Rapture \n(Anita Baker cover)\nAny Time, Any Place \n(Janet Jackson cover)\nJass \nLast Time \nMy Baby Don't Understand Me \nWhy Don't You Believe in Me","Fuzzy Lop","Festivaloptreden",6,2015,{"$f":"VLOOKUP(Table1[[#This Row],[Maand (getal)]],Lijst!A:B,2,FALSE)","v":"jun"},{"$f":"IFERROR(IF(ISBLANK('Zoeken in Database'!$D$3),\"x\",IF(SEARCH('Zoeken in Database'!$D$3,Concerten!A1212,1),\"x\",\"\")),\"\")","v":"x"},{"$f":"IFERROR(IF(ISBLANK('Zoeken in Database'!$D$4),\"x\",IF(SEARCH('Zoeken in Database'!$D$4,Concerten!B1212,1),\"x\",\"\")),\"\")","v":"x"},{"$f":"IFERROR(IF(ISBLANK('Zoeken in Database'!$D$5),\"x\",IF(SEARCH('Zoeken in Database'!$D$5,Concerten!C1212,1),\"x\",\"\")),\"\")","v":"x"},{"$f":"IFERROR(IF(ISBLANK('Zoeken in Database'!$D$6),\"x\",IF(SEARCH('Zoeken in Database'!$D$6,Concerten!G1212,1),\"x\",\"\")),\"\")","v":"x"},{"$f":"IF(AND(D1212>='Zoeken in Database'!$A$7,'Zoeken in Database'!$A$8>=D1212),\"x\",\"\")","v":"x"}]
["Other Lives","Down the Rabbit Hole 2015","Beuningen","2015-06-28","Reconfiguration \nEasy Way Out \nAs I Lay My Head Down \nLandforms \n2 Pyramids \nFor 12 \nTamer Animals \nEnglish Summer \nDark Horse \nSomething in the Way \n(Nirvana cover)\nDust Bowl III","Teddy Widder","Festivaloptreden",6,2015,{"$f":"VLOOKUP(Table1[[#This Row],[Maand (getal)]],Lijst!A:B,2,FALSE)","v":"jun"},{"$f":"IFERROR(IF(ISBLANK('Zoeken in Database'!$D$3),\"x\",IF(SEARCH('Zoeken in Database'!$D$3,Concerten!A1213,1),\"x\",\"\")),\"\")","v":"x"},{"$f":"IFERROR(IF(ISBLANK('Zoeken in Database'!$D$4),\"x\",IF(SEARCH('Zoeken in Database'!$D$4,Concerten!B1213,1),\"x\",\"\")),\"\")","v":"x"},{"$f":"IFERROR(IF(ISBLANK('Zoeken in Database'!$D$5),\"x\",IF(SEARCH('Zoeken in Database'!$D$5,Concerten!C1213,1),\"x\",\"\")),\"\")","v":"x"},{"$f":"IFERROR(IF(ISBLANK('Zoeken in Database'!$D$6),\"x\",IF(SEARCH('Zoeken in Database'!$D$6,Concerten!G1213,1),\"x\",\"\")),\"\")","v":"x"},{"$f":"IF(AND(D1213>='Zoeken in Database'!$A$7,'Zoeken in Database'!$A$8>=D1213),\"x\",\"\")","v":"x"}]
["Bird, Andrew","Down the Rabbit Hole 2015","Beuningen","2015-06-28",null,"Hotot","Festivaloptreden",6,2015,{"$f":"VLOOKUP(Table1[[#This Row],[Maand (getal)]],Lijst!A:B,2,FALSE)","v":"jun"},{"$f":"IFERROR(IF(ISBLANK('Zoeken in Database'!$D$3),\"x\",IF(SEARCH('Zoeken in Database'!$D$3,Concerten!A1214,1),\"x\",\"\")),\"\")","v":"x"},{"$f":"IFERROR(IF(ISBLANK('Zoeken in Database'!$D$4),\"x\",IF(SEARCH('Zoeken in Database'!$D$4,Concerten!B1214,1),\"x\",\"\")),\"\")","v":"x"},{"$f":"IFERROR(IF(ISBLANK('Zoeken in Database'!$D$5),\"x\",IF(SEARCH('Zoeken in Database'!$D$5,Concerten!C1214,1),\"x\",\"\")),\"\")","v":"x"},{"$f":"IFERROR(IF(ISBLANK('Zoeken in Database'!$D$6),\"x\",IF(SEARCH('Zoeken in Database'!$D$6,Concerten!G1214,1),\"x\",\"\")),\"\")","v":"x"},{"$f":"IF(AND(D1214>='Zoeken in Database'!$A$7,'Zoeken in Database'!$A$8>=D1214),\"x\",\"\")","v":"x"}]
["Seasick Steve","Down the Rabbit Hole 2015","Beuningen","2015-06-28","Thunderbird \nBring It On \nRoy's Gang \nDon't Know Why She Love Me But She Do \nWalkin' Man \nSummertime Boy \nBarracuda '68 \nKeep on Keepin' On \nDog House Boogie ","Hotot","Festivaloptreden",6,2015,{"$f":"VLOOKUP(Table1[[#This Row],[Maand (getal)]],Lijst!A:B,2,FALSE)","v":"jun"},{"$f":"IFERROR(IF(ISBLANK('Zoeken in Database'!$D$3),\"x\",IF(SEARCH('Zoeken in Database'!$D$3,Concerten!A1215,1),\"x\",\"\")),\"\")","v":"x"},{"$f":"IFERROR(IF(ISBLANK('Zoeken in Database'!$D$4),\"x\",IF(SEARCH('Zoeken in Database'!$D$4,Concerten!B1215,1),\"x\",\"\")),\"\")","v":"x"},{"$f":"IFERROR(IF(ISBLANK('Zoeken in Database'!$D$5),\"x\",IF(SEARCH('Zoeken in Database'!$D$5,Concerten!C1215,1),\"x\",\"\")),\"\")","v":"x"},{"$f":"IFERROR(IF(ISBLANK('Zoeken in Database'!$D$6),\"x\",IF(SEARCH('Zoeken in Database'!$D$6,Concerten!G1215,1),\"x\",\"\")),\"\")","v":"x"},{"$f":"IF(AND(D1215>='Zoeken in Database'!$A$7,'Zoeken in Database'!$A$8>=D1215),\"x\",\"\")","v":"x"}]
["War On Drugs, The","Down the Rabbit Hole 2015","Beuningen","2015-06-28","Burning \nArms Like Boulders \nBaby Missiles \nComin' Through \nAn Ocean in Between the Waves \nDisappearing \nRed Eyes \nBest Night \nEyes to the Wind \nUnder the Pressure \nIn Reverse \nLost in the Dream \nEncore:\nYour Love Is Calling My Name","Hotot","Festivaloptreden",6,2015,{"$f":"VLOOKUP(Table1[[#This Row],[Maand (getal)]],Lijst!A:B,2,FALSE)","v":"jun"},{"$f":"IFERROR(IF(ISBLANK('Zoeken in Database'!$D$3),\"x\",IF(SEARCH('Zoeken in Database'!$D$3,Concerten!A1216,1),\"x\",\"\")),\"\")","v":"x"},{"$f":"IFERROR(IF(ISBLANK('Zoeken in Database'!$D$4),\"x\",IF(SEARCH('Zoeken in Database'!$D$4,Concerten!B1216,1),\"x\",\"\")),\"\")","v":"x"},{"$f":"IFERROR(IF(ISBLANK('Zoeken in Database'!$D$5),\"x\",IF(SEARCH('Zoeken in Database'!$D$5,Concerten!C1216,1),\"x\",\"\")),\"\")","v":"x"},{"$f":"IFERROR(IF(ISBLANK('Zoeken in Database'!$D$6),\"x\",IF(SEARCH('Zoeken in Database'!$D$6,Concerten!G1216,1),\"x\",\"\")),\"\")","v":"x"},{"$f":"IF(AND(D1216>='Zoeken in Database'!$A$7,'Zoeken in Database'!$A$8>=D1216),\"x\",\"\")","v":"x"}]
["Hertz, Julian","Doornroosje","Nijmegen","2015-07-02",null,"Kleine zaal","Voorprogramma",7,2015,{"$f":"VLOOKUP(Table1[[#This Row],[Maand (getal)]],Lijst!A:B,2,FALSE)","v":"jul"},{"$f":"IFERROR(IF(ISBLANK('Zoeken in Database'!$D$3),\"x\",IF(SEARCH('Zoeken in Database'!$D$3,Concerten!A1217,1),\"x\",\"\")),\"\")","v":"x"},{"$f":"IFERROR(IF(ISBLANK('Zoeken in Database'!$D$4),\"x\",IF(SEARCH('Zoeken in Database'!$D$4,Concerten!B1217,1),\"x\",\"\")),\"\")","v":"x"},{"$f":"IFERROR(IF(ISBLANK('Zoeken in Database'!$D$5),\"x\",IF(SEARCH('Zoeken in Database'!$D$5,Concerten!C1217,1),\"x\",\"\")),\"\")","v":"x"},{"$f":"IFERROR(IF(ISBLANK('Zoeken in Database'!$D$6),\"x\",IF(SEARCH('Zoeken in Database'!$D$6,Concerten!G1217,1),\"x\",\"\")),\"\")","v":"x"},{"$f":"IF(AND(D1217>='Zoeken in Database'!$A$7,'Zoeken in Database'!$A$8>=D1217),\"x\",\"\")","v":"x"}]
["Sexsmith, Ron","Doornroosje","Nijmegen","2015-07-02",null,"Kleine zaal","Hoofdprogramma",7,2015,{"$f":"VLOOKUP(Table1[[#This Row],[Maand (getal)]],Lijst!A:B,2,FALSE)","v":"jul"},{"$f":"IFERROR(IF(ISBLANK('Zoeken in Database'!$D$3),\"x\",IF(SEARCH('Zoeken in Database'!$D$3,Concerten!A1218,1),\"x\",\"\")),\"\")","v":"x"},{"$f":"IFERROR(IF(ISBLANK('Zoeken in Database'!$D$4),\"x\",IF(SEARCH('Zoeken in Database'!$D$4,Concerten!B1218,1),\"x\",\"\")),\"\")","v":"x"},{"$f":"IFERROR(IF(ISBLANK('Zoeken in Database'!$D$5),\"x\",IF(SEARCH('Zoeken in Database'!$D$5,Concerten!C1218,1),\"x\",\"\")),\"\")","v":"x"},{"$f":"IFERROR(IF(ISBLANK('Zoeken in Database'!$D$6),\"x\",IF(SEARCH('Zoeken in Database'!$D$6,Concerten!G1218,1),\"x\",\"\")),\"\")","v":"x"},{"$f":"IF(AND(D1218>='Zoeken in Database'!$A$7,'Zoeken in Database'!$A$8>=D1218),\"x\",\"\")","v":"x"}]
["Sun and the Wolf, The","Doornroosje","Nijmegen","2015-07-07",null,"Grote zaal","Voorprogramma",7,2015,{"$f":"VLOOKUP(Table1[[#This Row],[Maand (getal)]],Lijst!A:B,2,FALSE)","v":"jul"},{"$f":"IFERROR(IF(ISBLANK('Zoeken in Database'!$D$3),\"x\",IF(SEARCH('Zoeken in Database'!$D$3,Concerten!A1219,1),\"x\",\"\")),\"\")","v":"x"},{"$f":"IFERROR(IF(ISBLANK('Zoeken in Database'!$D$4),\"x\",IF(SEARCH('Zoeken in Database'!$D$4,Concerten!B1219,1),\"x\",\"\")),\"\")","v":"x"},{"$f":"IFERROR(IF(ISBLANK('Zoeken in Database'!$D$5),\"x\",IF(SEARCH('Zoeken in Database'!$D$5,Concerten!C1219,1),\"x\",\"\")),\"\")","v":"x"},{"$f":"IFERROR(IF(ISBLANK('Zoeken in Database'!$D$6),\"x\",IF(SEARCH('Zoeken in Database'!$D$6,Concerten!G1219,1),\"x\",\"\")),\"\")","v":"x"},{"$f":"IF(AND(D1219>='Zoeken in Database'!$A$7,'Zoeken in Database'!$A$8>=D1219),\"x\",\"\")","v":"x"}]
["Black Rebel Motorcycle Club","Doornroosje","Nijmegen","2015-07-07","Beat the Devil's Tattoo \nLet the Day Begin \n(The Call cover)\nRival \nTook Out a Loan \nWeapon of Choice \nIn Like the Rose \nAin't No Easy Way \nBerlin \nReturning \nHate the Taste \nRifles \nSome Kind of Ghost \n(Peter Hayes acoustic solo)\nThe Line \n(Robert Been acoustic solo)\nWeight of the World \nWhite Palms \nConscience Killer \nAwake \nRed Eyes and Tears \nSix Barrel Shotgun \nSell It \nEncore:\nComplicated Situation \n(Robert & Peter performing… more )\nShuffle Your Feet \n(Robert & Peter performing… more )\nSpread Your Love \nWhatever Happened to My Rock 'n' Roll (Punk Song)","Grote zaal","Hoofdprogramma",7,2015,{"$f":"VLOOKUP(Table1[[#This Row],[Maand (getal)]],Lijst!A:B,2,FALSE)","v":"jul"},{"$f":"IFERROR(IF(ISBLANK('Zoeken in Database'!$D$3),\"x\",IF(SEARCH('Zoeken in Database'!$D$3,Concerten!A1220,1),\"x\",\"\")),\"\")","v":"x"},{"$f":"IFERROR(IF(ISBLANK('Zoeken in Database'!$D$4),\"x\",IF(SEARCH('Zoeken in Database'!$D$4,Concerten!B1220,1),\"x\",\"\")),\"\")","v":"x"},{"$f":"IFERROR(IF(ISBLANK('Zoeken in Database'!$D$5),\"x\",IF(SEARCH('Zoeken in Database'!$D$5,Concerten!C1220,1),\"x\",\"\")),\"\")","v":"x"},{"$f":"IFERROR(IF(ISBLANK('Zoeken in Database'!$D$6),\"x\",IF(SEARCH('Zoeken in Database'!$D$6,Concerten!G1220,1),\"x\",\"\")),\"\")","v":"x"},{"$f":"IF(AND(D1220>='Zoeken in Database'!$A$7,'Zoeken in Database'!$A$8>=D1220),\"x\",\"\")","v":"x"}]
["Furman, Ezra","Valkhof Festival 2015","Nijmegen","2015-07-20",null,"Boog","Festivaloptreden",7,2015,{"$f":"VLOOKUP(Table1[[#This Row],[Maand (getal)]],Lijst!A:B,2,FALSE)","v":"jul"},{"$f":"IFERROR(IF(ISBLANK('Zoeken in Database'!$D$3),\"x\",IF(SEARCH('Zoeken in Database'!$D$3,Concerten!A1221,1),\"x\",\"\")),\"\")","v":"x"},{"$f":"IFERROR(IF(ISBLANK('Zoeken in Database'!$D$4),\"x\",IF(SEARCH('Zoeken in Database'!$D$4,Concerten!B1221,1),\"x\",\"\")),\"\")","v":"x"},{"$f":"IFERROR(IF(ISBLANK('Zoeken in Database'!$D$5),\"x\",IF(SEARCH('Zoeken in Database'!$D$5,Concerten!C1221,1),\"x\",\"\")),\"\")","v":"x"},{"$f":"IFERROR(IF(ISBLANK('Zoeken in Database'!$D$6),\"x\",IF(SEARCH('Zoeken in Database'!$D$6,Concerten!G1221,1),\"x\",\"\")),\"\")","v":"x"},{"$f":"IF(AND(D1221>='Zoeken in Database'!$A$7,'Zoeken in Database'!$A$8>=D1221),\"x\",\"\")","v":"x"}]
["Soak","Valkhof Festival 2015","Nijmegen","2015-07-20",null,"Arc","Festivaloptreden",{"$f":"IF(ISBLANK(D1222),\"\",MONTH(D1222))","v":7},{"$f":"IF(ISBLANK(D1222),\"\",YEAR(D1222))","v":2015},{"$f":"VLOOKUP(Table1[[#This Row],[Maand (getal)]],Lijst!A:B,2,FALSE)","v":"jul"},{"$f":"IFERROR(IF(ISBLANK('Zoeken in Database'!$D$3),\"x\",IF(SEARCH('Zoeken in Database'!$D$3,Concerten!A1222,1),\"x\",\"\")),\"\")","v":"x"},{"$f":"IFERROR(IF(ISBLANK('Zoeken in Database'!$D$4),\"x\",IF(SEARCH('Zoeken in Database'!$D$4,Concerten!B1222,1),\"x\",\"\")),\"\")","v":"x"},{"$f":"IFERROR(IF(ISBLANK('Zoeken in Database'!$D$5),\"x\",IF(SEARCH('Zoeken in Database'!$D$5,Concerten!C1222,1),\"x\",\"\")),\"\")","v":"x"},{"$f":"IFERROR(IF(ISBLANK('Zoeken in Database'!$D$6),\"x\",IF(SEARCH('Zoeken in Database'!$D$6,Concerten!G1222,1),\"x\",\"\")),\"\")","v":"x"},{"$f":"IF(AND(D1222>='Zoeken in Database'!$A$7,'Zoeken in Database'!$A$8>=D1222),\"x\",\"\")","v":"x"}]
["Communions","Valkhof Festival 2015","Nijmegen","2015-07-20",null,"Boog","Festivaloptreden",7,2015,{"$f":"VLOOKUP(Table1[[#This Row],[Maand (getal)]],Lijst!A:B,2,FALSE)","v":"jul"},{"$f":"IFERROR(IF(ISBLANK('Zoeken in Database'!$D$3),\"x\",IF(SEARCH('Zoeken in Database'!$D$3,Concerten!A1223,1),\"x\",\"\")),\"\")","v":"x"},{"$f":"IFERROR(IF(ISBLANK('Zoeken in Database'!$D$4),\"x\",IF(SEARCH('Zoeken in Database'!$D$4,Concerten!B1223,1),\"x\",\"\")),\"\")","v":"x"},{"$f":"IFERROR(IF(ISBLANK('Zoeken in Database'!$D$5),\"x\",IF(SEARCH('Zoeken in Database'!$D$5,Concerten!C1223,1),\"x\",\"\")),\"\")","v":"x"},{"$f":"IFERROR(IF(ISBLANK('Zoeken in Database'!$D$6),\"x\",IF(SEARCH('Zoeken in Database'!$D$6,Concerten!G1223,1),\"x\",\"\")),\"\")","v":"x"},{"$f":"IF(AND(D1223>='Zoeken in Database'!$A$7,'Zoeken in Database'!$A$8>=D1223),\"x\",\"\")","v":"x"}]
["Intergalactic Lovers, The","Valkhof Festival 2015","Nijmegen","2015-07-20",null,"Arc","Festivaloptreden",7,2015,{"$f":"VLOOKUP(Table1[[#This Row],[Maand (getal)]],Lijst!A:B,2,FALSE)","v":"jul"},{"$f":"IFERROR(IF(ISBLANK('Zoeken in Database'!$D$3),\"x\",IF(SEARCH('Zoeken in Database'!$D$3,Concerten!A1224,1),\"x\",\"\")),\"\")","v":"x"},{"$f":"IFERROR(IF(ISBLANK('Zoeken in Database'!$D$4),\"x\",IF(SEARCH('Zoeken in Database'!$D$4,Concerten!B1224,1),\"x\",\"\")),\"\")","v":"x"},{"$f":"IFERROR(IF(ISBLANK('Zoeken in Database'!$D$5),\"x\",IF(SEARCH('Zoeken in Database'!$D$5,Concerten!C1224,1),\"x\",\"\")),\"\")","v":"x"},{"$f":"IFERROR(IF(ISBLANK('Zoeken in Database'!$D$6),\"x\",IF(SEARCH('Zoeken in Database'!$D$6,Concerten!G1224,1),\"x\",\"\")),\"\")","v":"x"},{"$f":"IF(AND(D1224>='Zoeken in Database'!$A$7,'Zoeken in Database'!$A$8>=D1224),\"x\",\"\")","v":"x"}]
["Unknown Mortal Orchestra","Valkhof Festival 2015","Nijmegen","2015-07-20","Like Acid Rain \nFrom the Sun \nHow Can You Luv Me \nUr Life One Night \nNecessary Evil \nThought Ballune \nThe World Is Crowded \nSo Good at Being in Trouble \nSwim and Sleep (Like A Shark) \nStage or Screen \nFfunny Ffrends \nCan’t Keep Checking My Phone \nMulti-Love \n","Arc","Festivaloptreden",7,2015,{"$f":"VLOOKUP(Table1[[#This Row],[Maand (getal)]],Lijst!A:B,2,FALSE)","v":"jul"},{"$f":"IFERROR(IF(ISBLANK('Zoeken in Database'!$D$3),\"x\",IF(SEARCH('Zoeken in Database'!$D$3,Concerten!A1225,1),\"x\",\"\")),\"\")","v":"x"},{"$f":"IFERROR(IF(ISBLANK('Zoeken in Database'!$D$4),\"x\",IF(SEARCH('Zoeken in Database'!$D$4,Concerten!B1225,1),\"x\",\"\")),\"\")","v":"x"},{"$f":"IFERROR(IF(ISBLANK('Zoeken in Database'!$D$5),\"x\",IF(SEARCH('Zoeken in Database'!$D$5,Concerten!C1225,1),\"x\",\"\")),\"\")","v":"x"},{"$f":"IFERROR(IF(ISBLANK('Zoeken in Database'!$D$6),\"x\",IF(SEARCH('Zoeken in Database'!$D$6,Concerten!G1225,1),\"x\",\"\")),\"\")","v":"x"},{"$f":"IF(AND(D1225>='Zoeken in Database'!$A$7,'Zoeken in Database'!$A$8>=D1225),\"x\",\"\")","v":"x"}]
["Parks, Tess & Anton Newcombe","Valkhof Festival 2015","Nijmegen","2015-07-22",null,null,"Festivaloptreden",7,2015,{"$f":"VLOOKUP(Table1[[#This Row],[Maand (getal)]],Lijst!A:B,2,FALSE)","v":"jul"},{"$f":"IFERROR(IF(ISBLANK('Zoeken in Database'!$D$3),\"x\",IF(SEARCH('Zoeken in Database'!$D$3,Concerten!A1226,1),\"x\",\"\")),\"\")","v":"x"},{"$f":"IFERROR(IF(ISBLANK('Zoeken in Database'!$D$4),\"x\",IF(SEARCH('Zoeken in Database'!$D$4,Concerten!B1226,1),\"x\",\"\")),\"\")","v":"x"},{"$f":"IFERROR(IF(ISBLANK('Zoeken in Database'!$D$5),\"x\",IF(SEARCH('Zoeken in Database'!$D$5,Concerten!C1226,1),\"x\",\"\")),\"\")","v":"x"},{"$f":"IFERROR(IF(ISBLANK('Zoeken in Database'!$D$6),\"x\",IF(SEARCH('Zoeken in Database'!$D$6,Concerten!G1226,1),\"x\",\"\")),\"\")","v":"x"},{"$f":"IF(AND(D1226>='Zoeken in Database'!$A$7,'Zoeken in Database'!$A$8>=D1226),\"x\",\"\")","v":"x"}]
["Oscar","Valkhof Festival 2015","Nijmegen","2015-07-22",null,null,"Festivaloptreden",7,2015,{"$f":"VLOOKUP(Table1[[#This Row],[Maand (getal)]],Lijst!A:B,2,FALSE)","v":"jul"},{"$f":"IFERROR(IF(ISBLANK('Zoeken in Database'!$D$3),\"x\",IF(SEARCH('Zoeken in Database'!$D$3,Concerten!A1227,1),\"x\",\"\")),\"\")","v":"x"},{"$f":"IFERROR(IF(ISBLANK('Zoeken in Database'!$D$4),\"x\",IF(SEARCH('Zoeken in Database'!$D$4,Concerten!B1227,1),\"x\",\"\")),\"\")","v":"x"},{"$f":"IFERROR(IF(ISBLANK('Zoeken in Database'!$D$5),\"x\",IF(SEARCH('Zoeken in Database'!$D$5,Concerten!C1227,1),\"x\",\"\")),\"\")","v":"x"},{"$f":"IFERROR(IF(ISBLANK('Zoeken in Database'!$D$6),\"x\",IF(SEARCH('Zoeken in Database'!$D$6,Concerten!G1227,1),\"x\",\"\")),\"\")","v":"x"},{"$f":"IF(AND(D1227>='Zoeken in Database'!$A$7,'Zoeken in Database'!$A$8>=D1227),\"x\",\"\")","v":"x"}]
["Soft Moon, The","Valkhof Festival 2015","Nijmegen","2015-07-22",null,null,"Festivaloptreden",7,2015,{"$f":"VLOOKUP(Table1[[#This Row],[Maand (getal)]],Lijst!A:B,2,FALSE)","v":"jul"},{"$f":"IFERROR(IF(ISBLANK('Zoeken in Database'!$D$3),\"x\",IF(SEARCH('Zoeken in Database'!$D$3,Concerten!A1228,1),\"x\",\"\")),\"\")","v":"x"},{"$f":"IFERROR(IF(ISBLANK('Zoeken in Database'!$D$4),\"x\",IF(SEARCH('Zoeken in Database'!$D$4,Concerten!B1228,1),\"x\",\"\")),\"\")","v":"x"},{"$f":"IFERROR(IF(ISBLANK('Zoeken in Database'!$D$5),\"x\",IF(SEARCH('Zoeken in Database'!$D$5,Concerten!C1228,1),\"x\",\"\")),\"\")","v":"x"},{"$f":"IFERROR(IF(ISBLANK('Zoeken in Database'!$D$6),\"x\",IF(SEARCH('Zoeken in Database'!$D$6,Concerten!G1228,1),\"x\",\"\")),\"\")","v":"x"},{"$f":"IF(AND(D1228>='Zoeken in Database'!$A$7,'Zoeken in Database'!$A$8>=D1228),\"x\",\"\")","v":"x"}]
["Puts Marie","Haldern Pop 2015","Haldern","2015-08-13",null,"Spiegelzelt","Festivaloptreden",8,2015,{"$f":"VLOOKUP(Table1[[#This Row],[Maand (getal)]],Lijst!A:B,2,FALSE)","v":"aug"},{"$f":"IFERROR(IF(ISBLANK('Zoeken in Database'!$D$3),\"x\",IF(SEARCH('Zoeken in Database'!$D$3,Concerten!A1229,1),\"x\",\"\")),\"\")","v":"x"},{"$f":"IFERROR(IF(ISBLANK('Zoeken in Database'!$D$4),\"x\",IF(SEARCH('Zoeken in Database'!$D$4,Concerten!B1229,1),\"x\",\"\")),\"\")","v":"x"},{"$f":"IFERROR(IF(ISBLANK('Zoeken in Database'!$D$5),\"x\",IF(SEARCH('Zoeken in Database'!$D$5,Concerten!C1229,1),\"x\",\"\")),\"\")","v":"x"},{"$f":"IFERROR(IF(ISBLANK('Zoeken in Database'!$D$6),\"x\",IF(SEARCH('Zoeken in Database'!$D$6,Concerten!G1229,1),\"x\",\"\")),\"\")","v":"x"},{"$f":"IF(AND(D1229>='Zoeken in Database'!$A$7,'Zoeken in Database'!$A$8>=D1229),\"x\",\"\")","v":"x"}]
["Dotan","Haldern Pop 2015","Haldern","2015-08-13",null,"Spiegelzelt","Festivaloptreden",8,2015,{"$f":"VLOOKUP(Table1[[#This Row],[Maand (getal)]],Lijst!A:B,2,FALSE)","v":"aug"},{"$f":"IFERROR(IF(ISBLANK('Zoeken in Database'!$D$3),\"x\",IF(SEARCH('Zoeken in Database'!$D$3,Concerten!A1230,1),\"x\",\"\")),\"\")","v":"x"},{"$f":"IFERROR(IF(ISBLANK('Zoeken in Database'!$D$4),\"x\",IF(SEARCH('Zoeken in Database'!$D$4,Concerten!B1230,1),\"x\",\"\")),\"\")","v":"x"},{"$f":"IFERROR(IF(ISBLANK('Zoeken in Database'!$D$5),\"x\",IF(SEARCH('Zoeken in Database'!$D$5,Concerten!C1230,1),\"x\",\"\")),\"\")","v":"x"},{"$f":"IFERROR(IF(ISBLANK('Zoeken in Database'!$D$6),\"x\",IF(SEARCH('Zoeken in Database'!$D$6,Concerten!G1230,1),\"x\",\"\")),\"\")","v":"x"},{"$f":"IF(AND(D1230>='Zoeken in Database'!$A$7,'Zoeken in Database'!$A$8>=D1230),\"x\",\"\")","v":"x"}]
["Ibeyi","Haldern Pop 2015","Haldern","2015-08-13",null,"Spiegelzelt","Festivaloptreden",8,2015,{"$f":"VLOOKUP(Table1[[#This Row],[Maand (getal)]],Lijst!A:B,2,FALSE)","v":"aug"},{"$f":"IFERROR(IF(ISBLANK('Zoeken in Database'!$D$3),\"x\",IF(SEARCH('Zoeken in Database'!$D$3,Concerten!A1231,1),\"x\",\"\")),\"\")","v":"x"},{"$f":"IFERROR(IF(ISBLANK('Zoeken in Database'!$D$4),\"x\",IF(SEARCH('Zoeken in Database'!$D$4,Concerten!B1231,1),\"x\",\"\")),\"\")","v":"x"},{"$f":"IFERROR(IF(ISBLANK('Zoeken in Database'!$D$5),\"x\",IF(SEARCH('Zoeken in Database'!$D$5,Concerten!C1231,1),\"x\",\"\")),\"\")","v":"x"},{"$f":"IFERROR(IF(ISBLANK('Zoeken in Database'!$D$6),\"x\",IF(SEARCH('Zoeken in Database'!$D$6,Concerten!G1231,1),\"x\",\"\")),\"\")","v":"x"},{"$f":"IF(AND(D1231>='Zoeken in Database'!$A$7,'Zoeken in Database'!$A$8>=D1231),\"x\",\"\")","v":"x"}]
["Deacon, Dan","Haldern Pop 2015","Haldern","2015-08-13",null,"Byzanzstage","Festivaloptreden",8,2015,{"$f":"VLOOKUP(Table1[[#This Row],[Maand (getal)]],Lijst!A:B,2,FALSE)","v":"aug"},{"$f":"IFERROR(IF(ISBLANK('Zoeken in Database'!$D$3),\"x\",IF(SEARCH('Zoeken in Database'!$D$3,Concerten!A1232,1),\"x\",\"\")),\"\")","v":"x"},{"$f":"IFERROR(IF(ISBLANK('Zoeken in Database'!$D$4),\"x\",IF(SEARCH('Zoeken in Database'!$D$4,Concerten!B1232,1),\"x\",\"\")),\"\")","v":"x"},{"$f":"IFERROR(IF(ISBLANK('Zoeken in Database'!$D$5),\"x\",IF(SEARCH('Zoeken in Database'!$D$5,Concerten!C1232,1),\"x\",\"\")),\"\")","v":"x"},{"$f":"IFERROR(IF(ISBLANK('Zoeken in Database'!$D$6),\"x\",IF(SEARCH('Zoeken in Database'!$D$6,Concerten!G1232,1),\"x\",\"\")),\"\")","v":"x"},{"$f":"IF(AND(D1232>='Zoeken in Database'!$A$7,'Zoeken in Database'!$A$8>=D1232),\"x\",\"\")","v":"x"}]
["Villagers","Haldern Pop 2015","Haldern","2015-08-14",null,"Spiegelzelt","Festivaloptreden",8,2015,{"$f":"VLOOKUP(Table1[[#This Row],[Maand (getal)]],Lijst!A:B,2,FALSE)","v":"aug"},{"$f":"IFERROR(IF(ISBLANK('Zoeken in Database'!$D$3),\"x\",IF(SEARCH('Zoeken in Database'!$D$3,Concerten!A1233,1),\"x\",\"\")),\"\")","v":"x"},{"$f":"IFERROR(IF(ISBLANK('Zoeken in Database'!$D$4),\"x\",IF(SEARCH('Zoeken in Database'!$D$4,Concerten!B1233,1),\"x\",\"\")),\"\")","v":"x"},{"$f":"IFERROR(IF(ISBLANK('Zoeken in Database'!$D$5),\"x\",IF(SEARCH('Zoeken in Database'!$D$5,Concerten!C1233,1),\"x\",\"\")),\"\")","v":"x"},{"$f":"IFERROR(IF(ISBLANK('Zoeken in Database'!$D$6),\"x\",IF(SEARCH('Zoeken in Database'!$D$6,Concerten!G1233,1),\"x\",\"\")),\"\")","v":"x"},{"$f":"IF(AND(D1233>='Zoeken in Database'!$A$7,'Zoeken in Database'!$A$8>=D1233),\"x\",\"\")","v":"x"}]
["Mammút","Haldern Pop 2015","Haldern","2015-08-14",null,"Main Stage","Festivaloptreden",8,2015,{"$f":"VLOOKUP(Table1[[#This Row],[Maand (getal)]],Lijst!A:B,2,FALSE)","v":"aug"},{"$f":"IFERROR(IF(ISBLANK('Zoeken in Database'!$D$3),\"x\",IF(SEARCH('Zoeken in Database'!$D$3,Concerten!A1234,1),\"x\",\"\")),\"\")","v":"x"},{"$f":"IFERROR(IF(ISBLANK('Zoeken in Database'!$D$4),\"x\",IF(SEARCH('Zoeken in Database'!$D$4,Concerten!B1234,1),\"x\",\"\")),\"\")","v":"x"},{"$f":"IFERROR(IF(ISBLANK('Zoeken in Database'!$D$5),\"x\",IF(SEARCH('Zoeken in Database'!$D$5,Concerten!C1234,1),\"x\",\"\")),\"\")","v":"x"},{"$f":"IFERROR(IF(ISBLANK('Zoeken in Database'!$D$6),\"x\",IF(SEARCH('Zoeken in Database'!$D$6,Concerten!G1234,1),\"x\",\"\")),\"\")","v":"x"},{"$f":"IF(AND(D1234>='Zoeken in Database'!$A$7,'Zoeken in Database'!$A$8>=D1234),\"x\",\"\")","v":"x"}]
["DMA's","Haldern Pop 2015","Haldern","2015-08-14",null,"Spiegelzelt","Festivaloptreden",8,2015,{"$f":"VLOOKUP(Table1[[#This Row],[Maand (getal)]],Lijst!A:B,2,FALSE)","v":"aug"},{"$f":"IFERROR(IF(ISBLANK('Zoeken in Database'!$D$3),\"x\",IF(SEARCH('Zoeken in Database'!$D$3,Concerten!A1235,1),\"x\",\"\")),\"\")","v":"x"},{"$f":"IFERROR(IF(ISBLANK('Zoeken in Database'!$D$4),\"x\",IF(SEARCH('Zoeken in Database'!$D$4,Concerten!B1235,1),\"x\",\"\")),\"\")","v":"x"},{"$f":"IFERROR(IF(ISBLANK('Zoeken in Database'!$D$5),\"x\",IF(SEARCH('Zoeken in Database'!$D$5,Concerten!C1235,1),\"x\",\"\")),\"\")","v":"x"},{"$f":"IFERROR(IF(ISBLANK('Zoeken in Database'!$D$6),\"x\",IF(SEARCH('Zoeken in Database'!$D$6,Concerten!G1235,1),\"x\",\"\")),\"\")","v":"x"},{"$f":"IF(AND(D1235>='Zoeken in Database'!$A$7,'Zoeken in Database'!$A$8>=D1235),\"x\",\"\")","v":"x"}]
["Tempest, Kate","Haldern Pop 2015","Haldern","2015-08-14",null,"Main Stage","Festivaloptreden",8,2015,{"$f":"VLOOKUP(Table1[[#This Row],[Maand (getal)]],Lijst!A:B,2,FALSE)","v":"aug"},{"$f":"IFERROR(IF(ISBLANK('Zoeken in Database'!$D$3),\"x\",IF(SEARCH('Zoeken in Database'!$D$3,Concerten!A1236,1),\"x\",\"\")),\"\")","v":"x"},{"$f":"IFERROR(IF(ISBLANK('Zoeken in Database'!$D$4),\"x\",IF(SEARCH('Zoeken in Database'!$D$4,Concerten!B1236,1),\"x\",\"\")),\"\")","v":"x"},{"$f":"IFERROR(IF(ISBLANK('Zoeken in Database'!$D$5),\"x\",IF(SEARCH('Zoeken in Database'!$D$5,Concerten!C1236,1),\"x\",\"\")),\"\")","v":"x"},{"$f":"IFERROR(IF(ISBLANK('Zoeken in Database'!$D$6),\"x\",IF(SEARCH('Zoeken in Database'!$D$6,Concerten!G1236,1),\"x\",\"\")),\"\")","v":"x"},{"$f":"IF(AND(D1236>='Zoeken in Database'!$A$7,'Zoeken in Database'!$A$8>=D1236),\"x\",\"\")","v":"x"}]
["Savages","Haldern Pop 2015","Haldern","2015-08-14",null,"Main Stage","Festivaloptreden",8,2015,{"$f":"VLOOKUP(Table1[[#This Row],[Maand (getal)]],Lijst!A:B,2,FALSE)","v":"aug"},{"$f":"IFERROR(IF(ISBLANK('Zoeken in Database'!$D$3),\"x\",IF(SEARCH('Zoeken in Database'!$D$3,Concerten!A1237,1),\"x\",\"\")),\"\")","v":"x"},{"$f":"IFERROR(IF(ISBLANK('Zoeken in Database'!$D$4),\"x\",IF(SEARCH('Zoeken in Database'!$D$4,Concerten!B1237,1),\"x\",\"\")),\"\")","v":"x"},{"$f":"IFERROR(IF(ISBLANK('Zoeken in Database'!$D$5),\"x\",IF(SEARCH('Zoeken in Database'!$D$5,Concerten!C1237,1),\"x\",\"\")),\"\")","v":"x"},{"$f":"IFERROR(IF(ISBLANK('Zoeken in Database'!$D$6),\"x\",IF(SEARCH('Zoeken in Database'!$D$6,Concerten!G1237,1),\"x\",\"\")),\"\")","v":"x"},{"$f":"IF(AND(D1237>='Zoeken in Database'!$A$7,'Zoeken in Database'!$A$8>=D1237),\"x\",\"\")","v":"x"}]
["Frahm, Nils","Haldern Pop 2015","Haldern","2015-08-14",null,"Main Stage","Festivaloptreden",8,2015,{"$f":"VLOOKUP(Table1[[#This Row],[Maand (getal)]],Lijst!A:B,2,FALSE)","v":"aug"},{"$f":"IFERROR(IF(ISBLANK('Zoeken in Database'!$D$3),\"x\",IF(SEARCH('Zoeken in Database'!$D$3,Concerten!A1238,1),\"x\",\"\")),\"\")","v":"x"},{"$f":"IFERROR(IF(ISBLANK('Zoeken in Database'!$D$4),\"x\",IF(SEARCH('Zoeken in Database'!$D$4,Concerten!B1238,1),\"x\",\"\")),\"\")","v":"x"},{"$f":"IFERROR(IF(ISBLANK('Zoeken in Database'!$D$5),\"x\",IF(SEARCH('Zoeken in Database'!$D$5,Concerten!C1238,1),\"x\",\"\")),\"\")","v":"x"},{"$f":"IFERROR(IF(ISBLANK('Zoeken in Database'!$D$6),\"x\",IF(SEARCH('Zoeken in Database'!$D$6,Concerten!G1238,1),\"x\",\"\")),\"\")","v":"x"},{"$f":"IF(AND(D1238>='Zoeken in Database'!$A$7,'Zoeken in Database'!$A$8>=D1238),\"x\",\"\")","v":"x"}]
["Kiasmos","Haldern Pop 2015","Haldern","2015-08-14",null,"Main Stage","Festivaloptreden",8,2015,{"$f":"VLOOKUP(Table1[[#This Row],[Maand (getal)]],Lijst!A:B,2,FALSE)","v":"aug"},{"$f":"IFERROR(IF(ISBLANK('Zoeken in Database'!$D$3),\"x\",IF(SEARCH('Zoeken in Database'!$D$3,Concerten!A1239,1),\"x\",\"\")),\"\")","v":"x"},{"$f":"IFERROR(IF(ISBLANK('Zoeken in Database'!$D$4),\"x\",IF(SEARCH('Zoeken in Database'!$D$4,Concerten!B1239,1),\"x\",\"\")),\"\")","v":"x"},{"$f":"IFERROR(IF(ISBLANK('Zoeken in Database'!$D$5),\"x\",IF(SEARCH('Zoeken in Database'!$D$5,Concerten!C1239,1),\"x\",\"\")),\"\")","v":"x"},{"$f":"IFERROR(IF(ISBLANK('Zoeken in Database'!$D$6),\"x\",IF(SEARCH('Zoeken in Database'!$D$6,Concerten!G1239,1),\"x\",\"\")),\"\")","v":"x"},{"$f":"IF(AND(D1239>='Zoeken in Database'!$A$7,'Zoeken in Database'!$A$8>=D1239),\"x\",\"\")","v":"x"}]
["Bronze Medal, The","Haldern Pop 2015","Haldern","2015-08-15",null,"Haldern Pop Bar","Festivaloptreden",8,2015,{"$f":"VLOOKUP(Table1[[#This Row],[Maand (getal)]],Lijst!A:B,2,FALSE)","v":"aug"},{"$f":"IFERROR(IF(ISBLANK('Zoeken in Database'!$D$3),\"x\",IF(SEARCH('Zoeken in Database'!$D$3,Concerten!A1240,1),\"x\",\"\")),\"\")","v":"x"},{"$f":"IFERROR(IF(ISBLANK('Zoeken in Database'!$D$4),\"x\",IF(SEARCH('Zoeken in Database'!$D$4,Concerten!B1240,1),\"x\",\"\")),\"\")","v":"x"},{"$f":"IFERROR(IF(ISBLANK('Zoeken in Database'!$D$5),\"x\",IF(SEARCH('Zoeken in Database'!$D$5,Concerten!C1240,1),\"x\",\"\")),\"\")","v":"x"},{"$f":"IFERROR(IF(ISBLANK('Zoeken in Database'!$D$6),\"x\",IF(SEARCH('Zoeken in Database'!$D$6,Concerten!G1240,1),\"x\",\"\")),\"\")","v":"x"},{"$f":"IF(AND(D1240>='Zoeken in Database'!$A$7,'Zoeken in Database'!$A$8>=D1240),\"x\",\"\")","v":"x"}]
["Family of the Year","Haldern Pop 2015","Haldern","2015-08-15",null,"Main","Festivaloptreden",8,2015,{"$f":"VLOOKUP(Table1[[#This Row],[Maand (getal)]],Lijst!A:B,2,FALSE)","v":"aug"},{"$f":"IFERROR(IF(ISBLANK('Zoeken in Database'!$D$3),\"x\",IF(SEARCH('Zoeken in Database'!$D$3,Concerten!A1241,1),\"x\",\"\")),\"\")","v":"x"},{"$f":"IFERROR(IF(ISBLANK('Zoeken in Database'!$D$4),\"x\",IF(SEARCH('Zoeken in Database'!$D$4,Concerten!B1241,1),\"x\",\"\")),\"\")","v":"x"},{"$f":"IFERROR(IF(ISBLANK('Zoeken in Database'!$D$5),\"x\",IF(SEARCH('Zoeken in Database'!$D$5,Concerten!C1241,1),\"x\",\"\")),\"\")","v":"x"},{"$f":"IFERROR(IF(ISBLANK('Zoeken in Database'!$D$6),\"x\",IF(SEARCH('Zoeken in Database'!$D$6,Concerten!G1241,1),\"x\",\"\")),\"\")","v":"x"},{"$f":"IF(AND(D1241>='Zoeken in Database'!$A$7,'Zoeken in Database'!$A$8>=D1241),\"x\",\"\")","v":"x"}]
["Father John Misty","Haldern Pop 2015","Haldern","2015-08-15","I Love You, Honeybear \nStrange Encounter \nOnly Son of the Ladiesman \nWhen You're Smiling and Astride Me \nThe Night Josh Tillman Came to Our Apt. \nI'm Writing a Novel \nChateau Lobby #4 (in C for Two Virgins) \nBored in the USA \nNothing Good Ever Happens at the Goddamn Thirsty Crow \nHollywood Forever Cemetery Sings \nThe Ideal Husband ","Main Stage","Festivaloptreden",{"$f":"IF(ISBLANK(D1242),\"\",MONTH(D1242))","v":8},{"$f":"IF(ISBLANK(D1242),\"\",YEAR(D1242))","v":2015},{"$f":"VLOOKUP(Table1[[#This Row],[Maand (getal)]],Lijst!A:B,2,FALSE)","v":"aug"},{"$f":"IFERROR(IF(ISBLANK('Zoeken in Database'!$D$3),\"x\",IF(SEARCH('Zoeken in Database'!$D$3,Concerten!A1242,1),\"x\",\"\")),\"\")","v":"x"},{"$f":"IFERROR(IF(ISBLANK('Zoeken in Database'!$D$4),\"x\",IF(SEARCH('Zoeken in Database'!$D$4,Concerten!B1242,1),\"x\",\"\")),\"\")","v":"x"},{"$f":"IFERROR(IF(ISBLANK('Zoeken in Database'!$D$5),\"x\",IF(SEARCH('Zoeken in Database'!$D$5,Concerten!C1242,1),\"x\",\"\")),\"\")","v":"x"},{"$f":"IFERROR(IF(ISBLANK('Zoeken in Database'!$D$6),\"x\",IF(SEARCH('Zoeken in Database'!$D$6,Concerten!G1242,1),\"x\",\"\")),\"\")","v":"x"},{"$f":"IF(AND(D1242>='Zoeken in Database'!$A$7,'Zoeken in Database'!$A$8>=D1242),\"x\",\"\")","v":"x"}]
["Slow Show, The","Haldern Pop 2015","Haldern","2015-08-15",null,"Main Stage","Festivaloptreden",8,2015,{"$f":"VLOOKUP(Table1[[#This Row],[Maand (getal)]],Lijst!A:B,2,FALSE)","v":"aug"},{"$f":"IFERROR(IF(ISBLANK('Zoeken in Database'!$D$3),\"x\",IF(SEARCH('Zoeken in Database'!$D$3,Concerten!A1243,1),\"x\",\"\")),\"\")","v":"x"},{"$f":"IFERROR(IF(ISBLANK('Zoeken in Database'!$D$4),\"x\",IF(SEARCH('Zoeken in Database'!$D$4,Concerten!B1243,1),\"x\",\"\")),\"\")","v":"x"},{"$f":"IFERROR(IF(ISBLANK('Zoeken in Database'!$D$5),\"x\",IF(SEARCH('Zoeken in Database'!$D$5,Concerten!C1243,1),\"x\",\"\")),\"\")","v":"x"},{"$f":"IFERROR(IF(ISBLANK('Zoeken in Database'!$D$6),\"x\",IF(SEARCH('Zoeken in Database'!$D$6,Concerten!G1243,1),\"x\",\"\")),\"\")","v":"x"},{"$f":"IF(AND(D1243>='Zoeken in Database'!$A$7,'Zoeken in Database'!$A$8>=D1243),\"x\",\"\")","v":"x"}]
["Deus","Haldern Pop 2015","Haldern","2015-08-15","Slow \nVia \nThe Architect \nConstant Now \nInstant Street \nFell Off the Floor, Man \nGirls Keep Drinking \nLittle Arithmetics \nIf You Don't Get What You Want \nQuatre Mains \nHotellounge (Be the Death of Me) \nNothing Really Ends \nBad Timing \nSuds & Soda ","Main Stage","Festivaloptreden",{"$f":"IF(ISBLANK(D1244),\"\",MONTH(D1244))","v":8},{"$f":"IF(ISBLANK(D1244),\"\",YEAR(D1244))","v":2015},{"$f":"VLOOKUP(Table1[[#This Row],[Maand (getal)]],Lijst!A:B,2,FALSE)","v":"aug"},{"$f":"IFERROR(IF(ISBLANK('Zoeken in Database'!$D$3),\"x\",IF(SEARCH('Zoeken in Database'!$D$3,Concerten!A1244,1),\"x\",\"\")),\"\")","v":"x"},{"$f":"IFERROR(IF(ISBLANK('Zoeken in Database'!$D$4),\"x\",IF(SEARCH('Zoeken in Database'!$D$4,Concerten!B1244,1),\"x\",\"\")),\"\")","v":"x"},{"$f":"IFERROR(IF(ISBLANK('Zoeken in Database'!$D$5),\"x\",IF(SEARCH('Zoeken in Database'!$D$5,Concerten!C1244,1),\"x\",\"\")),\"\")","v":"x"},{"$f":"IFERROR(IF(ISBLANK('Zoeken in Database'!$D$6),\"x\",IF(SEARCH('Zoeken in Database'!$D$6,Concerten!G1244,1),\"x\",\"\")),\"\")","v":"x"},{"$f":"IF(AND(D1244>='Zoeken in Database'!$A$7,'Zoeken in Database'!$A$8>=D1244),\"x\",\"\")","v":"x"}]
["Barnett, Courtney","Haldern Pop 2015","Haldern","2015-08-15","Elevator Operator \nLance Jr \nAn Illustration of Loneliness (Sleepless in New York)\nSmall Poppies \nDead Fox \nDepreston \nNobody Really Cares If You Don't Go to the Party \nAvant Gardener \nHistory Eraser \nPedestrian at Best ","Spiegelzelt","Festivaloptreden",8,2015,{"$f":"VLOOKUP(Table1[[#This Row],[Maand (getal)]],Lijst!A:B,2,FALSE)","v":"aug"},{"$f":"IFERROR(IF(ISBLANK('Zoeken in Database'!$D$3),\"x\",IF(SEARCH('Zoeken in Database'!$D$3,Concerten!A1245,1),\"x\",\"\")),\"\")","v":"x"},{"$f":"IFERROR(IF(ISBLANK('Zoeken in Database'!$D$4),\"x\",IF(SEARCH('Zoeken in Database'!$D$4,Concerten!B1245,1),\"x\",\"\")),\"\")","v":"x"},{"$f":"IFERROR(IF(ISBLANK('Zoeken in Database'!$D$5),\"x\",IF(SEARCH('Zoeken in Database'!$D$5,Concerten!C1245,1),\"x\",\"\")),\"\")","v":"x"},{"$f":"IFERROR(IF(ISBLANK('Zoeken in Database'!$D$6),\"x\",IF(SEARCH('Zoeken in Database'!$D$6,Concerten!G1245,1),\"x\",\"\")),\"\")","v":"x"},{"$f":"IF(AND(D1245>='Zoeken in Database'!$A$7,'Zoeken in Database'!$A$8>=D1245),\"x\",\"\")","v":"x"}]
["Magnus","Haldern Pop 2015","Haldern","2015-08-15",null,"Spiegelzelt","Festivaloptreden",8,2015,{"$f":"VLOOKUP(Table1[[#This Row],[Maand (getal)]],Lijst!A:B,2,FALSE)","v":"aug"},{"$f":"IFERROR(IF(ISBLANK('Zoeken in Database'!$D$3),\"x\",IF(SEARCH('Zoeken in Database'!$D$3,Concerten!A1246,1),\"x\",\"\")),\"\")","v":"x"},{"$f":"IFERROR(IF(ISBLANK('Zoeken in Database'!$D$4),\"x\",IF(SEARCH('Zoeken in Database'!$D$4,Concerten!B1246,1),\"x\",\"\")),\"\")","v":"x"},{"$f":"IFERROR(IF(ISBLANK('Zoeken in Database'!$D$5),\"x\",IF(SEARCH('Zoeken in Database'!$D$5,Concerten!C1246,1),\"x\",\"\")),\"\")","v":"x"},{"$f":"IFERROR(IF(ISBLANK('Zoeken in Database'!$D$6),\"x\",IF(SEARCH('Zoeken in Database'!$D$6,Concerten!G1246,1),\"x\",\"\")),\"\")","v":"x"},{"$f":"IF(AND(D1246>='Zoeken in Database'!$A$7,'Zoeken in Database'!$A$8>=D1246),\"x\",\"\")","v":"x"}]
["Palio Superspeed Donkey","Doornroosje","Nijmegen","2015-08-26",null,"Kleine zaal","Voorprogramma",8,2015,{"$f":"VLOOKUP(Table1[[#This Row],[Maand (getal)]],Lijst!A:B,2,FALSE)","v":"aug"},{"$f":"IFERROR(IF(ISBLANK('Zoeken in Database'!$D$3),\"x\",IF(SEARCH('Zoeken in Database'!$D$3,Concerten!A1247,1),\"x\",\"\")),\"\")","v":"x"},{"$f":"IFERROR(IF(ISBLANK('Zoeken in Database'!$D$4),\"x\",IF(SEARCH('Zoeken in Database'!$D$4,Concerten!B1247,1),\"x\",\"\")),\"\")","v":"x"},{"$f":"IFERROR(IF(ISBLANK('Zoeken in Database'!$D$5),\"x\",IF(SEARCH('Zoeken in Database'!$D$5,Concerten!C1247,1),\"x\",\"\")),\"\")","v":"x"},{"$f":"IFERROR(IF(ISBLANK('Zoeken in Database'!$D$6),\"x\",IF(SEARCH('Zoeken in Database'!$D$6,Concerten!G1247,1),\"x\",\"\")),\"\")","v":"x"},{"$f":"IF(AND(D1247>='Zoeken in Database'!$A$7,'Zoeken in Database'!$A$8>=D1247),\"x\",\"\")","v":"x"}]
["Districts, The","Doornroosje","Nijmegen","2015-08-26",null,"Kleine zaal","Hoofdprogramma",8,2015,{"$f":"VLOOKUP(Table1[[#This Row],[Maand (getal)]],Lijst!A:B,2,FALSE)","v":"aug"},{"$f":"IFERROR(IF(ISBLANK('Zoeken in Database'!$D$3),\"x\",IF(SEARCH('Zoeken in Database'!$D$3,Concerten!A1248,1),\"x\",\"\")),\"\")","v":"x"},{"$f":"IFERROR(IF(ISBLANK('Zoeken in Database'!$D$4),\"x\",IF(SEARCH('Zoeken in Database'!$D$4,Concerten!B1248,1),\"x\",\"\")),\"\")","v":"x"},{"$f":"IFERROR(IF(ISBLANK('Zoeken in Database'!$D$5),\"x\",IF(SEARCH('Zoeken in Database'!$D$5,Concerten!C1248,1),\"x\",\"\")),\"\")","v":"x"},{"$f":"IFERROR(IF(ISBLANK('Zoeken in Database'!$D$6),\"x\",IF(SEARCH('Zoeken in Database'!$D$6,Concerten!G1248,1),\"x\",\"\")),\"\")","v":"x"},{"$f":"IF(AND(D1248>='Zoeken in Database'!$A$7,'Zoeken in Database'!$A$8>=D1248),\"x\",\"\")","v":"x"}]
["Dawes","Paradiso","Amsterdam","2015-09-10","Fire Away \nFrom The Right Angle \nNow That It's Too Late, Maria \nWhen My Time Comes \nI Can't Think About it Now \nAll Your Favorite Bands ",null,"Voorprogramma",9,2015,{"$f":"VLOOKUP(Table1[[#This Row],[Maand (getal)]],Lijst!A:B,2,FALSE)","v":"sep"},{"$f":"IFERROR(IF(ISBLANK('Zoeken in Database'!$D$3),\"x\",IF(SEARCH('Zoeken in Database'!$D$3,Concerten!A1249,1),\"x\",\"\")),\"\")","v":"x"},{"$f":"IFERROR(IF(ISBLANK('Zoeken in Database'!$D$4),\"x\",IF(SEARCH('Zoeken in Database'!$D$4,Concerten!B1249,1),\"x\",\"\")),\"\")","v":"x"},{"$f":"IFERROR(IF(ISBLANK('Zoeken in Database'!$D$5),\"x\",IF(SEARCH('Zoeken in Database'!$D$5,Concerten!C1249,1),\"x\",\"\")),\"\")","v":"x"},{"$f":"IFERROR(IF(ISBLANK('Zoeken in Database'!$D$6),\"x\",IF(SEARCH('Zoeken in Database'!$D$6,Concerten!G1249,1),\"x\",\"\")),\"\")","v":"x"},{"$f":"IF(AND(D1249>='Zoeken in Database'!$A$7,'Zoeken in Database'!$A$8>=D1249),\"x\",\"\")","v":"x"}]
["My Morning Jacket","Paradiso","Amsterdam","2015-09-10","Heartbreakin Man \nMahgeetah \nCompound Fracture \nWordless Chorus \nBelieve (Nobody Knows) \nSpring (Among The Living) \nThey Ran \nGet the Point \nIn Its Infancy (The Waterfall) \nTropics (Erase Traces) \nLowdown \nThin Line \nDondante \nOnly Memories Remain \nThe Way That He Sings \nPhone Went West \nHopefully \nEncore:\nVictory Dance \nTouch Me I'm Going To Scream Pt. 2 \nNothing To It \n(with Dawes) (The New Basement Tapes song)\nCircuital \nOne Big Holiday ",null,"Hoofdprogramma",9,2015,{"$f":"VLOOKUP(Table1[[#This Row],[Maand (getal)]],Lijst!A:B,2,FALSE)","v":"sep"},{"$f":"IFERROR(IF(ISBLANK('Zoeken in Database'!$D$3),\"x\",IF(SEARCH('Zoeken in Database'!$D$3,Concerten!A1250,1),\"x\",\"\")),\"\")","v":"x"},{"$f":"IFERROR(IF(ISBLANK('Zoeken in Database'!$D$4),\"x\",IF(SEARCH('Zoeken in Database'!$D$4,Concerten!B1250,1),\"x\",\"\")),\"\")","v":"x"},{"$f":"IFERROR(IF(ISBLANK('Zoeken in Database'!$D$5),\"x\",IF(SEARCH('Zoeken in Database'!$D$5,Concerten!C1250,1),\"x\",\"\")),\"\")","v":"x"},{"$f":"IFERROR(IF(ISBLANK('Zoeken in Database'!$D$6),\"x\",IF(SEARCH('Zoeken in Database'!$D$6,Concerten!G1250,1),\"x\",\"\")),\"\")","v":"x"},{"$f":"IF(AND(D1250>='Zoeken in Database'!$A$7,'Zoeken in Database'!$A$8>=D1250),\"x\",\"\")","v":"x"}]
["Sun Kil Moon","TivoliVredenburg","Utrecht","2015-09-11","The Weeping Song \n(Nick Cave & The Bad Seeds cover)\nThe Christmas Song \n(Nat King Cole cover)\nMicheline \nDogs \nI Watched the Film the Song Remains the Same \nAlesund \nRichard Ramirez Died Today of Natural Causes \nHey You Bastards I'm Still Here \n(Mark Kozelek & Desertshore cover)\nI Can't Live Without My Mother's Love \nCarissa \nThe Possum \nAli/Spinks 2 \nThis Is My First Day and I'm Indian and I Work at a Gas Station \nEncore:\nGustavo \n(Mark Kozelek & Jimmy LaValle cover)\nThe Moderately Talented Yet Attractive Young Woman vs. The Exceptionally Talented Yet Not So Attractive Middle Aged Man \nCeiling Gazing \n(Mark Kozelek & Jimmy LaValle cover)","Hertz","Hoofdprogramma",9,2015,{"$f":"VLOOKUP(Table1[[#This Row],[Maand (getal)]],Lijst!A:B,2,FALSE)","v":"sep"},{"$f":"IFERROR(IF(ISBLANK('Zoeken in Database'!$D$3),\"x\",IF(SEARCH('Zoeken in Database'!$D$3,Concerten!A1251,1),\"x\",\"\")),\"\")","v":"x"},{"$f":"IFERROR(IF(ISBLANK('Zoeken in Database'!$D$4),\"x\",IF(SEARCH('Zoeken in Database'!$D$4,Concerten!B1251,1),\"x\",\"\")),\"\")","v":"x"},{"$f":"IFERROR(IF(ISBLANK('Zoeken in Database'!$D$5),\"x\",IF(SEARCH('Zoeken in Database'!$D$5,Concerten!C1251,1),\"x\",\"\")),\"\")","v":"x"},{"$f":"IFERROR(IF(ISBLANK('Zoeken in Database'!$D$6),\"x\",IF(SEARCH('Zoeken in Database'!$D$6,Concerten!G1251,1),\"x\",\"\")),\"\")","v":"x"},{"$f":"IF(AND(D1251>='Zoeken in Database'!$A$7,'Zoeken in Database'!$A$8>=D1251),\"x\",\"\")","v":"x"}]
["Bulat, Basia","Colosseum","Essen","2015-09-19",null,null,"Voorprogramma",9,2015,{"$f":"VLOOKUP(Table1[[#This Row],[Maand (getal)]],Lijst!A:B,2,FALSE)","v":"sep"},{"$f":"IFERROR(IF(ISBLANK('Zoeken in Database'!$D$3),\"x\",IF(SEARCH('Zoeken in Database'!$D$3,Concerten!A1252,1),\"x\",\"\")),\"\")","v":"x"},{"$f":"IFERROR(IF(ISBLANK('Zoeken in Database'!$D$4),\"x\",IF(SEARCH('Zoeken in Database'!$D$4,Concerten!B1252,1),\"x\",\"\")),\"\")","v":"x"},{"$f":"IFERROR(IF(ISBLANK('Zoeken in Database'!$D$5),\"x\",IF(SEARCH('Zoeken in Database'!$D$5,Concerten!C1252,1),\"x\",\"\")),\"\")","v":"x"},{"$f":"IFERROR(IF(ISBLANK('Zoeken in Database'!$D$6),\"x\",IF(SEARCH('Zoeken in Database'!$D$6,Concerten!G1252,1),\"x\",\"\")),\"\")","v":"x"},{"$f":"IF(AND(D1252>='Zoeken in Database'!$A$7,'Zoeken in Database'!$A$8>=D1252),\"x\",\"\")","v":"x"}]
["Stevens, Sufjan","Colosseum","Essen","2015-09-19","Redford (For Yia-Yia & Pappou) \nDeath With Dignity \nShould Have Known Better \nDrawn to the Blood \nEugene \nJohn My Beloved \nFourth of July \nNo Shade in the Shadow of the Cross \nCarrie & Lowell \nThe Owl and the Tanager \nAll of Me Wants All of You \nVesuvius \nI Want to Be Well \nBlue Bucket of Gold \nEncore:\nConcerning the UFO Sighting Near Highland, Illinois \nThe Dress Looks Nice on You \nJohn Wayne Gacy, Jr. \nTo Be Alone With You \nChicago ",null,"Hoofdprogramma",9,2015,{"$f":"VLOOKUP(Table1[[#This Row],[Maand (getal)]],Lijst!A:B,2,FALSE)","v":"sep"},{"$f":"IFERROR(IF(ISBLANK('Zoeken in Database'!$D$3),\"x\",IF(SEARCH('Zoeken in Database'!$D$3,Concerten!A1253,1),\"x\",\"\")),\"\")","v":"x"},{"$f":"IFERROR(IF(ISBLANK('Zoeken in Database'!$D$4),\"x\",IF(SEARCH('Zoeken in Database'!$D$4,Concerten!B1253,1),\"x\",\"\")),\"\")","v":"x"},{"$f":"IFERROR(IF(ISBLANK('Zoeken in Database'!$D$5),\"x\",IF(SEARCH('Zoeken in Database'!$D$5,Concerten!C1253,1),\"x\",\"\")),\"\")","v":"x"},{"$f":"IFERROR(IF(ISBLANK('Zoeken in Database'!$D$6),\"x\",IF(SEARCH('Zoeken in Database'!$D$6,Concerten!G1253,1),\"x\",\"\")),\"\")","v":"x"},{"$f":"IF(AND(D1253>='Zoeken in Database'!$A$7,'Zoeken in Database'!$A$8>=D1253),\"x\",\"\")","v":"x"}]
["Bulat, Basia","Carré","Amsterdam","2015-09-23","Never Let Me Go \nTall Tall Shadow \nInfamous \nHeart of My Own \nFive, Four \nAin't No Cure for Love \n(Leonard Cohen cover)\nIt Can't Be You ",null,"Voorprogramma",9,2015,{"$f":"VLOOKUP(Table1[[#This Row],[Maand (getal)]],Lijst!A:B,2,FALSE)","v":"sep"},{"$f":"IFERROR(IF(ISBLANK('Zoeken in Database'!$D$3),\"x\",IF(SEARCH('Zoeken in Database'!$D$3,Concerten!A1254,1),\"x\",\"\")),\"\")","v":"x"},{"$f":"IFERROR(IF(ISBLANK('Zoeken in Database'!$D$4),\"x\",IF(SEARCH('Zoeken in Database'!$D$4,Concerten!B1254,1),\"x\",\"\")),\"\")","v":"x"},{"$f":"IFERROR(IF(ISBLANK('Zoeken in Database'!$D$5),\"x\",IF(SEARCH('Zoeken in Database'!$D$5,Concerten!C1254,1),\"x\",\"\")),\"\")","v":"x"},{"$f":"IFERROR(IF(ISBLANK('Zoeken in Database'!$D$6),\"x\",IF(SEARCH('Zoeken in Database'!$D$6,Concerten!G1254,1),\"x\",\"\")),\"\")","v":"x"},{"$f":"IF(AND(D1254>='Zoeken in Database'!$A$7,'Zoeken in Database'!$A$8>=D1254),\"x\",\"\")","v":"x"}]
["Stevens, Sufjan","Carré","Amsterdam","2015-09-23","Redford (For Yia-Yia & Pappou) \nDeath With Dignity \nShould Have Known Better \nDrawn to the Blood \nEugene \nJohn My Beloved \nFourth of July \nNo Shade in the Shadow of the Cross \nCarrie & Lowell \nAll of Me Wants All of You \nThe Owl and the Tanager \nVesuvius \nI Want to Be Well \nBlue Bucket of Gold \n(with extended outro)\nEncore:\nFutile Devices \nTo Be Alone With You \nJohn Wayne Gacy, Jr. \nChicago (Acoustic Version) \n(with Basia Bulat)",null,"Hoofdprogramma",9,2015,{"$f":"VLOOKUP(Table1[[#This Row],[Maand (getal)]],Lijst!A:B,2,FALSE)","v":"sep"},{"$f":"IFERROR(IF(ISBLANK('Zoeken in Database'!$D$3),\"x\",IF(SEARCH('Zoeken in Database'!$D$3,Concerten!A1255,1),\"x\",\"\")),\"\")","v":"x"},{"$f":"IFERROR(IF(ISBLANK('Zoeken in Database'!$D$4),\"x\",IF(SEARCH('Zoeken in Database'!$D$4,Concerten!B1255,1),\"x\",\"\")),\"\")","v":"x"},{"$f":"IFERROR(IF(ISBLANK('Zoeken in Database'!$D$5),\"x\",IF(SEARCH('Zoeken in Database'!$D$5,Concerten!C1255,1),\"x\",\"\")),\"\")","v":"x"},{"$f":"IFERROR(IF(ISBLANK('Zoeken in Database'!$D$6),\"x\",IF(SEARCH('Zoeken in Database'!$D$6,Concerten!G1255,1),\"x\",\"\")),\"\")","v":"x"},{"$f":"IF(AND(D1255>='Zoeken in Database'!$A$7,'Zoeken in Database'!$A$8>=D1255),\"x\",\"\")","v":"x"}]
["G, Alex","Haldern Pop Bar","Haldern","2015-10-14",null,null,"Hoofdprogramma",10,2015,{"$f":"VLOOKUP(Table1[[#This Row],[Maand (getal)]],Lijst!A:B,2,FALSE)","v":"okt"},{"$f":"IFERROR(IF(ISBLANK('Zoeken in Database'!$D$3),\"x\",IF(SEARCH('Zoeken in Database'!$D$3,Concerten!A1256,1),\"x\",\"\")),\"\")","v":"x"},{"$f":"IFERROR(IF(ISBLANK('Zoeken in Database'!$D$4),\"x\",IF(SEARCH('Zoeken in Database'!$D$4,Concerten!B1256,1),\"x\",\"\")),\"\")","v":"x"},{"$f":"IFERROR(IF(ISBLANK('Zoeken in Database'!$D$5),\"x\",IF(SEARCH('Zoeken in Database'!$D$5,Concerten!C1256,1),\"x\",\"\")),\"\")","v":"x"},{"$f":"IFERROR(IF(ISBLANK('Zoeken in Database'!$D$6),\"x\",IF(SEARCH('Zoeken in Database'!$D$6,Concerten!G1256,1),\"x\",\"\")),\"\")","v":"x"},{"$f":"IF(AND(D1256>='Zoeken in Database'!$A$7,'Zoeken in Database'!$A$8>=D1256),\"x\",\"\")","v":"x"}]
["Hansard, Glen","Melkweg","Amsterdam","2015-10-20","Main Set: Grace Beneath The Pines, Winning Streak, My Little Ruin, When Your Mind’s Made Up, Bird of Sorrow, Leave, Come Away to the Water, Autobahn (Kraftwerk) – Taking With the Wolves*, McCormack’s Wall, Lowly Deserter, Way Back When, High Hope – America (Simon & Garfunkel), This Gift**, Her Mercy\nEncore:  Say It to Me Now – I’ve Got Your Back (Mic Christopher), Gold (Interference), Falling Slowly, Didn’t He Ramble, The Auld Triangle*** (Brendan Behan), Drive All Night (Bruce Springsteen) – Feels Like Rain (John Hiatt) – The Parting Glass**** (Traditional)\n*Leon on shaker\n**with Charlotte Blockhuis\n***verses by Glen, Rob, Earl, Romy, Brían & Diarmuid Mac Gloinn, Simon, Fiacre & Leon, and Jelle\n****vocals by Brían & Diarmuid Mac Gloinn","The Max","Hoofdprogramma",10,2015,{"$f":"VLOOKUP(Table1[[#This Row],[Maand (getal)]],Lijst!A:B,2,FALSE)","v":"okt"},{"$f":"IFERROR(IF(ISBLANK('Zoeken in Database'!$D$3),\"x\",IF(SEARCH('Zoeken in Database'!$D$3,Concerten!A1257,1),\"x\",\"\")),\"\")","v":"x"},{"$f":"IFERROR(IF(ISBLANK('Zoeken in Database'!$D$4),\"x\",IF(SEARCH('Zoeken in Database'!$D$4,Concerten!B1257,1),\"x\",\"\")),\"\")","v":"x"},{"$f":"IFERROR(IF(ISBLANK('Zoeken in Database'!$D$5),\"x\",IF(SEARCH('Zoeken in Database'!$D$5,Concerten!C1257,1),\"x\",\"\")),\"\")","v":"x"},{"$f":"IFERROR(IF(ISBLANK('Zoeken in Database'!$D$6),\"x\",IF(SEARCH('Zoeken in Database'!$D$6,Concerten!G1257,1),\"x\",\"\")),\"\")","v":"x"},{"$f":"IF(AND(D1257>='Zoeken in Database'!$A$7,'Zoeken in Database'!$A$8>=D1257),\"x\",\"\")","v":"x"}]
["Ye Vagabonds","Melkweg","Amsterdam","2015-10-20",null,"The Max","Voorprogramma",10,2015,{"$f":"VLOOKUP(Table1[[#This Row],[Maand (getal)]],Lijst!A:B,2,FALSE)","v":"okt"},{"$f":"IFERROR(IF(ISBLANK('Zoeken in Database'!$D$3),\"x\",IF(SEARCH('Zoeken in Database'!$D$3,Concerten!A1258,1),\"x\",\"\")),\"\")","v":"x"},{"$f":"IFERROR(IF(ISBLANK('Zoeken in Database'!$D$4),\"x\",IF(SEARCH('Zoeken in Database'!$D$4,Concerten!B1258,1),\"x\",\"\")),\"\")","v":"x"},{"$f":"IFERROR(IF(ISBLANK('Zoeken in Database'!$D$5),\"x\",IF(SEARCH('Zoeken in Database'!$D$5,Concerten!C1258,1),\"x\",\"\")),\"\")","v":"x"},{"$f":"IFERROR(IF(ISBLANK('Zoeken in Database'!$D$6),\"x\",IF(SEARCH('Zoeken in Database'!$D$6,Concerten!G1258,1),\"x\",\"\")),\"\")","v":"x"},{"$f":"IF(AND(D1258>='Zoeken in Database'!$A$7,'Zoeken in Database'!$A$8>=D1258),\"x\",\"\")","v":"x"}]
["Krol, Mike","Doornroosje","Nijmegen","2015-10-30",null,null,"Voorprogramma",10,2015,{"$f":"VLOOKUP(Table1[[#This Row],[Maand (getal)]],Lijst!A:B,2,FALSE)","v":"okt"},{"$f":"IFERROR(IF(ISBLANK('Zoeken in Database'!$D$3),\"x\",IF(SEARCH('Zoeken in Database'!$D$3,Concerten!A1259,1),\"x\",\"\")),\"\")","v":"x"},{"$f":"IFERROR(IF(ISBLANK('Zoeken in Database'!$D$4),\"x\",IF(SEARCH('Zoeken in Database'!$D$4,Concerten!B1259,1),\"x\",\"\")),\"\")","v":"x"},{"$f":"IFERROR(IF(ISBLANK('Zoeken in Database'!$D$5),\"x\",IF(SEARCH('Zoeken in Database'!$D$5,Concerten!C1259,1),\"x\",\"\")),\"\")","v":"x"},{"$f":"IFERROR(IF(ISBLANK('Zoeken in Database'!$D$6),\"x\",IF(SEARCH('Zoeken in Database'!$D$6,Concerten!G1259,1),\"x\",\"\")),\"\")","v":"x"},{"$f":"IF(AND(D1259>='Zoeken in Database'!$A$7,'Zoeken in Database'!$A$8>=D1259),\"x\",\"\")","v":"x"}]
["Sonics, The","Doornroosje","Nijmegen","2015-10-30",null,null,"Hoofdprogramma",10,2015,{"$f":"VLOOKUP(Table1[[#This Row],[Maand (getal)]],Lijst!A:B,2,FALSE)","v":"okt"},{"$f":"IFERROR(IF(ISBLANK('Zoeken in Database'!$D$3),\"x\",IF(SEARCH('Zoeken in Database'!$D$3,Concerten!A1260,1),\"x\",\"\")),\"\")","v":"x"},{"$f":"IFERROR(IF(ISBLANK('Zoeken in Database'!$D$4),\"x\",IF(SEARCH('Zoeken in Database'!$D$4,Concerten!B1260,1),\"x\",\"\")),\"\")","v":"x"},{"$f":"IFERROR(IF(ISBLANK('Zoeken in Database'!$D$5),\"x\",IF(SEARCH('Zoeken in Database'!$D$5,Concerten!C1260,1),\"x\",\"\")),\"\")","v":"x"},{"$f":"IFERROR(IF(ISBLANK('Zoeken in Database'!$D$6),\"x\",IF(SEARCH('Zoeken in Database'!$D$6,Concerten!G1260,1),\"x\",\"\")),\"\")","v":"x"},{"$f":"IF(AND(D1260>='Zoeken in Database'!$A$7,'Zoeken in Database'!$A$8>=D1260),\"x\",\"\")","v":"x"}]
["Fossa","Doornroosje","Nijmegen","2015-11-04",null,null,"Voorprogramma",11,2015,{"$f":"VLOOKUP(Table1[[#This Row],[Maand (getal)]],Lijst!A:B,2,FALSE)","v":"nov"},{"$f":"IFERROR(IF(ISBLANK('Zoeken in Database'!$D$3),\"x\",IF(SEARCH('Zoeken in Database'!$D$3,Concerten!A1261,1),\"x\",\"\")),\"\")","v":"x"},{"$f":"IFERROR(IF(ISBLANK('Zoeken in Database'!$D$4),\"x\",IF(SEARCH('Zoeken in Database'!$D$4,Concerten!B1261,1),\"x\",\"\")),\"\")","v":"x"},{"$f":"IFERROR(IF(ISBLANK('Zoeken in Database'!$D$5),\"x\",IF(SEARCH('Zoeken in Database'!$D$5,Concerten!C1261,1),\"x\",\"\")),\"\")","v":"x"},{"$f":"IFERROR(IF(ISBLANK('Zoeken in Database'!$D$6),\"x\",IF(SEARCH('Zoeken in Database'!$D$6,Concerten!G1261,1),\"x\",\"\")),\"\")","v":"x"},{"$f":"IF(AND(D1261>='Zoeken in Database'!$A$7,'Zoeken in Database'!$A$8>=D1261),\"x\",\"\")","v":"x"}]
["Balthazar","Doornroosje","Nijmegen","2015-11-04","Decency\nThen What\nLeipzig\nThe Boatman\nNightclub\n(With extended drum intro due… more )\nWait Any Longer\nThe Oldest of Sisters\nSinking Ship\nLast Call\nThe Man Who Owns the Place\n(Shortened)\nLion's Mouth (Daniel)\nFifteen Floors\nI Looked For You\nBunker\nIntro\nBlood Like Wine\nEncore:\nAny Suggestion\n(Short acoustic violin duet of… more )\nTrue Love\nEncore 2:\nI'll Stay Here\n(Short acoustic version)\nDo Not Claim Them Anymore",null,"Hoofdprogramma",11,2015,{"$f":"VLOOKUP(Table1[[#This Row],[Maand (getal)]],Lijst!A:B,2,FALSE)","v":"nov"},{"$f":"IFERROR(IF(ISBLANK('Zoeken in Database'!$D$3),\"x\",IF(SEARCH('Zoeken in Database'!$D$3,Concerten!A1262,1),\"x\",\"\")),\"\")","v":"x"},{"$f":"IFERROR(IF(ISBLANK('Zoeken in Database'!$D$4),\"x\",IF(SEARCH('Zoeken in Database'!$D$4,Concerten!B1262,1),\"x\",\"\")),\"\")","v":"x"},{"$f":"IFERROR(IF(ISBLANK('Zoeken in Database'!$D$5),\"x\",IF(SEARCH('Zoeken in Database'!$D$5,Concerten!C1262,1),\"x\",\"\")),\"\")","v":"x"},{"$f":"IFERROR(IF(ISBLANK('Zoeken in Database'!$D$6),\"x\",IF(SEARCH('Zoeken in Database'!$D$6,Concerten!G1262,1),\"x\",\"\")),\"\")","v":"x"},{"$f":"IF(AND(D1262>='Zoeken in Database'!$A$7,'Zoeken in Database'!$A$8>=D1262),\"x\",\"\")","v":"x"}]
["Tamarin Desert","Grenswerk","Venlo","2015-11-06",null,null,"Voorprogramma",11,2015,{"$f":"VLOOKUP(Table1[[#This Row],[Maand (getal)]],Lijst!A:B,2,FALSE)","v":"nov"},{"$f":"IFERROR(IF(ISBLANK('Zoeken in Database'!$D$3),\"x\",IF(SEARCH('Zoeken in Database'!$D$3,Concerten!A1263,1),\"x\",\"\")),\"\")","v":"x"},{"$f":"IFERROR(IF(ISBLANK('Zoeken in Database'!$D$4),\"x\",IF(SEARCH('Zoeken in Database'!$D$4,Concerten!B1263,1),\"x\",\"\")),\"\")","v":"x"},{"$f":"IFERROR(IF(ISBLANK('Zoeken in Database'!$D$5),\"x\",IF(SEARCH('Zoeken in Database'!$D$5,Concerten!C1263,1),\"x\",\"\")),\"\")","v":"x"},{"$f":"IFERROR(IF(ISBLANK('Zoeken in Database'!$D$6),\"x\",IF(SEARCH('Zoeken in Database'!$D$6,Concerten!G1263,1),\"x\",\"\")),\"\")","v":"x"},{"$f":"IF(AND(D1263>='Zoeken in Database'!$A$7,'Zoeken in Database'!$A$8>=D1263),\"x\",\"\")","v":"x"}]
["Pauw","Grenswerk","Venlo","2015-11-06",null,null,"Hoofdprogramma",11,2015,{"$f":"VLOOKUP(Table1[[#This Row],[Maand (getal)]],Lijst!A:B,2,FALSE)","v":"nov"},{"$f":"IFERROR(IF(ISBLANK('Zoeken in Database'!$D$3),\"x\",IF(SEARCH('Zoeken in Database'!$D$3,Concerten!A1264,1),\"x\",\"\")),\"\")","v":"x"},{"$f":"IFERROR(IF(ISBLANK('Zoeken in Database'!$D$4),\"x\",IF(SEARCH('Zoeken in Database'!$D$4,Concerten!B1264,1),\"x\",\"\")),\"\")","v":"x"},{"$f":"IFERROR(IF(ISBLANK('Zoeken in Database'!$D$5),\"x\",IF(SEARCH('Zoeken in Database'!$D$5,Concerten!C1264,1),\"x\",\"\")),\"\")","v":"x"},{"$f":"IFERROR(IF(ISBLANK('Zoeken in Database'!$D$6),\"x\",IF(SEARCH('Zoeken in Database'!$D$6,Concerten!G1264,1),\"x\",\"\")),\"\")","v":"x"},{"$f":"IF(AND(D1264>='Zoeken in Database'!$A$7,'Zoeken in Database'!$A$8>=D1264),\"x\",\"\")","v":"x"}]
["Mountain Goats, The","Paradiso Noord","Amsterdam","2015-11-22","Blood Capsules\nCry for Judas\nAnimal Mask\nThe Diaz Brothers\nForeign Object\nGet Lonely\nHeel Turn 2\nGrendel's Mother\nThe Monkey Song\nIt Froze Me\nSteal Smoked Fish\nThe Young Thousands\nStabbed to Death Outside San Juan\nDamn These Vampires\nNever Quite Free\nThis Year\nEncore:\nSouthwestern Territory\nGame Shows Touch Our Lives\nNo Children\nSpent Gladiator 2",null,"Hoofdprogramma",11,2015,{"$f":"VLOOKUP(Table1[[#This Row],[Maand (getal)]],Lijst!A:B,2,FALSE)","v":"nov"},{"$f":"IFERROR(IF(ISBLANK('Zoeken in Database'!$D$3),\"x\",IF(SEARCH('Zoeken in Database'!$D$3,Concerten!A1265,1),\"x\",\"\")),\"\")","v":"x"},{"$f":"IFERROR(IF(ISBLANK('Zoeken in Database'!$D$4),\"x\",IF(SEARCH('Zoeken in Database'!$D$4,Concerten!B1265,1),\"x\",\"\")),\"\")","v":"x"},{"$f":"IFERROR(IF(ISBLANK('Zoeken in Database'!$D$5),\"x\",IF(SEARCH('Zoeken in Database'!$D$5,Concerten!C1265,1),\"x\",\"\")),\"\")","v":"x"},{"$f":"IFERROR(IF(ISBLANK('Zoeken in Database'!$D$6),\"x\",IF(SEARCH('Zoeken in Database'!$D$6,Concerten!G1265,1),\"x\",\"\")),\"\")","v":"x"},{"$f":"IF(AND(D1265>='Zoeken in Database'!$A$7,'Zoeken in Database'!$A$8>=D1265),\"x\",\"\")","v":"x"}]
["Weather Station, The","Paradiso Noord","Amsterdam","2015-11-22",null,null,"Voorprogramma",11,2015,{"$f":"VLOOKUP(Table1[[#This Row],[Maand (getal)]],Lijst!A:B,2,FALSE)","v":"nov"},{"$f":"IFERROR(IF(ISBLANK('Zoeken in Database'!$D$3),\"x\",IF(SEARCH('Zoeken in Database'!$D$3,Concerten!A1266,1),\"x\",\"\")),\"\")","v":"x"},{"$f":"IFERROR(IF(ISBLANK('Zoeken in Database'!$D$4),\"x\",IF(SEARCH('Zoeken in Database'!$D$4,Concerten!B1266,1),\"x\",\"\")),\"\")","v":"x"},{"$f":"IFERROR(IF(ISBLANK('Zoeken in Database'!$D$5),\"x\",IF(SEARCH('Zoeken in Database'!$D$5,Concerten!C1266,1),\"x\",\"\")),\"\")","v":"x"},{"$f":"IFERROR(IF(ISBLANK('Zoeken in Database'!$D$6),\"x\",IF(SEARCH('Zoeken in Database'!$D$6,Concerten!G1266,1),\"x\",\"\")),\"\")","v":"x"},{"$f":"IF(AND(D1266>='Zoeken in Database'!$A$7,'Zoeken in Database'!$A$8>=D1266),\"x\",\"\")","v":"x"}]
["Spinvis","De Weijer","Boxmeer","2016-01-28","Lotus Europa\nOostende\nBagagedrager\nGrote Zon\nAstronaut\nVoordeel van video\nVoor ik vergeet\nKoning Alcohol\nIk wil alleen maar Zwemmen\nDagen van Gras\nGoed Nieuws\nOevers van de tijd\n---------\nKind je van God\nStefan en Lisette\nGoochelaars en Geesten\nInsomnia\nRonnie knipt zijn haar\nKom terug\n-------\nOvervecht\nWespen op de appeltaart",null,"Hoofdprogramma",1,2016,{"$f":"VLOOKUP(Table1[[#This Row],[Maand (getal)]],Lijst!A:B,2,FALSE)","v":"jan"},{"$f":"IFERROR(IF(ISBLANK('Zoeken in Database'!$D$3),\"x\",IF(SEARCH('Zoeken in Database'!$D$3,Concerten!A1267,1),\"x\",\"\")),\"\")","v":"x"},{"$f":"IFERROR(IF(ISBLANK('Zoeken in Database'!$D$4),\"x\",IF(SEARCH('Zoeken in Database'!$D$4,Concerten!B1267,1),\"x\",\"\")),\"\")","v":"x"},{"$f":"IFERROR(IF(ISBLANK('Zoeken in Database'!$D$5),\"x\",IF(SEARCH('Zoeken in Database'!$D$5,Concerten!C1267,1),\"x\",\"\")),\"\")","v":"x"},{"$f":"IFERROR(IF(ISBLANK('Zoeken in Database'!$D$6),\"x\",IF(SEARCH('Zoeken in Database'!$D$6,Concerten!G1267,1),\"x\",\"\")),\"\")","v":"x"},{"$f":"IF(AND(D1267>='Zoeken in Database'!$A$7,'Zoeken in Database'!$A$8>=D1267),\"x\",\"\")","v":"x"}]
["Nova, Heather","Stadsschouwburg","Nijmegen","2016-02-22",null,null,"Hoofdprogramma",2,2016,{"$f":"VLOOKUP(Table1[[#This Row],[Maand (getal)]],Lijst!A:B,2,FALSE)","v":"feb"},{"$f":"IFERROR(IF(ISBLANK('Zoeken in Database'!$D$3),\"x\",IF(SEARCH('Zoeken in Database'!$D$3,Concerten!A1268,1),\"x\",\"\")),\"\")","v":"x"},{"$f":"IFERROR(IF(ISBLANK('Zoeken in Database'!$D$4),\"x\",IF(SEARCH('Zoeken in Database'!$D$4,Concerten!B1268,1),\"x\",\"\")),\"\")","v":"x"},{"$f":"IFERROR(IF(ISBLANK('Zoeken in Database'!$D$5),\"x\",IF(SEARCH('Zoeken in Database'!$D$5,Concerten!C1268,1),\"x\",\"\")),\"\")","v":"x"},{"$f":"IFERROR(IF(ISBLANK('Zoeken in Database'!$D$6),\"x\",IF(SEARCH('Zoeken in Database'!$D$6,Concerten!G1268,1),\"x\",\"\")),\"\")","v":"x"},{"$f":"IF(AND(D1268>='Zoeken in Database'!$A$7,'Zoeken in Database'!$A$8>=D1268),\"x\",\"\")","v":"x"}]
["Mishka","Stadsschouwburg","Nijmegen","2016-02-22",null,null,"Voorprogramma",2,2016,{"$f":"VLOOKUP(Table1[[#This Row],[Maand (getal)]],Lijst!A:B,2,FALSE)","v":"feb"},{"$f":"IFERROR(IF(ISBLANK('Zoeken in Database'!$D$3),\"x\",IF(SEARCH('Zoeken in Database'!$D$3,Concerten!A1269,1),\"x\",\"\")),\"\")","v":"x"},{"$f":"IFERROR(IF(ISBLANK('Zoeken in Database'!$D$4),\"x\",IF(SEARCH('Zoeken in Database'!$D$4,Concerten!B1269,1),\"x\",\"\")),\"\")","v":"x"},{"$f":"IFERROR(IF(ISBLANK('Zoeken in Database'!$D$5),\"x\",IF(SEARCH('Zoeken in Database'!$D$5,Concerten!C1269,1),\"x\",\"\")),\"\")","v":"x"},{"$f":"IFERROR(IF(ISBLANK('Zoeken in Database'!$D$6),\"x\",IF(SEARCH('Zoeken in Database'!$D$6,Concerten!G1269,1),\"x\",\"\")),\"\")","v":"x"},{"$f":"IF(AND(D1269>='Zoeken in Database'!$A$7,'Zoeken in Database'!$A$8>=D1269),\"x\",\"\")","v":"x"}]
["Jackson, Joe","Vereeniging","Nijmegen","2016-02-25","It's Different For Girls (solo)\nHome Town (solo)\nBe My Number Two (solo)\nBig Yellow Taxi (Joni Mitchell cover) (solo)\nFast Forward (solo)\nIs She Really Going Out With Him?\nReal Men\nYou Can't Get What You Want (Till You Know What You Want)\nKings of the City\nPoor Thing\nThe Blue Time\nAnother World\nA Little Smile\nIt Don't Mean A Thing (If It Ain't Got That Swing) (Duke Ellington cover)\nSunday Papers\nKeep On Dreaming\nOde to Joy\nSteppin' Out\nEncore:\nSee No Evil (Television cover)\nOne More Time\nA Slow Song",null,"Hoofdprogramma",2,2016,{"$f":"VLOOKUP(Table1[[#This Row],[Maand (getal)]],Lijst!A:B,2,FALSE)","v":"feb"},{"$f":"IFERROR(IF(ISBLANK('Zoeken in Database'!$D$3),\"x\",IF(SEARCH('Zoeken in Database'!$D$3,Concerten!A1270,1),\"x\",\"\")),\"\")","v":"x"},{"$f":"IFERROR(IF(ISBLANK('Zoeken in Database'!$D$4),\"x\",IF(SEARCH('Zoeken in Database'!$D$4,Concerten!B1270,1),\"x\",\"\")),\"\")","v":"x"},{"$f":"IFERROR(IF(ISBLANK('Zoeken in Database'!$D$5),\"x\",IF(SEARCH('Zoeken in Database'!$D$5,Concerten!C1270,1),\"x\",\"\")),\"\")","v":"x"},{"$f":"IFERROR(IF(ISBLANK('Zoeken in Database'!$D$6),\"x\",IF(SEARCH('Zoeken in Database'!$D$6,Concerten!G1270,1),\"x\",\"\")),\"\")","v":"x"},{"$f":"IF(AND(D1270>='Zoeken in Database'!$A$7,'Zoeken in Database'!$A$8>=D1270),\"x\",\"\")","v":"x"}]
["Pecknold, Robin","Doornroosje","Nijmegen","2016-02-28","Northern Dancer/Kept Woman\nCrack-Up\nMaercstapa\nI Should See Memphis\nThird of May\nBlue Spotted Tail","Grote Zaal, seated","Voorprogramma",2,2016,{"$f":"VLOOKUP(Table1[[#This Row],[Maand (getal)]],Lijst!A:B,2,FALSE)","v":"feb"},{"$f":"IFERROR(IF(ISBLANK('Zoeken in Database'!$D$3),\"x\",IF(SEARCH('Zoeken in Database'!$D$3,Concerten!A1271,1),\"x\",\"\")),\"\")","v":"x"},{"$f":"IFERROR(IF(ISBLANK('Zoeken in Database'!$D$4),\"x\",IF(SEARCH('Zoeken in Database'!$D$4,Concerten!B1271,1),\"x\",\"\")),\"\")","v":"x"},{"$f":"IFERROR(IF(ISBLANK('Zoeken in Database'!$D$5),\"x\",IF(SEARCH('Zoeken in Database'!$D$5,Concerten!C1271,1),\"x\",\"\")),\"\")","v":"x"},{"$f":"IFERROR(IF(ISBLANK('Zoeken in Database'!$D$6),\"x\",IF(SEARCH('Zoeken in Database'!$D$6,Concerten!G1271,1),\"x\",\"\")),\"\")","v":"x"},{"$f":"IF(AND(D1271>='Zoeken in Database'!$A$7,'Zoeken in Database'!$A$8>=D1271),\"x\",\"\")","v":"x"}]
["Newsom, Joanna","Doornroosje","Nijmegen","2016-02-28","1. Bridges And Balloons\n2. Anecdotes\n3. Soft As Chalk\n4. Divers\n5. Emily\n6. Waltz of the 101st Lightborne\n7. Have One On Me\n8. Peach, Plum, Pear\n9. Sapokanikan\n10. Leaving the City\n11. Goose Eggs\n12. Cosmia\n13. Time, As a Symptom\n14. Good Intentions Paving Co.\nEncore:\n15. Baby Birch","Grote Zaal, seated","Hoofdprogramma",2,2016,{"$f":"VLOOKUP(Table1[[#This Row],[Maand (getal)]],Lijst!A:B,2,FALSE)","v":"feb"},{"$f":"IFERROR(IF(ISBLANK('Zoeken in Database'!$D$3),\"x\",IF(SEARCH('Zoeken in Database'!$D$3,Concerten!A1272,1),\"x\",\"\")),\"\")","v":"x"},{"$f":"IFERROR(IF(ISBLANK('Zoeken in Database'!$D$4),\"x\",IF(SEARCH('Zoeken in Database'!$D$4,Concerten!B1272,1),\"x\",\"\")),\"\")","v":"x"},{"$f":"IFERROR(IF(ISBLANK('Zoeken in Database'!$D$5),\"x\",IF(SEARCH('Zoeken in Database'!$D$5,Concerten!C1272,1),\"x\",\"\")),\"\")","v":"x"},{"$f":"IFERROR(IF(ISBLANK('Zoeken in Database'!$D$6),\"x\",IF(SEARCH('Zoeken in Database'!$D$6,Concerten!G1272,1),\"x\",\"\")),\"\")","v":"x"},{"$f":"IF(AND(D1272>='Zoeken in Database'!$A$7,'Zoeken in Database'!$A$8>=D1272),\"x\",\"\")","v":"x"}]
["Goslink","W2","Den Bosch","2016-03-03",null,null,"Voorprogramma",3,2016,{"$f":"VLOOKUP(Table1[[#This Row],[Maand (getal)]],Lijst!A:B,2,FALSE)","v":"mrt"},{"$f":"IFERROR(IF(ISBLANK('Zoeken in Database'!$D$3),\"x\",IF(SEARCH('Zoeken in Database'!$D$3,Concerten!A1273,1),\"x\",\"\")),\"\")","v":"x"},{"$f":"IFERROR(IF(ISBLANK('Zoeken in Database'!$D$4),\"x\",IF(SEARCH('Zoeken in Database'!$D$4,Concerten!B1273,1),\"x\",\"\")),\"\")","v":"x"},{"$f":"IFERROR(IF(ISBLANK('Zoeken in Database'!$D$5),\"x\",IF(SEARCH('Zoeken in Database'!$D$5,Concerten!C1273,1),\"x\",\"\")),\"\")","v":"x"},{"$f":"IFERROR(IF(ISBLANK('Zoeken in Database'!$D$6),\"x\",IF(SEARCH('Zoeken in Database'!$D$6,Concerten!G1273,1),\"x\",\"\")),\"\")","v":"x"},{"$f":"IF(AND(D1273>='Zoeken in Database'!$A$7,'Zoeken in Database'!$A$8>=D1273),\"x\",\"\")","v":"x"}]
["El Pino and the Volunteers","W2","Den Bosch","2016-03-03","Waiting, Honey\nTop of Everything\nBelieve\nCrossing the Line\nHullabaloo\nThere's No Cure for Stupidity\nRight On\nMoody Street\nSkid Around\nDesert in the Sea\nUmami\nTake the Call\n----\nImpatiently\nEl Degas\nCougar\nScratches\n",null,"Hoofdprogramma",3,2016,{"$f":"VLOOKUP(Table1[[#This Row],[Maand (getal)]],Lijst!A:B,2,FALSE)","v":"mrt"},{"$f":"IFERROR(IF(ISBLANK('Zoeken in Database'!$D$3),\"x\",IF(SEARCH('Zoeken in Database'!$D$3,Concerten!A1274,1),\"x\",\"\")),\"\")","v":"x"},{"$f":"IFERROR(IF(ISBLANK('Zoeken in Database'!$D$4),\"x\",IF(SEARCH('Zoeken in Database'!$D$4,Concerten!B1274,1),\"x\",\"\")),\"\")","v":"x"},{"$f":"IFERROR(IF(ISBLANK('Zoeken in Database'!$D$5),\"x\",IF(SEARCH('Zoeken in Database'!$D$5,Concerten!C1274,1),\"x\",\"\")),\"\")","v":"x"},{"$f":"IFERROR(IF(ISBLANK('Zoeken in Database'!$D$6),\"x\",IF(SEARCH('Zoeken in Database'!$D$6,Concerten!G1274,1),\"x\",\"\")),\"\")","v":"x"},{"$f":"IF(AND(D1274>='Zoeken in Database'!$A$7,'Zoeken in Database'!$A$8>=D1274),\"x\",\"\")","v":"x"}]
["Luwten","Doornroosje","Nijmegen","2016-03-11",null,null,"Voorprogramma",3,2016,{"$f":"VLOOKUP(Table1[[#This Row],[Maand (getal)]],Lijst!A:B,2,FALSE)","v":"mrt"},{"$f":"IFERROR(IF(ISBLANK('Zoeken in Database'!$D$3),\"x\",IF(SEARCH('Zoeken in Database'!$D$3,Concerten!A1275,1),\"x\",\"\")),\"\")","v":"x"},{"$f":"IFERROR(IF(ISBLANK('Zoeken in Database'!$D$4),\"x\",IF(SEARCH('Zoeken in Database'!$D$4,Concerten!B1275,1),\"x\",\"\")),\"\")","v":"x"},{"$f":"IFERROR(IF(ISBLANK('Zoeken in Database'!$D$5),\"x\",IF(SEARCH('Zoeken in Database'!$D$5,Concerten!C1275,1),\"x\",\"\")),\"\")","v":"x"},{"$f":"IFERROR(IF(ISBLANK('Zoeken in Database'!$D$6),\"x\",IF(SEARCH('Zoeken in Database'!$D$6,Concerten!G1275,1),\"x\",\"\")),\"\")","v":"x"},{"$f":"IF(AND(D1275>='Zoeken in Database'!$A$7,'Zoeken in Database'!$A$8>=D1275),\"x\",\"\")","v":"x"}]
["Visser, Eefje de","Doornroosje","Nijmegen","2016-03-11","Wakker \nWacht \nMee \nUit de lucht \nDe bedoeling \nStof \nNaartoe \nLuister \nEr is \nTrein \nGenoeg \nWel \nStaan \nJong \nEncore:\nNee joh \nHartslag",null,"Hoofdprogramma",3,2016,{"$f":"VLOOKUP(Table1[[#This Row],[Maand (getal)]],Lijst!A:B,2,FALSE)","v":"mrt"},{"$f":"IFERROR(IF(ISBLANK('Zoeken in Database'!$D$3),\"x\",IF(SEARCH('Zoeken in Database'!$D$3,Concerten!A1276,1),\"x\",\"\")),\"\")","v":"x"},{"$f":"IFERROR(IF(ISBLANK('Zoeken in Database'!$D$4),\"x\",IF(SEARCH('Zoeken in Database'!$D$4,Concerten!B1276,1),\"x\",\"\")),\"\")","v":"x"},{"$f":"IFERROR(IF(ISBLANK('Zoeken in Database'!$D$5),\"x\",IF(SEARCH('Zoeken in Database'!$D$5,Concerten!C1276,1),\"x\",\"\")),\"\")","v":"x"},{"$f":"IFERROR(IF(ISBLANK('Zoeken in Database'!$D$6),\"x\",IF(SEARCH('Zoeken in Database'!$D$6,Concerten!G1276,1),\"x\",\"\")),\"\")","v":"x"},{"$f":"IF(AND(D1276>='Zoeken in Database'!$A$7,'Zoeken in Database'!$A$8>=D1276),\"x\",\"\")","v":"x"}]
["Imarhan","Doornroosje","Nijmegen","2016-03-13",null,null,"Voorprogramma",3,2016,{"$f":"VLOOKUP(Table1[[#This Row],[Maand (getal)]],Lijst!A:B,2,FALSE)","v":"mrt"},{"$f":"IFERROR(IF(ISBLANK('Zoeken in Database'!$D$3),\"x\",IF(SEARCH('Zoeken in Database'!$D$3,Concerten!A1277,1),\"x\",\"\")),\"\")","v":"x"},{"$f":"IFERROR(IF(ISBLANK('Zoeken in Database'!$D$4),\"x\",IF(SEARCH('Zoeken in Database'!$D$4,Concerten!B1277,1),\"x\",\"\")),\"\")","v":"x"},{"$f":"IFERROR(IF(ISBLANK('Zoeken in Database'!$D$5),\"x\",IF(SEARCH('Zoeken in Database'!$D$5,Concerten!C1277,1),\"x\",\"\")),\"\")","v":"x"},{"$f":"IFERROR(IF(ISBLANK('Zoeken in Database'!$D$6),\"x\",IF(SEARCH('Zoeken in Database'!$D$6,Concerten!G1277,1),\"x\",\"\")),\"\")","v":"x"},{"$f":"IF(AND(D1277>='Zoeken in Database'!$A$7,'Zoeken in Database'!$A$8>=D1277),\"x\",\"\")","v":"x"}]
["Vile, Kurt & the Violators","Doornroosje","Nijmegen","2016-03-13","Dust Bunnies \nI'm an Outlaw \nPretty Pimpin \nJesus Fever \nWheelhouse \nGoldtone \nRunner Ups (solo acoustic) \nOn Tour \nWakin on a Pretty Day \nKV Crimes \nFreak Train \nWild Imagination \nEncore:\nPeeping Tomboy (solo acoustic) \nHunchback\n",null,"Hoofdprogramma",3,2016,{"$f":"VLOOKUP(Table1[[#This Row],[Maand (getal)]],Lijst!A:B,2,FALSE)","v":"mrt"},{"$f":"IFERROR(IF(ISBLANK('Zoeken in Database'!$D$3),\"x\",IF(SEARCH('Zoeken in Database'!$D$3,Concerten!A1278,1),\"x\",\"\")),\"\")","v":"x"},{"$f":"IFERROR(IF(ISBLANK('Zoeken in Database'!$D$4),\"x\",IF(SEARCH('Zoeken in Database'!$D$4,Concerten!B1278,1),\"x\",\"\")),\"\")","v":"x"},{"$f":"IFERROR(IF(ISBLANK('Zoeken in Database'!$D$5),\"x\",IF(SEARCH('Zoeken in Database'!$D$5,Concerten!C1278,1),\"x\",\"\")),\"\")","v":"x"},{"$f":"IFERROR(IF(ISBLANK('Zoeken in Database'!$D$6),\"x\",IF(SEARCH('Zoeken in Database'!$D$6,Concerten!G1278,1),\"x\",\"\")),\"\")","v":"x"},{"$f":"IF(AND(D1278>='Zoeken in Database'!$A$7,'Zoeken in Database'!$A$8>=D1278),\"x\",\"\")","v":"x"}]
["Vanhoof, Silke","TivoliVredenburg","Utrecht","2016-03-14",null,"Ronda","Voorprogramma",3,2016,{"$f":"VLOOKUP(Table1[[#This Row],[Maand (getal)]],Lijst!A:B,2,FALSE)","v":"mrt"},{"$f":"IFERROR(IF(ISBLANK('Zoeken in Database'!$D$3),\"x\",IF(SEARCH('Zoeken in Database'!$D$3,Concerten!A1279,1),\"x\",\"\")),\"\")","v":"x"},{"$f":"IFERROR(IF(ISBLANK('Zoeken in Database'!$D$4),\"x\",IF(SEARCH('Zoeken in Database'!$D$4,Concerten!B1279,1),\"x\",\"\")),\"\")","v":"x"},{"$f":"IFERROR(IF(ISBLANK('Zoeken in Database'!$D$5),\"x\",IF(SEARCH('Zoeken in Database'!$D$5,Concerten!C1279,1),\"x\",\"\")),\"\")","v":"x"},{"$f":"IFERROR(IF(ISBLANK('Zoeken in Database'!$D$6),\"x\",IF(SEARCH('Zoeken in Database'!$D$6,Concerten!G1279,1),\"x\",\"\")),\"\")","v":"x"},{"$f":"IF(AND(D1279>='Zoeken in Database'!$A$7,'Zoeken in Database'!$A$8>=D1279),\"x\",\"\")","v":"x"}]
["Hansard, Glen","TivoliVredenburg","Utrecht","2016-03-14","Grace Beneath the Pines \nWinning Streak \nMy Little Ruin \nWhen Your Mind's Made Up (The Swell Season song) \nBird of Sorrow \nReturn \nAstral Weeks (Van Morrison cover) \nPaying My Way \nCome Away to the Water \nMcCormack's Wall \nLowly Deserter \nWay Back in the Way Back When \nDidn't He Ramble \nWedding Ring \nThis Gift \n------\nSay It to Me Now (The Frames song) (unplugged solo from the theatre balcony) \nGold (Interference cover) \n------\nFalling Slowly (The Swell Season song) \nFitzcarraldo (The Frames song) \nGod Bless Mom (The Frames song) \nThe Stars Are Underground (The Frames song) \nStar Star (The Frames song) (Singing on the ground) \nHotellounge (dEUS cover) (With \"Most Beautiful Widow\" snippet by Sparklehorse) \nHer Mercy \nPlease, Please, Please (James Brown cover) (With \"Her Mercy\" snippet as a outro)","Ronda","Hoofdprogramma",3,2016,{"$f":"VLOOKUP(Table1[[#This Row],[Maand (getal)]],Lijst!A:B,2,FALSE)","v":"mrt"},{"$f":"IFERROR(IF(ISBLANK('Zoeken in Database'!$D$3),\"x\",IF(SEARCH('Zoeken in Database'!$D$3,Concerten!A1280,1),\"x\",\"\")),\"\")","v":"x"},{"$f":"IFERROR(IF(ISBLANK('Zoeken in Database'!$D$4),\"x\",IF(SEARCH('Zoeken in Database'!$D$4,Concerten!B1280,1),\"x\",\"\")),\"\")","v":"x"},{"$f":"IFERROR(IF(ISBLANK('Zoeken in Database'!$D$5),\"x\",IF(SEARCH('Zoeken in Database'!$D$5,Concerten!C1280,1),\"x\",\"\")),\"\")","v":"x"},{"$f":"IFERROR(IF(ISBLANK('Zoeken in Database'!$D$6),\"x\",IF(SEARCH('Zoeken in Database'!$D$6,Concerten!G1280,1),\"x\",\"\")),\"\")","v":"x"},{"$f":"IF(AND(D1280>='Zoeken in Database'!$A$7,'Zoeken in Database'!$A$8>=D1280),\"x\",\"\")","v":"x"}]
["Khruangbin","TivoliVredenburg","Utrecht","2016-05-24",null,null,"Voorprogramma",{"$f":"IF(ISBLANK(D1281),\"\",MONTH(D1281))","v":5},{"$f":"IF(ISBLANK(D1281),\"\",YEAR(D1281))","v":2016},{"$f":"VLOOKUP(Table1[[#This Row],[Maand (getal)]],Lijst!A:B,2,FALSE)","v":"mei"},{"$f":"IFERROR(IF(ISBLANK('Zoeken in Database'!$D$3),\"x\",IF(SEARCH('Zoeken in Database'!$D$3,Concerten!A1281,1),\"x\",\"\")),\"\")","v":"x"},{"$f":"IFERROR(IF(ISBLANK('Zoeken in Database'!$D$4),\"x\",IF(SEARCH('Zoeken in Database'!$D$4,Concerten!B1281,1),\"x\",\"\")),\"\")","v":"x"},{"$f":"IFERROR(IF(ISBLANK('Zoeken in Database'!$D$5),\"x\",IF(SEARCH('Zoeken in Database'!$D$5,Concerten!C1281,1),\"x\",\"\")),\"\")","v":"x"},{"$f":"IFERROR(IF(ISBLANK('Zoeken in Database'!$D$6),\"x\",IF(SEARCH('Zoeken in Database'!$D$6,Concerten!G1281,1),\"x\",\"\")),\"\")","v":"x"},{"$f":"IF(AND(D1281>='Zoeken in Database'!$A$7,'Zoeken in Database'!$A$8>=D1281),\"x\",\"\")","v":"x"}]
["Father John Misty","TivoliVredenburg","Utrecht","2016-05-24","Everyman Needs a Companion\nHollywood Forever Cemetery Sings\nWhen You're Smiling and Astride Me\nOnly Son of the Ladiesman\nNothing Good Ever Happens at the Goddamn Thirsty Crow\nFuntimes in Babylon\nNancy From Now On\nChateau Lobby #4 (in C for Two Virgins)\nI'm Writing a Novel\nNow I'm Learning to Love the War\nBored in the USA\nHoly Shit\nTrue Affection\nThis is Sally Hatchet\nI Love You, Honeybear\nEncore:\nI Went to the Store One Day\nKiss It Better (Rihanna cover)\nThe Ideal Husband","Ronda","Hoofdprogramma",5,2016,{"$f":"VLOOKUP(Table1[[#This Row],[Maand (getal)]],Lijst!A:B,2,FALSE)","v":"mei"},{"$f":"IFERROR(IF(ISBLANK('Zoeken in Database'!$D$3),\"x\",IF(SEARCH('Zoeken in Database'!$D$3,Concerten!A1282,1),\"x\",\"\")),\"\")","v":"x"},{"$f":"IFERROR(IF(ISBLANK('Zoeken in Database'!$D$4),\"x\",IF(SEARCH('Zoeken in Database'!$D$4,Concerten!B1282,1),\"x\",\"\")),\"\")","v":"x"},{"$f":"IFERROR(IF(ISBLANK('Zoeken in Database'!$D$5),\"x\",IF(SEARCH('Zoeken in Database'!$D$5,Concerten!C1282,1),\"x\",\"\")),\"\")","v":"x"},{"$f":"IFERROR(IF(ISBLANK('Zoeken in Database'!$D$6),\"x\",IF(SEARCH('Zoeken in Database'!$D$6,Concerten!G1282,1),\"x\",\"\")),\"\")","v":"x"},{"$f":"IF(AND(D1282>='Zoeken in Database'!$A$7,'Zoeken in Database'!$A$8>=D1282),\"x\",\"\")","v":"x"}]
["Gang of Youths","Paradiso","Amsterdam","2016-05-28",null,"Grote zaal, London Calling","Festivaloptreden",5,2016,{"$f":"VLOOKUP(Table1[[#This Row],[Maand (getal)]],Lijst!A:B,2,FALSE)","v":"mei"},{"$f":"IFERROR(IF(ISBLANK('Zoeken in Database'!$D$3),\"x\",IF(SEARCH('Zoeken in Database'!$D$3,Concerten!A1283,1),\"x\",\"\")),\"\")","v":"x"},{"$f":"IFERROR(IF(ISBLANK('Zoeken in Database'!$D$4),\"x\",IF(SEARCH('Zoeken in Database'!$D$4,Concerten!B1283,1),\"x\",\"\")),\"\")","v":"x"},{"$f":"IFERROR(IF(ISBLANK('Zoeken in Database'!$D$5),\"x\",IF(SEARCH('Zoeken in Database'!$D$5,Concerten!C1283,1),\"x\",\"\")),\"\")","v":"x"},{"$f":"IFERROR(IF(ISBLANK('Zoeken in Database'!$D$6),\"x\",IF(SEARCH('Zoeken in Database'!$D$6,Concerten!G1283,1),\"x\",\"\")),\"\")","v":"x"},{"$f":"IF(AND(D1283>='Zoeken in Database'!$A$7,'Zoeken in Database'!$A$8>=D1283),\"x\",\"\")","v":"x"}]
["Car Seat Headrest","Paradiso","Amsterdam","2016-05-28",null,"Grote zaal, London Calling","Festivaloptreden",5,2016,{"$f":"VLOOKUP(Table1[[#This Row],[Maand (getal)]],Lijst!A:B,2,FALSE)","v":"mei"},{"$f":"IFERROR(IF(ISBLANK('Zoeken in Database'!$D$3),\"x\",IF(SEARCH('Zoeken in Database'!$D$3,Concerten!A1284,1),\"x\",\"\")),\"\")","v":"x"},{"$f":"IFERROR(IF(ISBLANK('Zoeken in Database'!$D$4),\"x\",IF(SEARCH('Zoeken in Database'!$D$4,Concerten!B1284,1),\"x\",\"\")),\"\")","v":"x"},{"$f":"IFERROR(IF(ISBLANK('Zoeken in Database'!$D$5),\"x\",IF(SEARCH('Zoeken in Database'!$D$5,Concerten!C1284,1),\"x\",\"\")),\"\")","v":"x"},{"$f":"IFERROR(IF(ISBLANK('Zoeken in Database'!$D$6),\"x\",IF(SEARCH('Zoeken in Database'!$D$6,Concerten!G1284,1),\"x\",\"\")),\"\")","v":"x"},{"$f":"IF(AND(D1284>='Zoeken in Database'!$A$7,'Zoeken in Database'!$A$8>=D1284),\"x\",\"\")","v":"x"}]
["Royal Headache","Paradiso","Amsterdam","2016-05-28","So Low \nHigh \nReally in Love \nCarolina \nStrange Old Man \nElectric Shock \nGarbage \nAnother World \nPsych EP \nDistant and Vague \nSurprise \nEloise \nGirls \nDown the Lane \nWouldn't You Know \nDon't Get Me Down \nStand and Stare","Grote zaal, London Calling","Festivaloptreden",5,2016,{"$f":"VLOOKUP(Table1[[#This Row],[Maand (getal)]],Lijst!A:B,2,FALSE)","v":"mei"},{"$f":"IFERROR(IF(ISBLANK('Zoeken in Database'!$D$3),\"x\",IF(SEARCH('Zoeken in Database'!$D$3,Concerten!A1285,1),\"x\",\"\")),\"\")","v":"x"},{"$f":"IFERROR(IF(ISBLANK('Zoeken in Database'!$D$4),\"x\",IF(SEARCH('Zoeken in Database'!$D$4,Concerten!B1285,1),\"x\",\"\")),\"\")","v":"x"},{"$f":"IFERROR(IF(ISBLANK('Zoeken in Database'!$D$5),\"x\",IF(SEARCH('Zoeken in Database'!$D$5,Concerten!C1285,1),\"x\",\"\")),\"\")","v":"x"},{"$f":"IFERROR(IF(ISBLANK('Zoeken in Database'!$D$6),\"x\",IF(SEARCH('Zoeken in Database'!$D$6,Concerten!G1285,1),\"x\",\"\")),\"\")","v":"x"},{"$f":"IF(AND(D1285>='Zoeken in Database'!$A$7,'Zoeken in Database'!$A$8>=D1285),\"x\",\"\")","v":"x"}]
["Lynn, Lera","Usher Hall","Edinburgh","2016-06-14",null,null,"Voorprogramma",6,2016,{"$f":"VLOOKUP(Table1[[#This Row],[Maand (getal)]],Lijst!A:B,2,FALSE)","v":"jun"},{"$f":"IFERROR(IF(ISBLANK('Zoeken in Database'!$D$3),\"x\",IF(SEARCH('Zoeken in Database'!$D$3,Concerten!A1286,1),\"x\",\"\")),\"\")","v":"x"},{"$f":"IFERROR(IF(ISBLANK('Zoeken in Database'!$D$4),\"x\",IF(SEARCH('Zoeken in Database'!$D$4,Concerten!B1286,1),\"x\",\"\")),\"\")","v":"x"},{"$f":"IFERROR(IF(ISBLANK('Zoeken in Database'!$D$5),\"x\",IF(SEARCH('Zoeken in Database'!$D$5,Concerten!C1286,1),\"x\",\"\")),\"\")","v":"x"},{"$f":"IFERROR(IF(ISBLANK('Zoeken in Database'!$D$6),\"x\",IF(SEARCH('Zoeken in Database'!$D$6,Concerten!G1286,1),\"x\",\"\")),\"\")","v":"x"},{"$f":"IF(AND(D1286>='Zoeken in Database'!$A$7,'Zoeken in Database'!$A$8>=D1286),\"x\",\"\")","v":"x"}]
["Folds, Ben","Usher Hall","Edinburgh","2016-06-14","1.  Beautiful Mechanical (yMusic cover)  \n2.  So There   \n3.  Capable of Anything \n4.  Not a Fan \n5.  Effington \n6.  Phone in a Pool \n7.  Boxing (Ben Folds Five song)  \n8.  Jesusland \n9.  Mess (Ben Folds Five song)\n10. Erase Me (Ben Folds Five song)  \n11. I'm Not the Man \n12. Song for the Dumped (Ben Folds Five song)\n13. Steven's Last Night in Town (Ben Folds Five song)  \nEncore:\n14. Zak and Sara \n15. Eddie Walker (Ben Folds Five song)  \n16. The Luckiest \n17. You Don't Know Me \n18. Not the Same \n",null,"Hoofdprogramma",6,2016,{"$f":"VLOOKUP(Table1[[#This Row],[Maand (getal)]],Lijst!A:B,2,FALSE)","v":"jun"},{"$f":"IFERROR(IF(ISBLANK('Zoeken in Database'!$D$3),\"x\",IF(SEARCH('Zoeken in Database'!$D$3,Concerten!A1287,1),\"x\",\"\")),\"\")","v":"x"},{"$f":"IFERROR(IF(ISBLANK('Zoeken in Database'!$D$4),\"x\",IF(SEARCH('Zoeken in Database'!$D$4,Concerten!B1287,1),\"x\",\"\")),\"\")","v":"x"},{"$f":"IFERROR(IF(ISBLANK('Zoeken in Database'!$D$5),\"x\",IF(SEARCH('Zoeken in Database'!$D$5,Concerten!C1287,1),\"x\",\"\")),\"\")","v":"x"},{"$f":"IFERROR(IF(ISBLANK('Zoeken in Database'!$D$6),\"x\",IF(SEARCH('Zoeken in Database'!$D$6,Concerten!G1287,1),\"x\",\"\")),\"\")","v":"x"},{"$f":"IF(AND(D1287>='Zoeken in Database'!$A$7,'Zoeken in Database'!$A$8>=D1287),\"x\",\"\")","v":"x"}]
["Parquet Courts","Down the Rabbit Hole 2016","Beuningen","2016-06-24","Master of My Craft\nBorrowed Time\nDust\nCaptive of the Sun\nOutside\nOne Man No City\nHuman Performance\nI Was Just Here\nParaphrased\nDear Ramona\nBodies Made Of\n",null,"Festivaloptreden",6,2016,{"$f":"VLOOKUP(Table1[[#This Row],[Maand (getal)]],Lijst!A:B,2,FALSE)","v":"jun"},{"$f":"IFERROR(IF(ISBLANK('Zoeken in Database'!$D$3),\"x\",IF(SEARCH('Zoeken in Database'!$D$3,Concerten!A1288,1),\"x\",\"\")),\"\")","v":"x"},{"$f":"IFERROR(IF(ISBLANK('Zoeken in Database'!$D$4),\"x\",IF(SEARCH('Zoeken in Database'!$D$4,Concerten!B1288,1),\"x\",\"\")),\"\")","v":"x"},{"$f":"IFERROR(IF(ISBLANK('Zoeken in Database'!$D$5),\"x\",IF(SEARCH('Zoeken in Database'!$D$5,Concerten!C1288,1),\"x\",\"\")),\"\")","v":"x"},{"$f":"IFERROR(IF(ISBLANK('Zoeken in Database'!$D$6),\"x\",IF(SEARCH('Zoeken in Database'!$D$6,Concerten!G1288,1),\"x\",\"\")),\"\")","v":"x"},{"$f":"IF(AND(D1288>='Zoeken in Database'!$A$7,'Zoeken in Database'!$A$8>=D1288),\"x\",\"\")","v":"x"}]
["Barnett, Courtney","Down the Rabbit Hole 2016","Beuningen","2016-06-24","Dead Fox\nScotty Says\nDebbie Downer\nAn Illustration of Loneliness (Sleepless in New York)\nSmall Poppies\nDepreston\nThree Packs a Day\nPedestrian at Best\nSpeedway\nElevator Operator\nAvant Gardener\nNobody Really Cares If You Don't Go to the Party\n",null,"Festivaloptreden",6,2016,{"$f":"VLOOKUP(Table1[[#This Row],[Maand (getal)]],Lijst!A:B,2,FALSE)","v":"jun"},{"$f":"IFERROR(IF(ISBLANK('Zoeken in Database'!$D$3),\"x\",IF(SEARCH('Zoeken in Database'!$D$3,Concerten!A1289,1),\"x\",\"\")),\"\")","v":"x"},{"$f":"IFERROR(IF(ISBLANK('Zoeken in Database'!$D$4),\"x\",IF(SEARCH('Zoeken in Database'!$D$4,Concerten!B1289,1),\"x\",\"\")),\"\")","v":"x"},{"$f":"IFERROR(IF(ISBLANK('Zoeken in Database'!$D$5),\"x\",IF(SEARCH('Zoeken in Database'!$D$5,Concerten!C1289,1),\"x\",\"\")),\"\")","v":"x"},{"$f":"IFERROR(IF(ISBLANK('Zoeken in Database'!$D$6),\"x\",IF(SEARCH('Zoeken in Database'!$D$6,Concerten!G1289,1),\"x\",\"\")),\"\")","v":"x"},{"$f":"IF(AND(D1289>='Zoeken in Database'!$A$7,'Zoeken in Database'!$A$8>=D1289),\"x\",\"\")","v":"x"}]
["DeMarco, Mac","Down the Rabbit Hole 2016","Beuningen","2016-06-24","The Way You'd Love Her\nSalad Days\nNo Other Heart\nThe Stars Keep On Calling My Name\nAnother One\nCooking Up Something Good\nOde to Viceroy\nReelin' in the Years (Steely Dan cover)\nWithout Me\nLet Her Go\nMy Kind of Woman\nFreaking Out the Neighborhood\nChamber of Reflection\n",null,"Festivaloptreden",6,2016,{"$f":"VLOOKUP(Table1[[#This Row],[Maand (getal)]],Lijst!A:B,2,FALSE)","v":"jun"},{"$f":"IFERROR(IF(ISBLANK('Zoeken in Database'!$D$3),\"x\",IF(SEARCH('Zoeken in Database'!$D$3,Concerten!A1290,1),\"x\",\"\")),\"\")","v":"x"},{"$f":"IFERROR(IF(ISBLANK('Zoeken in Database'!$D$4),\"x\",IF(SEARCH('Zoeken in Database'!$D$4,Concerten!B1290,1),\"x\",\"\")),\"\")","v":"x"},{"$f":"IFERROR(IF(ISBLANK('Zoeken in Database'!$D$5),\"x\",IF(SEARCH('Zoeken in Database'!$D$5,Concerten!C1290,1),\"x\",\"\")),\"\")","v":"x"},{"$f":"IFERROR(IF(ISBLANK('Zoeken in Database'!$D$6),\"x\",IF(SEARCH('Zoeken in Database'!$D$6,Concerten!G1290,1),\"x\",\"\")),\"\")","v":"x"},{"$f":"IF(AND(D1290>='Zoeken in Database'!$A$7,'Zoeken in Database'!$A$8>=D1290),\"x\",\"\")","v":"x"}]
["Woods","Down the Rabbit Hole 2016","Beuningen","2016-06-25",null,null,"Festivaloptreden",6,2016,{"$f":"VLOOKUP(Table1[[#This Row],[Maand (getal)]],Lijst!A:B,2,FALSE)","v":"jun"},{"$f":"IFERROR(IF(ISBLANK('Zoeken in Database'!$D$3),\"x\",IF(SEARCH('Zoeken in Database'!$D$3,Concerten!A1291,1),\"x\",\"\")),\"\")","v":"x"},{"$f":"IFERROR(IF(ISBLANK('Zoeken in Database'!$D$4),\"x\",IF(SEARCH('Zoeken in Database'!$D$4,Concerten!B1291,1),\"x\",\"\")),\"\")","v":"x"},{"$f":"IFERROR(IF(ISBLANK('Zoeken in Database'!$D$5),\"x\",IF(SEARCH('Zoeken in Database'!$D$5,Concerten!C1291,1),\"x\",\"\")),\"\")","v":"x"},{"$f":"IFERROR(IF(ISBLANK('Zoeken in Database'!$D$6),\"x\",IF(SEARCH('Zoeken in Database'!$D$6,Concerten!G1291,1),\"x\",\"\")),\"\")","v":"x"},{"$f":"IF(AND(D1291>='Zoeken in Database'!$A$7,'Zoeken in Database'!$A$8>=D1291),\"x\",\"\")","v":"x"}]
["Whitney","Down the Rabbit Hole 2016","Beuningen","2016-06-25","Dave's Song\nNo Matter Where We Go\nOn My Own\nGolden Days\nSo Sad (The Everly Brothers cover)\nRed Moon\nPolly\nTonight I'll Be Staying Here With You (Bob Dylan cover)\nThe Falls\nNo Woman\nFollow\n",null,"Festivaloptreden",{"$f":"IF(ISBLANK(D1292),\"\",MONTH(D1292))","v":6},{"$f":"IF(ISBLANK(D1292),\"\",YEAR(D1292))","v":2016},{"$f":"VLOOKUP(Table1[[#This Row],[Maand (getal)]],Lijst!A:B,2,FALSE)","v":"jun"},{"$f":"IFERROR(IF(ISBLANK('Zoeken in Database'!$D$3),\"x\",IF(SEARCH('Zoeken in Database'!$D$3,Concerten!A1292,1),\"x\",\"\")),\"\")","v":"x"},{"$f":"IFERROR(IF(ISBLANK('Zoeken in Database'!$D$4),\"x\",IF(SEARCH('Zoeken in Database'!$D$4,Concerten!B1292,1),\"x\",\"\")),\"\")","v":"x"},{"$f":"IFERROR(IF(ISBLANK('Zoeken in Database'!$D$5),\"x\",IF(SEARCH('Zoeken in Database'!$D$5,Concerten!C1292,1),\"x\",\"\")),\"\")","v":"x"},{"$f":"IFERROR(IF(ISBLANK('Zoeken in Database'!$D$6),\"x\",IF(SEARCH('Zoeken in Database'!$D$6,Concerten!G1292,1),\"x\",\"\")),\"\")","v":"x"},{"$f":"IF(AND(D1292>='Zoeken in Database'!$A$7,'Zoeken in Database'!$A$8>=D1292),\"x\",\"\")","v":"x"}]
["Visser, Eefje de","Down the Rabbit Hole 2016","Beuningen","2016-06-25","Staan\nStof\nNaartoe\nOngeveer\nHartslag\nTijdreis\nAfdwaalt\nWacht\nMee\nJong\nScheef\n",null,"Festivaloptreden",6,2016,{"$f":"VLOOKUP(Table1[[#This Row],[Maand (getal)]],Lijst!A:B,2,FALSE)","v":"jun"},{"$f":"IFERROR(IF(ISBLANK('Zoeken in Database'!$D$3),\"x\",IF(SEARCH('Zoeken in Database'!$D$3,Concerten!A1293,1),\"x\",\"\")),\"\")","v":"x"},{"$f":"IFERROR(IF(ISBLANK('Zoeken in Database'!$D$4),\"x\",IF(SEARCH('Zoeken in Database'!$D$4,Concerten!B1293,1),\"x\",\"\")),\"\")","v":"x"},{"$f":"IFERROR(IF(ISBLANK('Zoeken in Database'!$D$5),\"x\",IF(SEARCH('Zoeken in Database'!$D$5,Concerten!C1293,1),\"x\",\"\")),\"\")","v":"x"},{"$f":"IFERROR(IF(ISBLANK('Zoeken in Database'!$D$6),\"x\",IF(SEARCH('Zoeken in Database'!$D$6,Concerten!G1293,1),\"x\",\"\")),\"\")","v":"x"},{"$f":"IF(AND(D1293>='Zoeken in Database'!$A$7,'Zoeken in Database'!$A$8>=D1293),\"x\",\"\")","v":"x"}]
["Staat, De","Down the Rabbit Hole 2016","Beuningen","2016-06-25","Blues Is Dead\nSweatshop\nDown Town\nPeptalk\nInput Source Select\nRooster-Man\nMake The Call, Leave It All\nHelp Yourself\nMake Way For The Passenger\nGet on Screen\nI'll Be Your Only Friend (Flamman & Abraxas cover) \nWitch Doctor",null,"Festivaloptreden",6,2016,{"$f":"VLOOKUP(Table1[[#This Row],[Maand (getal)]],Lijst!A:B,2,FALSE)","v":"jun"},{"$f":"IFERROR(IF(ISBLANK('Zoeken in Database'!$D$3),\"x\",IF(SEARCH('Zoeken in Database'!$D$3,Concerten!A1294,1),\"x\",\"\")),\"\")","v":"x"},{"$f":"IFERROR(IF(ISBLANK('Zoeken in Database'!$D$4),\"x\",IF(SEARCH('Zoeken in Database'!$D$4,Concerten!B1294,1),\"x\",\"\")),\"\")","v":"x"},{"$f":"IFERROR(IF(ISBLANK('Zoeken in Database'!$D$5),\"x\",IF(SEARCH('Zoeken in Database'!$D$5,Concerten!C1294,1),\"x\",\"\")),\"\")","v":"x"},{"$f":"IFERROR(IF(ISBLANK('Zoeken in Database'!$D$6),\"x\",IF(SEARCH('Zoeken in Database'!$D$6,Concerten!G1294,1),\"x\",\"\")),\"\")","v":"x"},{"$f":"IF(AND(D1294>='Zoeken in Database'!$A$7,'Zoeken in Database'!$A$8>=D1294),\"x\",\"\")","v":"x"}]
["Hansard, Glen","Down the Rabbit Hole 2016","Beuningen","2016-06-25","Didn't He Ramble \nWinning Streak \nMy Little Ruin \nWhen Your Mind's Made Up (The Swell Season song) \nJust to Be the One \nBird of Sorrow \nAstral Weeks (Van Morrison cover) \nLove Don't Leave Me Waiting \nMcCormack's Wall \nLowly Deserter \nWay Back in the Way Back When \nThis Gift \nEncore:\nDon't Do It (Marvin Gaye cover) \nHer Mercy \nEncore 2:\nDevil Town (Daniel Johnston cover)",null,"Festivaloptreden",6,2016,{"$f":"VLOOKUP(Table1[[#This Row],[Maand (getal)]],Lijst!A:B,2,FALSE)","v":"jun"},{"$f":"IFERROR(IF(ISBLANK('Zoeken in Database'!$D$3),\"x\",IF(SEARCH('Zoeken in Database'!$D$3,Concerten!A1295,1),\"x\",\"\")),\"\")","v":"x"},{"$f":"IFERROR(IF(ISBLANK('Zoeken in Database'!$D$4),\"x\",IF(SEARCH('Zoeken in Database'!$D$4,Concerten!B1295,1),\"x\",\"\")),\"\")","v":"x"},{"$f":"IFERROR(IF(ISBLANK('Zoeken in Database'!$D$5),\"x\",IF(SEARCH('Zoeken in Database'!$D$5,Concerten!C1295,1),\"x\",\"\")),\"\")","v":"x"},{"$f":"IFERROR(IF(ISBLANK('Zoeken in Database'!$D$6),\"x\",IF(SEARCH('Zoeken in Database'!$D$6,Concerten!G1295,1),\"x\",\"\")),\"\")","v":"x"},{"$f":"IF(AND(D1295>='Zoeken in Database'!$A$7,'Zoeken in Database'!$A$8>=D1295),\"x\",\"\")","v":"x"}]
["National, The","Down the Rabbit Hole 2016","Beuningen","2016-06-25","Find A Way \u2028(aborted halfway through) \u2028\u2028\nDon't Swallow the Cap \u2028\u2028\u2028\nSea of Love \u2028\u2028\u2028\nBloodbuzz Ohio \u2028\u2028\u2028\nThe Day I Die \u2028\u2028\u2028\nAfraid of Everyone \u2028\u2028\u2028\nSqualor Victoria \u2028\u2028\u2028\nI Need My Girl \u2028\u2028\u2028\nThis Is the Last Time \u2028\u2028\u2028\nThe Lights \u2028(on setlist as 'Kingston'.… more ) \u2028\u2028\nSlow Show \u2028\u2028\u2028\nPink Rabbits \u2028\u2028\u2028\nEngland \u2028\u2028\u2028\nGraceless \u2028\u2028\u2028\nFake Empire \u2028\u2028\u2028\nMr. November \u2028\u2028\u2028\nTerrible Love",null,"Festivaloptreden",6,2016,{"$f":"VLOOKUP(Table1[[#This Row],[Maand (getal)]],Lijst!A:B,2,FALSE)","v":"jun"},{"$f":"IFERROR(IF(ISBLANK('Zoeken in Database'!$D$3),\"x\",IF(SEARCH('Zoeken in Database'!$D$3,Concerten!A1296,1),\"x\",\"\")),\"\")","v":"x"},{"$f":"IFERROR(IF(ISBLANK('Zoeken in Database'!$D$4),\"x\",IF(SEARCH('Zoeken in Database'!$D$4,Concerten!B1296,1),\"x\",\"\")),\"\")","v":"x"},{"$f":"IFERROR(IF(ISBLANK('Zoeken in Database'!$D$5),\"x\",IF(SEARCH('Zoeken in Database'!$D$5,Concerten!C1296,1),\"x\",\"\")),\"\")","v":"x"},{"$f":"IFERROR(IF(ISBLANK('Zoeken in Database'!$D$6),\"x\",IF(SEARCH('Zoeken in Database'!$D$6,Concerten!G1296,1),\"x\",\"\")),\"\")","v":"x"},{"$f":"IF(AND(D1296>='Zoeken in Database'!$A$7,'Zoeken in Database'!$A$8>=D1296),\"x\",\"\")","v":"x"}]
["Frightened Rabbit","Down the Rabbit Hole 2016","Beuningen","2016-06-26",null,null,"Festivaloptreden",6,2016,{"$f":"VLOOKUP(Table1[[#This Row],[Maand (getal)]],Lijst!A:B,2,FALSE)","v":"jun"},{"$f":"IFERROR(IF(ISBLANK('Zoeken in Database'!$D$3),\"x\",IF(SEARCH('Zoeken in Database'!$D$3,Concerten!A1297,1),\"x\",\"\")),\"\")","v":"x"},{"$f":"IFERROR(IF(ISBLANK('Zoeken in Database'!$D$4),\"x\",IF(SEARCH('Zoeken in Database'!$D$4,Concerten!B1297,1),\"x\",\"\")),\"\")","v":"x"},{"$f":"IFERROR(IF(ISBLANK('Zoeken in Database'!$D$5),\"x\",IF(SEARCH('Zoeken in Database'!$D$5,Concerten!C1297,1),\"x\",\"\")),\"\")","v":"x"},{"$f":"IFERROR(IF(ISBLANK('Zoeken in Database'!$D$6),\"x\",IF(SEARCH('Zoeken in Database'!$D$6,Concerten!G1297,1),\"x\",\"\")),\"\")","v":"x"},{"$f":"IF(AND(D1297>='Zoeken in Database'!$A$7,'Zoeken in Database'!$A$8>=D1297),\"x\",\"\")","v":"x"}]
["Car Seat Headrest","Down the Rabbit Hole 2016","Beuningen","2016-06-26","Broken Birds (Rest in Pieces)\n???\nFill in the Blank\nDrunk Drivers/Killer Whales\nVincent\nDestroyed by Hippie Powers\nSober to Death\nStrangers\nUnforgiving Girl (She's Not An)\nSomething Soon",null,"Festivaloptreden",6,2016,{"$f":"VLOOKUP(Table1[[#This Row],[Maand (getal)]],Lijst!A:B,2,FALSE)","v":"jun"},{"$f":"IFERROR(IF(ISBLANK('Zoeken in Database'!$D$3),\"x\",IF(SEARCH('Zoeken in Database'!$D$3,Concerten!A1298,1),\"x\",\"\")),\"\")","v":"x"},{"$f":"IFERROR(IF(ISBLANK('Zoeken in Database'!$D$4),\"x\",IF(SEARCH('Zoeken in Database'!$D$4,Concerten!B1298,1),\"x\",\"\")),\"\")","v":"x"},{"$f":"IFERROR(IF(ISBLANK('Zoeken in Database'!$D$5),\"x\",IF(SEARCH('Zoeken in Database'!$D$5,Concerten!C1298,1),\"x\",\"\")),\"\")","v":"x"},{"$f":"IFERROR(IF(ISBLANK('Zoeken in Database'!$D$6),\"x\",IF(SEARCH('Zoeken in Database'!$D$6,Concerten!G1298,1),\"x\",\"\")),\"\")","v":"x"},{"$f":"IF(AND(D1298>='Zoeken in Database'!$A$7,'Zoeken in Database'!$A$8>=D1298),\"x\",\"\")","v":"x"}]
["Dubioza Kolektiv","Down the Rabbit Hole 2016","Beuningen","2016-06-26",null,null,"Festivaloptreden",6,2016,{"$f":"VLOOKUP(Table1[[#This Row],[Maand (getal)]],Lijst!A:B,2,FALSE)","v":"jun"},{"$f":"IFERROR(IF(ISBLANK('Zoeken in Database'!$D$3),\"x\",IF(SEARCH('Zoeken in Database'!$D$3,Concerten!A1299,1),\"x\",\"\")),\"\")","v":"x"},{"$f":"IFERROR(IF(ISBLANK('Zoeken in Database'!$D$4),\"x\",IF(SEARCH('Zoeken in Database'!$D$4,Concerten!B1299,1),\"x\",\"\")),\"\")","v":"x"},{"$f":"IFERROR(IF(ISBLANK('Zoeken in Database'!$D$5),\"x\",IF(SEARCH('Zoeken in Database'!$D$5,Concerten!C1299,1),\"x\",\"\")),\"\")","v":"x"},{"$f":"IFERROR(IF(ISBLANK('Zoeken in Database'!$D$6),\"x\",IF(SEARCH('Zoeken in Database'!$D$6,Concerten!G1299,1),\"x\",\"\")),\"\")","v":"x"},{"$f":"IF(AND(D1299>='Zoeken in Database'!$A$7,'Zoeken in Database'!$A$8>=D1299),\"x\",\"\")","v":"x"}]
["GYDA","Paleis Soestdijk","Baarn","2016-07-07",null,"Royal Park Live","Voorprogramma",7,2016,{"$f":"VLOOKUP(Table1[[#This Row],[Maand (getal)]],Lijst!A:B,2,FALSE)","v":"jul"},{"$f":"IFERROR(IF(ISBLANK('Zoeken in Database'!$D$3),\"x\",IF(SEARCH('Zoeken in Database'!$D$3,Concerten!A1300,1),\"x\",\"\")),\"\")","v":"x"},{"$f":"IFERROR(IF(ISBLANK('Zoeken in Database'!$D$4),\"x\",IF(SEARCH('Zoeken in Database'!$D$4,Concerten!B1300,1),\"x\",\"\")),\"\")","v":"x"},{"$f":"IFERROR(IF(ISBLANK('Zoeken in Database'!$D$5),\"x\",IF(SEARCH('Zoeken in Database'!$D$5,Concerten!C1300,1),\"x\",\"\")),\"\")","v":"x"},{"$f":"IFERROR(IF(ISBLANK('Zoeken in Database'!$D$6),\"x\",IF(SEARCH('Zoeken in Database'!$D$6,Concerten!G1300,1),\"x\",\"\")),\"\")","v":"x"},{"$f":"IF(AND(D1300>='Zoeken in Database'!$A$7,'Zoeken in Database'!$A$8>=D1300),\"x\",\"\")","v":"x"}]
["Rice, Damien","Paleis Soestdijk","Baarn","2016-07-07","The Professor & La Fille Danse \nDelicate \nMy Favourite Faded Fantasy \nElephant \nTrusty & True \n9 Crimes \nThe Greatest Bastard \nAmie \nI Remember \nCannonball \nIt Takes a Lot to Know a Man \nEncore:\nThe Blower's Daughter \nVolcano (duet with GYDA)\n","Royal Park Live","Hoofdprogramma",7,2016,{"$f":"VLOOKUP(Table1[[#This Row],[Maand (getal)]],Lijst!A:B,2,FALSE)","v":"jul"},{"$f":"IFERROR(IF(ISBLANK('Zoeken in Database'!$D$3),\"x\",IF(SEARCH('Zoeken in Database'!$D$3,Concerten!A1301,1),\"x\",\"\")),\"\")","v":"x"},{"$f":"IFERROR(IF(ISBLANK('Zoeken in Database'!$D$4),\"x\",IF(SEARCH('Zoeken in Database'!$D$4,Concerten!B1301,1),\"x\",\"\")),\"\")","v":"x"},{"$f":"IFERROR(IF(ISBLANK('Zoeken in Database'!$D$5),\"x\",IF(SEARCH('Zoeken in Database'!$D$5,Concerten!C1301,1),\"x\",\"\")),\"\")","v":"x"},{"$f":"IFERROR(IF(ISBLANK('Zoeken in Database'!$D$6),\"x\",IF(SEARCH('Zoeken in Database'!$D$6,Concerten!G1301,1),\"x\",\"\")),\"\")","v":"x"},{"$f":"IF(AND(D1301>='Zoeken in Database'!$A$7,'Zoeken in Database'!$A$8>=D1301),\"x\",\"\")","v":"x"}]
["Simpson, Sturgill","Doornroosje","Nijmegen","2016-07-09","Sitting Here Without You\nLong White Line\nWater in a Well\nLife of Sin\nRailroad of Sin\nLiving the Dream\nSome Days\nYou Don't Miss Your Water (William Bell cover)\nTime After All\nThe Promise (When in Rome cover)\nIt Ain't All Flowers\nTurtles All the Way Down\nWelcome to Earth (Pollywog)\nBreakers Roar\nKeep It Between the Lines\nSea Stories\nIn Bloom (Nirvana cover)\nBrace for Impact (Live a Little)\nAll Around You\nOh Sarah\nCall to Arms",null,"Hoofdprogramma",7,2016,{"$f":"VLOOKUP(Table1[[#This Row],[Maand (getal)]],Lijst!A:B,2,FALSE)","v":"jul"},{"$f":"IFERROR(IF(ISBLANK('Zoeken in Database'!$D$3),\"x\",IF(SEARCH('Zoeken in Database'!$D$3,Concerten!A1302,1),\"x\",\"\")),\"\")","v":"x"},{"$f":"IFERROR(IF(ISBLANK('Zoeken in Database'!$D$4),\"x\",IF(SEARCH('Zoeken in Database'!$D$4,Concerten!B1302,1),\"x\",\"\")),\"\")","v":"x"},{"$f":"IFERROR(IF(ISBLANK('Zoeken in Database'!$D$5),\"x\",IF(SEARCH('Zoeken in Database'!$D$5,Concerten!C1302,1),\"x\",\"\")),\"\")","v":"x"},{"$f":"IFERROR(IF(ISBLANK('Zoeken in Database'!$D$6),\"x\",IF(SEARCH('Zoeken in Database'!$D$6,Concerten!G1302,1),\"x\",\"\")),\"\")","v":"x"},{"$f":"IF(AND(D1302>='Zoeken in Database'!$A$7,'Zoeken in Database'!$A$8>=D1302),\"x\",\"\")","v":"x"}]
["Rats on Rafts","Valkhof Festival 2016","Nijmegen","2016-07-18",null,"Boog","Festivaloptreden",7,2016,{"$f":"VLOOKUP(Table1[[#This Row],[Maand (getal)]],Lijst!A:B,2,FALSE)","v":"jul"},{"$f":"IFERROR(IF(ISBLANK('Zoeken in Database'!$D$3),\"x\",IF(SEARCH('Zoeken in Database'!$D$3,Concerten!A1303,1),\"x\",\"\")),\"\")","v":"x"},{"$f":"IFERROR(IF(ISBLANK('Zoeken in Database'!$D$4),\"x\",IF(SEARCH('Zoeken in Database'!$D$4,Concerten!B1303,1),\"x\",\"\")),\"\")","v":"x"},{"$f":"IFERROR(IF(ISBLANK('Zoeken in Database'!$D$5),\"x\",IF(SEARCH('Zoeken in Database'!$D$5,Concerten!C1303,1),\"x\",\"\")),\"\")","v":"x"},{"$f":"IFERROR(IF(ISBLANK('Zoeken in Database'!$D$6),\"x\",IF(SEARCH('Zoeken in Database'!$D$6,Concerten!G1303,1),\"x\",\"\")),\"\")","v":"x"},{"$f":"IF(AND(D1303>='Zoeken in Database'!$A$7,'Zoeken in Database'!$A$8>=D1303),\"x\",\"\")","v":"x"}]
["Protomartyr","Valkhof Festival 2016","Nijmegen","2016-07-18",null,"Arc","Festivaloptreden",7,2016,{"$f":"VLOOKUP(Table1[[#This Row],[Maand (getal)]],Lijst!A:B,2,FALSE)","v":"jul"},{"$f":"IFERROR(IF(ISBLANK('Zoeken in Database'!$D$3),\"x\",IF(SEARCH('Zoeken in Database'!$D$3,Concerten!A1304,1),\"x\",\"\")),\"\")","v":"x"},{"$f":"IFERROR(IF(ISBLANK('Zoeken in Database'!$D$4),\"x\",IF(SEARCH('Zoeken in Database'!$D$4,Concerten!B1304,1),\"x\",\"\")),\"\")","v":"x"},{"$f":"IFERROR(IF(ISBLANK('Zoeken in Database'!$D$5),\"x\",IF(SEARCH('Zoeken in Database'!$D$5,Concerten!C1304,1),\"x\",\"\")),\"\")","v":"x"},{"$f":"IFERROR(IF(ISBLANK('Zoeken in Database'!$D$6),\"x\",IF(SEARCH('Zoeken in Database'!$D$6,Concerten!G1304,1),\"x\",\"\")),\"\")","v":"x"},{"$f":"IF(AND(D1304>='Zoeken in Database'!$A$7,'Zoeken in Database'!$A$8>=D1304),\"x\",\"\")","v":"x"}]
["Madagaskar","Valkhof Festival 2016","Nijmegen","2016-07-19",null,"Entree","Festivaloptreden",7,2016,{"$f":"VLOOKUP(Table1[[#This Row],[Maand (getal)]],Lijst!A:B,2,FALSE)","v":"jul"},{"$f":"IFERROR(IF(ISBLANK('Zoeken in Database'!$D$3),\"x\",IF(SEARCH('Zoeken in Database'!$D$3,Concerten!A1305,1),\"x\",\"\")),\"\")","v":"x"},{"$f":"IFERROR(IF(ISBLANK('Zoeken in Database'!$D$4),\"x\",IF(SEARCH('Zoeken in Database'!$D$4,Concerten!B1305,1),\"x\",\"\")),\"\")","v":"x"},{"$f":"IFERROR(IF(ISBLANK('Zoeken in Database'!$D$5),\"x\",IF(SEARCH('Zoeken in Database'!$D$5,Concerten!C1305,1),\"x\",\"\")),\"\")","v":"x"},{"$f":"IFERROR(IF(ISBLANK('Zoeken in Database'!$D$6),\"x\",IF(SEARCH('Zoeken in Database'!$D$6,Concerten!G1305,1),\"x\",\"\")),\"\")","v":"x"},{"$f":"IF(AND(D1305>='Zoeken in Database'!$A$7,'Zoeken in Database'!$A$8>=D1305),\"x\",\"\")","v":"x"}]
["Whitney","Haldern Pop 2016","Haldern","2016-08-11",null,"Spiegelzelt","Festivaloptreden",8,2016,{"$f":"VLOOKUP(Table1[[#This Row],[Maand (getal)]],Lijst!A:B,2,FALSE)","v":"aug"},{"$f":"IFERROR(IF(ISBLANK('Zoeken in Database'!$D$3),\"x\",IF(SEARCH('Zoeken in Database'!$D$3,Concerten!A1306,1),\"x\",\"\")),\"\")","v":"x"},{"$f":"IFERROR(IF(ISBLANK('Zoeken in Database'!$D$4),\"x\",IF(SEARCH('Zoeken in Database'!$D$4,Concerten!B1306,1),\"x\",\"\")),\"\")","v":"x"},{"$f":"IFERROR(IF(ISBLANK('Zoeken in Database'!$D$5),\"x\",IF(SEARCH('Zoeken in Database'!$D$5,Concerten!C1306,1),\"x\",\"\")),\"\")","v":"x"},{"$f":"IFERROR(IF(ISBLANK('Zoeken in Database'!$D$6),\"x\",IF(SEARCH('Zoeken in Database'!$D$6,Concerten!G1306,1),\"x\",\"\")),\"\")","v":"x"},{"$f":"IF(AND(D1306>='Zoeken in Database'!$A$7,'Zoeken in Database'!$A$8>=D1306),\"x\",\"\")","v":"x"}]
["Garratt, Jack","Haldern Pop 2016","Haldern","2016-08-11",null,"Main Stage","Festivaloptreden",{"$f":"IF(ISBLANK(D1307),\"\",MONTH(D1307))","v":8},{"$f":"IF(ISBLANK(D1307),\"\",YEAR(D1307))","v":2016},{"$f":"VLOOKUP(Table1[[#This Row],[Maand (getal)]],Lijst!A:B,2,FALSE)","v":"aug"},{"$f":"IFERROR(IF(ISBLANK('Zoeken in Database'!$D$3),\"x\",IF(SEARCH('Zoeken in Database'!$D$3,Concerten!A1307,1),\"x\",\"\")),\"\")","v":"x"},{"$f":"IFERROR(IF(ISBLANK('Zoeken in Database'!$D$4),\"x\",IF(SEARCH('Zoeken in Database'!$D$4,Concerten!B1307,1),\"x\",\"\")),\"\")","v":"x"},{"$f":"IFERROR(IF(ISBLANK('Zoeken in Database'!$D$5),\"x\",IF(SEARCH('Zoeken in Database'!$D$5,Concerten!C1307,1),\"x\",\"\")),\"\")","v":"x"},{"$f":"IFERROR(IF(ISBLANK('Zoeken in Database'!$D$6),\"x\",IF(SEARCH('Zoeken in Database'!$D$6,Concerten!G1307,1),\"x\",\"\")),\"\")","v":"x"},{"$f":"IF(AND(D1307>='Zoeken in Database'!$A$7,'Zoeken in Database'!$A$8>=D1307),\"x\",\"\")","v":"x"}]
["Rice, Damien","Haldern Pop 2016","Haldern","2016-08-11",null,"Main Stage","Festivaloptreden",8,2016,{"$f":"VLOOKUP(Table1[[#This Row],[Maand (getal)]],Lijst!A:B,2,FALSE)","v":"aug"},{"$f":"IFERROR(IF(ISBLANK('Zoeken in Database'!$D$3),\"x\",IF(SEARCH('Zoeken in Database'!$D$3,Concerten!A1308,1),\"x\",\"\")),\"\")","v":"x"},{"$f":"IFERROR(IF(ISBLANK('Zoeken in Database'!$D$4),\"x\",IF(SEARCH('Zoeken in Database'!$D$4,Concerten!B1308,1),\"x\",\"\")),\"\")","v":"x"},{"$f":"IFERROR(IF(ISBLANK('Zoeken in Database'!$D$5),\"x\",IF(SEARCH('Zoeken in Database'!$D$5,Concerten!C1308,1),\"x\",\"\")),\"\")","v":"x"},{"$f":"IFERROR(IF(ISBLANK('Zoeken in Database'!$D$6),\"x\",IF(SEARCH('Zoeken in Database'!$D$6,Concerten!G1308,1),\"x\",\"\")),\"\")","v":"x"},{"$f":"IF(AND(D1308>='Zoeken in Database'!$A$7,'Zoeken in Database'!$A$8>=D1308),\"x\",\"\")","v":"x"}]
["Caplan, Ben & the Casual Smokers","Haldern Pop 2016","Haldern","2016-08-12",null,"Main Stage","Festivaloptreden",8,2016,{"$f":"VLOOKUP(Table1[[#This Row],[Maand (getal)]],Lijst!A:B,2,FALSE)","v":"aug"},{"$f":"IFERROR(IF(ISBLANK('Zoeken in Database'!$D$3),\"x\",IF(SEARCH('Zoeken in Database'!$D$3,Concerten!A1309,1),\"x\",\"\")),\"\")","v":"x"},{"$f":"IFERROR(IF(ISBLANK('Zoeken in Database'!$D$4),\"x\",IF(SEARCH('Zoeken in Database'!$D$4,Concerten!B1309,1),\"x\",\"\")),\"\")","v":"x"},{"$f":"IFERROR(IF(ISBLANK('Zoeken in Database'!$D$5),\"x\",IF(SEARCH('Zoeken in Database'!$D$5,Concerten!C1309,1),\"x\",\"\")),\"\")","v":"x"},{"$f":"IFERROR(IF(ISBLANK('Zoeken in Database'!$D$6),\"x\",IF(SEARCH('Zoeken in Database'!$D$6,Concerten!G1309,1),\"x\",\"\")),\"\")","v":"x"},{"$f":"IF(AND(D1309>='Zoeken in Database'!$A$7,'Zoeken in Database'!$A$8>=D1309),\"x\",\"\")","v":"x"}]
["Kiwanuka, Michael","Haldern Pop 2016","Haldern","2016-08-12",null,"Main Stage","Festivaloptreden",8,2016,{"$f":"VLOOKUP(Table1[[#This Row],[Maand (getal)]],Lijst!A:B,2,FALSE)","v":"aug"},{"$f":"IFERROR(IF(ISBLANK('Zoeken in Database'!$D$3),\"x\",IF(SEARCH('Zoeken in Database'!$D$3,Concerten!A1310,1),\"x\",\"\")),\"\")","v":"x"},{"$f":"IFERROR(IF(ISBLANK('Zoeken in Database'!$D$4),\"x\",IF(SEARCH('Zoeken in Database'!$D$4,Concerten!B1310,1),\"x\",\"\")),\"\")","v":"x"},{"$f":"IFERROR(IF(ISBLANK('Zoeken in Database'!$D$5),\"x\",IF(SEARCH('Zoeken in Database'!$D$5,Concerten!C1310,1),\"x\",\"\")),\"\")","v":"x"},{"$f":"IFERROR(IF(ISBLANK('Zoeken in Database'!$D$6),\"x\",IF(SEARCH('Zoeken in Database'!$D$6,Concerten!G1310,1),\"x\",\"\")),\"\")","v":"x"},{"$f":"IF(AND(D1310>='Zoeken in Database'!$A$7,'Zoeken in Database'!$A$8>=D1310),\"x\",\"\")","v":"x"}]
["Hansard, Glen","Haldern Pop 2016","Haldern","2016-08-12","Bird of Sorrow\nWinning Streak\nMy Little Ruin\nWhen Your Mind's Made Up (The Swell Season song)\nAstral Weeks (Van Morrison cover)\nDidn't He Ramble\nWay Back in the Way Back When\nThis Gift\nFalling Slowly (The Swell Season song)\nMcCormack's Wall\nLowly Deserter\nForever Young (Bob Dylan cover) (with Liam Ó Maonlaí)\nHer Mercy","Main Stage","Festivaloptreden",8,2016,{"$f":"VLOOKUP(Table1[[#This Row],[Maand (getal)]],Lijst!A:B,2,FALSE)","v":"aug"},{"$f":"IFERROR(IF(ISBLANK('Zoeken in Database'!$D$3),\"x\",IF(SEARCH('Zoeken in Database'!$D$3,Concerten!A1311,1),\"x\",\"\")),\"\")","v":"x"},{"$f":"IFERROR(IF(ISBLANK('Zoeken in Database'!$D$4),\"x\",IF(SEARCH('Zoeken in Database'!$D$4,Concerten!B1311,1),\"x\",\"\")),\"\")","v":"x"},{"$f":"IFERROR(IF(ISBLANK('Zoeken in Database'!$D$5),\"x\",IF(SEARCH('Zoeken in Database'!$D$5,Concerten!C1311,1),\"x\",\"\")),\"\")","v":"x"},{"$f":"IFERROR(IF(ISBLANK('Zoeken in Database'!$D$6),\"x\",IF(SEARCH('Zoeken in Database'!$D$6,Concerten!G1311,1),\"x\",\"\")),\"\")","v":"x"},{"$f":"IF(AND(D1311>='Zoeken in Database'!$A$7,'Zoeken in Database'!$A$8>=D1311),\"x\",\"\")","v":"x"}]
["Loney, Dear","Haldern Pop 2016","Haldern","2016-08-12",null,"Main Stage","Festivaloptreden",8,2016,{"$f":"VLOOKUP(Table1[[#This Row],[Maand (getal)]],Lijst!A:B,2,FALSE)","v":"aug"},{"$f":"IFERROR(IF(ISBLANK('Zoeken in Database'!$D$3),\"x\",IF(SEARCH('Zoeken in Database'!$D$3,Concerten!A1312,1),\"x\",\"\")),\"\")","v":"x"},{"$f":"IFERROR(IF(ISBLANK('Zoeken in Database'!$D$4),\"x\",IF(SEARCH('Zoeken in Database'!$D$4,Concerten!B1312,1),\"x\",\"\")),\"\")","v":"x"},{"$f":"IFERROR(IF(ISBLANK('Zoeken in Database'!$D$5),\"x\",IF(SEARCH('Zoeken in Database'!$D$5,Concerten!C1312,1),\"x\",\"\")),\"\")","v":"x"},{"$f":"IFERROR(IF(ISBLANK('Zoeken in Database'!$D$6),\"x\",IF(SEARCH('Zoeken in Database'!$D$6,Concerten!G1312,1),\"x\",\"\")),\"\")","v":"x"},{"$f":"IF(AND(D1312>='Zoeken in Database'!$A$7,'Zoeken in Database'!$A$8>=D1312),\"x\",\"\")","v":"x"}]
["Strypes, The","Haldern Pop 2016","Haldern","2016-08-13",null,"Main Stage","Festivaloptreden",8,2016,{"$f":"VLOOKUP(Table1[[#This Row],[Maand (getal)]],Lijst!A:B,2,FALSE)","v":"aug"},{"$f":"IFERROR(IF(ISBLANK('Zoeken in Database'!$D$3),\"x\",IF(SEARCH('Zoeken in Database'!$D$3,Concerten!A1313,1),\"x\",\"\")),\"\")","v":"x"},{"$f":"IFERROR(IF(ISBLANK('Zoeken in Database'!$D$4),\"x\",IF(SEARCH('Zoeken in Database'!$D$4,Concerten!B1313,1),\"x\",\"\")),\"\")","v":"x"},{"$f":"IFERROR(IF(ISBLANK('Zoeken in Database'!$D$5),\"x\",IF(SEARCH('Zoeken in Database'!$D$5,Concerten!C1313,1),\"x\",\"\")),\"\")","v":"x"},{"$f":"IFERROR(IF(ISBLANK('Zoeken in Database'!$D$6),\"x\",IF(SEARCH('Zoeken in Database'!$D$6,Concerten!G1313,1),\"x\",\"\")),\"\")","v":"x"},{"$f":"IF(AND(D1313>='Zoeken in Database'!$A$7,'Zoeken in Database'!$A$8>=D1313),\"x\",\"\")","v":"x"}]
["Yak","Haldern Pop 2016","Haldern","2016-08-13",null,"Spiegelzelt","Festivaloptreden",8,2016,{"$f":"VLOOKUP(Table1[[#This Row],[Maand (getal)]],Lijst!A:B,2,FALSE)","v":"aug"},{"$f":"IFERROR(IF(ISBLANK('Zoeken in Database'!$D$3),\"x\",IF(SEARCH('Zoeken in Database'!$D$3,Concerten!A1314,1),\"x\",\"\")),\"\")","v":"x"},{"$f":"IFERROR(IF(ISBLANK('Zoeken in Database'!$D$4),\"x\",IF(SEARCH('Zoeken in Database'!$D$4,Concerten!B1314,1),\"x\",\"\")),\"\")","v":"x"},{"$f":"IFERROR(IF(ISBLANK('Zoeken in Database'!$D$5),\"x\",IF(SEARCH('Zoeken in Database'!$D$5,Concerten!C1314,1),\"x\",\"\")),\"\")","v":"x"},{"$f":"IFERROR(IF(ISBLANK('Zoeken in Database'!$D$6),\"x\",IF(SEARCH('Zoeken in Database'!$D$6,Concerten!G1314,1),\"x\",\"\")),\"\")","v":"x"},{"$f":"IF(AND(D1314>='Zoeken in Database'!$A$7,'Zoeken in Database'!$A$8>=D1314),\"x\",\"\")","v":"x"}]
["Daughter","Haldern Pop 2016","Haldern","2016-08-13",null,"Main Stage","Festivaloptreden",8,2016,{"$f":"VLOOKUP(Table1[[#This Row],[Maand (getal)]],Lijst!A:B,2,FALSE)","v":"aug"},{"$f":"IFERROR(IF(ISBLANK('Zoeken in Database'!$D$3),\"x\",IF(SEARCH('Zoeken in Database'!$D$3,Concerten!A1315,1),\"x\",\"\")),\"\")","v":"x"},{"$f":"IFERROR(IF(ISBLANK('Zoeken in Database'!$D$4),\"x\",IF(SEARCH('Zoeken in Database'!$D$4,Concerten!B1315,1),\"x\",\"\")),\"\")","v":"x"},{"$f":"IFERROR(IF(ISBLANK('Zoeken in Database'!$D$5),\"x\",IF(SEARCH('Zoeken in Database'!$D$5,Concerten!C1315,1),\"x\",\"\")),\"\")","v":"x"},{"$f":"IFERROR(IF(ISBLANK('Zoeken in Database'!$D$6),\"x\",IF(SEARCH('Zoeken in Database'!$D$6,Concerten!G1315,1),\"x\",\"\")),\"\")","v":"x"},{"$f":"IF(AND(D1315>='Zoeken in Database'!$A$7,'Zoeken in Database'!$A$8>=D1315),\"x\",\"\")","v":"x"}]
["Isbell, Jason","Haldern Pop 2016","Haldern","2016-08-13","o.a. Never Gonna Change, Decoration Day, Goddamn Lonely Love","Spiegelzelt","Festivaloptreden",8,2016,{"$f":"VLOOKUP(Table1[[#This Row],[Maand (getal)]],Lijst!A:B,2,FALSE)","v":"aug"},{"$f":"IFERROR(IF(ISBLANK('Zoeken in Database'!$D$3),\"x\",IF(SEARCH('Zoeken in Database'!$D$3,Concerten!A1316,1),\"x\",\"\")),\"\")","v":"x"},{"$f":"IFERROR(IF(ISBLANK('Zoeken in Database'!$D$4),\"x\",IF(SEARCH('Zoeken in Database'!$D$4,Concerten!B1316,1),\"x\",\"\")),\"\")","v":"x"},{"$f":"IFERROR(IF(ISBLANK('Zoeken in Database'!$D$5),\"x\",IF(SEARCH('Zoeken in Database'!$D$5,Concerten!C1316,1),\"x\",\"\")),\"\")","v":"x"},{"$f":"IFERROR(IF(ISBLANK('Zoeken in Database'!$D$6),\"x\",IF(SEARCH('Zoeken in Database'!$D$6,Concerten!G1316,1),\"x\",\"\")),\"\")","v":"x"},{"$f":"IF(AND(D1316>='Zoeken in Database'!$A$7,'Zoeken in Database'!$A$8>=D1316),\"x\",\"\")","v":"x"}]
["Fire Harvest, The","TivoliVredenburg","Utrecht","2016-08-17",null,"Grote Zaal","Voorprogramma",8,2016,{"$f":"VLOOKUP(Table1[[#This Row],[Maand (getal)]],Lijst!A:B,2,FALSE)","v":"aug"},{"$f":"IFERROR(IF(ISBLANK('Zoeken in Database'!$D$3),\"x\",IF(SEARCH('Zoeken in Database'!$D$3,Concerten!A1317,1),\"x\",\"\")),\"\")","v":"x"},{"$f":"IFERROR(IF(ISBLANK('Zoeken in Database'!$D$4),\"x\",IF(SEARCH('Zoeken in Database'!$D$4,Concerten!B1317,1),\"x\",\"\")),\"\")","v":"x"},{"$f":"IFERROR(IF(ISBLANK('Zoeken in Database'!$D$5),\"x\",IF(SEARCH('Zoeken in Database'!$D$5,Concerten!C1317,1),\"x\",\"\")),\"\")","v":"x"},{"$f":"IFERROR(IF(ISBLANK('Zoeken in Database'!$D$6),\"x\",IF(SEARCH('Zoeken in Database'!$D$6,Concerten!G1317,1),\"x\",\"\")),\"\")","v":"x"},{"$f":"IF(AND(D1317>='Zoeken in Database'!$A$7,'Zoeken in Database'!$A$8>=D1317),\"x\",\"\")","v":"x"}]
["Isbell, Jason","TivoliVredenburg","Utrecht","2016-08-17","1. Palmetto Rose\n2. 24 Frames\n3. Something More Than Free\n4. Stockholm\n5. Decoration Day (Drive-By Truckers song)\n6. Hudson Commodore\n7. Codeine (Jason Isbell and the 400 Unit cover)\n8. Traveling Alone\n9. Alabama Pines (Jason Isbell and the 400 Unit cover)\n10. The Life You Chose\n11. Speed Trap Town\n12. If It Takes a Lifetime\n13. Cover Me Up\n14. Flying Over Water\n15. Super 8\n16. Encore:\n17. Elephant (Just Jason & Derry (keyboards) on stage)\n18. Never Gonna Change (Drive-By Truckers song) (Accompanied by the full band)\n","Grote Zaal","Hoofdprogramma",8,2016,{"$f":"VLOOKUP(Table1[[#This Row],[Maand (getal)]],Lijst!A:B,2,FALSE)","v":"aug"},{"$f":"IFERROR(IF(ISBLANK('Zoeken in Database'!$D$3),\"x\",IF(SEARCH('Zoeken in Database'!$D$3,Concerten!A1318,1),\"x\",\"\")),\"\")","v":"x"},{"$f":"IFERROR(IF(ISBLANK('Zoeken in Database'!$D$4),\"x\",IF(SEARCH('Zoeken in Database'!$D$4,Concerten!B1318,1),\"x\",\"\")),\"\")","v":"x"},{"$f":"IFERROR(IF(ISBLANK('Zoeken in Database'!$D$5),\"x\",IF(SEARCH('Zoeken in Database'!$D$5,Concerten!C1318,1),\"x\",\"\")),\"\")","v":"x"},{"$f":"IFERROR(IF(ISBLANK('Zoeken in Database'!$D$6),\"x\",IF(SEARCH('Zoeken in Database'!$D$6,Concerten!G1318,1),\"x\",\"\")),\"\")","v":"x"},{"$f":"IF(AND(D1318>='Zoeken in Database'!$A$7,'Zoeken in Database'!$A$8>=D1318),\"x\",\"\")","v":"x"}]
["Williamson, Jess","Merleyn","Nijmegen","2016-08-31",null,null,"Voorprogramma",8,2016,{"$f":"VLOOKUP(Table1[[#This Row],[Maand (getal)]],Lijst!A:B,2,FALSE)","v":"aug"},{"$f":"IFERROR(IF(ISBLANK('Zoeken in Database'!$D$3),\"x\",IF(SEARCH('Zoeken in Database'!$D$3,Concerten!A1319,1),\"x\",\"\")),\"\")","v":"x"},{"$f":"IFERROR(IF(ISBLANK('Zoeken in Database'!$D$4),\"x\",IF(SEARCH('Zoeken in Database'!$D$4,Concerten!B1319,1),\"x\",\"\")),\"\")","v":"x"},{"$f":"IFERROR(IF(ISBLANK('Zoeken in Database'!$D$5),\"x\",IF(SEARCH('Zoeken in Database'!$D$5,Concerten!C1319,1),\"x\",\"\")),\"\")","v":"x"},{"$f":"IFERROR(IF(ISBLANK('Zoeken in Database'!$D$6),\"x\",IF(SEARCH('Zoeken in Database'!$D$6,Concerten!G1319,1),\"x\",\"\")),\"\")","v":"x"},{"$f":"IF(AND(D1319>='Zoeken in Database'!$A$7,'Zoeken in Database'!$A$8>=D1319),\"x\",\"\")","v":"x"}]
["Morby, Kevin","Merleyn","Nijmegen","2016-08-31","Cut Me Down\nDorothy\nHarlem River\nAll of My Life\nDestroyer\nI Have Been To The Mountain\nTiny Fires\nMiles, Miles, Miles\nSinging Saw\nBlack Flowers\nBeautiful Stranger\nNo Place to Fall\n(Townes Van Zandt cover)",null,"Hoofdprogramma",8,2016,{"$f":"VLOOKUP(Table1[[#This Row],[Maand (getal)]],Lijst!A:B,2,FALSE)","v":"aug"},{"$f":"IFERROR(IF(ISBLANK('Zoeken in Database'!$D$3),\"x\",IF(SEARCH('Zoeken in Database'!$D$3,Concerten!A1320,1),\"x\",\"\")),\"\")","v":"x"},{"$f":"IFERROR(IF(ISBLANK('Zoeken in Database'!$D$4),\"x\",IF(SEARCH('Zoeken in Database'!$D$4,Concerten!B1320,1),\"x\",\"\")),\"\")","v":"x"},{"$f":"IFERROR(IF(ISBLANK('Zoeken in Database'!$D$5),\"x\",IF(SEARCH('Zoeken in Database'!$D$5,Concerten!C1320,1),\"x\",\"\")),\"\")","v":"x"},{"$f":"IFERROR(IF(ISBLANK('Zoeken in Database'!$D$6),\"x\",IF(SEARCH('Zoeken in Database'!$D$6,Concerten!G1320,1),\"x\",\"\")),\"\")","v":"x"},{"$f":"IF(AND(D1320>='Zoeken in Database'!$A$7,'Zoeken in Database'!$A$8>=D1320),\"x\",\"\")","v":"x"}]
["Harvey, PJ","Heineken Music Hall","Amsterdam","2016-10-16","Chain of Keys \u2028\u2028\u2028\nThe Ministry of Defence \u2028\u2028\u2028\nThe Community of Hope \u2028\u2028\u2028\nThe Orange Monkey \u2028\u2028\u2028\nA Line in the Sand \u2028\u2028\u2028\nLet England Shake \u2028\u2028\u2028\nThe Words That Maketh Murder \u2028\u2028\u2028\nThe Glorious Land \u2028\u2028\u2028\nMedicinals \u2028\u2028\u2028\nWhen Under Ether \u2028\u2028\u2028\nDollar, Dollar \u2028\u2028\u2028\nThe Devil \u2028\u2028\u2028\nThe Wheel \u2028\u2028\u2028\nThe Ministry of Social Affairs \u2028\u2028\u2028\n50ft Queenie \u2028\u2028\u2028\nDown by the Water \u2028\u2028\u2028\nTo Bring You My Love \u2028\u2028\u2028\nRiver Anacostia \u2028\u2028\u2028\nEncore:\nThe River \u2028\u2028\u2028\nThe Last Living Rose\n",null,"Hoofdprogramma",10,2016,{"$f":"VLOOKUP(Table1[[#This Row],[Maand (getal)]],Lijst!A:B,2,FALSE)","v":"okt"},{"$f":"IFERROR(IF(ISBLANK('Zoeken in Database'!$D$3),\"x\",IF(SEARCH('Zoeken in Database'!$D$3,Concerten!A1321,1),\"x\",\"\")),\"\")","v":"x"},{"$f":"IFERROR(IF(ISBLANK('Zoeken in Database'!$D$4),\"x\",IF(SEARCH('Zoeken in Database'!$D$4,Concerten!B1321,1),\"x\",\"\")),\"\")","v":"x"},{"$f":"IFERROR(IF(ISBLANK('Zoeken in Database'!$D$5),\"x\",IF(SEARCH('Zoeken in Database'!$D$5,Concerten!C1321,1),\"x\",\"\")),\"\")","v":"x"},{"$f":"IFERROR(IF(ISBLANK('Zoeken in Database'!$D$6),\"x\",IF(SEARCH('Zoeken in Database'!$D$6,Concerten!G1321,1),\"x\",\"\")),\"\")","v":"x"},{"$f":"IF(AND(D1321>='Zoeken in Database'!$A$7,'Zoeken in Database'!$A$8>=D1321),\"x\",\"\")","v":"x"}]
["Rosemary & Garlic","Effenaar","Eindhoven","2016-10-28",null,"Kleine zaal","Voorprogramma",10,2016,{"$f":"VLOOKUP(Table1[[#This Row],[Maand (getal)]],Lijst!A:B,2,FALSE)","v":"okt"},{"$f":"IFERROR(IF(ISBLANK('Zoeken in Database'!$D$3),\"x\",IF(SEARCH('Zoeken in Database'!$D$3,Concerten!A1322,1),\"x\",\"\")),\"\")","v":"x"},{"$f":"IFERROR(IF(ISBLANK('Zoeken in Database'!$D$4),\"x\",IF(SEARCH('Zoeken in Database'!$D$4,Concerten!B1322,1),\"x\",\"\")),\"\")","v":"x"},{"$f":"IFERROR(IF(ISBLANK('Zoeken in Database'!$D$5),\"x\",IF(SEARCH('Zoeken in Database'!$D$5,Concerten!C1322,1),\"x\",\"\")),\"\")","v":"x"},{"$f":"IFERROR(IF(ISBLANK('Zoeken in Database'!$D$6),\"x\",IF(SEARCH('Zoeken in Database'!$D$6,Concerten!G1322,1),\"x\",\"\")),\"\")","v":"x"},{"$f":"IF(AND(D1322>='Zoeken in Database'!$A$7,'Zoeken in Database'!$A$8>=D1322),\"x\",\"\")","v":"x"}]
["Sophia","Effenaar","Eindhoven","2016-10-28","Resisting\nThe Drifter\nDon't Ask\nBlame\nCalifornia\nSt. Tropez/The Hustle\nYou Say It's Alright\nBaby, Hold On\nIt's Easy to Be Lonely\nBad Man\nSometimes\nShip in the Sand\nSo Slow\nIf Only\nDesert Song No. 2\nDarkness (Another Shade in Your Black)\nThe River Song\n——————\nBastards","Kleine zaal","Hoofdprogramma",{"$f":"IF(ISBLANK(D1323),\"\",MONTH(D1323))","v":10},{"$f":"IF(ISBLANK(D1323),\"\",YEAR(D1323))","v":2016},{"$f":"VLOOKUP(Table1[[#This Row],[Maand (getal)]],Lijst!A:B,2,FALSE)","v":"okt"},{"$f":"IFERROR(IF(ISBLANK('Zoeken in Database'!$D$3),\"x\",IF(SEARCH('Zoeken in Database'!$D$3,Concerten!A1323,1),\"x\",\"\")),\"\")","v":"x"},{"$f":"IFERROR(IF(ISBLANK('Zoeken in Database'!$D$4),\"x\",IF(SEARCH('Zoeken in Database'!$D$4,Concerten!B1323,1),\"x\",\"\")),\"\")","v":"x"},{"$f":"IFERROR(IF(ISBLANK('Zoeken in Database'!$D$5),\"x\",IF(SEARCH('Zoeken in Database'!$D$5,Concerten!C1323,1),\"x\",\"\")),\"\")","v":"x"},{"$f":"IFERROR(IF(ISBLANK('Zoeken in Database'!$D$6),\"x\",IF(SEARCH('Zoeken in Database'!$D$6,Concerten!G1323,1),\"x\",\"\")),\"\")","v":"x"},{"$f":"IF(AND(D1323>='Zoeken in Database'!$A$7,'Zoeken in Database'!$A$8>=D1323),\"x\",\"\")","v":"x"}]
["Terwijn, Wilko","TivoliVredenburg","Utrecht","2016-11-08",null,"Grote zaal","Theater",11,2016,{"$f":"VLOOKUP(Table1[[#This Row],[Maand (getal)]],Lijst!A:B,2,FALSE)","v":"nov"},{"$f":"IFERROR(IF(ISBLANK('Zoeken in Database'!$D$3),\"x\",IF(SEARCH('Zoeken in Database'!$D$3,Concerten!A1324,1),\"x\",\"\")),\"\")","v":"x"},{"$f":"IFERROR(IF(ISBLANK('Zoeken in Database'!$D$4),\"x\",IF(SEARCH('Zoeken in Database'!$D$4,Concerten!B1324,1),\"x\",\"\")),\"\")","v":"x"},{"$f":"IFERROR(IF(ISBLANK('Zoeken in Database'!$D$5),\"x\",IF(SEARCH('Zoeken in Database'!$D$5,Concerten!C1324,1),\"x\",\"\")),\"\")","v":"x"},{"$f":"IFERROR(IF(ISBLANK('Zoeken in Database'!$D$6),\"x\",IF(SEARCH('Zoeken in Database'!$D$6,Concerten!G1324,1),\"x\",\"\")),\"\")","v":"x"},{"$f":"IF(AND(D1324>='Zoeken in Database'!$A$7,'Zoeken in Database'!$A$8>=D1324),\"x\",\"\")","v":"x"}]
["Rossem, Maarten van","TivoliVredenburg","Utrecht","2016-11-08",null,"Grote zaal","Theater",11,2016,{"$f":"VLOOKUP(Table1[[#This Row],[Maand (getal)]],Lijst!A:B,2,FALSE)","v":"nov"},{"$f":"IFERROR(IF(ISBLANK('Zoeken in Database'!$D$3),\"x\",IF(SEARCH('Zoeken in Database'!$D$3,Concerten!A1325,1),\"x\",\"\")),\"\")","v":"x"},{"$f":"IFERROR(IF(ISBLANK('Zoeken in Database'!$D$4),\"x\",IF(SEARCH('Zoeken in Database'!$D$4,Concerten!B1325,1),\"x\",\"\")),\"\")","v":"x"},{"$f":"IFERROR(IF(ISBLANK('Zoeken in Database'!$D$5),\"x\",IF(SEARCH('Zoeken in Database'!$D$5,Concerten!C1325,1),\"x\",\"\")),\"\")","v":"x"},{"$f":"IFERROR(IF(ISBLANK('Zoeken in Database'!$D$6),\"x\",IF(SEARCH('Zoeken in Database'!$D$6,Concerten!G1325,1),\"x\",\"\")),\"\")","v":"x"},{"$f":"IF(AND(D1325>='Zoeken in Database'!$A$7,'Zoeken in Database'!$A$8>=D1325),\"x\",\"\")","v":"x"}]
["Blue Grass Boogiemen","TivoliVredenburg","Utrecht","2016-11-08",null,"Grote zaal","Theater",11,2016,{"$f":"VLOOKUP(Table1[[#This Row],[Maand (getal)]],Lijst!A:B,2,FALSE)","v":"nov"},{"$f":"IFERROR(IF(ISBLANK('Zoeken in Database'!$D$3),\"x\",IF(SEARCH('Zoeken in Database'!$D$3,Concerten!A1326,1),\"x\",\"\")),\"\")","v":"x"},{"$f":"IFERROR(IF(ISBLANK('Zoeken in Database'!$D$4),\"x\",IF(SEARCH('Zoeken in Database'!$D$4,Concerten!B1326,1),\"x\",\"\")),\"\")","v":"x"},{"$f":"IFERROR(IF(ISBLANK('Zoeken in Database'!$D$5),\"x\",IF(SEARCH('Zoeken in Database'!$D$5,Concerten!C1326,1),\"x\",\"\")),\"\")","v":"x"},{"$f":"IFERROR(IF(ISBLANK('Zoeken in Database'!$D$6),\"x\",IF(SEARCH('Zoeken in Database'!$D$6,Concerten!G1326,1),\"x\",\"\")),\"\")","v":"x"},{"$f":"IF(AND(D1326>='Zoeken in Database'!$A$7,'Zoeken in Database'!$A$8>=D1326),\"x\",\"\")","v":"x"}]
["Kouyaté, Bassekou & Ngoni Ba","TivoliVredenburg","Utrecht","2016-11-10",null,"Le Guess Who (Grote zaal)","Festivaloptreden",11,2016,{"$f":"VLOOKUP(Table1[[#This Row],[Maand (getal)]],Lijst!A:B,2,FALSE)","v":"nov"},{"$f":"IFERROR(IF(ISBLANK('Zoeken in Database'!$D$3),\"x\",IF(SEARCH('Zoeken in Database'!$D$3,Concerten!A1327,1),\"x\",\"\")),\"\")","v":"x"},{"$f":"IFERROR(IF(ISBLANK('Zoeken in Database'!$D$4),\"x\",IF(SEARCH('Zoeken in Database'!$D$4,Concerten!B1327,1),\"x\",\"\")),\"\")","v":"x"},{"$f":"IFERROR(IF(ISBLANK('Zoeken in Database'!$D$5),\"x\",IF(SEARCH('Zoeken in Database'!$D$5,Concerten!C1327,1),\"x\",\"\")),\"\")","v":"x"},{"$f":"IFERROR(IF(ISBLANK('Zoeken in Database'!$D$6),\"x\",IF(SEARCH('Zoeken in Database'!$D$6,Concerten!G1327,1),\"x\",\"\")),\"\")","v":"x"},{"$f":"IF(AND(D1327>='Zoeken in Database'!$A$7,'Zoeken in Database'!$A$8>=D1327),\"x\",\"\")","v":"x"}]
["Wilco","TivoliVredenburg","Utrecht","2016-11-10","On and On and On (Tour Debut)\nIf I Ever Was a Child\nCry All Day\nCompany in My Back\nI Am Trying to Break Your Heart\nArt of Almost\nPickled Ginger\nMisunderstood\nSomeone to Lose\nVia Chicago\nBull Black Nova\nThe Lonely 1\nImpossible Germany\nWe Aren't the World (Safety Girl)\nJesus, Etc.\nLocator\nTheologians\nBox Full of Letters\nHeavy Metal Drummer\nI'm the Man Who Loves You\nHummingbird\nThe Late Greats\nEncore:\nRandom Name Generator\nRed-Eyed and Blue\nI Got You (At the End of the Century)\nOutta Mind (Outta Sight) (Tour Debut)","Le Guess Who (Grote zaal)","Festivaloptreden",11,2016,{"$f":"VLOOKUP(Table1[[#This Row],[Maand (getal)]],Lijst!A:B,2,FALSE)","v":"nov"},{"$f":"IFERROR(IF(ISBLANK('Zoeken in Database'!$D$3),\"x\",IF(SEARCH('Zoeken in Database'!$D$3,Concerten!A1328,1),\"x\",\"\")),\"\")","v":"x"},{"$f":"IFERROR(IF(ISBLANK('Zoeken in Database'!$D$4),\"x\",IF(SEARCH('Zoeken in Database'!$D$4,Concerten!B1328,1),\"x\",\"\")),\"\")","v":"x"},{"$f":"IFERROR(IF(ISBLANK('Zoeken in Database'!$D$5),\"x\",IF(SEARCH('Zoeken in Database'!$D$5,Concerten!C1328,1),\"x\",\"\")),\"\")","v":"x"},{"$f":"IFERROR(IF(ISBLANK('Zoeken in Database'!$D$6),\"x\",IF(SEARCH('Zoeken in Database'!$D$6,Concerten!G1328,1),\"x\",\"\")),\"\")","v":"x"},{"$f":"IF(AND(D1328>='Zoeken in Database'!$A$7,'Zoeken in Database'!$A$8>=D1328),\"x\",\"\")","v":"x"}]
["Walker, Ryley","TivoliVredenburg","Utrecht","2016-11-12",null,"Le Guess Who (Pandora)","Festivaloptreden",11,2016,{"$f":"VLOOKUP(Table1[[#This Row],[Maand (getal)]],Lijst!A:B,2,FALSE)","v":"nov"},{"$f":"IFERROR(IF(ISBLANK('Zoeken in Database'!$D$3),\"x\",IF(SEARCH('Zoeken in Database'!$D$3,Concerten!A1329,1),\"x\",\"\")),\"\")","v":"x"},{"$f":"IFERROR(IF(ISBLANK('Zoeken in Database'!$D$4),\"x\",IF(SEARCH('Zoeken in Database'!$D$4,Concerten!B1329,1),\"x\",\"\")),\"\")","v":"x"},{"$f":"IFERROR(IF(ISBLANK('Zoeken in Database'!$D$5),\"x\",IF(SEARCH('Zoeken in Database'!$D$5,Concerten!C1329,1),\"x\",\"\")),\"\")","v":"x"},{"$f":"IFERROR(IF(ISBLANK('Zoeken in Database'!$D$6),\"x\",IF(SEARCH('Zoeken in Database'!$D$6,Concerten!G1329,1),\"x\",\"\")),\"\")","v":"x"},{"$f":"IF(AND(D1329>='Zoeken in Database'!$A$7,'Zoeken in Database'!$A$8>=D1329),\"x\",\"\")","v":"x"}]
["Holter, Julia","TivoliVredenburg","Utrecht","2016-11-12",null,"Le Guess Who (Grote zaal)","Festivaloptreden",{"$f":"IF(ISBLANK(D1330),\"\",MONTH(D1330))","v":11},{"$f":"IF(ISBLANK(D1330),\"\",YEAR(D1330))","v":2016},{"$f":"VLOOKUP(Table1[[#This Row],[Maand (getal)]],Lijst!A:B,2,FALSE)","v":"nov"},{"$f":"IFERROR(IF(ISBLANK('Zoeken in Database'!$D$3),\"x\",IF(SEARCH('Zoeken in Database'!$D$3,Concerten!A1330,1),\"x\",\"\")),\"\")","v":"x"},{"$f":"IFERROR(IF(ISBLANK('Zoeken in Database'!$D$4),\"x\",IF(SEARCH('Zoeken in Database'!$D$4,Concerten!B1330,1),\"x\",\"\")),\"\")","v":"x"},{"$f":"IFERROR(IF(ISBLANK('Zoeken in Database'!$D$5),\"x\",IF(SEARCH('Zoeken in Database'!$D$5,Concerten!C1330,1),\"x\",\"\")),\"\")","v":"x"},{"$f":"IFERROR(IF(ISBLANK('Zoeken in Database'!$D$6),\"x\",IF(SEARCH('Zoeken in Database'!$D$6,Concerten!G1330,1),\"x\",\"\")),\"\")","v":"x"},{"$f":"IF(AND(D1330>='Zoeken in Database'!$A$7,'Zoeken in Database'!$A$8>=D1330),\"x\",\"\")","v":"x"}]
["Dinosaur Jr.","TivoliVredenburg","Utrecht","2016-11-12",null,"Le Guess Who (Ronda)","Festivaloptreden",11,2016,{"$f":"VLOOKUP(Table1[[#This Row],[Maand (getal)]],Lijst!A:B,2,FALSE)","v":"nov"},{"$f":"IFERROR(IF(ISBLANK('Zoeken in Database'!$D$3),\"x\",IF(SEARCH('Zoeken in Database'!$D$3,Concerten!A1331,1),\"x\",\"\")),\"\")","v":"x"},{"$f":"IFERROR(IF(ISBLANK('Zoeken in Database'!$D$4),\"x\",IF(SEARCH('Zoeken in Database'!$D$4,Concerten!B1331,1),\"x\",\"\")),\"\")","v":"x"},{"$f":"IFERROR(IF(ISBLANK('Zoeken in Database'!$D$5),\"x\",IF(SEARCH('Zoeken in Database'!$D$5,Concerten!C1331,1),\"x\",\"\")),\"\")","v":"x"},{"$f":"IFERROR(IF(ISBLANK('Zoeken in Database'!$D$6),\"x\",IF(SEARCH('Zoeken in Database'!$D$6,Concerten!G1331,1),\"x\",\"\")),\"\")","v":"x"},{"$f":"IF(AND(D1331>='Zoeken in Database'!$A$7,'Zoeken in Database'!$A$8>=D1331),\"x\",\"\")","v":"x"}]
["Soares, Elza","TivoliVredenburg","Utrecht","2016-11-12",null,"Le Guess Who (Grote zaal)","Festivaloptreden",11,2016,{"$f":"VLOOKUP(Table1[[#This Row],[Maand (getal)]],Lijst!A:B,2,FALSE)","v":"nov"},{"$f":"IFERROR(IF(ISBLANK('Zoeken in Database'!$D$3),\"x\",IF(SEARCH('Zoeken in Database'!$D$3,Concerten!A1332,1),\"x\",\"\")),\"\")","v":"x"},{"$f":"IFERROR(IF(ISBLANK('Zoeken in Database'!$D$4),\"x\",IF(SEARCH('Zoeken in Database'!$D$4,Concerten!B1332,1),\"x\",\"\")),\"\")","v":"x"},{"$f":"IFERROR(IF(ISBLANK('Zoeken in Database'!$D$5),\"x\",IF(SEARCH('Zoeken in Database'!$D$5,Concerten!C1332,1),\"x\",\"\")),\"\")","v":"x"},{"$f":"IFERROR(IF(ISBLANK('Zoeken in Database'!$D$6),\"x\",IF(SEARCH('Zoeken in Database'!$D$6,Concerten!G1332,1),\"x\",\"\")),\"\")","v":"x"},{"$f":"IF(AND(D1332>='Zoeken in Database'!$A$7,'Zoeken in Database'!$A$8>=D1332),\"x\",\"\")","v":"x"}]
["Verbogt, Thomas","Schouwburg Cuijk","Cuijk","2016-11-15",null,"Avond van de Columnist","Theater",11,2016,{"$f":"VLOOKUP(Table1[[#This Row],[Maand (getal)]],Lijst!A:B,2,FALSE)","v":"nov"},{"$f":"IFERROR(IF(ISBLANK('Zoeken in Database'!$D$3),\"x\",IF(SEARCH('Zoeken in Database'!$D$3,Concerten!A1333,1),\"x\",\"\")),\"\")","v":"x"},{"$f":"IFERROR(IF(ISBLANK('Zoeken in Database'!$D$4),\"x\",IF(SEARCH('Zoeken in Database'!$D$4,Concerten!B1333,1),\"x\",\"\")),\"\")","v":"x"},{"$f":"IFERROR(IF(ISBLANK('Zoeken in Database'!$D$5),\"x\",IF(SEARCH('Zoeken in Database'!$D$5,Concerten!C1333,1),\"x\",\"\")),\"\")","v":"x"},{"$f":"IFERROR(IF(ISBLANK('Zoeken in Database'!$D$6),\"x\",IF(SEARCH('Zoeken in Database'!$D$6,Concerten!G1333,1),\"x\",\"\")),\"\")","v":"x"},{"$f":"IF(AND(D1333>='Zoeken in Database'!$A$7,'Zoeken in Database'!$A$8>=D1333),\"x\",\"\")","v":"x"}]
["Peeters, Eefke","Schouwburg Cuijk","Cuijk","2016-11-15",null,"Avond van de Columnist","Theater",11,2016,{"$f":"VLOOKUP(Table1[[#This Row],[Maand (getal)]],Lijst!A:B,2,FALSE)","v":"nov"},{"$f":"IFERROR(IF(ISBLANK('Zoeken in Database'!$D$3),\"x\",IF(SEARCH('Zoeken in Database'!$D$3,Concerten!A1334,1),\"x\",\"\")),\"\")","v":"x"},{"$f":"IFERROR(IF(ISBLANK('Zoeken in Database'!$D$4),\"x\",IF(SEARCH('Zoeken in Database'!$D$4,Concerten!B1334,1),\"x\",\"\")),\"\")","v":"x"},{"$f":"IFERROR(IF(ISBLANK('Zoeken in Database'!$D$5),\"x\",IF(SEARCH('Zoeken in Database'!$D$5,Concerten!C1334,1),\"x\",\"\")),\"\")","v":"x"},{"$f":"IFERROR(IF(ISBLANK('Zoeken in Database'!$D$6),\"x\",IF(SEARCH('Zoeken in Database'!$D$6,Concerten!G1334,1),\"x\",\"\")),\"\")","v":"x"},{"$f":"IF(AND(D1334>='Zoeken in Database'!$A$7,'Zoeken in Database'!$A$8>=D1334),\"x\",\"\")","v":"x"}]
["Klooteé, Freddy","Schouwburg Cuijk","Cuijk","2016-11-15",null,"Avond van de Columnist","Theater",11,2016,{"$f":"VLOOKUP(Table1[[#This Row],[Maand (getal)]],Lijst!A:B,2,FALSE)","v":"nov"},{"$f":"IFERROR(IF(ISBLANK('Zoeken in Database'!$D$3),\"x\",IF(SEARCH('Zoeken in Database'!$D$3,Concerten!A1335,1),\"x\",\"\")),\"\")","v":"x"},{"$f":"IFERROR(IF(ISBLANK('Zoeken in Database'!$D$4),\"x\",IF(SEARCH('Zoeken in Database'!$D$4,Concerten!B1335,1),\"x\",\"\")),\"\")","v":"x"},{"$f":"IFERROR(IF(ISBLANK('Zoeken in Database'!$D$5),\"x\",IF(SEARCH('Zoeken in Database'!$D$5,Concerten!C1335,1),\"x\",\"\")),\"\")","v":"x"},{"$f":"IFERROR(IF(ISBLANK('Zoeken in Database'!$D$6),\"x\",IF(SEARCH('Zoeken in Database'!$D$6,Concerten!G1335,1),\"x\",\"\")),\"\")","v":"x"},{"$f":"IF(AND(D1335>='Zoeken in Database'!$A$7,'Zoeken in Database'!$A$8>=D1335),\"x\",\"\")","v":"x"}]
["Baltussen, Henk","Schouwburg Cuijk","Cuijk","2016-11-15",null,"Avond van de Columnist","Theater",11,2016,{"$f":"VLOOKUP(Table1[[#This Row],[Maand (getal)]],Lijst!A:B,2,FALSE)","v":"nov"},{"$f":"IFERROR(IF(ISBLANK('Zoeken in Database'!$D$3),\"x\",IF(SEARCH('Zoeken in Database'!$D$3,Concerten!A1336,1),\"x\",\"\")),\"\")","v":"x"},{"$f":"IFERROR(IF(ISBLANK('Zoeken in Database'!$D$4),\"x\",IF(SEARCH('Zoeken in Database'!$D$4,Concerten!B1336,1),\"x\",\"\")),\"\")","v":"x"},{"$f":"IFERROR(IF(ISBLANK('Zoeken in Database'!$D$5),\"x\",IF(SEARCH('Zoeken in Database'!$D$5,Concerten!C1336,1),\"x\",\"\")),\"\")","v":"x"},{"$f":"IFERROR(IF(ISBLANK('Zoeken in Database'!$D$6),\"x\",IF(SEARCH('Zoeken in Database'!$D$6,Concerten!G1336,1),\"x\",\"\")),\"\")","v":"x"},{"$f":"IF(AND(D1336>='Zoeken in Database'!$A$7,'Zoeken in Database'!$A$8>=D1336),\"x\",\"\")","v":"x"}]
["Dohmen, Twan","Schouwburg Cuijk","Cuijk","2016-11-15",null,"Avond van de Columnist","Theater",11,2016,{"$f":"VLOOKUP(Table1[[#This Row],[Maand (getal)]],Lijst!A:B,2,FALSE)","v":"nov"},{"$f":"IFERROR(IF(ISBLANK('Zoeken in Database'!$D$3),\"x\",IF(SEARCH('Zoeken in Database'!$D$3,Concerten!A1337,1),\"x\",\"\")),\"\")","v":"x"},{"$f":"IFERROR(IF(ISBLANK('Zoeken in Database'!$D$4),\"x\",IF(SEARCH('Zoeken in Database'!$D$4,Concerten!B1337,1),\"x\",\"\")),\"\")","v":"x"},{"$f":"IFERROR(IF(ISBLANK('Zoeken in Database'!$D$5),\"x\",IF(SEARCH('Zoeken in Database'!$D$5,Concerten!C1337,1),\"x\",\"\")),\"\")","v":"x"},{"$f":"IFERROR(IF(ISBLANK('Zoeken in Database'!$D$6),\"x\",IF(SEARCH('Zoeken in Database'!$D$6,Concerten!G1337,1),\"x\",\"\")),\"\")","v":"x"},{"$f":"IF(AND(D1337>='Zoeken in Database'!$A$7,'Zoeken in Database'!$A$8>=D1337),\"x\",\"\")","v":"x"}]
["Pul, Babette","Schouwburg Cuijk","Cuijk","2016-11-15",null,"Avond van de Columnist","Theater",11,2016,{"$f":"VLOOKUP(Table1[[#This Row],[Maand (getal)]],Lijst!A:B,2,FALSE)","v":"nov"},{"$f":"IFERROR(IF(ISBLANK('Zoeken in Database'!$D$3),\"x\",IF(SEARCH('Zoeken in Database'!$D$3,Concerten!A1338,1),\"x\",\"\")),\"\")","v":"x"},{"$f":"IFERROR(IF(ISBLANK('Zoeken in Database'!$D$4),\"x\",IF(SEARCH('Zoeken in Database'!$D$4,Concerten!B1338,1),\"x\",\"\")),\"\")","v":"x"},{"$f":"IFERROR(IF(ISBLANK('Zoeken in Database'!$D$5),\"x\",IF(SEARCH('Zoeken in Database'!$D$5,Concerten!C1338,1),\"x\",\"\")),\"\")","v":"x"},{"$f":"IFERROR(IF(ISBLANK('Zoeken in Database'!$D$6),\"x\",IF(SEARCH('Zoeken in Database'!$D$6,Concerten!G1338,1),\"x\",\"\")),\"\")","v":"x"},{"$f":"IF(AND(D1338>='Zoeken in Database'!$A$7,'Zoeken in Database'!$A$8>=D1338),\"x\",\"\")","v":"x"}]
["Verstegen, Antoinette","Schouwburg Cuijk","Cuijk","2016-11-15",null,"Avond van de Columnist","Theater",11,2016,{"$f":"VLOOKUP(Table1[[#This Row],[Maand (getal)]],Lijst!A:B,2,FALSE)","v":"nov"},{"$f":"IFERROR(IF(ISBLANK('Zoeken in Database'!$D$3),\"x\",IF(SEARCH('Zoeken in Database'!$D$3,Concerten!A1339,1),\"x\",\"\")),\"\")","v":"x"},{"$f":"IFERROR(IF(ISBLANK('Zoeken in Database'!$D$4),\"x\",IF(SEARCH('Zoeken in Database'!$D$4,Concerten!B1339,1),\"x\",\"\")),\"\")","v":"x"},{"$f":"IFERROR(IF(ISBLANK('Zoeken in Database'!$D$5),\"x\",IF(SEARCH('Zoeken in Database'!$D$5,Concerten!C1339,1),\"x\",\"\")),\"\")","v":"x"},{"$f":"IFERROR(IF(ISBLANK('Zoeken in Database'!$D$6),\"x\",IF(SEARCH('Zoeken in Database'!$D$6,Concerten!G1339,1),\"x\",\"\")),\"\")","v":"x"},{"$f":"IF(AND(D1339>='Zoeken in Database'!$A$7,'Zoeken in Database'!$A$8>=D1339),\"x\",\"\")","v":"x"}]
["Vries, Jorrit de","Schouwburg Cuijk","Cuijk","2016-11-15",null,"Avond van de Columnist","Theater",11,2016,{"$f":"VLOOKUP(Table1[[#This Row],[Maand (getal)]],Lijst!A:B,2,FALSE)","v":"nov"},{"$f":"IFERROR(IF(ISBLANK('Zoeken in Database'!$D$3),\"x\",IF(SEARCH('Zoeken in Database'!$D$3,Concerten!A1340,1),\"x\",\"\")),\"\")","v":"x"},{"$f":"IFERROR(IF(ISBLANK('Zoeken in Database'!$D$4),\"x\",IF(SEARCH('Zoeken in Database'!$D$4,Concerten!B1340,1),\"x\",\"\")),\"\")","v":"x"},{"$f":"IFERROR(IF(ISBLANK('Zoeken in Database'!$D$5),\"x\",IF(SEARCH('Zoeken in Database'!$D$5,Concerten!C1340,1),\"x\",\"\")),\"\")","v":"x"},{"$f":"IFERROR(IF(ISBLANK('Zoeken in Database'!$D$6),\"x\",IF(SEARCH('Zoeken in Database'!$D$6,Concerten!G1340,1),\"x\",\"\")),\"\")","v":"x"},{"$f":"IF(AND(D1340>='Zoeken in Database'!$A$7,'Zoeken in Database'!$A$8>=D1340),\"x\",\"\")","v":"x"}]
["Allyway, The","Schouwburg Cuijk","Cuijk","2016-11-15",null,"Avond van de Columnist","Theater",11,2016,{"$f":"VLOOKUP(Table1[[#This Row],[Maand (getal)]],Lijst!A:B,2,FALSE)","v":"nov"},{"$f":"IFERROR(IF(ISBLANK('Zoeken in Database'!$D$3),\"x\",IF(SEARCH('Zoeken in Database'!$D$3,Concerten!A1341,1),\"x\",\"\")),\"\")","v":"x"},{"$f":"IFERROR(IF(ISBLANK('Zoeken in Database'!$D$4),\"x\",IF(SEARCH('Zoeken in Database'!$D$4,Concerten!B1341,1),\"x\",\"\")),\"\")","v":"x"},{"$f":"IFERROR(IF(ISBLANK('Zoeken in Database'!$D$5),\"x\",IF(SEARCH('Zoeken in Database'!$D$5,Concerten!C1341,1),\"x\",\"\")),\"\")","v":"x"},{"$f":"IFERROR(IF(ISBLANK('Zoeken in Database'!$D$6),\"x\",IF(SEARCH('Zoeken in Database'!$D$6,Concerten!G1341,1),\"x\",\"\")),\"\")","v":"x"},{"$f":"IF(AND(D1341>='Zoeken in Database'!$A$7,'Zoeken in Database'!$A$8>=D1341),\"x\",\"\")","v":"x"}]
["John, Elton","Ziggo Dome","Amsterdam","2016-11-22","Funeral for a Friend/Love Lies Bleeding\nThe Bitch Is Back\nBennie and the Jets\nI Guess That's Why They Call It the Blues\nDaniel\nSomeone Saved My Life Tonight\nLooking Up\nA Good Heart\nPhiladelphia Freedom (Elton John Band song)\nRocket Man (I Think It's Going to Be a Long, Long Time)\nTiny Dancer\nLevon\nGoodbye Yellow Brick Road\nHave Mercy on the Criminal\nSorry Seems to Be the Hardest Word\nYour Song\nBurn Down the Mission\nSad Songs (Say So Much)\nDon't Let the Sun Go Down on Me\nAll the Girls Love Alice (Elton Goes Offstage. Followed by a long instrumental break from the band)\nI'm Still Standing\nYour Sister Can't Twist (But She Can Rock 'n Roll)\nSaturday Night's Alright for Fighting\nEncore:\nCandle in the Wind\nCrocodile Rock\n",null,"Hoofdprogramma",11,2016,{"$f":"VLOOKUP(Table1[[#This Row],[Maand (getal)]],Lijst!A:B,2,FALSE)","v":"nov"},{"$f":"IFERROR(IF(ISBLANK('Zoeken in Database'!$D$3),\"x\",IF(SEARCH('Zoeken in Database'!$D$3,Concerten!A1342,1),\"x\",\"\")),\"\")","v":"x"},{"$f":"IFERROR(IF(ISBLANK('Zoeken in Database'!$D$4),\"x\",IF(SEARCH('Zoeken in Database'!$D$4,Concerten!B1342,1),\"x\",\"\")),\"\")","v":"x"},{"$f":"IFERROR(IF(ISBLANK('Zoeken in Database'!$D$5),\"x\",IF(SEARCH('Zoeken in Database'!$D$5,Concerten!C1342,1),\"x\",\"\")),\"\")","v":"x"},{"$f":"IFERROR(IF(ISBLANK('Zoeken in Database'!$D$6),\"x\",IF(SEARCH('Zoeken in Database'!$D$6,Concerten!G1342,1),\"x\",\"\")),\"\")","v":"x"},{"$f":"IF(AND(D1342>='Zoeken in Database'!$A$7,'Zoeken in Database'!$A$8>=D1342),\"x\",\"\")","v":"x"}]
["M83","TivoliVredenburg","Utrecht","2016-11-29","Reunion\nDo It, Try It\nSteve McQueen\nWe Own the Sky\nIntro\nWalkway Blues\nOK Pal\nRoad Blaster\nSitting\nWait (With dancer on stage)\nOblivion\nBibi the Dog\nGo!\nMidnight City\nEchoes of Mine\nOutro\nEncore:\nMoon Crystal\nCouleurs\nLower Your Eyelids to Die With the Sun\n","Ronda","Hoofdprogramma",11,2016,{"$f":"VLOOKUP(Table1[[#This Row],[Maand (getal)]],Lijst!A:B,2,FALSE)","v":"nov"},{"$f":"IFERROR(IF(ISBLANK('Zoeken in Database'!$D$3),\"x\",IF(SEARCH('Zoeken in Database'!$D$3,Concerten!A1343,1),\"x\",\"\")),\"\")","v":"x"},{"$f":"IFERROR(IF(ISBLANK('Zoeken in Database'!$D$4),\"x\",IF(SEARCH('Zoeken in Database'!$D$4,Concerten!B1343,1),\"x\",\"\")),\"\")","v":"x"},{"$f":"IFERROR(IF(ISBLANK('Zoeken in Database'!$D$5),\"x\",IF(SEARCH('Zoeken in Database'!$D$5,Concerten!C1343,1),\"x\",\"\")),\"\")","v":"x"},{"$f":"IFERROR(IF(ISBLANK('Zoeken in Database'!$D$6),\"x\",IF(SEARCH('Zoeken in Database'!$D$6,Concerten!G1343,1),\"x\",\"\")),\"\")","v":"x"},{"$f":"IF(AND(D1343>='Zoeken in Database'!$A$7,'Zoeken in Database'!$A$8>=D1343),\"x\",\"\")","v":"x"}]
["Rendez-Vous","TivoliVredenburg","Utrecht","2016-11-29",null,"Ronda","Voorprogramma",11,2016,{"$f":"VLOOKUP(Table1[[#This Row],[Maand (getal)]],Lijst!A:B,2,FALSE)","v":"nov"},{"$f":"IFERROR(IF(ISBLANK('Zoeken in Database'!$D$3),\"x\",IF(SEARCH('Zoeken in Database'!$D$3,Concerten!A1344,1),\"x\",\"\")),\"\")","v":"x"},{"$f":"IFERROR(IF(ISBLANK('Zoeken in Database'!$D$4),\"x\",IF(SEARCH('Zoeken in Database'!$D$4,Concerten!B1344,1),\"x\",\"\")),\"\")","v":"x"},{"$f":"IFERROR(IF(ISBLANK('Zoeken in Database'!$D$5),\"x\",IF(SEARCH('Zoeken in Database'!$D$5,Concerten!C1344,1),\"x\",\"\")),\"\")","v":"x"},{"$f":"IFERROR(IF(ISBLANK('Zoeken in Database'!$D$6),\"x\",IF(SEARCH('Zoeken in Database'!$D$6,Concerten!G1344,1),\"x\",\"\")),\"\")","v":"x"},{"$f":"IF(AND(D1344>='Zoeken in Database'!$A$7,'Zoeken in Database'!$A$8>=D1344),\"x\",\"\")","v":"x"}]
["John Frost","De Kube","Nijmegen","2016-12-17","SMKMRKT wintereditie",null,"Festivaloptreden",12,2016,{"$f":"VLOOKUP(Table1[[#This Row],[Maand (getal)]],Lijst!A:B,2,FALSE)","v":"dec"},{"$f":"IFERROR(IF(ISBLANK('Zoeken in Database'!$D$3),\"x\",IF(SEARCH('Zoeken in Database'!$D$3,Concerten!A1345,1),\"x\",\"\")),\"\")","v":"x"},{"$f":"IFERROR(IF(ISBLANK('Zoeken in Database'!$D$4),\"x\",IF(SEARCH('Zoeken in Database'!$D$4,Concerten!B1345,1),\"x\",\"\")),\"\")","v":"x"},{"$f":"IFERROR(IF(ISBLANK('Zoeken in Database'!$D$5),\"x\",IF(SEARCH('Zoeken in Database'!$D$5,Concerten!C1345,1),\"x\",\"\")),\"\")","v":"x"},{"$f":"IFERROR(IF(ISBLANK('Zoeken in Database'!$D$6),\"x\",IF(SEARCH('Zoeken in Database'!$D$6,Concerten!G1345,1),\"x\",\"\")),\"\")","v":"x"},{"$f":"IF(AND(D1345>='Zoeken in Database'!$A$7,'Zoeken in Database'!$A$8>=D1345),\"x\",\"\")","v":"x"}]
["Cockflavored Lollipops","Brebl","Nijmegen","2017-01-14",null,null,"Festivaloptreden",1,2017,{"$f":"VLOOKUP(Table1[[#This Row],[Maand (getal)]],Lijst!A:B,2,FALSE)","v":"jan"},{"$f":"IFERROR(IF(ISBLANK('Zoeken in Database'!$D$3),\"x\",IF(SEARCH('Zoeken in Database'!$D$3,Concerten!A1346,1),\"x\",\"\")),\"\")","v":"x"},{"$f":"IFERROR(IF(ISBLANK('Zoeken in Database'!$D$4),\"x\",IF(SEARCH('Zoeken in Database'!$D$4,Concerten!B1346,1),\"x\",\"\")),\"\")","v":"x"},{"$f":"IFERROR(IF(ISBLANK('Zoeken in Database'!$D$5),\"x\",IF(SEARCH('Zoeken in Database'!$D$5,Concerten!C1346,1),\"x\",\"\")),\"\")","v":"x"},{"$f":"IFERROR(IF(ISBLANK('Zoeken in Database'!$D$6),\"x\",IF(SEARCH('Zoeken in Database'!$D$6,Concerten!G1346,1),\"x\",\"\")),\"\")","v":"x"},{"$f":"IF(AND(D1346>='Zoeken in Database'!$A$7,'Zoeken in Database'!$A$8>=D1346),\"x\",\"\")","v":"x"}]
["Lupa, Miwi La","TivoliVredenburg","Utrecht","2017-01-29",null,"Grote Zaal, seated","Voorprogramma",1,2017,{"$f":"VLOOKUP(Table1[[#This Row],[Maand (getal)]],Lijst!A:B,2,FALSE)","v":"jan"},{"$f":"IFERROR(IF(ISBLANK('Zoeken in Database'!$D$3),\"x\",IF(SEARCH('Zoeken in Database'!$D$3,Concerten!A1347,1),\"x\",\"\")),\"\")","v":"x"},{"$f":"IFERROR(IF(ISBLANK('Zoeken in Database'!$D$4),\"x\",IF(SEARCH('Zoeken in Database'!$D$4,Concerten!B1347,1),\"x\",\"\")),\"\")","v":"x"},{"$f":"IFERROR(IF(ISBLANK('Zoeken in Database'!$D$5),\"x\",IF(SEARCH('Zoeken in Database'!$D$5,Concerten!C1347,1),\"x\",\"\")),\"\")","v":"x"},{"$f":"IFERROR(IF(ISBLANK('Zoeken in Database'!$D$6),\"x\",IF(SEARCH('Zoeken in Database'!$D$6,Concerten!G1347,1),\"x\",\"\")),\"\")","v":"x"},{"$f":"IF(AND(D1347>='Zoeken in Database'!$A$7,'Zoeken in Database'!$A$8>=D1347),\"x\",\"\")","v":"x"}]
["Bridgers, Phoebe","TivoliVredenburg","Utrecht","2017-01-29",null,"Grote Zaal, seated","Voorprogramma",1,2017,{"$f":"VLOOKUP(Table1[[#This Row],[Maand (getal)]],Lijst!A:B,2,FALSE)","v":"jan"},{"$f":"IFERROR(IF(ISBLANK('Zoeken in Database'!$D$3),\"x\",IF(SEARCH('Zoeken in Database'!$D$3,Concerten!A1348,1),\"x\",\"\")),\"\")","v":"x"},{"$f":"IFERROR(IF(ISBLANK('Zoeken in Database'!$D$4),\"x\",IF(SEARCH('Zoeken in Database'!$D$4,Concerten!B1348,1),\"x\",\"\")),\"\")","v":"x"},{"$f":"IFERROR(IF(ISBLANK('Zoeken in Database'!$D$5),\"x\",IF(SEARCH('Zoeken in Database'!$D$5,Concerten!C1348,1),\"x\",\"\")),\"\")","v":"x"},{"$f":"IFERROR(IF(ISBLANK('Zoeken in Database'!$D$6),\"x\",IF(SEARCH('Zoeken in Database'!$D$6,Concerten!G1348,1),\"x\",\"\")),\"\")","v":"x"},{"$f":"IF(AND(D1348>='Zoeken in Database'!$A$7,'Zoeken in Database'!$A$8>=D1348),\"x\",\"\")","v":"x"}]
["Oberst, Conor","TivoliVredenburg","Utrecht","2017-01-29","Tachycardia\nGossamer Thin\nBarbary Coast (Later)\nCape Canaveral\nYou All Loved Him Once\nWhite Shoes (Conor Oberst and the Mystic Valley Band song)\nHere Comes a Regular (The Replacements cover)\nA Little Uncanny\nLadder Song (Bright Eyes song)\nTill St. Dymphna Kicks Us Out\n-----------------\nLenders in the Temple\nMamah Borthwick (A Sketch)\nCounting Sheep\nThe Rain Follows the Plow\nJack at the Asylum (The Felice Brothers cover) (with Phoebe Bridgers)\nLua (Bright Eyes song) (with Phoebe Bridgers)\nThe Big Picture (Bright Eyes song)\nAt the Bottom of Everything (Bright Eyes song)\n","Grote Zaal, seated","Hoofdprogramma",1,2017,{"$f":"VLOOKUP(Table1[[#This Row],[Maand (getal)]],Lijst!A:B,2,FALSE)","v":"jan"},{"$f":"IFERROR(IF(ISBLANK('Zoeken in Database'!$D$3),\"x\",IF(SEARCH('Zoeken in Database'!$D$3,Concerten!A1349,1),\"x\",\"\")),\"\")","v":"x"},{"$f":"IFERROR(IF(ISBLANK('Zoeken in Database'!$D$4),\"x\",IF(SEARCH('Zoeken in Database'!$D$4,Concerten!B1349,1),\"x\",\"\")),\"\")","v":"x"},{"$f":"IFERROR(IF(ISBLANK('Zoeken in Database'!$D$5),\"x\",IF(SEARCH('Zoeken in Database'!$D$5,Concerten!C1349,1),\"x\",\"\")),\"\")","v":"x"},{"$f":"IFERROR(IF(ISBLANK('Zoeken in Database'!$D$6),\"x\",IF(SEARCH('Zoeken in Database'!$D$6,Concerten!G1349,1),\"x\",\"\")),\"\")","v":"x"},{"$f":"IF(AND(D1349>='Zoeken in Database'!$A$7,'Zoeken in Database'!$A$8>=D1349),\"x\",\"\")","v":"x"}]
["Knol, Tim","Paradiso","Amsterdam","2017-02-07",null,null,"Voorprogramma",2,2017,{"$f":"VLOOKUP(Table1[[#This Row],[Maand (getal)]],Lijst!A:B,2,FALSE)","v":"feb"},{"$f":"IFERROR(IF(ISBLANK('Zoeken in Database'!$D$3),\"x\",IF(SEARCH('Zoeken in Database'!$D$3,Concerten!A1350,1),\"x\",\"\")),\"\")","v":"x"},{"$f":"IFERROR(IF(ISBLANK('Zoeken in Database'!$D$4),\"x\",IF(SEARCH('Zoeken in Database'!$D$4,Concerten!B1350,1),\"x\",\"\")),\"\")","v":"x"},{"$f":"IFERROR(IF(ISBLANK('Zoeken in Database'!$D$5),\"x\",IF(SEARCH('Zoeken in Database'!$D$5,Concerten!C1350,1),\"x\",\"\")),\"\")","v":"x"},{"$f":"IFERROR(IF(ISBLANK('Zoeken in Database'!$D$6),\"x\",IF(SEARCH('Zoeken in Database'!$D$6,Concerten!G1350,1),\"x\",\"\")),\"\")","v":"x"},{"$f":"IF(AND(D1350>='Zoeken in Database'!$A$7,'Zoeken in Database'!$A$8>=D1350),\"x\",\"\")","v":"x"}]
["Teenage Fanclub","Paradiso","Amsterdam","2017-02-07","Start Again\nSometimes I Don't Need to Believe in Anything\nHold On\nI Don't Want Control Of You\nThin Air\nVerisimilitude\nDon't Look Back\nIt's All In My Mind\nThe First Sight\nAbout You\nThe Darkest Part of the Night\nI Need Direction\nYour Love Is the Place Where I Come From\nAin't That Enough\nI'm In Love\nSparky's Dream\nThe Concept\nEncore:\nStar Sign\nCan't Feel My Soul\nEasy Come Easy Go\n(Grant McLennan cover)\nEverything Flows\n",null,"Hoofdprogramma",2,2017,{"$f":"VLOOKUP(Table1[[#This Row],[Maand (getal)]],Lijst!A:B,2,FALSE)","v":"feb"},{"$f":"IFERROR(IF(ISBLANK('Zoeken in Database'!$D$3),\"x\",IF(SEARCH('Zoeken in Database'!$D$3,Concerten!A1351,1),\"x\",\"\")),\"\")","v":"x"},{"$f":"IFERROR(IF(ISBLANK('Zoeken in Database'!$D$4),\"x\",IF(SEARCH('Zoeken in Database'!$D$4,Concerten!B1351,1),\"x\",\"\")),\"\")","v":"x"},{"$f":"IFERROR(IF(ISBLANK('Zoeken in Database'!$D$5),\"x\",IF(SEARCH('Zoeken in Database'!$D$5,Concerten!C1351,1),\"x\",\"\")),\"\")","v":"x"},{"$f":"IFERROR(IF(ISBLANK('Zoeken in Database'!$D$6),\"x\",IF(SEARCH('Zoeken in Database'!$D$6,Concerten!G1351,1),\"x\",\"\")),\"\")","v":"x"},{"$f":"IF(AND(D1351>='Zoeken in Database'!$A$7,'Zoeken in Database'!$A$8>=D1351),\"x\",\"\")","v":"x"}]
["Spinvis","Verkadefabriek","Den Bosch","2017-02-08","trein/vuur/dageraad\nde kl. Sy\nBagagedrager\nZwemmen\nochtend heelal\nDageraadplein\nBruid zee kunst\nkom terug\nmaandag\nkindje-nachtwinkel\ninsomnia\nwat blijft\ntrein/vuur/dageraad\n--------\nwespen op de appeltaart\n(niet incompleet)","trein/vuur/dageraad 1e try-out","Hoofdprogramma",2,2017,{"$f":"VLOOKUP(Table1[[#This Row],[Maand (getal)]],Lijst!A:B,2,FALSE)","v":"feb"},{"$f":"IFERROR(IF(ISBLANK('Zoeken in Database'!$D$3),\"x\",IF(SEARCH('Zoeken in Database'!$D$3,Concerten!A1352,1),\"x\",\"\")),\"\")","v":"x"},{"$f":"IFERROR(IF(ISBLANK('Zoeken in Database'!$D$4),\"x\",IF(SEARCH('Zoeken in Database'!$D$4,Concerten!B1352,1),\"x\",\"\")),\"\")","v":"x"},{"$f":"IFERROR(IF(ISBLANK('Zoeken in Database'!$D$5),\"x\",IF(SEARCH('Zoeken in Database'!$D$5,Concerten!C1352,1),\"x\",\"\")),\"\")","v":"x"},{"$f":"IFERROR(IF(ISBLANK('Zoeken in Database'!$D$6),\"x\",IF(SEARCH('Zoeken in Database'!$D$6,Concerten!G1352,1),\"x\",\"\")),\"\")","v":"x"},{"$f":"IF(AND(D1352>='Zoeken in Database'!$A$7,'Zoeken in Database'!$A$8>=D1352),\"x\",\"\")","v":"x"}]
["Tasseomancy","Merleyn","Nijmegen","2017-02-15",null,null,"Voorprogramma",2,2017,{"$f":"VLOOKUP(Table1[[#This Row],[Maand (getal)]],Lijst!A:B,2,FALSE)","v":"feb"},{"$f":"IFERROR(IF(ISBLANK('Zoeken in Database'!$D$3),\"x\",IF(SEARCH('Zoeken in Database'!$D$3,Concerten!A1353,1),\"x\",\"\")),\"\")","v":"x"},{"$f":"IFERROR(IF(ISBLANK('Zoeken in Database'!$D$4),\"x\",IF(SEARCH('Zoeken in Database'!$D$4,Concerten!B1353,1),\"x\",\"\")),\"\")","v":"x"},{"$f":"IFERROR(IF(ISBLANK('Zoeken in Database'!$D$5),\"x\",IF(SEARCH('Zoeken in Database'!$D$5,Concerten!C1353,1),\"x\",\"\")),\"\")","v":"x"},{"$f":"IFERROR(IF(ISBLANK('Zoeken in Database'!$D$6),\"x\",IF(SEARCH('Zoeken in Database'!$D$6,Concerten!G1353,1),\"x\",\"\")),\"\")","v":"x"},{"$f":"IF(AND(D1353>='Zoeken in Database'!$A$7,'Zoeken in Database'!$A$8>=D1353),\"x\",\"\")","v":"x"}]
["Shauf, Andy","Merleyn","Nijmegen","2017-02-15","Drink My Rivers\nHometown Hero\nLick Your Wounds\nQuite Like You\nJenny Come Home\nTwist My Ankle\nEyes of Them All\nTo You\nAlexander All Alone\nI'm Not Falling Asleep\nEarly to the Party\nThe Worst in You\nMartha Sways\nThe Magician\n-----------\nWendell Walker\n",null,"Hoofdprogramma",2,2017,{"$f":"VLOOKUP(Table1[[#This Row],[Maand (getal)]],Lijst!A:B,2,FALSE)","v":"feb"},{"$f":"IFERROR(IF(ISBLANK('Zoeken in Database'!$D$3),\"x\",IF(SEARCH('Zoeken in Database'!$D$3,Concerten!A1354,1),\"x\",\"\")),\"\")","v":"x"},{"$f":"IFERROR(IF(ISBLANK('Zoeken in Database'!$D$4),\"x\",IF(SEARCH('Zoeken in Database'!$D$4,Concerten!B1354,1),\"x\",\"\")),\"\")","v":"x"},{"$f":"IFERROR(IF(ISBLANK('Zoeken in Database'!$D$5),\"x\",IF(SEARCH('Zoeken in Database'!$D$5,Concerten!C1354,1),\"x\",\"\")),\"\")","v":"x"},{"$f":"IFERROR(IF(ISBLANK('Zoeken in Database'!$D$6),\"x\",IF(SEARCH('Zoeken in Database'!$D$6,Concerten!G1354,1),\"x\",\"\")),\"\")","v":"x"},{"$f":"IF(AND(D1354>='Zoeken in Database'!$A$7,'Zoeken in Database'!$A$8>=D1354),\"x\",\"\")","v":"x"}]
["Reid, Nadia","TivoliVredenburg","Utrecht","2017-02-18",null,"Club Nine","Hoofdprogramma",2,2017,{"$f":"VLOOKUP(Table1[[#This Row],[Maand (getal)]],Lijst!A:B,2,FALSE)","v":"feb"},{"$f":"IFERROR(IF(ISBLANK('Zoeken in Database'!$D$3),\"x\",IF(SEARCH('Zoeken in Database'!$D$3,Concerten!A1355,1),\"x\",\"\")),\"\")","v":"x"},{"$f":"IFERROR(IF(ISBLANK('Zoeken in Database'!$D$4),\"x\",IF(SEARCH('Zoeken in Database'!$D$4,Concerten!B1355,1),\"x\",\"\")),\"\")","v":"x"},{"$f":"IFERROR(IF(ISBLANK('Zoeken in Database'!$D$5),\"x\",IF(SEARCH('Zoeken in Database'!$D$5,Concerten!C1355,1),\"x\",\"\")),\"\")","v":"x"},{"$f":"IFERROR(IF(ISBLANK('Zoeken in Database'!$D$6),\"x\",IF(SEARCH('Zoeken in Database'!$D$6,Concerten!G1355,1),\"x\",\"\")),\"\")","v":"x"},{"$f":"IF(AND(D1355>='Zoeken in Database'!$A$7,'Zoeken in Database'!$A$8>=D1355),\"x\",\"\")","v":"x"}]
["O'Neill, Lisa","Paradiso","Amsterdam","2017-02-19",null,null,"Voorprogramma",2,2017,{"$f":"VLOOKUP(Table1[[#This Row],[Maand (getal)]],Lijst!A:B,2,FALSE)","v":"feb"},{"$f":"IFERROR(IF(ISBLANK('Zoeken in Database'!$D$3),\"x\",IF(SEARCH('Zoeken in Database'!$D$3,Concerten!A1356,1),\"x\",\"\")),\"\")","v":"x"},{"$f":"IFERROR(IF(ISBLANK('Zoeken in Database'!$D$4),\"x\",IF(SEARCH('Zoeken in Database'!$D$4,Concerten!B1356,1),\"x\",\"\")),\"\")","v":"x"},{"$f":"IFERROR(IF(ISBLANK('Zoeken in Database'!$D$5),\"x\",IF(SEARCH('Zoeken in Database'!$D$5,Concerten!C1356,1),\"x\",\"\")),\"\")","v":"x"},{"$f":"IFERROR(IF(ISBLANK('Zoeken in Database'!$D$6),\"x\",IF(SEARCH('Zoeken in Database'!$D$6,Concerten!G1356,1),\"x\",\"\")),\"\")","v":"x"},{"$f":"IF(AND(D1356>='Zoeken in Database'!$A$7,'Zoeken in Database'!$A$8>=D1356),\"x\",\"\")","v":"x"}]
["Divine Comedy, The","Paradiso","Amsterdam","2017-02-19","Sweden\nHow Can You Leave Me on My Own\nWhen the Lights Go Out All Over Europe\nNapoleon Complex\nThe Happy Goth\nYour Daddy's Car\nCatherine the Great\nTo the Rescue\nThe Certainty of Chance\nThe Complete Banker\nBang Goes the Knighthood\nGeneration Sex\nOur Mutual Friend\nFunny Peculiar\n(with Lisa O'Neill)\nA Lady of a Certain Age\nSongs of Love\nSomething for the Weekend\nBecoming More Like Alfie\nAt the Indie Disco\nI Like\nNational Express\n--------------------\nAssume the Perpendicular\nA Drinking Song\nTonight We Fly\n",null,"Hoofdprogramma",2,2017,{"$f":"VLOOKUP(Table1[[#This Row],[Maand (getal)]],Lijst!A:B,2,FALSE)","v":"feb"},{"$f":"IFERROR(IF(ISBLANK('Zoeken in Database'!$D$3),\"x\",IF(SEARCH('Zoeken in Database'!$D$3,Concerten!A1357,1),\"x\",\"\")),\"\")","v":"x"},{"$f":"IFERROR(IF(ISBLANK('Zoeken in Database'!$D$4),\"x\",IF(SEARCH('Zoeken in Database'!$D$4,Concerten!B1357,1),\"x\",\"\")),\"\")","v":"x"},{"$f":"IFERROR(IF(ISBLANK('Zoeken in Database'!$D$5),\"x\",IF(SEARCH('Zoeken in Database'!$D$5,Concerten!C1357,1),\"x\",\"\")),\"\")","v":"x"},{"$f":"IFERROR(IF(ISBLANK('Zoeken in Database'!$D$6),\"x\",IF(SEARCH('Zoeken in Database'!$D$6,Concerten!G1357,1),\"x\",\"\")),\"\")","v":"x"},{"$f":"IF(AND(D1357>='Zoeken in Database'!$A$7,'Zoeken in Database'!$A$8>=D1357),\"x\",\"\")","v":"x"}]
["I Against I","Grenswerk","Venlo","2017-03-10",null,null,"Voorprogramma",3,2017,{"$f":"VLOOKUP(Table1[[#This Row],[Maand (getal)]],Lijst!A:B,2,FALSE)","v":"mrt"},{"$f":"IFERROR(IF(ISBLANK('Zoeken in Database'!$D$3),\"x\",IF(SEARCH('Zoeken in Database'!$D$3,Concerten!A1358,1),\"x\",\"\")),\"\")","v":"x"},{"$f":"IFERROR(IF(ISBLANK('Zoeken in Database'!$D$4),\"x\",IF(SEARCH('Zoeken in Database'!$D$4,Concerten!B1358,1),\"x\",\"\")),\"\")","v":"x"},{"$f":"IFERROR(IF(ISBLANK('Zoeken in Database'!$D$5),\"x\",IF(SEARCH('Zoeken in Database'!$D$5,Concerten!C1358,1),\"x\",\"\")),\"\")","v":"x"},{"$f":"IFERROR(IF(ISBLANK('Zoeken in Database'!$D$6),\"x\",IF(SEARCH('Zoeken in Database'!$D$6,Concerten!G1358,1),\"x\",\"\")),\"\")","v":"x"},{"$f":"IF(AND(D1358>='Zoeken in Database'!$A$7,'Zoeken in Database'!$A$8>=D1358),\"x\",\"\")","v":"x"}]
["Stavast","Grenswerk","Venlo","2017-03-10",null,null,"Hoofdprogramma",3,2017,{"$f":"VLOOKUP(Table1[[#This Row],[Maand (getal)]],Lijst!A:B,2,FALSE)","v":"mrt"},{"$f":"IFERROR(IF(ISBLANK('Zoeken in Database'!$D$3),\"x\",IF(SEARCH('Zoeken in Database'!$D$3,Concerten!A1359,1),\"x\",\"\")),\"\")","v":"x"},{"$f":"IFERROR(IF(ISBLANK('Zoeken in Database'!$D$4),\"x\",IF(SEARCH('Zoeken in Database'!$D$4,Concerten!B1359,1),\"x\",\"\")),\"\")","v":"x"},{"$f":"IFERROR(IF(ISBLANK('Zoeken in Database'!$D$5),\"x\",IF(SEARCH('Zoeken in Database'!$D$5,Concerten!C1359,1),\"x\",\"\")),\"\")","v":"x"},{"$f":"IFERROR(IF(ISBLANK('Zoeken in Database'!$D$6),\"x\",IF(SEARCH('Zoeken in Database'!$D$6,Concerten!G1359,1),\"x\",\"\")),\"\")","v":"x"},{"$f":"IF(AND(D1359>='Zoeken in Database'!$A$7,'Zoeken in Database'!$A$8>=D1359),\"x\",\"\")","v":"x"}]
["Costello, Elvis","TIvoliVredenburg","Utrecht","2017-03-15","(The Angels Wanna Wear My) Red Shoes\nNew Lace Sleeves - (Elvis Costello & The Attractions song)\nBrilliant Mistake - (The Costello Show feat. The Attractions and Confederates cover)\nChurch Underground\nEveryday I Write the Book - (Elvis Costello & The Attractions song)\nShipbuilding - (Elvis Costello & The Attractions song)\nDeep Dark Truthful Mirror\nRipping Paper\nFace in the Crowd\nWalkin' My Baby Back Home - (Broadway Syncopators cover)\nGhost Train\nBurn the Paper Down to Ash\nMan Out of Time - (Elvis Costello & The Attractions song)\nAlison\nBlood & Hot Sauce\nNo Man's Woman\nAccidents Will Happen - (Elvis Costello & The Attractions song)\nJimmie Standing in the Rain\nVitajex\nShe - (Charles Aznavour cover)\nNew Song\nI Want You - (Elvis Costello & The Attractions song)\n","Grote Zaal","Hoofdprogramma",3,2017,{"$f":"VLOOKUP(Table1[[#This Row],[Maand (getal)]],Lijst!A:B,2,FALSE)","v":"mrt"},{"$f":"IFERROR(IF(ISBLANK('Zoeken in Database'!$D$3),\"x\",IF(SEARCH('Zoeken in Database'!$D$3,Concerten!A1360,1),\"x\",\"\")),\"\")","v":"x"},{"$f":"IFERROR(IF(ISBLANK('Zoeken in Database'!$D$4),\"x\",IF(SEARCH('Zoeken in Database'!$D$4,Concerten!B1360,1),\"x\",\"\")),\"\")","v":"x"},{"$f":"IFERROR(IF(ISBLANK('Zoeken in Database'!$D$5),\"x\",IF(SEARCH('Zoeken in Database'!$D$5,Concerten!C1360,1),\"x\",\"\")),\"\")","v":"x"},{"$f":"IFERROR(IF(ISBLANK('Zoeken in Database'!$D$6),\"x\",IF(SEARCH('Zoeken in Database'!$D$6,Concerten!G1360,1),\"x\",\"\")),\"\")","v":"x"},{"$f":"IF(AND(D1360>='Zoeken in Database'!$A$7,'Zoeken in Database'!$A$8>=D1360),\"x\",\"\")","v":"x"}]
["Nouveau Vélo","Doornroosje","Nijmegen","2017-03-21",null,"Paarse Zaal","Voorprogramma",3,2017,{"$f":"VLOOKUP(Table1[[#This Row],[Maand (getal)]],Lijst!A:B,2,FALSE)","v":"mrt"},{"$f":"IFERROR(IF(ISBLANK('Zoeken in Database'!$D$3),\"x\",IF(SEARCH('Zoeken in Database'!$D$3,Concerten!A1361,1),\"x\",\"\")),\"\")","v":"x"},{"$f":"IFERROR(IF(ISBLANK('Zoeken in Database'!$D$4),\"x\",IF(SEARCH('Zoeken in Database'!$D$4,Concerten!B1361,1),\"x\",\"\")),\"\")","v":"x"},{"$f":"IFERROR(IF(ISBLANK('Zoeken in Database'!$D$5),\"x\",IF(SEARCH('Zoeken in Database'!$D$5,Concerten!C1361,1),\"x\",\"\")),\"\")","v":"x"},{"$f":"IFERROR(IF(ISBLANK('Zoeken in Database'!$D$6),\"x\",IF(SEARCH('Zoeken in Database'!$D$6,Concerten!G1361,1),\"x\",\"\")),\"\")","v":"x"},{"$f":"IF(AND(D1361>='Zoeken in Database'!$A$7,'Zoeken in Database'!$A$8>=D1361),\"x\",\"\")","v":"x"}]
["Woods","Doornroosje","Nijmegen","2017-03-21","Leaves Like Glass\nPolitics of Free\nHollow Home\nSun City Creeps\nThe Take\nShepherd\nNew Light\nCali in a Cup\nBe All, Be Easy\nCreature Comfort\nWith Light and with Love\n--------------\nSuffering Season\nMoving to the Left","Paarse Zaal","Hoofdprogramma",3,2017,{"$f":"VLOOKUP(Table1[[#This Row],[Maand (getal)]],Lijst!A:B,2,FALSE)","v":"mrt"},{"$f":"IFERROR(IF(ISBLANK('Zoeken in Database'!$D$3),\"x\",IF(SEARCH('Zoeken in Database'!$D$3,Concerten!A1362,1),\"x\",\"\")),\"\")","v":"x"},{"$f":"IFERROR(IF(ISBLANK('Zoeken in Database'!$D$4),\"x\",IF(SEARCH('Zoeken in Database'!$D$4,Concerten!B1362,1),\"x\",\"\")),\"\")","v":"x"},{"$f":"IFERROR(IF(ISBLANK('Zoeken in Database'!$D$5),\"x\",IF(SEARCH('Zoeken in Database'!$D$5,Concerten!C1362,1),\"x\",\"\")),\"\")","v":"x"},{"$f":"IFERROR(IF(ISBLANK('Zoeken in Database'!$D$6),\"x\",IF(SEARCH('Zoeken in Database'!$D$6,Concerten!G1362,1),\"x\",\"\")),\"\")","v":"x"},{"$f":"IF(AND(D1362>='Zoeken in Database'!$A$7,'Zoeken in Database'!$A$8>=D1362),\"x\",\"\")","v":"x"}]
["Amber Arcades","Doornroosje","Nijmegen","2017-04-15",null,"Paarse Zaal","Voorprogramma",4,2017,{"$f":"VLOOKUP(Table1[[#This Row],[Maand (getal)]],Lijst!A:B,2,FALSE)","v":"apr"},{"$f":"IFERROR(IF(ISBLANK('Zoeken in Database'!$D$3),\"x\",IF(SEARCH('Zoeken in Database'!$D$3,Concerten!A1363,1),\"x\",\"\")),\"\")","v":"x"},{"$f":"IFERROR(IF(ISBLANK('Zoeken in Database'!$D$4),\"x\",IF(SEARCH('Zoeken in Database'!$D$4,Concerten!B1363,1),\"x\",\"\")),\"\")","v":"x"},{"$f":"IFERROR(IF(ISBLANK('Zoeken in Database'!$D$5),\"x\",IF(SEARCH('Zoeken in Database'!$D$5,Concerten!C1363,1),\"x\",\"\")),\"\")","v":"x"},{"$f":"IFERROR(IF(ISBLANK('Zoeken in Database'!$D$6),\"x\",IF(SEARCH('Zoeken in Database'!$D$6,Concerten!G1363,1),\"x\",\"\")),\"\")","v":"x"},{"$f":"IF(AND(D1363>='Zoeken in Database'!$A$7,'Zoeken in Database'!$A$8>=D1363),\"x\",\"\")","v":"x"}]
["Moss","Doornroosje","Nijmegen","2017-04-15",null,"Paarse Zaal","Hoofdprogramma",4,2017,{"$f":"VLOOKUP(Table1[[#This Row],[Maand (getal)]],Lijst!A:B,2,FALSE)","v":"apr"},{"$f":"IFERROR(IF(ISBLANK('Zoeken in Database'!$D$3),\"x\",IF(SEARCH('Zoeken in Database'!$D$3,Concerten!A1364,1),\"x\",\"\")),\"\")","v":"x"},{"$f":"IFERROR(IF(ISBLANK('Zoeken in Database'!$D$4),\"x\",IF(SEARCH('Zoeken in Database'!$D$4,Concerten!B1364,1),\"x\",\"\")),\"\")","v":"x"},{"$f":"IFERROR(IF(ISBLANK('Zoeken in Database'!$D$5),\"x\",IF(SEARCH('Zoeken in Database'!$D$5,Concerten!C1364,1),\"x\",\"\")),\"\")","v":"x"},{"$f":"IFERROR(IF(ISBLANK('Zoeken in Database'!$D$6),\"x\",IF(SEARCH('Zoeken in Database'!$D$6,Concerten!G1364,1),\"x\",\"\")),\"\")","v":"x"},{"$f":"IF(AND(D1364>='Zoeken in Database'!$A$7,'Zoeken in Database'!$A$8>=D1364),\"x\",\"\")","v":"x"}]
["Lohues, Daniel","De Lievekamp","Oss","2017-04-28",null,"Theatershow Moi, Rabozaal","Hoofdprogramma",4,2017,{"$f":"VLOOKUP(Table1[[#This Row],[Maand (getal)]],Lijst!A:B,2,FALSE)","v":"apr"},{"$f":"IFERROR(IF(ISBLANK('Zoeken in Database'!$D$3),\"x\",IF(SEARCH('Zoeken in Database'!$D$3,Concerten!A1365,1),\"x\",\"\")),\"\")","v":"x"},{"$f":"IFERROR(IF(ISBLANK('Zoeken in Database'!$D$4),\"x\",IF(SEARCH('Zoeken in Database'!$D$4,Concerten!B1365,1),\"x\",\"\")),\"\")","v":"x"},{"$f":"IFERROR(IF(ISBLANK('Zoeken in Database'!$D$5),\"x\",IF(SEARCH('Zoeken in Database'!$D$5,Concerten!C1365,1),\"x\",\"\")),\"\")","v":"x"},{"$f":"IFERROR(IF(ISBLANK('Zoeken in Database'!$D$6),\"x\",IF(SEARCH('Zoeken in Database'!$D$6,Concerten!G1365,1),\"x\",\"\")),\"\")","v":"x"},{"$f":"IF(AND(D1365>='Zoeken in Database'!$A$7,'Zoeken in Database'!$A$8>=D1365),\"x\",\"\")","v":"x"}]
["Moe, Andreas","Ziggo Dome","Amsterdam","2017-05-02",null,null,"Voorprogramma",5,2017,{"$f":"VLOOKUP(Table1[[#This Row],[Maand (getal)]],Lijst!A:B,2,FALSE)","v":"mei"},{"$f":"IFERROR(IF(ISBLANK('Zoeken in Database'!$D$3),\"x\",IF(SEARCH('Zoeken in Database'!$D$3,Concerten!A1366,1),\"x\",\"\")),\"\")","v":"x"},{"$f":"IFERROR(IF(ISBLANK('Zoeken in Database'!$D$4),\"x\",IF(SEARCH('Zoeken in Database'!$D$4,Concerten!B1366,1),\"x\",\"\")),\"\")","v":"x"},{"$f":"IFERROR(IF(ISBLANK('Zoeken in Database'!$D$5),\"x\",IF(SEARCH('Zoeken in Database'!$D$5,Concerten!C1366,1),\"x\",\"\")),\"\")","v":"x"},{"$f":"IFERROR(IF(ISBLANK('Zoeken in Database'!$D$6),\"x\",IF(SEARCH('Zoeken in Database'!$D$6,Concerten!G1366,1),\"x\",\"\")),\"\")","v":"x"},{"$f":"IF(AND(D1366>='Zoeken in Database'!$A$7,'Zoeken in Database'!$A$8>=D1366),\"x\",\"\")","v":"x"}]
["Mayer, John","Ziggo Dome","Amsterdam","2017-05-02","Full Band:\nMoving On and Getting Over\nHelpless\nWho Says\nQueen of California\nLove on the Weekend\nAcoustic:\nEmoji of a Wave\nDreaming With a Broken Heart\n(went immediately into >>)\nWalt Grace's Submarine Test, January 1967\nYour Body Is a Wonderland\nFree Fallin'\n(Tom Petty cover)\nTrio:\nUnited Shuffle In E\n(Jam)\nVultures\nWho Did You Think I Was\n(John Mayer Trio song)\nWait Until Tomorrow\n(The Jimi Hendrix Experience cover)\nFull Band:\nRosie\nIn the Blood\n(Live Debut)\nIf I Ever Get Around to Living\nSlow Dancing in a Burning Room\nWhy Georgia\nEncore:\nBorn and Raised\nGravity\n(Instead of In Repair, which… more )\nEpilogue:\nYou're Gonna Live Forever in Me\nTheme from the Search for Everything\n(Credits)\n",null,"Hoofdprogramma",5,2017,{"$f":"VLOOKUP(Table1[[#This Row],[Maand (getal)]],Lijst!A:B,2,FALSE)","v":"mei"},{"$f":"IFERROR(IF(ISBLANK('Zoeken in Database'!$D$3),\"x\",IF(SEARCH('Zoeken in Database'!$D$3,Concerten!A1367,1),\"x\",\"\")),\"\")","v":"x"},{"$f":"IFERROR(IF(ISBLANK('Zoeken in Database'!$D$4),\"x\",IF(SEARCH('Zoeken in Database'!$D$4,Concerten!B1367,1),\"x\",\"\")),\"\")","v":"x"},{"$f":"IFERROR(IF(ISBLANK('Zoeken in Database'!$D$5),\"x\",IF(SEARCH('Zoeken in Database'!$D$5,Concerten!C1367,1),\"x\",\"\")),\"\")","v":"x"},{"$f":"IFERROR(IF(ISBLANK('Zoeken in Database'!$D$6),\"x\",IF(SEARCH('Zoeken in Database'!$D$6,Concerten!G1367,1),\"x\",\"\")),\"\")","v":"x"},{"$f":"IF(AND(D1367>='Zoeken in Database'!$A$7,'Zoeken in Database'!$A$8>=D1367),\"x\",\"\")","v":"x"}]
["Real Estate","Best Kept Secret 2017","Hilvarenbeek","2017-06-16",null,"Two","Festivaloptreden",6,2017,{"$f":"VLOOKUP(Table1[[#This Row],[Maand (getal)]],Lijst!A:B,2,FALSE)","v":"jun"},{"$f":"IFERROR(IF(ISBLANK('Zoeken in Database'!$D$3),\"x\",IF(SEARCH('Zoeken in Database'!$D$3,Concerten!A1368,1),\"x\",\"\")),\"\")","v":"x"},{"$f":"IFERROR(IF(ISBLANK('Zoeken in Database'!$D$4),\"x\",IF(SEARCH('Zoeken in Database'!$D$4,Concerten!B1368,1),\"x\",\"\")),\"\")","v":"x"},{"$f":"IFERROR(IF(ISBLANK('Zoeken in Database'!$D$5),\"x\",IF(SEARCH('Zoeken in Database'!$D$5,Concerten!C1368,1),\"x\",\"\")),\"\")","v":"x"},{"$f":"IFERROR(IF(ISBLANK('Zoeken in Database'!$D$6),\"x\",IF(SEARCH('Zoeken in Database'!$D$6,Concerten!G1368,1),\"x\",\"\")),\"\")","v":"x"},{"$f":"IF(AND(D1368>='Zoeken in Database'!$A$7,'Zoeken in Database'!$A$8>=D1368),\"x\",\"\")","v":"x"}]
["Jo Goes Hunting","Best Kept Secret 2017","Hilvarenbeek","2017-06-16",null,"Three","Festivaloptreden",6,2017,{"$f":"VLOOKUP(Table1[[#This Row],[Maand (getal)]],Lijst!A:B,2,FALSE)","v":"jun"},{"$f":"IFERROR(IF(ISBLANK('Zoeken in Database'!$D$3),\"x\",IF(SEARCH('Zoeken in Database'!$D$3,Concerten!A1369,1),\"x\",\"\")),\"\")","v":"x"},{"$f":"IFERROR(IF(ISBLANK('Zoeken in Database'!$D$4),\"x\",IF(SEARCH('Zoeken in Database'!$D$4,Concerten!B1369,1),\"x\",\"\")),\"\")","v":"x"},{"$f":"IFERROR(IF(ISBLANK('Zoeken in Database'!$D$5),\"x\",IF(SEARCH('Zoeken in Database'!$D$5,Concerten!C1369,1),\"x\",\"\")),\"\")","v":"x"},{"$f":"IFERROR(IF(ISBLANK('Zoeken in Database'!$D$6),\"x\",IF(SEARCH('Zoeken in Database'!$D$6,Concerten!G1369,1),\"x\",\"\")),\"\")","v":"x"},{"$f":"IF(AND(D1369>='Zoeken in Database'!$A$7,'Zoeken in Database'!$A$8>=D1369),\"x\",\"\")","v":"x"}]
["Metronomy","Best Kept Secret 2017","Hilvarenbeek","2017-06-16",null,"One","Festivaloptreden",6,2017,{"$f":"VLOOKUP(Table1[[#This Row],[Maand (getal)]],Lijst!A:B,2,FALSE)","v":"jun"},{"$f":"IFERROR(IF(ISBLANK('Zoeken in Database'!$D$3),\"x\",IF(SEARCH('Zoeken in Database'!$D$3,Concerten!A1370,1),\"x\",\"\")),\"\")","v":"x"},{"$f":"IFERROR(IF(ISBLANK('Zoeken in Database'!$D$4),\"x\",IF(SEARCH('Zoeken in Database'!$D$4,Concerten!B1370,1),\"x\",\"\")),\"\")","v":"x"},{"$f":"IFERROR(IF(ISBLANK('Zoeken in Database'!$D$5),\"x\",IF(SEARCH('Zoeken in Database'!$D$5,Concerten!C1370,1),\"x\",\"\")),\"\")","v":"x"},{"$f":"IFERROR(IF(ISBLANK('Zoeken in Database'!$D$6),\"x\",IF(SEARCH('Zoeken in Database'!$D$6,Concerten!G1370,1),\"x\",\"\")),\"\")","v":"x"},{"$f":"IF(AND(D1370>='Zoeken in Database'!$A$7,'Zoeken in Database'!$A$8>=D1370),\"x\",\"\")","v":"x"}]
["Run the Jewels","Best Kept Secret 2017","Hilvarenbeek","2017-06-16","Talk To Me\nLegend Has It\nCall Ticketron\nBlockbuster Night, Part 1\nOh My Darling Don't Cry\nNobody Speak(DJ Shadow cover)\nHey Kids (Bumaye)\nEverybody Stay Calm\nPanther Like a Panther\nStay Gold\nDon't Get Captured\nSea Legs\nClose Your Eyes (And Count to Fuck)\nAll Due Respect\nLove Again (Akinyele Back)\nLie, Cheat, Steal\nEarly\nA Report to the Shareholders\nRun the Jewels\nEncore\nDown\n","One","Festivaloptreden",6,2017,{"$f":"VLOOKUP(Table1[[#This Row],[Maand (getal)]],Lijst!A:B,2,FALSE)","v":"jun"},{"$f":"IFERROR(IF(ISBLANK('Zoeken in Database'!$D$3),\"x\",IF(SEARCH('Zoeken in Database'!$D$3,Concerten!A1371,1),\"x\",\"\")),\"\")","v":"x"},{"$f":"IFERROR(IF(ISBLANK('Zoeken in Database'!$D$4),\"x\",IF(SEARCH('Zoeken in Database'!$D$4,Concerten!B1371,1),\"x\",\"\")),\"\")","v":"x"},{"$f":"IFERROR(IF(ISBLANK('Zoeken in Database'!$D$5),\"x\",IF(SEARCH('Zoeken in Database'!$D$5,Concerten!C1371,1),\"x\",\"\")),\"\")","v":"x"},{"$f":"IFERROR(IF(ISBLANK('Zoeken in Database'!$D$6),\"x\",IF(SEARCH('Zoeken in Database'!$D$6,Concerten!G1371,1),\"x\",\"\")),\"\")","v":"x"},{"$f":"IF(AND(D1371>='Zoeken in Database'!$A$7,'Zoeken in Database'!$A$8>=D1371),\"x\",\"\")","v":"x"}]
["Cloud Nothings","Best Kept Secret 2017","Hilvarenbeek","2017-06-17","Now Hear In\nModern Act\nPsychic Trauma\nI'm Not Part of Me\nEnter Entirely\nSight Unseen\nPattern Walks\nDarkened Rings\nRealize My Fate\nStay Useless\nWasted Days\n","Two","Festivaloptreden",6,2017,{"$f":"VLOOKUP(Table1[[#This Row],[Maand (getal)]],Lijst!A:B,2,FALSE)","v":"jun"},{"$f":"IFERROR(IF(ISBLANK('Zoeken in Database'!$D$3),\"x\",IF(SEARCH('Zoeken in Database'!$D$3,Concerten!A1372,1),\"x\",\"\")),\"\")","v":"x"},{"$f":"IFERROR(IF(ISBLANK('Zoeken in Database'!$D$4),\"x\",IF(SEARCH('Zoeken in Database'!$D$4,Concerten!B1372,1),\"x\",\"\")),\"\")","v":"x"},{"$f":"IFERROR(IF(ISBLANK('Zoeken in Database'!$D$5),\"x\",IF(SEARCH('Zoeken in Database'!$D$5,Concerten!C1372,1),\"x\",\"\")),\"\")","v":"x"},{"$f":"IFERROR(IF(ISBLANK('Zoeken in Database'!$D$6),\"x\",IF(SEARCH('Zoeken in Database'!$D$6,Concerten!G1372,1),\"x\",\"\")),\"\")","v":"x"},{"$f":"IF(AND(D1372>='Zoeken in Database'!$A$7,'Zoeken in Database'!$A$8>=D1372),\"x\",\"\")","v":"x"}]
["Wild Beasts","Best Kept Secret 2017","Hilvarenbeek","2017-06-17",null,"Two","Festivaloptreden",6,2017,{"$f":"VLOOKUP(Table1[[#This Row],[Maand (getal)]],Lijst!A:B,2,FALSE)","v":"jun"},{"$f":"IFERROR(IF(ISBLANK('Zoeken in Database'!$D$3),\"x\",IF(SEARCH('Zoeken in Database'!$D$3,Concerten!A1373,1),\"x\",\"\")),\"\")","v":"x"},{"$f":"IFERROR(IF(ISBLANK('Zoeken in Database'!$D$4),\"x\",IF(SEARCH('Zoeken in Database'!$D$4,Concerten!B1373,1),\"x\",\"\")),\"\")","v":"x"},{"$f":"IFERROR(IF(ISBLANK('Zoeken in Database'!$D$5),\"x\",IF(SEARCH('Zoeken in Database'!$D$5,Concerten!C1373,1),\"x\",\"\")),\"\")","v":"x"},{"$f":"IFERROR(IF(ISBLANK('Zoeken in Database'!$D$6),\"x\",IF(SEARCH('Zoeken in Database'!$D$6,Concerten!G1373,1),\"x\",\"\")),\"\")","v":"x"},{"$f":"IF(AND(D1373>='Zoeken in Database'!$A$7,'Zoeken in Database'!$A$8>=D1373),\"x\",\"\")","v":"x"}]
["Azier, Thomas","Best Kept Secret 2017","Hilvarenbeek","2017-06-17",null,"Two","Festivaloptreden",6,2017,{"$f":"VLOOKUP(Table1[[#This Row],[Maand (getal)]],Lijst!A:B,2,FALSE)","v":"jun"},{"$f":"IFERROR(IF(ISBLANK('Zoeken in Database'!$D$3),\"x\",IF(SEARCH('Zoeken in Database'!$D$3,Concerten!A1374,1),\"x\",\"\")),\"\")","v":"x"},{"$f":"IFERROR(IF(ISBLANK('Zoeken in Database'!$D$4),\"x\",IF(SEARCH('Zoeken in Database'!$D$4,Concerten!B1374,1),\"x\",\"\")),\"\")","v":"x"},{"$f":"IFERROR(IF(ISBLANK('Zoeken in Database'!$D$5),\"x\",IF(SEARCH('Zoeken in Database'!$D$5,Concerten!C1374,1),\"x\",\"\")),\"\")","v":"x"},{"$f":"IFERROR(IF(ISBLANK('Zoeken in Database'!$D$6),\"x\",IF(SEARCH('Zoeken in Database'!$D$6,Concerten!G1374,1),\"x\",\"\")),\"\")","v":"x"},{"$f":"IF(AND(D1374>='Zoeken in Database'!$A$7,'Zoeken in Database'!$A$8>=D1374),\"x\",\"\")","v":"x"}]
["Arcade Fire","Best Kept Secret 2017","Hilvarenbeek","2017-06-17","Everything Now Slow\nWake Up\nEverything Now\nHaïti\nHere Comes the Night Time\nNo Cars Go\nWindowsill\nNeon Bible\nThe Suburbs\nThe Suburbs (Continued)\nReady to Start\nNeighborhood #1 (Tunnels)\nSprawl II (Mountains Beyond Mountains)\nReflektor\nAfterlife\nSigns of Life\nWe Exist\nCreature Comfort\nNeighborhood #3 (Power Out)\nRebellion (Lies)\nEncore:\nIntervention\n","One","Festivaloptreden",6,2017,{"$f":"VLOOKUP(Table1[[#This Row],[Maand (getal)]],Lijst!A:B,2,FALSE)","v":"jun"},{"$f":"IFERROR(IF(ISBLANK('Zoeken in Database'!$D$3),\"x\",IF(SEARCH('Zoeken in Database'!$D$3,Concerten!A1375,1),\"x\",\"\")),\"\")","v":"x"},{"$f":"IFERROR(IF(ISBLANK('Zoeken in Database'!$D$4),\"x\",IF(SEARCH('Zoeken in Database'!$D$4,Concerten!B1375,1),\"x\",\"\")),\"\")","v":"x"},{"$f":"IFERROR(IF(ISBLANK('Zoeken in Database'!$D$5),\"x\",IF(SEARCH('Zoeken in Database'!$D$5,Concerten!C1375,1),\"x\",\"\")),\"\")","v":"x"},{"$f":"IFERROR(IF(ISBLANK('Zoeken in Database'!$D$6),\"x\",IF(SEARCH('Zoeken in Database'!$D$6,Concerten!G1375,1),\"x\",\"\")),\"\")","v":"x"},{"$f":"IF(AND(D1375>='Zoeken in Database'!$A$7,'Zoeken in Database'!$A$8>=D1375),\"x\",\"\")","v":"x"}]
["McCombs, Cass","Best Kept Secret 2017","Hilvarenbeek","2017-06-18","Bum Bum Bum\nOpposite House\nMy Sister, My Spouse\nBig Wheel\nWe're All Over the World\nMedusa's Outhouse\nRobin Egg Blue\nIn a Chinese Alley\nCry\nLow Flyin' Bird\nYou Saved My Life\nRun Sister Run\nCounty Line","Five","Festivaloptreden",6,2017,{"$f":"VLOOKUP(Table1[[#This Row],[Maand (getal)]],Lijst!A:B,2,FALSE)","v":"jun"},{"$f":"IFERROR(IF(ISBLANK('Zoeken in Database'!$D$3),\"x\",IF(SEARCH('Zoeken in Database'!$D$3,Concerten!A1376,1),\"x\",\"\")),\"\")","v":"x"},{"$f":"IFERROR(IF(ISBLANK('Zoeken in Database'!$D$4),\"x\",IF(SEARCH('Zoeken in Database'!$D$4,Concerten!B1376,1),\"x\",\"\")),\"\")","v":"x"},{"$f":"IFERROR(IF(ISBLANK('Zoeken in Database'!$D$5),\"x\",IF(SEARCH('Zoeken in Database'!$D$5,Concerten!C1376,1),\"x\",\"\")),\"\")","v":"x"},{"$f":"IFERROR(IF(ISBLANK('Zoeken in Database'!$D$6),\"x\",IF(SEARCH('Zoeken in Database'!$D$6,Concerten!G1376,1),\"x\",\"\")),\"\")","v":"x"},{"$f":"IF(AND(D1376>='Zoeken in Database'!$A$7,'Zoeken in Database'!$A$8>=D1376),\"x\",\"\")","v":"x"}]
["Blake, James","Best Kept Secret 2017","Hilvarenbeek","2017-06-18","Vincent (Don McLean cover)\nLimit to Your Love (Feist cover)\nTimeless\nLindisfarne I\nLindisfarne II\nLife Round Here\nVoyeur\nRetrograde\nA Case of You (Joni Mitchell cover)\n(Unknown)\n(New Song)\nModern Soul\n","One","Festivaloptreden",6,2017,{"$f":"VLOOKUP(Table1[[#This Row],[Maand (getal)]],Lijst!A:B,2,FALSE)","v":"jun"},{"$f":"IFERROR(IF(ISBLANK('Zoeken in Database'!$D$3),\"x\",IF(SEARCH('Zoeken in Database'!$D$3,Concerten!A1377,1),\"x\",\"\")),\"\")","v":"x"},{"$f":"IFERROR(IF(ISBLANK('Zoeken in Database'!$D$4),\"x\",IF(SEARCH('Zoeken in Database'!$D$4,Concerten!B1377,1),\"x\",\"\")),\"\")","v":"x"},{"$f":"IFERROR(IF(ISBLANK('Zoeken in Database'!$D$5),\"x\",IF(SEARCH('Zoeken in Database'!$D$5,Concerten!C1377,1),\"x\",\"\")),\"\")","v":"x"},{"$f":"IFERROR(IF(ISBLANK('Zoeken in Database'!$D$6),\"x\",IF(SEARCH('Zoeken in Database'!$D$6,Concerten!G1377,1),\"x\",\"\")),\"\")","v":"x"},{"$f":"IF(AND(D1377>='Zoeken in Database'!$A$7,'Zoeken in Database'!$A$8>=D1377),\"x\",\"\")","v":"x"}]
["Radiohead","Best Kept Secret 2017","Hilvarenbeek","2017-06-18","Daydreaming\nDesert Island Disk\nFul Stop\n15 Step\nMyxomatosis\nClimbing Up the Walls\nAll I Need\nPyramid Song\nEverything in Its Right Place\nBloom\nIdentikit\nIdioteque\nThe Gloaming\nThe Numbers\nExit Music (for a Film)\nBodysnatchers\nStreet Spirit (Fade Out)\nEncore:\nNude\nLet Down\nSeparator\nParanoid Android\nReckoner\nEncore 2:\nLotus Flower\n(Not on written setlist; 'You… more )\nThere There\n","One","Festivaloptreden",6,2017,{"$f":"VLOOKUP(Table1[[#This Row],[Maand (getal)]],Lijst!A:B,2,FALSE)","v":"jun"},{"$f":"IFERROR(IF(ISBLANK('Zoeken in Database'!$D$3),\"x\",IF(SEARCH('Zoeken in Database'!$D$3,Concerten!A1378,1),\"x\",\"\")),\"\")","v":"x"},{"$f":"IFERROR(IF(ISBLANK('Zoeken in Database'!$D$4),\"x\",IF(SEARCH('Zoeken in Database'!$D$4,Concerten!B1378,1),\"x\",\"\")),\"\")","v":"x"},{"$f":"IFERROR(IF(ISBLANK('Zoeken in Database'!$D$5),\"x\",IF(SEARCH('Zoeken in Database'!$D$5,Concerten!C1378,1),\"x\",\"\")),\"\")","v":"x"},{"$f":"IFERROR(IF(ISBLANK('Zoeken in Database'!$D$6),\"x\",IF(SEARCH('Zoeken in Database'!$D$6,Concerten!G1378,1),\"x\",\"\")),\"\")","v":"x"},{"$f":"IF(AND(D1378>='Zoeken in Database'!$A$7,'Zoeken in Database'!$A$8>=D1378),\"x\",\"\")","v":"x"}]
["Lohues, Daniel","Paleis Soestdijk","Baarn","2017-07-08","Niks is Meer Weerd as Vandaage\nGewoon ‘n Dag op ‘n Dorp\nde Wereld in de Zunne\nA’j Joe Verkleden as Schaop\nZe Benn Benauwder Veur Joe As Ie Veur Heur\nWie Wet Der Toevallig Waor 'T Sleuteltie Lig\nJa Boeh\nPrachtig Mooie Dag\nHier Kom Ik Weg\nOp Fietse\n","Trio Hout Moet","Voorprogramma",7,2017,{"$f":"VLOOKUP(Table1[[#This Row],[Maand (getal)]],Lijst!A:B,2,FALSE)","v":"jul"},{"$f":"IFERROR(IF(ISBLANK('Zoeken in Database'!$D$3),\"x\",IF(SEARCH('Zoeken in Database'!$D$3,Concerten!A1379,1),\"x\",\"\")),\"\")","v":"x"},{"$f":"IFERROR(IF(ISBLANK('Zoeken in Database'!$D$4),\"x\",IF(SEARCH('Zoeken in Database'!$D$4,Concerten!B1379,1),\"x\",\"\")),\"\")","v":"x"},{"$f":"IFERROR(IF(ISBLANK('Zoeken in Database'!$D$5),\"x\",IF(SEARCH('Zoeken in Database'!$D$5,Concerten!C1379,1),\"x\",\"\")),\"\")","v":"x"},{"$f":"IFERROR(IF(ISBLANK('Zoeken in Database'!$D$6),\"x\",IF(SEARCH('Zoeken in Database'!$D$6,Concerten!G1379,1),\"x\",\"\")),\"\")","v":"x"},{"$f":"IF(AND(D1379>='Zoeken in Database'!$A$7,'Zoeken in Database'!$A$8>=D1379),\"x\",\"\")","v":"x"}]
["Morrison, Van","Paleis Soestdijk","Baarn","2017-07-08","Too Late\nHave I Told You Lately (Swing version)\nMoondance\nSometimes We Cry\nAll Work and No Play\nDays Like This\nPrecious Time\nBaby, Please Don’t Go (Joe Williams' Washboard Blues Singers cover)\nDon't Start Crying Now (Slim Harpo cover)\nHere Comes the Night (Lulu cover)\nWhenever God Shines His Light on Me\nThink Twice Before You Go (John Lee Hooker cover)\nWild Night\nIn the Afternoon\nRaincheck\nEnlightenment\nTore Down a la Rimbaud\nHelp Me (Sonny Boy Williamson cover)\nBright Side of the Road\nI Can't Stop Loving You (Don Gibson cover)\nJackie Wilson Said (I'm in Heaven When You Smile)\nBrown Eyed Girl\n------\nGloria (Them song)\n",null,"Hoofdprogramma",7,2017,{"$f":"VLOOKUP(Table1[[#This Row],[Maand (getal)]],Lijst!A:B,2,FALSE)","v":"jul"},{"$f":"IFERROR(IF(ISBLANK('Zoeken in Database'!$D$3),\"x\",IF(SEARCH('Zoeken in Database'!$D$3,Concerten!A1380,1),\"x\",\"\")),\"\")","v":"x"},{"$f":"IFERROR(IF(ISBLANK('Zoeken in Database'!$D$4),\"x\",IF(SEARCH('Zoeken in Database'!$D$4,Concerten!B1380,1),\"x\",\"\")),\"\")","v":"x"},{"$f":"IFERROR(IF(ISBLANK('Zoeken in Database'!$D$5),\"x\",IF(SEARCH('Zoeken in Database'!$D$5,Concerten!C1380,1),\"x\",\"\")),\"\")","v":"x"},{"$f":"IFERROR(IF(ISBLANK('Zoeken in Database'!$D$6),\"x\",IF(SEARCH('Zoeken in Database'!$D$6,Concerten!G1380,1),\"x\",\"\")),\"\")","v":"x"},{"$f":"IF(AND(D1380>='Zoeken in Database'!$A$7,'Zoeken in Database'!$A$8>=D1380),\"x\",\"\")","v":"x"}]
["Amber Arcades","Valkhof Festival 2017","Nijmegen","2017-07-15",null,"Arc","Festivaloptreden",7,2017,{"$f":"VLOOKUP(Table1[[#This Row],[Maand (getal)]],Lijst!A:B,2,FALSE)","v":"jul"},{"$f":"IFERROR(IF(ISBLANK('Zoeken in Database'!$D$3),\"x\",IF(SEARCH('Zoeken in Database'!$D$3,Concerten!A1381,1),\"x\",\"\")),\"\")","v":"x"},{"$f":"IFERROR(IF(ISBLANK('Zoeken in Database'!$D$4),\"x\",IF(SEARCH('Zoeken in Database'!$D$4,Concerten!B1381,1),\"x\",\"\")),\"\")","v":"x"},{"$f":"IFERROR(IF(ISBLANK('Zoeken in Database'!$D$5),\"x\",IF(SEARCH('Zoeken in Database'!$D$5,Concerten!C1381,1),\"x\",\"\")),\"\")","v":"x"},{"$f":"IFERROR(IF(ISBLANK('Zoeken in Database'!$D$6),\"x\",IF(SEARCH('Zoeken in Database'!$D$6,Concerten!G1381,1),\"x\",\"\")),\"\")","v":"x"},{"$f":"IF(AND(D1381>='Zoeken in Database'!$A$7,'Zoeken in Database'!$A$8>=D1381),\"x\",\"\")","v":"x"}]
["Dakota","Valkhof Festival 2017","Nijmegen","2017-07-15",null,"Boog","Festivaloptreden",7,2017,{"$f":"VLOOKUP(Table1[[#This Row],[Maand (getal)]],Lijst!A:B,2,FALSE)","v":"jul"},{"$f":"IFERROR(IF(ISBLANK('Zoeken in Database'!$D$3),\"x\",IF(SEARCH('Zoeken in Database'!$D$3,Concerten!A1382,1),\"x\",\"\")),\"\")","v":"x"},{"$f":"IFERROR(IF(ISBLANK('Zoeken in Database'!$D$4),\"x\",IF(SEARCH('Zoeken in Database'!$D$4,Concerten!B1382,1),\"x\",\"\")),\"\")","v":"x"},{"$f":"IFERROR(IF(ISBLANK('Zoeken in Database'!$D$5),\"x\",IF(SEARCH('Zoeken in Database'!$D$5,Concerten!C1382,1),\"x\",\"\")),\"\")","v":"x"},{"$f":"IFERROR(IF(ISBLANK('Zoeken in Database'!$D$6),\"x\",IF(SEARCH('Zoeken in Database'!$D$6,Concerten!G1382,1),\"x\",\"\")),\"\")","v":"x"},{"$f":"IF(AND(D1382>='Zoeken in Database'!$A$7,'Zoeken in Database'!$A$8>=D1382),\"x\",\"\")","v":"x"}]
["Meatbodies","Valkhof Festival 2017","Nijmegen","2017-07-15",null,"Arc","Festivaloptreden",7,2017,{"$f":"VLOOKUP(Table1[[#This Row],[Maand (getal)]],Lijst!A:B,2,FALSE)","v":"jul"},{"$f":"IFERROR(IF(ISBLANK('Zoeken in Database'!$D$3),\"x\",IF(SEARCH('Zoeken in Database'!$D$3,Concerten!A1383,1),\"x\",\"\")),\"\")","v":"x"},{"$f":"IFERROR(IF(ISBLANK('Zoeken in Database'!$D$4),\"x\",IF(SEARCH('Zoeken in Database'!$D$4,Concerten!B1383,1),\"x\",\"\")),\"\")","v":"x"},{"$f":"IFERROR(IF(ISBLANK('Zoeken in Database'!$D$5),\"x\",IF(SEARCH('Zoeken in Database'!$D$5,Concerten!C1383,1),\"x\",\"\")),\"\")","v":"x"},{"$f":"IFERROR(IF(ISBLANK('Zoeken in Database'!$D$6),\"x\",IF(SEARCH('Zoeken in Database'!$D$6,Concerten!G1383,1),\"x\",\"\")),\"\")","v":"x"},{"$f":"IF(AND(D1383>='Zoeken in Database'!$A$7,'Zoeken in Database'!$A$8>=D1383),\"x\",\"\")","v":"x"}]
["Homesick, The","Valkhof Festival 2017","Nijmegen","2017-07-15",null,"Boog","Festivaloptreden",7,2017,{"$f":"VLOOKUP(Table1[[#This Row],[Maand (getal)]],Lijst!A:B,2,FALSE)","v":"jul"},{"$f":"IFERROR(IF(ISBLANK('Zoeken in Database'!$D$3),\"x\",IF(SEARCH('Zoeken in Database'!$D$3,Concerten!A1384,1),\"x\",\"\")),\"\")","v":"x"},{"$f":"IFERROR(IF(ISBLANK('Zoeken in Database'!$D$4),\"x\",IF(SEARCH('Zoeken in Database'!$D$4,Concerten!B1384,1),\"x\",\"\")),\"\")","v":"x"},{"$f":"IFERROR(IF(ISBLANK('Zoeken in Database'!$D$5),\"x\",IF(SEARCH('Zoeken in Database'!$D$5,Concerten!C1384,1),\"x\",\"\")),\"\")","v":"x"},{"$f":"IFERROR(IF(ISBLANK('Zoeken in Database'!$D$6),\"x\",IF(SEARCH('Zoeken in Database'!$D$6,Concerten!G1384,1),\"x\",\"\")),\"\")","v":"x"},{"$f":"IF(AND(D1384>='Zoeken in Database'!$A$7,'Zoeken in Database'!$A$8>=D1384),\"x\",\"\")","v":"x"}]
["Moonlandingz, The","Valkhof Festival 2017","Nijmegen","2017-07-15",null,"Arc","Festivaloptreden",7,2017,{"$f":"VLOOKUP(Table1[[#This Row],[Maand (getal)]],Lijst!A:B,2,FALSE)","v":"jul"},{"$f":"IFERROR(IF(ISBLANK('Zoeken in Database'!$D$3),\"x\",IF(SEARCH('Zoeken in Database'!$D$3,Concerten!A1385,1),\"x\",\"\")),\"\")","v":"x"},{"$f":"IFERROR(IF(ISBLANK('Zoeken in Database'!$D$4),\"x\",IF(SEARCH('Zoeken in Database'!$D$4,Concerten!B1385,1),\"x\",\"\")),\"\")","v":"x"},{"$f":"IFERROR(IF(ISBLANK('Zoeken in Database'!$D$5),\"x\",IF(SEARCH('Zoeken in Database'!$D$5,Concerten!C1385,1),\"x\",\"\")),\"\")","v":"x"},{"$f":"IFERROR(IF(ISBLANK('Zoeken in Database'!$D$6),\"x\",IF(SEARCH('Zoeken in Database'!$D$6,Concerten!G1385,1),\"x\",\"\")),\"\")","v":"x"},{"$f":"IF(AND(D1385>='Zoeken in Database'!$A$7,'Zoeken in Database'!$A$8>=D1385),\"x\",\"\")","v":"x"}]
["Francobello","Valkhof Festival 2017","Nijmegen","2017-07-19",null,"Arc","Festivaloptreden",7,2017,{"$f":"VLOOKUP(Table1[[#This Row],[Maand (getal)]],Lijst!A:B,2,FALSE)","v":"jul"},{"$f":"IFERROR(IF(ISBLANK('Zoeken in Database'!$D$3),\"x\",IF(SEARCH('Zoeken in Database'!$D$3,Concerten!A1386,1),\"x\",\"\")),\"\")","v":"x"},{"$f":"IFERROR(IF(ISBLANK('Zoeken in Database'!$D$4),\"x\",IF(SEARCH('Zoeken in Database'!$D$4,Concerten!B1386,1),\"x\",\"\")),\"\")","v":"x"},{"$f":"IFERROR(IF(ISBLANK('Zoeken in Database'!$D$5),\"x\",IF(SEARCH('Zoeken in Database'!$D$5,Concerten!C1386,1),\"x\",\"\")),\"\")","v":"x"},{"$f":"IFERROR(IF(ISBLANK('Zoeken in Database'!$D$6),\"x\",IF(SEARCH('Zoeken in Database'!$D$6,Concerten!G1386,1),\"x\",\"\")),\"\")","v":"x"},{"$f":"IF(AND(D1386>='Zoeken in Database'!$A$7,'Zoeken in Database'!$A$8>=D1386),\"x\",\"\")","v":"x"}]
["Hair, Dan & the Extensions","Valkhof Festival 2017","Nijmegen","2017-07-19",null,"Boog","Festivaloptreden",7,2017,{"$f":"VLOOKUP(Table1[[#This Row],[Maand (getal)]],Lijst!A:B,2,FALSE)","v":"jul"},{"$f":"IFERROR(IF(ISBLANK('Zoeken in Database'!$D$3),\"x\",IF(SEARCH('Zoeken in Database'!$D$3,Concerten!A1387,1),\"x\",\"\")),\"\")","v":"x"},{"$f":"IFERROR(IF(ISBLANK('Zoeken in Database'!$D$4),\"x\",IF(SEARCH('Zoeken in Database'!$D$4,Concerten!B1387,1),\"x\",\"\")),\"\")","v":"x"},{"$f":"IFERROR(IF(ISBLANK('Zoeken in Database'!$D$5),\"x\",IF(SEARCH('Zoeken in Database'!$D$5,Concerten!C1387,1),\"x\",\"\")),\"\")","v":"x"},{"$f":"IFERROR(IF(ISBLANK('Zoeken in Database'!$D$6),\"x\",IF(SEARCH('Zoeken in Database'!$D$6,Concerten!G1387,1),\"x\",\"\")),\"\")","v":"x"},{"$f":"IF(AND(D1387>='Zoeken in Database'!$A$7,'Zoeken in Database'!$A$8>=D1387),\"x\",\"\")","v":"x"}]
["McKenna, Declan","Valkhof Festival 2017","Nijmegen","2017-07-19",null,"Arc","Festivaloptreden",7,2017,{"$f":"VLOOKUP(Table1[[#This Row],[Maand (getal)]],Lijst!A:B,2,FALSE)","v":"jul"},{"$f":"IFERROR(IF(ISBLANK('Zoeken in Database'!$D$3),\"x\",IF(SEARCH('Zoeken in Database'!$D$3,Concerten!A1388,1),\"x\",\"\")),\"\")","v":"x"},{"$f":"IFERROR(IF(ISBLANK('Zoeken in Database'!$D$4),\"x\",IF(SEARCH('Zoeken in Database'!$D$4,Concerten!B1388,1),\"x\",\"\")),\"\")","v":"x"},{"$f":"IFERROR(IF(ISBLANK('Zoeken in Database'!$D$5),\"x\",IF(SEARCH('Zoeken in Database'!$D$5,Concerten!C1388,1),\"x\",\"\")),\"\")","v":"x"},{"$f":"IFERROR(IF(ISBLANK('Zoeken in Database'!$D$6),\"x\",IF(SEARCH('Zoeken in Database'!$D$6,Concerten!G1388,1),\"x\",\"\")),\"\")","v":"x"},{"$f":"IF(AND(D1388>='Zoeken in Database'!$A$7,'Zoeken in Database'!$A$8>=D1388),\"x\",\"\")","v":"x"}]
["Canshaker Pi","Valkhof Festival 2017","Nijmegen","2017-07-19",null,"Boog","Festivaloptreden",7,2017,{"$f":"VLOOKUP(Table1[[#This Row],[Maand (getal)]],Lijst!A:B,2,FALSE)","v":"jul"},{"$f":"IFERROR(IF(ISBLANK('Zoeken in Database'!$D$3),\"x\",IF(SEARCH('Zoeken in Database'!$D$3,Concerten!A1389,1),\"x\",\"\")),\"\")","v":"x"},{"$f":"IFERROR(IF(ISBLANK('Zoeken in Database'!$D$4),\"x\",IF(SEARCH('Zoeken in Database'!$D$4,Concerten!B1389,1),\"x\",\"\")),\"\")","v":"x"},{"$f":"IFERROR(IF(ISBLANK('Zoeken in Database'!$D$5),\"x\",IF(SEARCH('Zoeken in Database'!$D$5,Concerten!C1389,1),\"x\",\"\")),\"\")","v":"x"},{"$f":"IFERROR(IF(ISBLANK('Zoeken in Database'!$D$6),\"x\",IF(SEARCH('Zoeken in Database'!$D$6,Concerten!G1389,1),\"x\",\"\")),\"\")","v":"x"},{"$f":"IF(AND(D1389>='Zoeken in Database'!$A$7,'Zoeken in Database'!$A$8>=D1389),\"x\",\"\")","v":"x"}]
["Paradisia","TivoliVredenburg","Utrecht","2017-08-16",null,"Grote Zaal","Voorprogramma",8,2017,{"$f":"VLOOKUP(Table1[[#This Row],[Maand (getal)]],Lijst!A:B,2,FALSE)","v":"aug"},{"$f":"IFERROR(IF(ISBLANK('Zoeken in Database'!$D$3),\"x\",IF(SEARCH('Zoeken in Database'!$D$3,Concerten!A1390,1),\"x\",\"\")),\"\")","v":"x"},{"$f":"IFERROR(IF(ISBLANK('Zoeken in Database'!$D$4),\"x\",IF(SEARCH('Zoeken in Database'!$D$4,Concerten!B1390,1),\"x\",\"\")),\"\")","v":"x"},{"$f":"IFERROR(IF(ISBLANK('Zoeken in Database'!$D$5),\"x\",IF(SEARCH('Zoeken in Database'!$D$5,Concerten!C1390,1),\"x\",\"\")),\"\")","v":"x"},{"$f":"IFERROR(IF(ISBLANK('Zoeken in Database'!$D$6),\"x\",IF(SEARCH('Zoeken in Database'!$D$6,Concerten!G1390,1),\"x\",\"\")),\"\")","v":"x"},{"$f":"IF(AND(D1390>='Zoeken in Database'!$A$7,'Zoeken in Database'!$A$8>=D1390),\"x\",\"\")","v":"x"}]
["Adams, Ryan","TIvoliVredenburg","Utrecht","2017-08-16","Do You Still Love Me?\nTo Be Young (Is to Be Sad, Is to Be High)\nGimme Something Good\nStay With Me\nTwo\nDoomsday\nPrisoner\nOutbound Train\nThis House Is Not for Sale\nI Just Might\nDear Chicago\nAm I Safe\nWhen the Stars Go Blue\nAnything I Say to You Now\nMagnolia Mountain (Ryan Adams & The Cardinals cover)\nInvisible Riverside\nDo I Wait\nLet It Ride (Ryan Adams & The Cardinals cover)\nHalloweenhead\nCold Roses (Ryan Adams & The Cardinals cover)\nI See Monsters\nTo Be Without You\nNew York, New York\nCome Pick Me Up\nShakedown on 9th Street\n","Grote Zaal, met \"The Unknown Band\"","Hoofdprogramma",8,2017,{"$f":"VLOOKUP(Table1[[#This Row],[Maand (getal)]],Lijst!A:B,2,FALSE)","v":"aug"},{"$f":"IFERROR(IF(ISBLANK('Zoeken in Database'!$D$3),\"x\",IF(SEARCH('Zoeken in Database'!$D$3,Concerten!A1391,1),\"x\",\"\")),\"\")","v":"x"},{"$f":"IFERROR(IF(ISBLANK('Zoeken in Database'!$D$4),\"x\",IF(SEARCH('Zoeken in Database'!$D$4,Concerten!B1391,1),\"x\",\"\")),\"\")","v":"x"},{"$f":"IFERROR(IF(ISBLANK('Zoeken in Database'!$D$5),\"x\",IF(SEARCH('Zoeken in Database'!$D$5,Concerten!C1391,1),\"x\",\"\")),\"\")","v":"x"},{"$f":"IFERROR(IF(ISBLANK('Zoeken in Database'!$D$6),\"x\",IF(SEARCH('Zoeken in Database'!$D$6,Concerten!G1391,1),\"x\",\"\")),\"\")","v":"x"},{"$f":"IF(AND(D1391>='Zoeken in Database'!$A$7,'Zoeken in Database'!$A$8>=D1391),\"x\",\"\")","v":"x"}]
["Undeclinable Ambuscade","Nirwana Tuinfeest 2017","Lierop","2017-08-18",null,"Tent","Festivaloptreden",8,2017,{"$f":"VLOOKUP(Table1[[#This Row],[Maand (getal)]],Lijst!A:B,2,FALSE)","v":"aug"},{"$f":"IFERROR(IF(ISBLANK('Zoeken in Database'!$D$3),\"x\",IF(SEARCH('Zoeken in Database'!$D$3,Concerten!A1392,1),\"x\",\"\")),\"\")","v":"x"},{"$f":"IFERROR(IF(ISBLANK('Zoeken in Database'!$D$4),\"x\",IF(SEARCH('Zoeken in Database'!$D$4,Concerten!B1392,1),\"x\",\"\")),\"\")","v":"x"},{"$f":"IFERROR(IF(ISBLANK('Zoeken in Database'!$D$5),\"x\",IF(SEARCH('Zoeken in Database'!$D$5,Concerten!C1392,1),\"x\",\"\")),\"\")","v":"x"},{"$f":"IFERROR(IF(ISBLANK('Zoeken in Database'!$D$6),\"x\",IF(SEARCH('Zoeken in Database'!$D$6,Concerten!G1392,1),\"x\",\"\")),\"\")","v":"x"},{"$f":"IF(AND(D1392>='Zoeken in Database'!$A$7,'Zoeken in Database'!$A$8>=D1392),\"x\",\"\")","v":"x"}]
["Staat, De","Nirwana Tuinfeest 2017","Lierop","2017-08-18",null,"Main Stage","Festivaloptreden",8,2017,{"$f":"VLOOKUP(Table1[[#This Row],[Maand (getal)]],Lijst!A:B,2,FALSE)","v":"aug"},{"$f":"IFERROR(IF(ISBLANK('Zoeken in Database'!$D$3),\"x\",IF(SEARCH('Zoeken in Database'!$D$3,Concerten!A1393,1),\"x\",\"\")),\"\")","v":"x"},{"$f":"IFERROR(IF(ISBLANK('Zoeken in Database'!$D$4),\"x\",IF(SEARCH('Zoeken in Database'!$D$4,Concerten!B1393,1),\"x\",\"\")),\"\")","v":"x"},{"$f":"IFERROR(IF(ISBLANK('Zoeken in Database'!$D$5),\"x\",IF(SEARCH('Zoeken in Database'!$D$5,Concerten!C1393,1),\"x\",\"\")),\"\")","v":"x"},{"$f":"IFERROR(IF(ISBLANK('Zoeken in Database'!$D$6),\"x\",IF(SEARCH('Zoeken in Database'!$D$6,Concerten!G1393,1),\"x\",\"\")),\"\")","v":"x"},{"$f":"IF(AND(D1393>='Zoeken in Database'!$A$7,'Zoeken in Database'!$A$8>=D1393),\"x\",\"\")","v":"x"}]
["Orwells, The","013","Tilburg","2017-10-21",null,null,"Voorprogramma",{"$f":"IF(ISBLANK(D1394),\"\",MONTH(D1394))","v":10},{"$f":"IF(ISBLANK(D1394),\"\",YEAR(D1394))","v":2017},{"$f":"VLOOKUP(Table1[[#This Row],[Maand (getal)]],Lijst!A:B,2,FALSE)","v":"okt"},{"$f":"IFERROR(IF(ISBLANK('Zoeken in Database'!$D$3),\"x\",IF(SEARCH('Zoeken in Database'!$D$3,Concerten!A1394,1),\"x\",\"\")),\"\")","v":"x"},{"$f":"IFERROR(IF(ISBLANK('Zoeken in Database'!$D$4),\"x\",IF(SEARCH('Zoeken in Database'!$D$4,Concerten!B1394,1),\"x\",\"\")),\"\")","v":"x"},{"$f":"IFERROR(IF(ISBLANK('Zoeken in Database'!$D$5),\"x\",IF(SEARCH('Zoeken in Database'!$D$5,Concerten!C1394,1),\"x\",\"\")),\"\")","v":"x"},{"$f":"IFERROR(IF(ISBLANK('Zoeken in Database'!$D$6),\"x\",IF(SEARCH('Zoeken in Database'!$D$6,Concerten!G1394,1),\"x\",\"\")),\"\")","v":"x"},{"$f":"IF(AND(D1394>='Zoeken in Database'!$A$7,'Zoeken in Database'!$A$8>=D1394),\"x\",\"\")","v":"x"}]
["Weezer","013","Tilburg","2017-10-21","Surf Wax America\nCalifornia Kids\nMemories\nKing of the World\nThe Good Life\nEl Scorcho\nThank God for Girls\nMy Name Is Jonas\nPork and Beans\nWeekend Woman\nUndone - The Sweater Song\nHappy Hour\nA Ballad for the Fallen Soldier\nHey Ya! (OutKast cover)\nBuddy Holly\nHash Pipe\nBeverly Hills\nFeels Like Summer\nI Took a Pill in Ibiza (Mike Posner cover)\nIsland in the Sun\nEncore:\nSay It Ain't So\n",null,"Hoofdprogramma",10,2017,{"$f":"VLOOKUP(Table1[[#This Row],[Maand (getal)]],Lijst!A:B,2,FALSE)","v":"okt"},{"$f":"IFERROR(IF(ISBLANK('Zoeken in Database'!$D$3),\"x\",IF(SEARCH('Zoeken in Database'!$D$3,Concerten!A1395,1),\"x\",\"\")),\"\")","v":"x"},{"$f":"IFERROR(IF(ISBLANK('Zoeken in Database'!$D$4),\"x\",IF(SEARCH('Zoeken in Database'!$D$4,Concerten!B1395,1),\"x\",\"\")),\"\")","v":"x"},{"$f":"IFERROR(IF(ISBLANK('Zoeken in Database'!$D$5),\"x\",IF(SEARCH('Zoeken in Database'!$D$5,Concerten!C1395,1),\"x\",\"\")),\"\")","v":"x"},{"$f":"IFERROR(IF(ISBLANK('Zoeken in Database'!$D$6),\"x\",IF(SEARCH('Zoeken in Database'!$D$6,Concerten!G1395,1),\"x\",\"\")),\"\")","v":"x"},{"$f":"IF(AND(D1395>='Zoeken in Database'!$A$7,'Zoeken in Database'!$A$8>=D1395),\"x\",\"\")","v":"x"}]
["Purple Disco Machine","Mitsubishi Electric Halle","Düsseldorf","2017-11-07",null,null,"Voorprogramma",11,2017,{"$f":"VLOOKUP(Table1[[#This Row],[Maand (getal)]],Lijst!A:B,2,FALSE)","v":"nov"},{"$f":"IFERROR(IF(ISBLANK('Zoeken in Database'!$D$3),\"x\",IF(SEARCH('Zoeken in Database'!$D$3,Concerten!A1396,1),\"x\",\"\")),\"\")","v":"x"},{"$f":"IFERROR(IF(ISBLANK('Zoeken in Database'!$D$4),\"x\",IF(SEARCH('Zoeken in Database'!$D$4,Concerten!B1396,1),\"x\",\"\")),\"\")","v":"x"},{"$f":"IFERROR(IF(ISBLANK('Zoeken in Database'!$D$5),\"x\",IF(SEARCH('Zoeken in Database'!$D$5,Concerten!C1396,1),\"x\",\"\")),\"\")","v":"x"},{"$f":"IFERROR(IF(ISBLANK('Zoeken in Database'!$D$6),\"x\",IF(SEARCH('Zoeken in Database'!$D$6,Concerten!G1396,1),\"x\",\"\")),\"\")","v":"x"},{"$f":"IF(AND(D1396>='Zoeken in Database'!$A$7,'Zoeken in Database'!$A$8>=D1396),\"x\",\"\")","v":"x"}]
["Jamiroquai","Mitsubishi Electric Halle","Düsseldorf","2017-11-07","Shake It On\nLittle L\nAutomaton\nThe Kids\nSpace Cowboy\nCloud 9\nSuperfresh\nHey Floyd\nCosmic Girl\n(Don't) Give Hate a Chance\nEmergency on Planet Earth\nRunaway\nToo Young to Die\nCanned Heat\nLove Foolosophy\nEncore:\nVirtual Insanity\n",null,"Hoofdprogramma",11,2017,{"$f":"VLOOKUP(Table1[[#This Row],[Maand (getal)]],Lijst!A:B,2,FALSE)","v":"nov"},{"$f":"IFERROR(IF(ISBLANK('Zoeken in Database'!$D$3),\"x\",IF(SEARCH('Zoeken in Database'!$D$3,Concerten!A1397,1),\"x\",\"\")),\"\")","v":"x"},{"$f":"IFERROR(IF(ISBLANK('Zoeken in Database'!$D$4),\"x\",IF(SEARCH('Zoeken in Database'!$D$4,Concerten!B1397,1),\"x\",\"\")),\"\")","v":"x"},{"$f":"IFERROR(IF(ISBLANK('Zoeken in Database'!$D$5),\"x\",IF(SEARCH('Zoeken in Database'!$D$5,Concerten!C1397,1),\"x\",\"\")),\"\")","v":"x"},{"$f":"IFERROR(IF(ISBLANK('Zoeken in Database'!$D$6),\"x\",IF(SEARCH('Zoeken in Database'!$D$6,Concerten!G1397,1),\"x\",\"\")),\"\")","v":"x"},{"$f":"IF(AND(D1397>='Zoeken in Database'!$A$7,'Zoeken in Database'!$A$8>=D1397),\"x\",\"\")","v":"x"}]
["Cockflavored Lollipops","t Vertrek","Boxmeer","2017-11-17",null,null,"Hoofdprogramma",11,2017,{"$f":"VLOOKUP(Table1[[#This Row],[Maand (getal)]],Lijst!A:B,2,FALSE)","v":"nov"},{"$f":"IFERROR(IF(ISBLANK('Zoeken in Database'!$D$3),\"x\",IF(SEARCH('Zoeken in Database'!$D$3,Concerten!A1398,1),\"x\",\"\")),\"\")","v":"x"},{"$f":"IFERROR(IF(ISBLANK('Zoeken in Database'!$D$4),\"x\",IF(SEARCH('Zoeken in Database'!$D$4,Concerten!B1398,1),\"x\",\"\")),\"\")","v":"x"},{"$f":"IFERROR(IF(ISBLANK('Zoeken in Database'!$D$5),\"x\",IF(SEARCH('Zoeken in Database'!$D$5,Concerten!C1398,1),\"x\",\"\")),\"\")","v":"x"},{"$f":"IFERROR(IF(ISBLANK('Zoeken in Database'!$D$6),\"x\",IF(SEARCH('Zoeken in Database'!$D$6,Concerten!G1398,1),\"x\",\"\")),\"\")","v":"x"},{"$f":"IF(AND(D1398>='Zoeken in Database'!$A$7,'Zoeken in Database'!$A$8>=D1398),\"x\",\"\")","v":"x"}]
["Likt, De","Vasim","Nijmegen","2017-11-19",null,null,"Voorprogramma",11,2017,{"$f":"VLOOKUP(Table1[[#This Row],[Maand (getal)]],Lijst!A:B,2,FALSE)","v":"nov"},{"$f":"IFERROR(IF(ISBLANK('Zoeken in Database'!$D$3),\"x\",IF(SEARCH('Zoeken in Database'!$D$3,Concerten!A1399,1),\"x\",\"\")),\"\")","v":"x"},{"$f":"IFERROR(IF(ISBLANK('Zoeken in Database'!$D$4),\"x\",IF(SEARCH('Zoeken in Database'!$D$4,Concerten!B1399,1),\"x\",\"\")),\"\")","v":"x"},{"$f":"IFERROR(IF(ISBLANK('Zoeken in Database'!$D$5),\"x\",IF(SEARCH('Zoeken in Database'!$D$5,Concerten!C1399,1),\"x\",\"\")),\"\")","v":"x"},{"$f":"IFERROR(IF(ISBLANK('Zoeken in Database'!$D$6),\"x\",IF(SEARCH('Zoeken in Database'!$D$6,Concerten!G1399,1),\"x\",\"\")),\"\")","v":"x"},{"$f":"IF(AND(D1399>='Zoeken in Database'!$A$7,'Zoeken in Database'!$A$8>=D1399),\"x\",\"\")","v":"x"}]
["Staat, De","Vasim","Nijmegen","2017-11-19","Round\nPeptalk\nPsycho Disco\nMake The Call, Leave It All\nRefugee\nDown Town\nKill the Woman\nRooster-Man\n(Unknown)\n(with Luwten) (new song, 'Douwstra' on… more )\nSweatshop\n(with Luwten)\nHelp Yourself\nLuther\nBaby\nMake Way For The Passenger\nInput Source Select\n(with Luwten) (also featuring De Likt)\nGet on Screen\nEncore:\nWitch Doctor\nMacarena\n","In the round","Hoofdprogramma",11,2017,{"$f":"VLOOKUP(Table1[[#This Row],[Maand (getal)]],Lijst!A:B,2,FALSE)","v":"nov"},{"$f":"IFERROR(IF(ISBLANK('Zoeken in Database'!$D$3),\"x\",IF(SEARCH('Zoeken in Database'!$D$3,Concerten!A1400,1),\"x\",\"\")),\"\")","v":"x"},{"$f":"IFERROR(IF(ISBLANK('Zoeken in Database'!$D$4),\"x\",IF(SEARCH('Zoeken in Database'!$D$4,Concerten!B1400,1),\"x\",\"\")),\"\")","v":"x"},{"$f":"IFERROR(IF(ISBLANK('Zoeken in Database'!$D$5),\"x\",IF(SEARCH('Zoeken in Database'!$D$5,Concerten!C1400,1),\"x\",\"\")),\"\")","v":"x"},{"$f":"IFERROR(IF(ISBLANK('Zoeken in Database'!$D$6),\"x\",IF(SEARCH('Zoeken in Database'!$D$6,Concerten!G1400,1),\"x\",\"\")),\"\")","v":"x"},{"$f":"IF(AND(D1400>='Zoeken in Database'!$A$7,'Zoeken in Database'!$A$8>=D1400),\"x\",\"\")","v":"x"}]

{"sheet":"Lijst","index":4,"n_rows":12,"n_cols":2,"rows_kept":12,"cut":false,"hidden":true,"merged":[]}
[1,"jan"]
[2,"feb"]
[3,"mrt"]
[4,"apr"]
[5,"mei"]
[6,"jun"]
[7,"jul"]
[8,"aug"]
[9,"sep"]
[10,"okt"]
[11,"nov"]
[12,"dec"]